{"text_format":"1","workbook":"xlsx","n_sheets":2,"sheets":["Sheet1","Sheet2"],"not_rendered":{"charts":0,"images":2,"macros":1,"external_links":0,"defined_names":0,"comments":0,"pivot_tables":0},"unopened":[],"bounds":{"document_bytes":16777216,"sheet_cells":100000,"rows_first":2000,"rows_last":500,"rows_between":2000,"halvings":0,"cell_chars":16384,"cell_head_chars":4096},"cells_cut":0,"cells_raw":0,"read":"whole","date_system":"1900"}

{"sheet":"Sheet1","index":0,"n_rows":207,"n_cols":36,"rows_kept":207,"cut":false,"hidden":true,"merged":[]}
[null,null,null,null,null,null,null,null,null,"判断是否拉取 ",null,null,null,null,null,100,90,80,70,60,50,40,30,20,10]
[1,2,3,4,5,6,7,null,null,0,1,2,3,4,null,0,1,2,3,4,5,6,7,8,9]
["彩种选择",2,null,null,null,null,null,null,"判断值",{"$f":"1*Sheet2!C5","v":0},{"$f":"1*Sheet2!D5","v":0},{"$f":"1*Sheet2!E5","v":1},{"$f":"1*Sheet2!F5","v":1},{"$f":"1*Sheet2!G5","v":1},null,"统计期数",{"$f":"Sheet2!M2","v":50}]
["是否自动更新",true,{"$f":"B4*1","v":1},null,null,null,null,null,null,null,null,null,null,null,null,{"$f":"IF(Sheet2!H6=TRUE,1,0)","v":1},{"$f":"IF(Sheet2!I6=TRUE,1,0)","v":1},{"$f":"IF(Sheet2!J6=TRUE,1,0)","v":1},{"$f":"IF(Sheet2!K6=TRUE,1,0)","v":1},{"$f":"IF(Sheet2!L6=TRUE,1,0)","v":0},{"$f":"IF(Sheet2!M6=TRUE,1,0)","v":0},{"$f":"IF(Sheet2!N6=TRUE,1,0)","v":0},{"$f":"IF(Sheet2!O6=TRUE,1,0)","v":0},{"$f":"IF(Sheet2!P6=TRUE,1,0)","v":0},{"$f":"IF(Sheet2!Q6=TRUE,1,0)","v":0},"连接"]
[null,"选择号码"]
["20200514215","91141","9","1","1","4","1","腾讯分分彩",1,{"$f":"IF(J$3=0,\"\",C6)","v":""},{"$f":"IF(K$3=0,\"\",D6)","v":""},"1","4","1",{"$f":"J6&K6&L6&M6&N6","v":"141"},{"$f":"IF(OR(LEN($O6)=0),\"\",IFERROR(RIGHT(LARGE(COUNTIF(OFFSET($J6,-1,0,-1*$Q$3,5),{0,1,2,3,4,5,6,7,8,9})*1000+{100,90,80,70,60,50,40,30,20,10}+{0,1,2,3,4,5,6,7,8,9},COLUMN(A$21))),\"\"))","v":""},{"$f":"IF(OR(LEN($O6)=0),\"\",IFERROR(RIGHT(LARGE(COUNTIF(OFFSET($J6,-1,0,-1*$Q$3,5),{0,1,2,3,4,5,6,7,8,9})*1000+{100,90,80,70,60,50,40,30,20,10}+{0,1,2,3,4,5,6,7,8,9},COLUMN(B$21))),\"\"))","v":""},{"$f":"IF(OR(LEN($O6)=0),\"\",IFERROR(RIGHT(LARGE(COUNTIF(OFFSET($J6,-1,0,-1*$Q$3,5),{0,1,2,3,4,5,6,7,8,9})*1000+{100,90,80,70,60,50,40,30,20,10}+{0,1,2,3,4,5,6,7,8,9},COLUMN(C$21))),\"\"))","v":""},{"$f":"IF(OR(LEN($O6)=0),\"\",IFERROR(RIGHT(LARGE(COUNTIF(OFFSET($J6,-1,0,-1*$Q$3,5),{0,1,2,3,4,5,6,7,8,9})*1000+{100,90,80,70,60,50,40,30,20,10}+{0,1,2,3,4,5,6,7,8,9},COLUMN(D$21))),\"\"))","v":""},{"$f":"IF(OR(LEN($O6)=0),\"\",IFERROR(RIGHT(LARGE(COUNTIF(OFFSET($J6,-1,0,-1*$Q$3,5),{0,1,2,3,4,5,6,7,8,9})*1000+{100,90,80,70,60,50,40,30,20,10}+{0,1,2,3,4,5,6,7,8,9},COLUMN(E$21))),\"\"))","v":""},{"$f":"IF(OR(LEN($O6)=0),\"\",IFERROR(RIGHT(LARGE(COUNTIF(OFFSET($J6,-1,0,-1*$Q$3,5),{0,1,2,3,4,5,6,7,8,9})*1000+{100,90,80,70,60,50,40,30,20,10}+{0,1,2,3,4,5,6,7,8,9},COLUMN(F$21))),\"\"))","v":""},{"$f":"IF(OR(LEN($O6)=0),\"\",IFERROR(RIGHT(LARGE(COUNTIF(OFFSET($J6,-1,0,-1*$Q$3,5),{0,1,2,3,4,5,6,7,8,9})*1000+{100,90,80,70,60,50,40,30,20,10}+{0,1,2,3,4,5,6,7,8,9},COLUMN(G$21))),\"\"))","v":""},{"$f":"IF(OR(LEN($O6)=0),\"\",IFERROR(RIGHT(LARGE(COUNTIF(OFFSET($J6,-1,0,-1*$Q$3,5),{0,1,2,3,4,5,6,7,8,9})*1000+{100,90,80,70,60,50,40,30,20,10}+{0,1,2,3,4,5,6,7,8,9},COLUMN(H$21))),\"\"))","v":""},{"$f":"IF(OR(LEN($O6)=0),\"\",IFERROR(RIGHT(LARGE(COUNTIF(OFFSET($J6,-1,0,-1*$Q$3,5),{0,1,2,3,4,5,6,7,8,9})*1000+{100,90,80,70,60,50,40,30,20,10}+{0,1,2,3,4,5,6,7,8,9},COLUMN(I$21))),\"\"))","v":""},{"$f":"IF(OR(LEN($O6)=0),\"\",IFERROR(RIGHT(LARGE(COUNTIF(OFFSET($J6,-1,0,-1*$Q$3,5),{0,1,2,3,4,5,6,7,8,9})*1000+{100,90,80,70,60,50,40,30,20,10}+{0,1,2,3,4,5,6,7,8,9},COLUMN(J$21))),\"\"))","v":""},{"$f":"P6&Q6&R6&S6&T6&U6&V6&W6&X6&Y6","v":""},{"$f":"IF(P$4=1,P6,\"\")","v":""},{"$f":"IF(Q$4=1,Q6,\"\")","v":""},"","","","","","","",""]
["20200514216","90288","9","0","2","8","8","河内五分彩",2,{"$f":"IF(J$3=0,\"\",C7)","v":""},{"$f":"IF(K$3=0,\"\",D7)","v":""},{"$f":"IF(L$3=0,\"\",E7)","v":"2"},{"$f":"IF(M$3=0,\"\",F7)","v":"8"},{"$f":"IF(N$3=0,\"\",G7)","v":"8"},{"$f":"J7&K7&L7&M7&N7","v":"288"},{"$f":"IF(OR(LEN($O7)=0),\"\",IFERROR(RIGHT(LARGE(COUNTIF(OFFSET($J7,-1,0,-1*$Q$3,5),{0,1,2,3,4,5,6,7,8,9})*1000+{100,90,80,70,60,50,40,30,20,10}+{0,1,2,3,4,5,6,7,8,9},COLUMN(A$21))),\"\"))","v":""},{"$f":"IF(OR(LEN($O7)=0),\"\",IFERROR(RIGHT(LARGE(COUNTIF(OFFSET($J7,-1,0,-1*$Q$3,5),{0,1,2,3,4,5,6,7,8,9})*1000+{100,90,80,70,60,50,40,30,20,10}+{0,1,2,3,4,5,6,7,8,9},COLUMN(B$21))),\"\"))","v":""},{"$f":"IF(OR(LEN($O7)=0),\"\",IFERROR(RIGHT(LARGE(COUNTIF(OFFSET($J7,-1,0,-1*$Q$3,5),{0,1,2,3,4,5,6,7,8,9})*1000+{100,90,80,70,60,50,40,30,20,10}+{0,1,2,3,4,5,6,7,8,9},COLUMN(C$21))),\"\"))","v":""},{"$f":"IF(OR(LEN($O7)=0),\"\",IFERROR(RIGHT(LARGE(COUNTIF(OFFSET($J7,-1,0,-1*$Q$3,5),{0,1,2,3,4,5,6,7,8,9})*1000+{100,90,80,70,60,50,40,30,20,10}+{0,1,2,3,4,5,6,7,8,9},COLUMN(D$21))),\"\"))","v":""},{"$f":"IF(OR(LEN($O7)=0),\"\",IFERROR(RIGHT(LARGE(COUNTIF(OFFSET($J7,-1,0,-1*$Q$3,5),{0,1,2,3,4,5,6,7,8,9})*1000+{100,90,80,70,60,50,40,30,20,10}+{0,1,2,3,4,5,6,7,8,9},COLUMN(E$21))),\"\"))","v":""},{"$f":"IF(OR(LEN($O7)=0),\"\",IFERROR(RIGHT(LARGE(COUNTIF(OFFSET($J7,-1,0,-1*$Q$3,5),{0,1,2,3,4,5,6,7,8,9})*1000+{100,90,80,70,60,50,40,30,20,10}+{0,1,2,3,4,5,6,7,8,9},COLUMN(F$21))),\"\"))","v":""},{"$f":"IF(OR(LEN($O7)=0),\"\",IFERROR(RIGHT(LARGE(COUNTIF(OFFSET($J7,-1,0,-1*$Q$3,5),{0,1,2,3,4,5,6,7,8,9})*1000+{100,90,80,70,60,50,40,30,20,10}+{0,1,2,3,4,5,6,7,8,9},COLUMN(G$21))),\"\"))","v":""},{"$f":"IF(OR(LEN($O7)=0),\"\",IFERROR(RIGHT(LARGE(COUNTIF(OFFSET($J7,-1,0,-1*$Q$3,5),{0,1,2,3,4,5,6,7,8,9})*1000+{100,90,80,70,60,50,40,30,20,10}+{0,1,2,3,4,5,6,7,8,9},COLUMN(H$21))),\"\"))","v":""},{"$f":"IF(OR(LEN($O7)=0),\"\",IFERROR(RIGHT(LARGE(COUNTIF(OFFSET($J7,-1,0,-1*$Q$3,5),{0,1,2,3,4,5,6,7,8,9})*1000+{100,90,80,70,60,50,40,30,20,10}+{0,1,2,3,4,5,6,7,8,9},COLUMN(I$21))),\"\"))","v":""},{"$f":"IF(OR(LEN($O7)=0),\"\",IFERROR(RIGHT(LARGE(COUNTIF(OFFSET($J7,-1,0,-1*$Q$3,5),{0,1,2,3,4,5,6,7,8,9})*1000+{100,90,80,70,60,50,40,30,20,10}+{0,1,2,3,4,5,6,7,8,9},COLUMN(J$21))),\"\"))","v":""},{"$f":"P7&Q7&R7&S7&T7&U7&V7&W7&X7&Y7","v":""},{"$f":"IF(P$4=1,P7,\"\")","v":""},{"$f":"IF(Q$4=1,Q7,\"\")","v":""},{"$f":"IF(R$4=1,R7,\"\")","v":""},{"$f":"IF(S$4=1,S7,\"\")","v":""},{"$f":"IF(T$4=1,T7,\"\")","v":""},{"$f":"IF(U$4=1,U7,\"\")","v":""},{"$f":"IF(V$4=1,V7,\"\")","v":""},{"$f":"IF(W$4=1,W7,\"\")","v":""},{"$f":"IF(X$4=1,X7,\"\")","v":""},{"$f":"IF(Y$4=1,Y7,\"\")","v":""}]
["20200514217","00118","0","0","1","1","8","重庆时时彩",3,"","","1","1","8","118",{"$f":"IF(OR(LEN($O8)=0),\"\",IFERROR(RIGHT(LARGE(COUNTIF(OFFSET($J8,-1,0,-1*$Q$3,5),{0,1,2,3,4,5,6,7,8,9})*1000+{100,90,80,70,60,50,40,30,20,10}+{0,1,2,3,4,5,6,7,8,9},COLUMN(A$21))),\"\"))","v":""},{"$f":"IF(OR(LEN($O8)=0),\"\",IFERROR(RIGHT(LARGE(COUNTIF(OFFSET($J8,-1,0,-1*$Q$3,5),{0,1,2,3,4,5,6,7,8,9})*1000+{100,90,80,70,60,50,40,30,20,10}+{0,1,2,3,4,5,6,7,8,9},COLUMN(B$21))),\"\"))","v":""},{"$f":"IF(OR(LEN($O8)=0),\"\",IFERROR(RIGHT(LARGE(COUNTIF(OFFSET($J8,-1,0,-1*$Q$3,5),{0,1,2,3,4,5,6,7,8,9})*1000+{100,90,80,70,60,50,40,30,20,10}+{0,1,2,3,4,5,6,7,8,9},COLUMN(C$21))),\"\"))","v":""},{"$f":"IF(OR(LEN($O8)=0),\"\",IFERROR(RIGHT(LARGE(COUNTIF(OFFSET($J8,-1,0,-1*$Q$3,5),{0,1,2,3,4,5,6,7,8,9})*1000+{100,90,80,70,60,50,40,30,20,10}+{0,1,2,3,4,5,6,7,8,9},COLUMN(D$21))),\"\"))","v":""},{"$f":"IF(OR(LEN($O8)=0),\"\",IFERROR(RIGHT(LARGE(COUNTIF(OFFSET($J8,-1,0,-1*$Q$3,5),{0,1,2,3,4,5,6,7,8,9})*1000+{100,90,80,70,60,50,40,30,20,10}+{0,1,2,3,4,5,6,7,8,9},COLUMN(E$21))),\"\"))","v":""},{"$f":"IF(OR(LEN($O8)=0),\"\",IFERROR(RIGHT(LARGE(COUNTIF(OFFSET($J8,-1,0,-1*$Q$3,5),{0,1,2,3,4,5,6,7,8,9})*1000+{100,90,80,70,60,50,40,30,20,10}+{0,1,2,3,4,5,6,7,8,9},COLUMN(F$21))),\"\"))","v":""},{"$f":"IF(OR(LEN($O8)=0),\"\",IFERROR(RIGHT(LARGE(COUNTIF(OFFSET($J8,-1,0,-1*$Q$3,5),{0,1,2,3,4,5,6,7,8,9})*1000+{100,90,80,70,60,50,40,30,20,10}+{0,1,2,3,4,5,6,7,8,9},COLUMN(G$21))),\"\"))","v":""},{"$f":"IF(OR(LEN($O8)=0),\"\",IFERROR(RIGHT(LARGE(COUNTIF(OFFSET($J8,-1,0,-1*$Q$3,5),{0,1,2,3,4,5,6,7,8,9})*1000+{100,90,80,70,60,50,40,30,20,10}+{0,1,2,3,4,5,6,7,8,9},COLUMN(H$21))),\"\"))","v":""},{"$f":"IF(OR(LEN($O8)=0),\"\",IFERROR(RIGHT(LARGE(COUNTIF(OFFSET($J8,-1,0,-1*$Q$3,5),{0,1,2,3,4,5,6,7,8,9})*1000+{100,90,80,70,60,50,40,30,20,10}+{0,1,2,3,4,5,6,7,8,9},COLUMN(I$21))),\"\"))","v":""},{"$f":"IF(OR(LEN($O8)=0),\"\",IFERROR(RIGHT(LARGE(COUNTIF(OFFSET($J8,-1,0,-1*$Q$3,5),{0,1,2,3,4,5,6,7,8,9})*1000+{100,90,80,70,60,50,40,30,20,10}+{0,1,2,3,4,5,6,7,8,9},COLUMN(J$21))),\"\"))","v":""},"","","","","","","","","","",""]
["20200514218","99084","9","9","0","8","4","天津时时彩",4,"","","0","8","4","084",{"$f":"IF(OR(LEN($O9)=0),\"\",IFERROR(RIGHT(LARGE(COUNTIF(OFFSET($J9,-1,0,-1*$Q$3,5),{0,1,2,3,4,5,6,7,8,9})*1000+{100,90,80,70,60,50,40,30,20,10}+{0,1,2,3,4,5,6,7,8,9},COLUMN(A$21))),\"\"))","v":""},{"$f":"IF(OR(LEN($O9)=0),\"\",IFERROR(RIGHT(LARGE(COUNTIF(OFFSET($J9,-1,0,-1*$Q$3,5),{0,1,2,3,4,5,6,7,8,9})*1000+{100,90,80,70,60,50,40,30,20,10}+{0,1,2,3,4,5,6,7,8,9},COLUMN(B$21))),\"\"))","v":""},{"$f":"IF(OR(LEN($O9)=0),\"\",IFERROR(RIGHT(LARGE(COUNTIF(OFFSET($J9,-1,0,-1*$Q$3,5),{0,1,2,3,4,5,6,7,8,9})*1000+{100,90,80,70,60,50,40,30,20,10}+{0,1,2,3,4,5,6,7,8,9},COLUMN(C$21))),\"\"))","v":""},{"$f":"IF(OR(LEN($O9)=0),\"\",IFERROR(RIGHT(LARGE(COUNTIF(OFFSET($J9,-1,0,-1*$Q$3,5),{0,1,2,3,4,5,6,7,8,9})*1000+{100,90,80,70,60,50,40,30,20,10}+{0,1,2,3,4,5,6,7,8,9},COLUMN(D$21))),\"\"))","v":""},{"$f":"IF(OR(LEN($O9)=0),\"\",IFERROR(RIGHT(LARGE(COUNTIF(OFFSET($J9,-1,0,-1*$Q$3,5),{0,1,2,3,4,5,6,7,8,9})*1000+{100,90,80,70,60,50,40,30,20,10}+{0,1,2,3,4,5,6,7,8,9},COLUMN(E$21))),\"\"))","v":""},{"$f":"IF(OR(LEN($O9)=0),\"\",IFERROR(RIGHT(LARGE(COUNTIF(OFFSET($J9,-1,0,-1*$Q$3,5),{0,1,2,3,4,5,6,7,8,9})*1000+{100,90,80,70,60,50,40,30,20,10}+{0,1,2,3,4,5,6,7,8,9},COLUMN(F$21))),\"\"))","v":""},{"$f":"IF(OR(LEN($O9)=0),\"\",IFERROR(RIGHT(LARGE(COUNTIF(OFFSET($J9,-1,0,-1*$Q$3,5),{0,1,2,3,4,5,6,7,8,9})*1000+{100,90,80,70,60,50,40,30,20,10}+{0,1,2,3,4,5,6,7,8,9},COLUMN(G$21))),\"\"))","v":""},{"$f":"IF(OR(LEN($O9)=0),\"\",IFERROR(RIGHT(LARGE(COUNTIF(OFFSET($J9,-1,0,-1*$Q$3,5),{0,1,2,3,4,5,6,7,8,9})*1000+{100,90,80,70,60,50,40,30,20,10}+{0,1,2,3,4,5,6,7,8,9},COLUMN(H$21))),\"\"))","v":""},{"$f":"IF(OR(LEN($O9)=0),\"\",IFERROR(RIGHT(LARGE(COUNTIF(OFFSET($J9,-1,0,-1*$Q$3,5),{0,1,2,3,4,5,6,7,8,9})*1000+{100,90,80,70,60,50,40,30,20,10}+{0,1,2,3,4,5,6,7,8,9},COLUMN(I$21))),\"\"))","v":""},{"$f":"IF(OR(LEN($O9)=0),\"\",IFERROR(RIGHT(LARGE(COUNTIF(OFFSET($J9,-1,0,-1*$Q$3,5),{0,1,2,3,4,5,6,7,8,9})*1000+{100,90,80,70,60,50,40,30,20,10}+{0,1,2,3,4,5,6,7,8,9},COLUMN(J$21))),\"\"))","v":""},"","","","","","","","","","",""]
["20200514219","38064","3","8","0","6","4","新疆时时彩",5,"","","0","6","4","064",{"$f":"IF(OR(LEN($O10)=0),\"\",IFERROR(RIGHT(LARGE(COUNTIF(OFFSET($J10,-1,0,-1*$Q$3,5),{0,1,2,3,4,5,6,7,8,9})*1000+{100,90,80,70,60,50,40,30,20,10}+{0,1,2,3,4,5,6,7,8,9},COLUMN(A$21))),\"\"))","v":""},{"$f":"IF(OR(LEN($O10)=0),\"\",IFERROR(RIGHT(LARGE(COUNTIF(OFFSET($J10,-1,0,-1*$Q$3,5),{0,1,2,3,4,5,6,7,8,9})*1000+{100,90,80,70,60,50,40,30,20,10}+{0,1,2,3,4,5,6,7,8,9},COLUMN(B$21))),\"\"))","v":""},{"$f":"IF(OR(LEN($O10)=0),\"\",IFERROR(RIGHT(LARGE(COUNTIF(OFFSET($J10,-1,0,-1*$Q$3,5),{0,1,2,3,4,5,6,7,8,9})*1000+{100,90,80,70,60,50,40,30,20,10}+{0,1,2,3,4,5,6,7,8,9},COLUMN(C$21))),\"\"))","v":""},{"$f":"IF(OR(LEN($O10)=0),\"\",IFERROR(RIGHT(LARGE(COUNTIF(OFFSET($J10,-1,0,-1*$Q$3,5),{0,1,2,3,4,5,6,7,8,9})*1000+{100,90,80,70,60,50,40,30,20,10}+{0,1,2,3,4,5,6,7,8,9},COLUMN(D$21))),\"\"))","v":""},{"$f":"IF(OR(LEN($O10)=0),\"\",IFERROR(RIGHT(LARGE(COUNTIF(OFFSET($J10,-1,0,-1*$Q$3,5),{0,1,2,3,4,5,6,7,8,9})*1000+{100,90,80,70,60,50,40,30,20,10}+{0,1,2,3,4,5,6,7,8,9},COLUMN(E$21))),\"\"))","v":""},{"$f":"IF(OR(LEN($O10)=0),\"\",IFERROR(RIGHT(LARGE(COUNTIF(OFFSET($J10,-1,0,-1*$Q$3,5),{0,1,2,3,4,5,6,7,8,9})*1000+{100,90,80,70,60,50,40,30,20,10}+{0,1,2,3,4,5,6,7,8,9},COLUMN(F$21))),\"\"))","v":""},{"$f":"IF(OR(LEN($O10)=0),\"\",IFERROR(RIGHT(LARGE(COUNTIF(OFFSET($J10,-1,0,-1*$Q$3,5),{0,1,2,3,4,5,6,7,8,9})*1000+{100,90,80,70,60,50,40,30,20,10}+{0,1,2,3,4,5,6,7,8,9},COLUMN(G$21))),\"\"))","v":""},{"$f":"IF(OR(LEN($O10)=0),\"\",IFERROR(RIGHT(LARGE(COUNTIF(OFFSET($J10,-1,0,-1*$Q$3,5),{0,1,2,3,4,5,6,7,8,9})*1000+{100,90,80,70,60,50,40,30,20,10}+{0,1,2,3,4,5,6,7,8,9},COLUMN(H$21))),\"\"))","v":""},{"$f":"IF(OR(LEN($O10)=0),\"\",IFERROR(RIGHT(LARGE(COUNTIF(OFFSET($J10,-1,0,-1*$Q$3,5),{0,1,2,3,4,5,6,7,8,9})*1000+{100,90,80,70,60,50,40,30,20,10}+{0,1,2,3,4,5,6,7,8,9},COLUMN(I$21))),\"\"))","v":""},{"$f":"IF(OR(LEN($O10)=0),\"\",IFERROR(RIGHT(LARGE(COUNTIF(OFFSET($J10,-1,0,-1*$Q$3,5),{0,1,2,3,4,5,6,7,8,9})*1000+{100,90,80,70,60,50,40,30,20,10}+{0,1,2,3,4,5,6,7,8,9},COLUMN(J$21))),\"\"))","v":""},"","","","","","","","","","",""]
["20200514220","13472","1","3","4","7","2","福利彩票3d",6,"","","4","7","2","472",{"$f":"IF(OR(LEN($O11)=0),\"\",IFERROR(RIGHT(LARGE(COUNTIF(OFFSET($J11,-1,0,-1*$Q$3,5),{0,1,2,3,4,5,6,7,8,9})*1000+{100,90,80,70,60,50,40,30,20,10}+{0,1,2,3,4,5,6,7,8,9},COLUMN(A$21))),\"\"))","v":""},{"$f":"IF(OR(LEN($O11)=0),\"\",IFERROR(RIGHT(LARGE(COUNTIF(OFFSET($J11,-1,0,-1*$Q$3,5),{0,1,2,3,4,5,6,7,8,9})*1000+{100,90,80,70,60,50,40,30,20,10}+{0,1,2,3,4,5,6,7,8,9},COLUMN(B$21))),\"\"))","v":""},{"$f":"IF(OR(LEN($O11)=0),\"\",IFERROR(RIGHT(LARGE(COUNTIF(OFFSET($J11,-1,0,-1*$Q$3,5),{0,1,2,3,4,5,6,7,8,9})*1000+{100,90,80,70,60,50,40,30,20,10}+{0,1,2,3,4,5,6,7,8,9},COLUMN(C$21))),\"\"))","v":""},{"$f":"IF(OR(LEN($O11)=0),\"\",IFERROR(RIGHT(LARGE(COUNTIF(OFFSET($J11,-1,0,-1*$Q$3,5),{0,1,2,3,4,5,6,7,8,9})*1000+{100,90,80,70,60,50,40,30,20,10}+{0,1,2,3,4,5,6,7,8,9},COLUMN(D$21))),\"\"))","v":""},{"$f":"IF(OR(LEN($O11)=0),\"\",IFERROR(RIGHT(LARGE(COUNTIF(OFFSET($J11,-1,0,-1*$Q$3,5),{0,1,2,3,4,5,6,7,8,9})*1000+{100,90,80,70,60,50,40,30,20,10}+{0,1,2,3,4,5,6,7,8,9},COLUMN(E$21))),\"\"))","v":""},{"$f":"IF(OR(LEN($O11)=0),\"\",IFERROR(RIGHT(LARGE(COUNTIF(OFFSET($J11,-1,0,-1*$Q$3,5),{0,1,2,3,4,5,6,7,8,9})*1000+{100,90,80,70,60,50,40,30,20,10}+{0,1,2,3,4,5,6,7,8,9},COLUMN(F$21))),\"\"))","v":""},{"$f":"IF(OR(LEN($O11)=0),\"\",IFERROR(RIGHT(LARGE(COUNTIF(OFFSET($J11,-1,0,-1*$Q$3,5),{0,1,2,3,4,5,6,7,8,9})*1000+{100,90,80,70,60,50,40,30,20,10}+{0,1,2,3,4,5,6,7,8,9},COLUMN(G$21))),\"\"))","v":""},{"$f":"IF(OR(LEN($O11)=0),\"\",IFERROR(RIGHT(LARGE(COUNTIF(OFFSET($J11,-1,0,-1*$Q$3,5),{0,1,2,3,4,5,6,7,8,9})*1000+{100,90,80,70,60,50,40,30,20,10}+{0,1,2,3,4,5,6,7,8,9},COLUMN(H$21))),\"\"))","v":""},{"$f":"IF(OR(LEN($O11)=0),\"\",IFERROR(RIGHT(LARGE(COUNTIF(OFFSET($J11,-1,0,-1*$Q$3,5),{0,1,2,3,4,5,6,7,8,9})*1000+{100,90,80,70,60,50,40,30,20,10}+{0,1,2,3,4,5,6,7,8,9},COLUMN(I$21))),\"\"))","v":""},{"$f":"IF(OR(LEN($O11)=0),\"\",IFERROR(RIGHT(LARGE(COUNTIF(OFFSET($J11,-1,0,-1*$Q$3,5),{0,1,2,3,4,5,6,7,8,9})*1000+{100,90,80,70,60,50,40,30,20,10}+{0,1,2,3,4,5,6,7,8,9},COLUMN(J$21))),\"\"))","v":""},"","","","","","","","","","",""]
["20200514221","89266","8","9","2","6","6","体彩排列三",7,"","","2","6","6","266",{"$f":"IF(OR(LEN($O12)=0),\"\",IFERROR(RIGHT(LARGE(COUNTIF(OFFSET($J12,-1,0,-1*$Q$3,5),{0,1,2,3,4,5,6,7,8,9})*1000+{100,90,80,70,60,50,40,30,20,10}+{0,1,2,3,4,5,6,7,8,9},COLUMN(A$21))),\"\"))","v":""},{"$f":"IF(OR(LEN($O12)=0),\"\",IFERROR(RIGHT(LARGE(COUNTIF(OFFSET($J12,-1,0,-1*$Q$3,5),{0,1,2,3,4,5,6,7,8,9})*1000+{100,90,80,70,60,50,40,30,20,10}+{0,1,2,3,4,5,6,7,8,9},COLUMN(B$21))),\"\"))","v":""},{"$f":"IF(OR(LEN($O12)=0),\"\",IFERROR(RIGHT(LARGE(COUNTIF(OFFSET($J12,-1,0,-1*$Q$3,5),{0,1,2,3,4,5,6,7,8,9})*1000+{100,90,80,70,60,50,40,30,20,10}+{0,1,2,3,4,5,6,7,8,9},COLUMN(C$21))),\"\"))","v":""},{"$f":"IF(OR(LEN($O12)=0),\"\",IFERROR(RIGHT(LARGE(COUNTIF(OFFSET($J12,-1,0,-1*$Q$3,5),{0,1,2,3,4,5,6,7,8,9})*1000+{100,90,80,70,60,50,40,30,20,10}+{0,1,2,3,4,5,6,7,8,9},COLUMN(D$21))),\"\"))","v":""},{"$f":"IF(OR(LEN($O12)=0),\"\",IFERROR(RIGHT(LARGE(COUNTIF(OFFSET($J12,-1,0,-1*$Q$3,5),{0,1,2,3,4,5,6,7,8,9})*1000+{100,90,80,70,60,50,40,30,20,10}+{0,1,2,3,4,5,6,7,8,9},COLUMN(E$21))),\"\"))","v":""},{"$f":"IF(OR(LEN($O12)=0),\"\",IFERROR(RIGHT(LARGE(COUNTIF(OFFSET($J12,-1,0,-1*$Q$3,5),{0,1,2,3,4,5,6,7,8,9})*1000+{100,90,80,70,60,50,40,30,20,10}+{0,1,2,3,4,5,6,7,8,9},COLUMN(F$21))),\"\"))","v":""},{"$f":"IF(OR(LEN($O12)=0),\"\",IFERROR(RIGHT(LARGE(COUNTIF(OFFSET($J12,-1,0,-1*$Q$3,5),{0,1,2,3,4,5,6,7,8,9})*1000+{100,90,80,70,60,50,40,30,20,10}+{0,1,2,3,4,5,6,7,8,9},COLUMN(G$21))),\"\"))","v":""},{"$f":"IF(OR(LEN($O12)=0),\"\",IFERROR(RIGHT(LARGE(COUNTIF(OFFSET($J12,-1,0,-1*$Q$3,5),{0,1,2,3,4,5,6,7,8,9})*1000+{100,90,80,70,60,50,40,30,20,10}+{0,1,2,3,4,5,6,7,8,9},COLUMN(H$21))),\"\"))","v":""},{"$f":"IF(OR(LEN($O12)=0),\"\",IFERROR(RIGHT(LARGE(COUNTIF(OFFSET($J12,-1,0,-1*$Q$3,5),{0,1,2,3,4,5,6,7,8,9})*1000+{100,90,80,70,60,50,40,30,20,10}+{0,1,2,3,4,5,6,7,8,9},COLUMN(I$21))),\"\"))","v":""},{"$f":"IF(OR(LEN($O12)=0),\"\",IFERROR(RIGHT(LARGE(COUNTIF(OFFSET($J12,-1,0,-1*$Q$3,5),{0,1,2,3,4,5,6,7,8,9})*1000+{100,90,80,70,60,50,40,30,20,10}+{0,1,2,3,4,5,6,7,8,9},COLUMN(J$21))),\"\"))","v":""},"","","","","","","","","","",""]
["20200514222","34124","3","4","1","2","4",null,null,"","","1","2","4","124",{"$f":"IF(OR(LEN($O13)=0),\"\",IFERROR(RIGHT(LARGE(COUNTIF(OFFSET($J13,-1,0,-1*$Q$3,5),{0,1,2,3,4,5,6,7,8,9})*1000+{100,90,80,70,60,50,40,30,20,10}+{0,1,2,3,4,5,6,7,8,9},COLUMN(A$21))),\"\"))","v":""},{"$f":"IF(OR(LEN($O13)=0),\"\",IFERROR(RIGHT(LARGE(COUNTIF(OFFSET($J13,-1,0,-1*$Q$3,5),{0,1,2,3,4,5,6,7,8,9})*1000+{100,90,80,70,60,50,40,30,20,10}+{0,1,2,3,4,5,6,7,8,9},COLUMN(B$21))),\"\"))","v":""},{"$f":"IF(OR(LEN($O13)=0),\"\",IFERROR(RIGHT(LARGE(COUNTIF(OFFSET($J13,-1,0,-1*$Q$3,5),{0,1,2,3,4,5,6,7,8,9})*1000+{100,90,80,70,60,50,40,30,20,10}+{0,1,2,3,4,5,6,7,8,9},COLUMN(C$21))),\"\"))","v":""},{"$f":"IF(OR(LEN($O13)=0),\"\",IFERROR(RIGHT(LARGE(COUNTIF(OFFSET($J13,-1,0,-1*$Q$3,5),{0,1,2,3,4,5,6,7,8,9})*1000+{100,90,80,70,60,50,40,30,20,10}+{0,1,2,3,4,5,6,7,8,9},COLUMN(D$21))),\"\"))","v":""},{"$f":"IF(OR(LEN($O13)=0),\"\",IFERROR(RIGHT(LARGE(COUNTIF(OFFSET($J13,-1,0,-1*$Q$3,5),{0,1,2,3,4,5,6,7,8,9})*1000+{100,90,80,70,60,50,40,30,20,10}+{0,1,2,3,4,5,6,7,8,9},COLUMN(E$21))),\"\"))","v":""},{"$f":"IF(OR(LEN($O13)=0),\"\",IFERROR(RIGHT(LARGE(COUNTIF(OFFSET($J13,-1,0,-1*$Q$3,5),{0,1,2,3,4,5,6,7,8,9})*1000+{100,90,80,70,60,50,40,30,20,10}+{0,1,2,3,4,5,6,7,8,9},COLUMN(F$21))),\"\"))","v":""},{"$f":"IF(OR(LEN($O13)=0),\"\",IFERROR(RIGHT(LARGE(COUNTIF(OFFSET($J13,-1,0,-1*$Q$3,5),{0,1,2,3,4,5,6,7,8,9})*1000+{100,90,80,70,60,50,40,30,20,10}+{0,1,2,3,4,5,6,7,8,9},COLUMN(G$21))),\"\"))","v":""},{"$f":"IF(OR(LEN($O13)=0),\"\",IFERROR(RIGHT(LARGE(COUNTIF(OFFSET($J13,-1,0,-1*$Q$3,5),{0,1,2,3,4,5,6,7,8,9})*1000+{100,90,80,70,60,50,40,30,20,10}+{0,1,2,3,4,5,6,7,8,9},COLUMN(H$21))),\"\"))","v":""},{"$f":"IF(OR(LEN($O13)=0),\"\",IFERROR(RIGHT(LARGE(COUNTIF(OFFSET($J13,-1,0,-1*$Q$3,5),{0,1,2,3,4,5,6,7,8,9})*1000+{100,90,80,70,60,50,40,30,20,10}+{0,1,2,3,4,5,6,7,8,9},COLUMN(I$21))),\"\"))","v":""},{"$f":"IF(OR(LEN($O13)=0),\"\",IFERROR(RIGHT(LARGE(COUNTIF(OFFSET($J13,-1,0,-1*$Q$3,5),{0,1,2,3,4,5,6,7,8,9})*1000+{100,90,80,70,60,50,40,30,20,10}+{0,1,2,3,4,5,6,7,8,9},COLUMN(J$21))),\"\"))","v":""},"","","","","","","","","","",""]
["20200514223","88415","8","8","4","1","5",null,null,"","","4","1","5","415",{"$f":"IF(OR(LEN($O14)=0),\"\",IFERROR(RIGHT(LARGE(COUNTIF(OFFSET($J14,-1,0,-1*$Q$3,5),{0,1,2,3,4,5,6,7,8,9})*1000+{100,90,80,70,60,50,40,30,20,10}+{0,1,2,3,4,5,6,7,8,9},COLUMN(A$21))),\"\"))","v":""},{"$f":"IF(OR(LEN($O14)=0),\"\",IFERROR(RIGHT(LARGE(COUNTIF(OFFSET($J14,-1,0,-1*$Q$3,5),{0,1,2,3,4,5,6,7,8,9})*1000+{100,90,80,70,60,50,40,30,20,10}+{0,1,2,3,4,5,6,7,8,9},COLUMN(B$21))),\"\"))","v":""},{"$f":"IF(OR(LEN($O14)=0),\"\",IFERROR(RIGHT(LARGE(COUNTIF(OFFSET($J14,-1,0,-1*$Q$3,5),{0,1,2,3,4,5,6,7,8,9})*1000+{100,90,80,70,60,50,40,30,20,10}+{0,1,2,3,4,5,6,7,8,9},COLUMN(C$21))),\"\"))","v":""},{"$f":"IF(OR(LEN($O14)=0),\"\",IFERROR(RIGHT(LARGE(COUNTIF(OFFSET($J14,-1,0,-1*$Q$3,5),{0,1,2,3,4,5,6,7,8,9})*1000+{100,90,80,70,60,50,40,30,20,10}+{0,1,2,3,4,5,6,7,8,9},COLUMN(D$21))),\"\"))","v":""},{"$f":"IF(OR(LEN($O14)=0),\"\",IFERROR(RIGHT(LARGE(COUNTIF(OFFSET($J14,-1,0,-1*$Q$3,5),{0,1,2,3,4,5,6,7,8,9})*1000+{100,90,80,70,60,50,40,30,20,10}+{0,1,2,3,4,5,6,7,8,9},COLUMN(E$21))),\"\"))","v":""},{"$f":"IF(OR(LEN($O14)=0),\"\",IFERROR(RIGHT(LARGE(COUNTIF(OFFSET($J14,-1,0,-1*$Q$3,5),{0,1,2,3,4,5,6,7,8,9})*1000+{100,90,80,70,60,50,40,30,20,10}+{0,1,2,3,4,5,6,7,8,9},COLUMN(F$21))),\"\"))","v":""},{"$f":"IF(OR(LEN($O14)=0),\"\",IFERROR(RIGHT(LARGE(COUNTIF(OFFSET($J14,-1,0,-1*$Q$3,5),{0,1,2,3,4,5,6,7,8,9})*1000+{100,90,80,70,60,50,40,30,20,10}+{0,1,2,3,4,5,6,7,8,9},COLUMN(G$21))),\"\"))","v":""},{"$f":"IF(OR(LEN($O14)=0),\"\",IFERROR(RIGHT(LARGE(COUNTIF(OFFSET($J14,-1,0,-1*$Q$3,5),{0,1,2,3,4,5,6,7,8,9})*1000+{100,90,80,70,60,50,40,30,20,10}+{0,1,2,3,4,5,6,7,8,9},COLUMN(H$21))),\"\"))","v":""},{"$f":"IF(OR(LEN($O14)=0),\"\",IFERROR(RIGHT(LARGE(COUNTIF(OFFSET($J14,-1,0,-1*$Q$3,5),{0,1,2,3,4,5,6,7,8,9})*1000+{100,90,80,70,60,50,40,30,20,10}+{0,1,2,3,4,5,6,7,8,9},COLUMN(I$21))),\"\"))","v":""},{"$f":"IF(OR(LEN($O14)=0),\"\",IFERROR(RIGHT(LARGE(COUNTIF(OFFSET($J14,-1,0,-1*$Q$3,5),{0,1,2,3,4,5,6,7,8,9})*1000+{100,90,80,70,60,50,40,30,20,10}+{0,1,2,3,4,5,6,7,8,9},COLUMN(J$21))),\"\"))","v":""},"","","","","","","","","","",""]
["20200514224","66841","6","6","8","4","1",null,null,"","","8","4","1","841",{"$f":"IF(OR(LEN($O15)=0),\"\",IFERROR(RIGHT(LARGE(COUNTIF(OFFSET($J15,-1,0,-1*$Q$3,5),{0,1,2,3,4,5,6,7,8,9})*1000+{100,90,80,70,60,50,40,30,20,10}+{0,1,2,3,4,5,6,7,8,9},COLUMN(A$21))),\"\"))","v":""},{"$f":"IF(OR(LEN($O15)=0),\"\",IFERROR(RIGHT(LARGE(COUNTIF(OFFSET($J15,-1,0,-1*$Q$3,5),{0,1,2,3,4,5,6,7,8,9})*1000+{100,90,80,70,60,50,40,30,20,10}+{0,1,2,3,4,5,6,7,8,9},COLUMN(B$21))),\"\"))","v":""},{"$f":"IF(OR(LEN($O15)=0),\"\",IFERROR(RIGHT(LARGE(COUNTIF(OFFSET($J15,-1,0,-1*$Q$3,5),{0,1,2,3,4,5,6,7,8,9})*1000+{100,90,80,70,60,50,40,30,20,10}+{0,1,2,3,4,5,6,7,8,9},COLUMN(C$21))),\"\"))","v":""},{"$f":"IF(OR(LEN($O15)=0),\"\",IFERROR(RIGHT(LARGE(COUNTIF(OFFSET($J15,-1,0,-1*$Q$3,5),{0,1,2,3,4,5,6,7,8,9})*1000+{100,90,80,70,60,50,40,30,20,10}+{0,1,2,3,4,5,6,7,8,9},COLUMN(D$21))),\"\"))","v":""},{"$f":"IF(OR(LEN($O15)=0),\"\",IFERROR(RIGHT(LARGE(COUNTIF(OFFSET($J15,-1,0,-1*$Q$3,5),{0,1,2,3,4,5,6,7,8,9})*1000+{100,90,80,70,60,50,40,30,20,10}+{0,1,2,3,4,5,6,7,8,9},COLUMN(E$21))),\"\"))","v":""},{"$f":"IF(OR(LEN($O15)=0),\"\",IFERROR(RIGHT(LARGE(COUNTIF(OFFSET($J15,-1,0,-1*$Q$3,5),{0,1,2,3,4,5,6,7,8,9})*1000+{100,90,80,70,60,50,40,30,20,10}+{0,1,2,3,4,5,6,7,8,9},COLUMN(F$21))),\"\"))","v":""},{"$f":"IF(OR(LEN($O15)=0),\"\",IFERROR(RIGHT(LARGE(COUNTIF(OFFSET($J15,-1,0,-1*$Q$3,5),{0,1,2,3,4,5,6,7,8,9})*1000+{100,90,80,70,60,50,40,30,20,10}+{0,1,2,3,4,5,6,7,8,9},COLUMN(G$21))),\"\"))","v":""},{"$f":"IF(OR(LEN($O15)=0),\"\",IFERROR(RIGHT(LARGE(COUNTIF(OFFSET($J15,-1,0,-1*$Q$3,5),{0,1,2,3,4,5,6,7,8,9})*1000+{100,90,80,70,60,50,40,30,20,10}+{0,1,2,3,4,5,6,7,8,9},COLUMN(H$21))),\"\"))","v":""},{"$f":"IF(OR(LEN($O15)=0),\"\",IFERROR(RIGHT(LARGE(COUNTIF(OFFSET($J15,-1,0,-1*$Q$3,5),{0,1,2,3,4,5,6,7,8,9})*1000+{100,90,80,70,60,50,40,30,20,10}+{0,1,2,3,4,5,6,7,8,9},COLUMN(I$21))),\"\"))","v":""},{"$f":"IF(OR(LEN($O15)=0),\"\",IFERROR(RIGHT(LARGE(COUNTIF(OFFSET($J15,-1,0,-1*$Q$3,5),{0,1,2,3,4,5,6,7,8,9})*1000+{100,90,80,70,60,50,40,30,20,10}+{0,1,2,3,4,5,6,7,8,9},COLUMN(J$21))),\"\"))","v":""},"","","","","","","","","","",""]
["20200514225","43192","4","3","1","9","2",null,null,"","","1","9","2","192",{"$f":"IF(OR(LEN($O16)=0),\"\",IFERROR(RIGHT(LARGE(COUNTIF(OFFSET($J16,-1,0,-1*$Q$3,5),{0,1,2,3,4,5,6,7,8,9})*1000+{100,90,80,70,60,50,40,30,20,10}+{0,1,2,3,4,5,6,7,8,9},COLUMN(A$21))),\"\"))","v":""},{"$f":"IF(OR(LEN($O16)=0),\"\",IFERROR(RIGHT(LARGE(COUNTIF(OFFSET($J16,-1,0,-1*$Q$3,5),{0,1,2,3,4,5,6,7,8,9})*1000+{100,90,80,70,60,50,40,30,20,10}+{0,1,2,3,4,5,6,7,8,9},COLUMN(B$21))),\"\"))","v":""},{"$f":"IF(OR(LEN($O16)=0),\"\",IFERROR(RIGHT(LARGE(COUNTIF(OFFSET($J16,-1,0,-1*$Q$3,5),{0,1,2,3,4,5,6,7,8,9})*1000+{100,90,80,70,60,50,40,30,20,10}+{0,1,2,3,4,5,6,7,8,9},COLUMN(C$21))),\"\"))","v":""},{"$f":"IF(OR(LEN($O16)=0),\"\",IFERROR(RIGHT(LARGE(COUNTIF(OFFSET($J16,-1,0,-1*$Q$3,5),{0,1,2,3,4,5,6,7,8,9})*1000+{100,90,80,70,60,50,40,30,20,10}+{0,1,2,3,4,5,6,7,8,9},COLUMN(D$21))),\"\"))","v":""},{"$f":"IF(OR(LEN($O16)=0),\"\",IFERROR(RIGHT(LARGE(COUNTIF(OFFSET($J16,-1,0,-1*$Q$3,5),{0,1,2,3,4,5,6,7,8,9})*1000+{100,90,80,70,60,50,40,30,20,10}+{0,1,2,3,4,5,6,7,8,9},COLUMN(E$21))),\"\"))","v":""},{"$f":"IF(OR(LEN($O16)=0),\"\",IFERROR(RIGHT(LARGE(COUNTIF(OFFSET($J16,-1,0,-1*$Q$3,5),{0,1,2,3,4,5,6,7,8,9})*1000+{100,90,80,70,60,50,40,30,20,10}+{0,1,2,3,4,5,6,7,8,9},COLUMN(F$21))),\"\"))","v":""},{"$f":"IF(OR(LEN($O16)=0),\"\",IFERROR(RIGHT(LARGE(COUNTIF(OFFSET($J16,-1,0,-1*$Q$3,5),{0,1,2,3,4,5,6,7,8,9})*1000+{100,90,80,70,60,50,40,30,20,10}+{0,1,2,3,4,5,6,7,8,9},COLUMN(G$21))),\"\"))","v":""},{"$f":"IF(OR(LEN($O16)=0),\"\",IFERROR(RIGHT(LARGE(COUNTIF(OFFSET($J16,-1,0,-1*$Q$3,5),{0,1,2,3,4,5,6,7,8,9})*1000+{100,90,80,70,60,50,40,30,20,10}+{0,1,2,3,4,5,6,7,8,9},COLUMN(H$21))),\"\"))","v":""},{"$f":"IF(OR(LEN($O16)=0),\"\",IFERROR(RIGHT(LARGE(COUNTIF(OFFSET($J16,-1,0,-1*$Q$3,5),{0,1,2,3,4,5,6,7,8,9})*1000+{100,90,80,70,60,50,40,30,20,10}+{0,1,2,3,4,5,6,7,8,9},COLUMN(I$21))),\"\"))","v":""},{"$f":"IF(OR(LEN($O16)=0),\"\",IFERROR(RIGHT(LARGE(COUNTIF(OFFSET($J16,-1,0,-1*$Q$3,5),{0,1,2,3,4,5,6,7,8,9})*1000+{100,90,80,70,60,50,40,30,20,10}+{0,1,2,3,4,5,6,7,8,9},COLUMN(J$21))),\"\"))","v":""},"","","","","","","","","","",""]
["20200514226","07010","0","7","0","1","0",null,null,"","","0","1","0","010",{"$f":"IF(OR(LEN($O17)=0),\"\",IFERROR(RIGHT(LARGE(COUNTIF(OFFSET($J17,-1,0,-1*$Q$3,5),{0,1,2,3,4,5,6,7,8,9})*1000+{100,90,80,70,60,50,40,30,20,10}+{0,1,2,3,4,5,6,7,8,9},COLUMN(A$21))),\"\"))","v":""},{"$f":"IF(OR(LEN($O17)=0),\"\",IFERROR(RIGHT(LARGE(COUNTIF(OFFSET($J17,-1,0,-1*$Q$3,5),{0,1,2,3,4,5,6,7,8,9})*1000+{100,90,80,70,60,50,40,30,20,10}+{0,1,2,3,4,5,6,7,8,9},COLUMN(B$21))),\"\"))","v":""},{"$f":"IF(OR(LEN($O17)=0),\"\",IFERROR(RIGHT(LARGE(COUNTIF(OFFSET($J17,-1,0,-1*$Q$3,5),{0,1,2,3,4,5,6,7,8,9})*1000+{100,90,80,70,60,50,40,30,20,10}+{0,1,2,3,4,5,6,7,8,9},COLUMN(C$21))),\"\"))","v":""},{"$f":"IF(OR(LEN($O17)=0),\"\",IFERROR(RIGHT(LARGE(COUNTIF(OFFSET($J17,-1,0,-1*$Q$3,5),{0,1,2,3,4,5,6,7,8,9})*1000+{100,90,80,70,60,50,40,30,20,10}+{0,1,2,3,4,5,6,7,8,9},COLUMN(D$21))),\"\"))","v":""},{"$f":"IF(OR(LEN($O17)=0),\"\",IFERROR(RIGHT(LARGE(COUNTIF(OFFSET($J17,-1,0,-1*$Q$3,5),{0,1,2,3,4,5,6,7,8,9})*1000+{100,90,80,70,60,50,40,30,20,10}+{0,1,2,3,4,5,6,7,8,9},COLUMN(E$21))),\"\"))","v":""},{"$f":"IF(OR(LEN($O17)=0),\"\",IFERROR(RIGHT(LARGE(COUNTIF(OFFSET($J17,-1,0,-1*$Q$3,5),{0,1,2,3,4,5,6,7,8,9})*1000+{100,90,80,70,60,50,40,30,20,10}+{0,1,2,3,4,5,6,7,8,9},COLUMN(F$21))),\"\"))","v":""},{"$f":"IF(OR(LEN($O17)=0),\"\",IFERROR(RIGHT(LARGE(COUNTIF(OFFSET($J17,-1,0,-1*$Q$3,5),{0,1,2,3,4,5,6,7,8,9})*1000+{100,90,80,70,60,50,40,30,20,10}+{0,1,2,3,4,5,6,7,8,9},COLUMN(G$21))),\"\"))","v":""},{"$f":"IF(OR(LEN($O17)=0),\"\",IFERROR(RIGHT(LARGE(COUNTIF(OFFSET($J17,-1,0,-1*$Q$3,5),{0,1,2,3,4,5,6,7,8,9})*1000+{100,90,80,70,60,50,40,30,20,10}+{0,1,2,3,4,5,6,7,8,9},COLUMN(H$21))),\"\"))","v":""},{"$f":"IF(OR(LEN($O17)=0),\"\",IFERROR(RIGHT(LARGE(COUNTIF(OFFSET($J17,-1,0,-1*$Q$3,5),{0,1,2,3,4,5,6,7,8,9})*1000+{100,90,80,70,60,50,40,30,20,10}+{0,1,2,3,4,5,6,7,8,9},COLUMN(I$21))),\"\"))","v":""},{"$f":"IF(OR(LEN($O17)=0),\"\",IFERROR(RIGHT(LARGE(COUNTIF(OFFSET($J17,-1,0,-1*$Q$3,5),{0,1,2,3,4,5,6,7,8,9})*1000+{100,90,80,70,60,50,40,30,20,10}+{0,1,2,3,4,5,6,7,8,9},COLUMN(J$21))),\"\"))","v":""},"","","","","","","","","","",""]
["20200514227","29818","2","9","8","1","8",null,null,"","","8","1","8","818",{"$f":"IF(OR(LEN($O18)=0),\"\",IFERROR(RIGHT(LARGE(COUNTIF(OFFSET($J18,-1,0,-1*$Q$3,5),{0,1,2,3,4,5,6,7,8,9})*1000+{100,90,80,70,60,50,40,30,20,10}+{0,1,2,3,4,5,6,7,8,9},COLUMN(A$21))),\"\"))","v":""},{"$f":"IF(OR(LEN($O18)=0),\"\",IFERROR(RIGHT(LARGE(COUNTIF(OFFSET($J18,-1,0,-1*$Q$3,5),{0,1,2,3,4,5,6,7,8,9})*1000+{100,90,80,70,60,50,40,30,20,10}+{0,1,2,3,4,5,6,7,8,9},COLUMN(B$21))),\"\"))","v":""},{"$f":"IF(OR(LEN($O18)=0),\"\",IFERROR(RIGHT(LARGE(COUNTIF(OFFSET($J18,-1,0,-1*$Q$3,5),{0,1,2,3,4,5,6,7,8,9})*1000+{100,90,80,70,60,50,40,30,20,10}+{0,1,2,3,4,5,6,7,8,9},COLUMN(C$21))),\"\"))","v":""},{"$f":"IF(OR(LEN($O18)=0),\"\",IFERROR(RIGHT(LARGE(COUNTIF(OFFSET($J18,-1,0,-1*$Q$3,5),{0,1,2,3,4,5,6,7,8,9})*1000+{100,90,80,70,60,50,40,30,20,10}+{0,1,2,3,4,5,6,7,8,9},COLUMN(D$21))),\"\"))","v":""},{"$f":"IF(OR(LEN($O18)=0),\"\",IFERROR(RIGHT(LARGE(COUNTIF(OFFSET($J18,-1,0,-1*$Q$3,5),{0,1,2,3,4,5,6,7,8,9})*1000+{100,90,80,70,60,50,40,30,20,10}+{0,1,2,3,4,5,6,7,8,9},COLUMN(E$21))),\"\"))","v":""},{"$f":"IF(OR(LEN($O18)=0),\"\",IFERROR(RIGHT(LARGE(COUNTIF(OFFSET($J18,-1,0,-1*$Q$3,5),{0,1,2,3,4,5,6,7,8,9})*1000+{100,90,80,70,60,50,40,30,20,10}+{0,1,2,3,4,5,6,7,8,9},COLUMN(F$21))),\"\"))","v":""},{"$f":"IF(OR(LEN($O18)=0),\"\",IFERROR(RIGHT(LARGE(COUNTIF(OFFSET($J18,-1,0,-1*$Q$3,5),{0,1,2,3,4,5,6,7,8,9})*1000+{100,90,80,70,60,50,40,30,20,10}+{0,1,2,3,4,5,6,7,8,9},COLUMN(G$21))),\"\"))","v":""},{"$f":"IF(OR(LEN($O18)=0),\"\",IFERROR(RIGHT(LARGE(COUNTIF(OFFSET($J18,-1,0,-1*$Q$3,5),{0,1,2,3,4,5,6,7,8,9})*1000+{100,90,80,70,60,50,40,30,20,10}+{0,1,2,3,4,5,6,7,8,9},COLUMN(H$21))),\"\"))","v":""},{"$f":"IF(OR(LEN($O18)=0),\"\",IFERROR(RIGHT(LARGE(COUNTIF(OFFSET($J18,-1,0,-1*$Q$3,5),{0,1,2,3,4,5,6,7,8,9})*1000+{100,90,80,70,60,50,40,30,20,10}+{0,1,2,3,4,5,6,7,8,9},COLUMN(I$21))),\"\"))","v":""},{"$f":"IF(OR(LEN($O18)=0),\"\",IFERROR(RIGHT(LARGE(COUNTIF(OFFSET($J18,-1,0,-1*$Q$3,5),{0,1,2,3,4,5,6,7,8,9})*1000+{100,90,80,70,60,50,40,30,20,10}+{0,1,2,3,4,5,6,7,8,9},COLUMN(J$21))),\"\"))","v":""},"","","","","","","","","","",""]
["20200514228","81820","8","1","8","2","0",null,null,"","","8","2","0","820",{"$f":"IF(OR(LEN($O19)=0),\"\",IFERROR(RIGHT(LARGE(COUNTIF(OFFSET($J19,-1,0,-1*$Q$3,5),{0,1,2,3,4,5,6,7,8,9})*1000+{100,90,80,70,60,50,40,30,20,10}+{0,1,2,3,4,5,6,7,8,9},COLUMN(A$21))),\"\"))","v":""},{"$f":"IF(OR(LEN($O19)=0),\"\",IFERROR(RIGHT(LARGE(COUNTIF(OFFSET($J19,-1,0,-1*$Q$3,5),{0,1,2,3,4,5,6,7,8,9})*1000+{100,90,80,70,60,50,40,30,20,10}+{0,1,2,3,4,5,6,7,8,9},COLUMN(B$21))),\"\"))","v":""},{"$f":"IF(OR(LEN($O19)=0),\"\",IFERROR(RIGHT(LARGE(COUNTIF(OFFSET($J19,-1,0,-1*$Q$3,5),{0,1,2,3,4,5,6,7,8,9})*1000+{100,90,80,70,60,50,40,30,20,10}+{0,1,2,3,4,5,6,7,8,9},COLUMN(C$21))),\"\"))","v":""},{"$f":"IF(OR(LEN($O19)=0),\"\",IFERROR(RIGHT(LARGE(COUNTIF(OFFSET($J19,-1,0,-1*$Q$3,5),{0,1,2,3,4,5,6,7,8,9})*1000+{100,90,80,70,60,50,40,30,20,10}+{0,1,2,3,4,5,6,7,8,9},COLUMN(D$21))),\"\"))","v":""},{"$f":"IF(OR(LEN($O19)=0),\"\",IFERROR(RIGHT(LARGE(COUNTIF(OFFSET($J19,-1,0,-1*$Q$3,5),{0,1,2,3,4,5,6,7,8,9})*1000+{100,90,80,70,60,50,40,30,20,10}+{0,1,2,3,4,5,6,7,8,9},COLUMN(E$21))),\"\"))","v":""},{"$f":"IF(OR(LEN($O19)=0),\"\",IFERROR(RIGHT(LARGE(COUNTIF(OFFSET($J19,-1,0,-1*$Q$3,5),{0,1,2,3,4,5,6,7,8,9})*1000+{100,90,80,70,60,50,40,30,20,10}+{0,1,2,3,4,5,6,7,8,9},COLUMN(F$21))),\"\"))","v":""},{"$f":"IF(OR(LEN($O19)=0),\"\",IFERROR(RIGHT(LARGE(COUNTIF(OFFSET($J19,-1,0,-1*$Q$3,5),{0,1,2,3,4,5,6,7,8,9})*1000+{100,90,80,70,60,50,40,30,20,10}+{0,1,2,3,4,5,6,7,8,9},COLUMN(G$21))),\"\"))","v":""},{"$f":"IF(OR(LEN($O19)=0),\"\",IFERROR(RIGHT(LARGE(COUNTIF(OFFSET($J19,-1,0,-1*$Q$3,5),{0,1,2,3,4,5,6,7,8,9})*1000+{100,90,80,70,60,50,40,30,20,10}+{0,1,2,3,4,5,6,7,8,9},COLUMN(H$21))),\"\"))","v":""},{"$f":"IF(OR(LEN($O19)=0),\"\",IFERROR(RIGHT(LARGE(COUNTIF(OFFSET($J19,-1,0,-1*$Q$3,5),{0,1,2,3,4,5,6,7,8,9})*1000+{100,90,80,70,60,50,40,30,20,10}+{0,1,2,3,4,5,6,7,8,9},COLUMN(I$21))),\"\"))","v":""},{"$f":"IF(OR(LEN($O19)=0),\"\",IFERROR(RIGHT(LARGE(COUNTIF(OFFSET($J19,-1,0,-1*$Q$3,5),{0,1,2,3,4,5,6,7,8,9})*1000+{100,90,80,70,60,50,40,30,20,10}+{0,1,2,3,4,5,6,7,8,9},COLUMN(J$21))),\"\"))","v":""},"","","","","","","","","","",""]
["20200514229","15241","1","5","2","4","1",null,null,"","","2","4","1","241",{"$f":"IF(OR(LEN($O20)=0),\"\",IFERROR(RIGHT(LARGE(COUNTIF(OFFSET($J20,-1,0,-1*$Q$3,5),{0,1,2,3,4,5,6,7,8,9})*1000+{100,90,80,70,60,50,40,30,20,10}+{0,1,2,3,4,5,6,7,8,9},COLUMN(A$21))),\"\"))","v":""},{"$f":"IF(OR(LEN($O20)=0),\"\",IFERROR(RIGHT(LARGE(COUNTIF(OFFSET($J20,-1,0,-1*$Q$3,5),{0,1,2,3,4,5,6,7,8,9})*1000+{100,90,80,70,60,50,40,30,20,10}+{0,1,2,3,4,5,6,7,8,9},COLUMN(B$21))),\"\"))","v":""},{"$f":"IF(OR(LEN($O20)=0),\"\",IFERROR(RIGHT(LARGE(COUNTIF(OFFSET($J20,-1,0,-1*$Q$3,5),{0,1,2,3,4,5,6,7,8,9})*1000+{100,90,80,70,60,50,40,30,20,10}+{0,1,2,3,4,5,6,7,8,9},COLUMN(C$21))),\"\"))","v":""},{"$f":"IF(OR(LEN($O20)=0),\"\",IFERROR(RIGHT(LARGE(COUNTIF(OFFSET($J20,-1,0,-1*$Q$3,5),{0,1,2,3,4,5,6,7,8,9})*1000+{100,90,80,70,60,50,40,30,20,10}+{0,1,2,3,4,5,6,7,8,9},COLUMN(D$21))),\"\"))","v":""},{"$f":"IF(OR(LEN($O20)=0),\"\",IFERROR(RIGHT(LARGE(COUNTIF(OFFSET($J20,-1,0,-1*$Q$3,5),{0,1,2,3,4,5,6,7,8,9})*1000+{100,90,80,70,60,50,40,30,20,10}+{0,1,2,3,4,5,6,7,8,9},COLUMN(E$21))),\"\"))","v":""},{"$f":"IF(OR(LEN($O20)=0),\"\",IFERROR(RIGHT(LARGE(COUNTIF(OFFSET($J20,-1,0,-1*$Q$3,5),{0,1,2,3,4,5,6,7,8,9})*1000+{100,90,80,70,60,50,40,30,20,10}+{0,1,2,3,4,5,6,7,8,9},COLUMN(F$21))),\"\"))","v":""},{"$f":"IF(OR(LEN($O20)=0),\"\",IFERROR(RIGHT(LARGE(COUNTIF(OFFSET($J20,-1,0,-1*$Q$3,5),{0,1,2,3,4,5,6,7,8,9})*1000+{100,90,80,70,60,50,40,30,20,10}+{0,1,2,3,4,5,6,7,8,9},COLUMN(G$21))),\"\"))","v":""},{"$f":"IF(OR(LEN($O20)=0),\"\",IFERROR(RIGHT(LARGE(COUNTIF(OFFSET($J20,-1,0,-1*$Q$3,5),{0,1,2,3,4,5,6,7,8,9})*1000+{100,90,80,70,60,50,40,30,20,10}+{0,1,2,3,4,5,6,7,8,9},COLUMN(H$21))),\"\"))","v":""},{"$f":"IF(OR(LEN($O20)=0),\"\",IFERROR(RIGHT(LARGE(COUNTIF(OFFSET($J20,-1,0,-1*$Q$3,5),{0,1,2,3,4,5,6,7,8,9})*1000+{100,90,80,70,60,50,40,30,20,10}+{0,1,2,3,4,5,6,7,8,9},COLUMN(I$21))),\"\"))","v":""},{"$f":"IF(OR(LEN($O20)=0),\"\",IFERROR(RIGHT(LARGE(COUNTIF(OFFSET($J20,-1,0,-1*$Q$3,5),{0,1,2,3,4,5,6,7,8,9})*1000+{100,90,80,70,60,50,40,30,20,10}+{0,1,2,3,4,5,6,7,8,9},COLUMN(J$21))),\"\"))","v":""},"","","","","","","","","","",""]
["20200514230","09176","0","9","1","7","6",null,null,"","","1","7","6","176",{"$f":"IF(OR(LEN($O21)=0),\"\",IFERROR(RIGHT(LARGE(COUNTIF(OFFSET($J21,-1,0,-1*$Q$3,5),{0,1,2,3,4,5,6,7,8,9})*1000+{100,90,80,70,60,50,40,30,20,10}+{0,1,2,3,4,5,6,7,8,9},COLUMN(A$21))),\"\"))","v":""},{"$f":"IF(OR(LEN($O21)=0),\"\",IFERROR(RIGHT(LARGE(COUNTIF(OFFSET($J21,-1,0,-1*$Q$3,5),{0,1,2,3,4,5,6,7,8,9})*1000+{100,90,80,70,60,50,40,30,20,10}+{0,1,2,3,4,5,6,7,8,9},COLUMN(B$21))),\"\"))","v":""},{"$f":"IF(OR(LEN($O21)=0),\"\",IFERROR(RIGHT(LARGE(COUNTIF(OFFSET($J21,-1,0,-1*$Q$3,5),{0,1,2,3,4,5,6,7,8,9})*1000+{100,90,80,70,60,50,40,30,20,10}+{0,1,2,3,4,5,6,7,8,9},COLUMN(C$21))),\"\"))","v":""},{"$f":"IF(OR(LEN($O21)=0),\"\",IFERROR(RIGHT(LARGE(COUNTIF(OFFSET($J21,-1,0,-1*$Q$3,5),{0,1,2,3,4,5,6,7,8,9})*1000+{100,90,80,70,60,50,40,30,20,10}+{0,1,2,3,4,5,6,7,8,9},COLUMN(D$21))),\"\"))","v":""},{"$f":"IF(OR(LEN($O21)=0),\"\",IFERROR(RIGHT(LARGE(COUNTIF(OFFSET($J21,-1,0,-1*$Q$3,5),{0,1,2,3,4,5,6,7,8,9})*1000+{100,90,80,70,60,50,40,30,20,10}+{0,1,2,3,4,5,6,7,8,9},COLUMN(E$21))),\"\"))","v":""},{"$f":"IF(OR(LEN($O21)=0),\"\",IFERROR(RIGHT(LARGE(COUNTIF(OFFSET($J21,-1,0,-1*$Q$3,5),{0,1,2,3,4,5,6,7,8,9})*1000+{100,90,80,70,60,50,40,30,20,10}+{0,1,2,3,4,5,6,7,8,9},COLUMN(F$21))),\"\"))","v":""},{"$f":"IF(OR(LEN($O21)=0),\"\",IFERROR(RIGHT(LARGE(COUNTIF(OFFSET($J21,-1,0,-1*$Q$3,5),{0,1,2,3,4,5,6,7,8,9})*1000+{100,90,80,70,60,50,40,30,20,10}+{0,1,2,3,4,5,6,7,8,9},COLUMN(G$21))),\"\"))","v":""},{"$f":"IF(OR(LEN($O21)=0),\"\",IFERROR(RIGHT(LARGE(COUNTIF(OFFSET($J21,-1,0,-1*$Q$3,5),{0,1,2,3,4,5,6,7,8,9})*1000+{100,90,80,70,60,50,40,30,20,10}+{0,1,2,3,4,5,6,7,8,9},COLUMN(H$21))),\"\"))","v":""},{"$f":"IF(OR(LEN($O21)=0),\"\",IFERROR(RIGHT(LARGE(COUNTIF(OFFSET($J21,-1,0,-1*$Q$3,5),{0,1,2,3,4,5,6,7,8,9})*1000+{100,90,80,70,60,50,40,30,20,10}+{0,1,2,3,4,5,6,7,8,9},COLUMN(I$21))),\"\"))","v":""},{"$f":"IF(OR(LEN($O21)=0),\"\",IFERROR(RIGHT(LARGE(COUNTIF(OFFSET($J21,-1,0,-1*$Q$3,5),{0,1,2,3,4,5,6,7,8,9})*1000+{100,90,80,70,60,50,40,30,20,10}+{0,1,2,3,4,5,6,7,8,9},COLUMN(J$21))),\"\"))","v":""},{"$f":"AA21&AB21&AC21&AD21&AE21&AF21&AG21&AH21&AI21&AJ21","v":""},"","","","","","","","","",""]
["20200514231","23554","2","3","5","5","4",null,null,"","","5","5","4","554",{"$f":"IF(OR(LEN($O22)=0),\"\",IFERROR(RIGHT(LARGE(COUNTIF(OFFSET($J22,-1,0,-1*$Q$3,5),{0,1,2,3,4,5,6,7,8,9})*1000+{100,90,80,70,60,50,40,30,20,10}+{0,1,2,3,4,5,6,7,8,9},COLUMN(A$21))),\"\"))","v":""},{"$f":"IF(OR(LEN($O22)=0),\"\",IFERROR(RIGHT(LARGE(COUNTIF(OFFSET($J22,-1,0,-1*$Q$3,5),{0,1,2,3,4,5,6,7,8,9})*1000+{100,90,80,70,60,50,40,30,20,10}+{0,1,2,3,4,5,6,7,8,9},COLUMN(B$21))),\"\"))","v":""},{"$f":"IF(OR(LEN($O22)=0),\"\",IFERROR(RIGHT(LARGE(COUNTIF(OFFSET($J22,-1,0,-1*$Q$3,5),{0,1,2,3,4,5,6,7,8,9})*1000+{100,90,80,70,60,50,40,30,20,10}+{0,1,2,3,4,5,6,7,8,9},COLUMN(C$21))),\"\"))","v":""},{"$f":"IF(OR(LEN($O22)=0),\"\",IFERROR(RIGHT(LARGE(COUNTIF(OFFSET($J22,-1,0,-1*$Q$3,5),{0,1,2,3,4,5,6,7,8,9})*1000+{100,90,80,70,60,50,40,30,20,10}+{0,1,2,3,4,5,6,7,8,9},COLUMN(D$21))),\"\"))","v":""},{"$f":"IF(OR(LEN($O22)=0),\"\",IFERROR(RIGHT(LARGE(COUNTIF(OFFSET($J22,-1,0,-1*$Q$3,5),{0,1,2,3,4,5,6,7,8,9})*1000+{100,90,80,70,60,50,40,30,20,10}+{0,1,2,3,4,5,6,7,8,9},COLUMN(E$21))),\"\"))","v":""},{"$f":"IF(OR(LEN($O22)=0),\"\",IFERROR(RIGHT(LARGE(COUNTIF(OFFSET($J22,-1,0,-1*$Q$3,5),{0,1,2,3,4,5,6,7,8,9})*1000+{100,90,80,70,60,50,40,30,20,10}+{0,1,2,3,4,5,6,7,8,9},COLUMN(F$21))),\"\"))","v":""},{"$f":"IF(OR(LEN($O22)=0),\"\",IFERROR(RIGHT(LARGE(COUNTIF(OFFSET($J22,-1,0,-1*$Q$3,5),{0,1,2,3,4,5,6,7,8,9})*1000+{100,90,80,70,60,50,40,30,20,10}+{0,1,2,3,4,5,6,7,8,9},COLUMN(G$21))),\"\"))","v":""},{"$f":"IF(OR(LEN($O22)=0),\"\",IFERROR(RIGHT(LARGE(COUNTIF(OFFSET($J22,-1,0,-1*$Q$3,5),{0,1,2,3,4,5,6,7,8,9})*1000+{100,90,80,70,60,50,40,30,20,10}+{0,1,2,3,4,5,6,7,8,9},COLUMN(H$21))),\"\"))","v":""},{"$f":"IF(OR(LEN($O22)=0),\"\",IFERROR(RIGHT(LARGE(COUNTIF(OFFSET($J22,-1,0,-1*$Q$3,5),{0,1,2,3,4,5,6,7,8,9})*1000+{100,90,80,70,60,50,40,30,20,10}+{0,1,2,3,4,5,6,7,8,9},COLUMN(I$21))),\"\"))","v":""},{"$f":"IF(OR(LEN($O22)=0),\"\",IFERROR(RIGHT(LARGE(COUNTIF(OFFSET($J22,-1,0,-1*$Q$3,5),{0,1,2,3,4,5,6,7,8,9})*1000+{100,90,80,70,60,50,40,30,20,10}+{0,1,2,3,4,5,6,7,8,9},COLUMN(J$21))),\"\"))","v":""},{"$f":"AA22&AB22&AC22&AD22&AE22&AF22&AG22&AH22&AI22&AJ22","v":""},"","","","","","","","","",""]
["20200514232","90969","9","0","9","6","9",null,null,"","","9","6","9","969",{"$f":"IF(OR(LEN($O23)=0),\"\",IFERROR(RIGHT(LARGE(COUNTIF(OFFSET($J23,-1,0,-1*$Q$3,5),{0,1,2,3,4,5,6,7,8,9})*1000+{100,90,80,70,60,50,40,30,20,10}+{0,1,2,3,4,5,6,7,8,9},COLUMN(A$21))),\"\"))","v":""},{"$f":"IF(OR(LEN($O23)=0),\"\",IFERROR(RIGHT(LARGE(COUNTIF(OFFSET($J23,-1,0,-1*$Q$3,5),{0,1,2,3,4,5,6,7,8,9})*1000+{100,90,80,70,60,50,40,30,20,10}+{0,1,2,3,4,5,6,7,8,9},COLUMN(B$21))),\"\"))","v":""},{"$f":"IF(OR(LEN($O23)=0),\"\",IFERROR(RIGHT(LARGE(COUNTIF(OFFSET($J23,-1,0,-1*$Q$3,5),{0,1,2,3,4,5,6,7,8,9})*1000+{100,90,80,70,60,50,40,30,20,10}+{0,1,2,3,4,5,6,7,8,9},COLUMN(C$21))),\"\"))","v":""},{"$f":"IF(OR(LEN($O23)=0),\"\",IFERROR(RIGHT(LARGE(COUNTIF(OFFSET($J23,-1,0,-1*$Q$3,5),{0,1,2,3,4,5,6,7,8,9})*1000+{100,90,80,70,60,50,40,30,20,10}+{0,1,2,3,4,5,6,7,8,9},COLUMN(D$21))),\"\"))","v":""},{"$f":"IF(OR(LEN($O23)=0),\"\",IFERROR(RIGHT(LARGE(COUNTIF(OFFSET($J23,-1,0,-1*$Q$3,5),{0,1,2,3,4,5,6,7,8,9})*1000+{100,90,80,70,60,50,40,30,20,10}+{0,1,2,3,4,5,6,7,8,9},COLUMN(E$21))),\"\"))","v":""},{"$f":"IF(OR(LEN($O23)=0),\"\",IFERROR(RIGHT(LARGE(COUNTIF(OFFSET($J23,-1,0,-1*$Q$3,5),{0,1,2,3,4,5,6,7,8,9})*1000+{100,90,80,70,60,50,40,30,20,10}+{0,1,2,3,4,5,6,7,8,9},COLUMN(F$21))),\"\"))","v":""},{"$f":"IF(OR(LEN($O23)=0),\"\",IFERROR(RIGHT(LARGE(COUNTIF(OFFSET($J23,-1,0,-1*$Q$3,5),{0,1,2,3,4,5,6,7,8,9})*1000+{100,90,80,70,60,50,40,30,20,10}+{0,1,2,3,4,5,6,7,8,9},COLUMN(G$21))),\"\"))","v":""},{"$f":"IF(OR(LEN($O23)=0),\"\",IFERROR(RIGHT(LARGE(COUNTIF(OFFSET($J23,-1,0,-1*$Q$3,5),{0,1,2,3,4,5,6,7,8,9})*1000+{100,90,80,70,60,50,40,30,20,10}+{0,1,2,3,4,5,6,7,8,9},COLUMN(H$21))),\"\"))","v":""},{"$f":"IF(OR(LEN($O23)=0),\"\",IFERROR(RIGHT(LARGE(COUNTIF(OFFSET($J23,-1,0,-1*$Q$3,5),{0,1,2,3,4,5,6,7,8,9})*1000+{100,90,80,70,60,50,40,30,20,10}+{0,1,2,3,4,5,6,7,8,9},COLUMN(I$21))),\"\"))","v":""},{"$f":"IF(OR(LEN($O23)=0),\"\",IFERROR(RIGHT(LARGE(COUNTIF(OFFSET($J23,-1,0,-1*$Q$3,5),{0,1,2,3,4,5,6,7,8,9})*1000+{100,90,80,70,60,50,40,30,20,10}+{0,1,2,3,4,5,6,7,8,9},COLUMN(J$21))),\"\"))","v":""},"","","","","","","","","","",""]
["20200514233","37965","3","7","9","6","5",null,null,"","","9","6","5","965",{"$f":"IF(OR(LEN($O24)=0),\"\",IFERROR(RIGHT(LARGE(COUNTIF(OFFSET($J24,-1,0,-1*$Q$3,5),{0,1,2,3,4,5,6,7,8,9})*1000+{100,90,80,70,60,50,40,30,20,10}+{0,1,2,3,4,5,6,7,8,9},COLUMN(A$21))),\"\"))","v":""},{"$f":"IF(OR(LEN($O24)=0),\"\",IFERROR(RIGHT(LARGE(COUNTIF(OFFSET($J24,-1,0,-1*$Q$3,5),{0,1,2,3,4,5,6,7,8,9})*1000+{100,90,80,70,60,50,40,30,20,10}+{0,1,2,3,4,5,6,7,8,9},COLUMN(B$21))),\"\"))","v":""},{"$f":"IF(OR(LEN($O24)=0),\"\",IFERROR(RIGHT(LARGE(COUNTIF(OFFSET($J24,-1,0,-1*$Q$3,5),{0,1,2,3,4,5,6,7,8,9})*1000+{100,90,80,70,60,50,40,30,20,10}+{0,1,2,3,4,5,6,7,8,9},COLUMN(C$21))),\"\"))","v":""},{"$f":"IF(OR(LEN($O24)=0),\"\",IFERROR(RIGHT(LARGE(COUNTIF(OFFSET($J24,-1,0,-1*$Q$3,5),{0,1,2,3,4,5,6,7,8,9})*1000+{100,90,80,70,60,50,40,30,20,10}+{0,1,2,3,4,5,6,7,8,9},COLUMN(D$21))),\"\"))","v":""},{"$f":"IF(OR(LEN($O24)=0),\"\",IFERROR(RIGHT(LARGE(COUNTIF(OFFSET($J24,-1,0,-1*$Q$3,5),{0,1,2,3,4,5,6,7,8,9})*1000+{100,90,80,70,60,50,40,30,20,10}+{0,1,2,3,4,5,6,7,8,9},COLUMN(E$21))),\"\"))","v":""},{"$f":"IF(OR(LEN($O24)=0),\"\",IFERROR(RIGHT(LARGE(COUNTIF(OFFSET($J24,-1,0,-1*$Q$3,5),{0,1,2,3,4,5,6,7,8,9})*1000+{100,90,80,70,60,50,40,30,20,10}+{0,1,2,3,4,5,6,7,8,9},COLUMN(F$21))),\"\"))","v":""},{"$f":"IF(OR(LEN($O24)=0),\"\",IFERROR(RIGHT(LARGE(COUNTIF(OFFSET($J24,-1,0,-1*$Q$3,5),{0,1,2,3,4,5,6,7,8,9})*1000+{100,90,80,70,60,50,40,30,20,10}+{0,1,2,3,4,5,6,7,8,9},COLUMN(G$21))),\"\"))","v":""},{"$f":"IF(OR(LEN($O24)=0),\"\",IFERROR(RIGHT(LARGE(COUNTIF(OFFSET($J24,-1,0,-1*$Q$3,5),{0,1,2,3,4,5,6,7,8,9})*1000+{100,90,80,70,60,50,40,30,20,10}+{0,1,2,3,4,5,6,7,8,9},COLUMN(H$21))),\"\"))","v":""},{"$f":"IF(OR(LEN($O24)=0),\"\",IFERROR(RIGHT(LARGE(COUNTIF(OFFSET($J24,-1,0,-1*$Q$3,5),{0,1,2,3,4,5,6,7,8,9})*1000+{100,90,80,70,60,50,40,30,20,10}+{0,1,2,3,4,5,6,7,8,9},COLUMN(I$21))),\"\"))","v":""},{"$f":"IF(OR(LEN($O24)=0),\"\",IFERROR(RIGHT(LARGE(COUNTIF(OFFSET($J24,-1,0,-1*$Q$3,5),{0,1,2,3,4,5,6,7,8,9})*1000+{100,90,80,70,60,50,40,30,20,10}+{0,1,2,3,4,5,6,7,8,9},COLUMN(J$21))),\"\"))","v":""},"","","","","","","","","","",""]
["20200514234","74534","7","4","5","3","4",null,null,"","","5","3","4","534",{"$f":"IF(OR(LEN($O25)=0),\"\",IFERROR(RIGHT(LARGE(COUNTIF(OFFSET($J25,-1,0,-1*$Q$3,5),{0,1,2,3,4,5,6,7,8,9})*1000+{100,90,80,70,60,50,40,30,20,10}+{0,1,2,3,4,5,6,7,8,9},COLUMN(A$21))),\"\"))","v":""},{"$f":"IF(OR(LEN($O25)=0),\"\",IFERROR(RIGHT(LARGE(COUNTIF(OFFSET($J25,-1,0,-1*$Q$3,5),{0,1,2,3,4,5,6,7,8,9})*1000+{100,90,80,70,60,50,40,30,20,10}+{0,1,2,3,4,5,6,7,8,9},COLUMN(B$21))),\"\"))","v":""},{"$f":"IF(OR(LEN($O25)=0),\"\",IFERROR(RIGHT(LARGE(COUNTIF(OFFSET($J25,-1,0,-1*$Q$3,5),{0,1,2,3,4,5,6,7,8,9})*1000+{100,90,80,70,60,50,40,30,20,10}+{0,1,2,3,4,5,6,7,8,9},COLUMN(C$21))),\"\"))","v":""},{"$f":"IF(OR(LEN($O25)=0),\"\",IFERROR(RIGHT(LARGE(COUNTIF(OFFSET($J25,-1,0,-1*$Q$3,5),{0,1,2,3,4,5,6,7,8,9})*1000+{100,90,80,70,60,50,40,30,20,10}+{0,1,2,3,4,5,6,7,8,9},COLUMN(D$21))),\"\"))","v":""},{"$f":"IF(OR(LEN($O25)=0),\"\",IFERROR(RIGHT(LARGE(COUNTIF(OFFSET($J25,-1,0,-1*$Q$3,5),{0,1,2,3,4,5,6,7,8,9})*1000+{100,90,80,70,60,50,40,30,20,10}+{0,1,2,3,4,5,6,7,8,9},COLUMN(E$21))),\"\"))","v":""},{"$f":"IF(OR(LEN($O25)=0),\"\",IFERROR(RIGHT(LARGE(COUNTIF(OFFSET($J25,-1,0,-1*$Q$3,5),{0,1,2,3,4,5,6,7,8,9})*1000+{100,90,80,70,60,50,40,30,20,10}+{0,1,2,3,4,5,6,7,8,9},COLUMN(F$21))),\"\"))","v":""},{"$f":"IF(OR(LEN($O25)=0),\"\",IFERROR(RIGHT(LARGE(COUNTIF(OFFSET($J25,-1,0,-1*$Q$3,5),{0,1,2,3,4,5,6,7,8,9})*1000+{100,90,80,70,60,50,40,30,20,10}+{0,1,2,3,4,5,6,7,8,9},COLUMN(G$21))),\"\"))","v":""},{"$f":"IF(OR(LEN($O25)=0),\"\",IFERROR(RIGHT(LARGE(COUNTIF(OFFSET($J25,-1,0,-1*$Q$3,5),{0,1,2,3,4,5,6,7,8,9})*1000+{100,90,80,70,60,50,40,30,20,10}+{0,1,2,3,4,5,6,7,8,9},COLUMN(H$21))),\"\"))","v":""},{"$f":"IF(OR(LEN($O25)=0),\"\",IFERROR(RIGHT(LARGE(COUNTIF(OFFSET($J25,-1,0,-1*$Q$3,5),{0,1,2,3,4,5,6,7,8,9})*1000+{100,90,80,70,60,50,40,30,20,10}+{0,1,2,3,4,5,6,7,8,9},COLUMN(I$21))),\"\"))","v":""},{"$f":"IF(OR(LEN($O25)=0),\"\",IFERROR(RIGHT(LARGE(COUNTIF(OFFSET($J25,-1,0,-1*$Q$3,5),{0,1,2,3,4,5,6,7,8,9})*1000+{100,90,80,70,60,50,40,30,20,10}+{0,1,2,3,4,5,6,7,8,9},COLUMN(J$21))),\"\"))","v":""},"","","","","","","","","","",""]
["20200514235","30292","3","0","2","9","2",null,null,"","","2","9","2","292",{"$f":"IF(OR(LEN($O26)=0),\"\",IFERROR(RIGHT(LARGE(COUNTIF(OFFSET($J26,-1,0,-1*$Q$3,5),{0,1,2,3,4,5,6,7,8,9})*1000+{100,90,80,70,60,50,40,30,20,10}+{0,1,2,3,4,5,6,7,8,9},COLUMN(A$21))),\"\"))","v":""},{"$f":"IF(OR(LEN($O26)=0),\"\",IFERROR(RIGHT(LARGE(COUNTIF(OFFSET($J26,-1,0,-1*$Q$3,5),{0,1,2,3,4,5,6,7,8,9})*1000+{100,90,80,70,60,50,40,30,20,10}+{0,1,2,3,4,5,6,7,8,9},COLUMN(B$21))),\"\"))","v":""},{"$f":"IF(OR(LEN($O26)=0),\"\",IFERROR(RIGHT(LARGE(COUNTIF(OFFSET($J26,-1,0,-1*$Q$3,5),{0,1,2,3,4,5,6,7,8,9})*1000+{100,90,80,70,60,50,40,30,20,10}+{0,1,2,3,4,5,6,7,8,9},COLUMN(C$21))),\"\"))","v":""},{"$f":"IF(OR(LEN($O26)=0),\"\",IFERROR(RIGHT(LARGE(COUNTIF(OFFSET($J26,-1,0,-1*$Q$3,5),{0,1,2,3,4,5,6,7,8,9})*1000+{100,90,80,70,60,50,40,30,20,10}+{0,1,2,3,4,5,6,7,8,9},COLUMN(D$21))),\"\"))","v":""},{"$f":"IF(OR(LEN($O26)=0),\"\",IFERROR(RIGHT(LARGE(COUNTIF(OFFSET($J26,-1,0,-1*$Q$3,5),{0,1,2,3,4,5,6,7,8,9})*1000+{100,90,80,70,60,50,40,30,20,10}+{0,1,2,3,4,5,6,7,8,9},COLUMN(E$21))),\"\"))","v":""},{"$f":"IF(OR(LEN($O26)=0),\"\",IFERROR(RIGHT(LARGE(COUNTIF(OFFSET($J26,-1,0,-1*$Q$3,5),{0,1,2,3,4,5,6,7,8,9})*1000+{100,90,80,70,60,50,40,30,20,10}+{0,1,2,3,4,5,6,7,8,9},COLUMN(F$21))),\"\"))","v":""},{"$f":"IF(OR(LEN($O26)=0),\"\",IFERROR(RIGHT(LARGE(COUNTIF(OFFSET($J26,-1,0,-1*$Q$3,5),{0,1,2,3,4,5,6,7,8,9})*1000+{100,90,80,70,60,50,40,30,20,10}+{0,1,2,3,4,5,6,7,8,9},COLUMN(G$21))),\"\"))","v":""},{"$f":"IF(OR(LEN($O26)=0),\"\",IFERROR(RIGHT(LARGE(COUNTIF(OFFSET($J26,-1,0,-1*$Q$3,5),{0,1,2,3,4,5,6,7,8,9})*1000+{100,90,80,70,60,50,40,30,20,10}+{0,1,2,3,4,5,6,7,8,9},COLUMN(H$21))),\"\"))","v":""},{"$f":"IF(OR(LEN($O26)=0),\"\",IFERROR(RIGHT(LARGE(COUNTIF(OFFSET($J26,-1,0,-1*$Q$3,5),{0,1,2,3,4,5,6,7,8,9})*1000+{100,90,80,70,60,50,40,30,20,10}+{0,1,2,3,4,5,6,7,8,9},COLUMN(I$21))),\"\"))","v":""},{"$f":"IF(OR(LEN($O26)=0),\"\",IFERROR(RIGHT(LARGE(COUNTIF(OFFSET($J26,-1,0,-1*$Q$3,5),{0,1,2,3,4,5,6,7,8,9})*1000+{100,90,80,70,60,50,40,30,20,10}+{0,1,2,3,4,5,6,7,8,9},COLUMN(J$21))),\"\"))","v":""},"","","","","","","",{"$f":"IF(V$4=1,V26,\"\")","v":""},{"$f":"IF(W$4=1,W26,\"\")","v":""},{"$f":"IF(X$4=1,X26,\"\")","v":""},{"$f":"IF(Y$4=1,Y26,\"\")","v":""}]
["20200514236","64614","6","4","6","1","4",null,null,"","","6","1","4","614",{"$f":"IF(OR(LEN($O27)=0),\"\",IFERROR(RIGHT(LARGE(COUNTIF(OFFSET($J27,-1,0,-1*$Q$3,5),{0,1,2,3,4,5,6,7,8,9})*1000+{100,90,80,70,60,50,40,30,20,10}+{0,1,2,3,4,5,6,7,8,9},COLUMN(A$21))),\"\"))","v":""},{"$f":"IF(OR(LEN($O27)=0),\"\",IFERROR(RIGHT(LARGE(COUNTIF(OFFSET($J27,-1,0,-1*$Q$3,5),{0,1,2,3,4,5,6,7,8,9})*1000+{100,90,80,70,60,50,40,30,20,10}+{0,1,2,3,4,5,6,7,8,9},COLUMN(B$21))),\"\"))","v":""},{"$f":"IF(OR(LEN($O27)=0),\"\",IFERROR(RIGHT(LARGE(COUNTIF(OFFSET($J27,-1,0,-1*$Q$3,5),{0,1,2,3,4,5,6,7,8,9})*1000+{100,90,80,70,60,50,40,30,20,10}+{0,1,2,3,4,5,6,7,8,9},COLUMN(C$21))),\"\"))","v":""},{"$f":"IF(OR(LEN($O27)=0),\"\",IFERROR(RIGHT(LARGE(COUNTIF(OFFSET($J27,-1,0,-1*$Q$3,5),{0,1,2,3,4,5,6,7,8,9})*1000+{100,90,80,70,60,50,40,30,20,10}+{0,1,2,3,4,5,6,7,8,9},COLUMN(D$21))),\"\"))","v":""},{"$f":"IF(OR(LEN($O27)=0),\"\",IFERROR(RIGHT(LARGE(COUNTIF(OFFSET($J27,-1,0,-1*$Q$3,5),{0,1,2,3,4,5,6,7,8,9})*1000+{100,90,80,70,60,50,40,30,20,10}+{0,1,2,3,4,5,6,7,8,9},COLUMN(E$21))),\"\"))","v":""},{"$f":"IF(OR(LEN($O27)=0),\"\",IFERROR(RIGHT(LARGE(COUNTIF(OFFSET($J27,-1,0,-1*$Q$3,5),{0,1,2,3,4,5,6,7,8,9})*1000+{100,90,80,70,60,50,40,30,20,10}+{0,1,2,3,4,5,6,7,8,9},COLUMN(F$21))),\"\"))","v":""},{"$f":"IF(OR(LEN($O27)=0),\"\",IFERROR(RIGHT(LARGE(COUNTIF(OFFSET($J27,-1,0,-1*$Q$3,5),{0,1,2,3,4,5,6,7,8,9})*1000+{100,90,80,70,60,50,40,30,20,10}+{0,1,2,3,4,5,6,7,8,9},COLUMN(G$21))),\"\"))","v":""},{"$f":"IF(OR(LEN($O27)=0),\"\",IFERROR(RIGHT(LARGE(COUNTIF(OFFSET($J27,-1,0,-1*$Q$3,5),{0,1,2,3,4,5,6,7,8,9})*1000+{100,90,80,70,60,50,40,30,20,10}+{0,1,2,3,4,5,6,7,8,9},COLUMN(H$21))),\"\"))","v":""},{"$f":"IF(OR(LEN($O27)=0),\"\",IFERROR(RIGHT(LARGE(COUNTIF(OFFSET($J27,-1,0,-1*$Q$3,5),{0,1,2,3,4,5,6,7,8,9})*1000+{100,90,80,70,60,50,40,30,20,10}+{0,1,2,3,4,5,6,7,8,9},COLUMN(I$21))),\"\"))","v":""},{"$f":"IF(OR(LEN($O27)=0),\"\",IFERROR(RIGHT(LARGE(COUNTIF(OFFSET($J27,-1,0,-1*$Q$3,5),{0,1,2,3,4,5,6,7,8,9})*1000+{100,90,80,70,60,50,40,30,20,10}+{0,1,2,3,4,5,6,7,8,9},COLUMN(J$21))),\"\"))","v":""},"","","","","","","","","","",""]
["20200514237","60914","6","0","9","1","4",null,null,"","","9","1","4","914",{"$f":"IF(OR(LEN($O28)=0),\"\",IFERROR(RIGHT(LARGE(COUNTIF(OFFSET($J28,-1,0,-1*$Q$3,5),{0,1,2,3,4,5,6,7,8,9})*1000+{100,90,80,70,60,50,40,30,20,10}+{0,1,2,3,4,5,6,7,8,9},COLUMN(A$21))),\"\"))","v":""},{"$f":"IF(OR(LEN($O28)=0),\"\",IFERROR(RIGHT(LARGE(COUNTIF(OFFSET($J28,-1,0,-1*$Q$3,5),{0,1,2,3,4,5,6,7,8,9})*1000+{100,90,80,70,60,50,40,30,20,10}+{0,1,2,3,4,5,6,7,8,9},COLUMN(B$21))),\"\"))","v":""},{"$f":"IF(OR(LEN($O28)=0),\"\",IFERROR(RIGHT(LARGE(COUNTIF(OFFSET($J28,-1,0,-1*$Q$3,5),{0,1,2,3,4,5,6,7,8,9})*1000+{100,90,80,70,60,50,40,30,20,10}+{0,1,2,3,4,5,6,7,8,9},COLUMN(C$21))),\"\"))","v":""},{"$f":"IF(OR(LEN($O28)=0),\"\",IFERROR(RIGHT(LARGE(COUNTIF(OFFSET($J28,-1,0,-1*$Q$3,5),{0,1,2,3,4,5,6,7,8,9})*1000+{100,90,80,70,60,50,40,30,20,10}+{0,1,2,3,4,5,6,7,8,9},COLUMN(D$21))),\"\"))","v":""},{"$f":"IF(OR(LEN($O28)=0),\"\",IFERROR(RIGHT(LARGE(COUNTIF(OFFSET($J28,-1,0,-1*$Q$3,5),{0,1,2,3,4,5,6,7,8,9})*1000+{100,90,80,70,60,50,40,30,20,10}+{0,1,2,3,4,5,6,7,8,9},COLUMN(E$21))),\"\"))","v":""},{"$f":"IF(OR(LEN($O28)=0),\"\",IFERROR(RIGHT(LARGE(COUNTIF(OFFSET($J28,-1,0,-1*$Q$3,5),{0,1,2,3,4,5,6,7,8,9})*1000+{100,90,80,70,60,50,40,30,20,10}+{0,1,2,3,4,5,6,7,8,9},COLUMN(F$21))),\"\"))","v":""},{"$f":"IF(OR(LEN($O28)=0),\"\",IFERROR(RIGHT(LARGE(COUNTIF(OFFSET($J28,-1,0,-1*$Q$3,5),{0,1,2,3,4,5,6,7,8,9})*1000+{100,90,80,70,60,50,40,30,20,10}+{0,1,2,3,4,5,6,7,8,9},COLUMN(G$21))),\"\"))","v":""},{"$f":"IF(OR(LEN($O28)=0),\"\",IFERROR(RIGHT(LARGE(COUNTIF(OFFSET($J28,-1,0,-1*$Q$3,5),{0,1,2,3,4,5,6,7,8,9})*1000+{100,90,80,70,60,50,40,30,20,10}+{0,1,2,3,4,5,6,7,8,9},COLUMN(H$21))),\"\"))","v":""},{"$f":"IF(OR(LEN($O28)=0),\"\",IFERROR(RIGHT(LARGE(COUNTIF(OFFSET($J28,-1,0,-1*$Q$3,5),{0,1,2,3,4,5,6,7,8,9})*1000+{100,90,80,70,60,50,40,30,20,10}+{0,1,2,3,4,5,6,7,8,9},COLUMN(I$21))),\"\"))","v":""},{"$f":"IF(OR(LEN($O28)=0),\"\",IFERROR(RIGHT(LARGE(COUNTIF(OFFSET($J28,-1,0,-1*$Q$3,5),{0,1,2,3,4,5,6,7,8,9})*1000+{100,90,80,70,60,50,40,30,20,10}+{0,1,2,3,4,5,6,7,8,9},COLUMN(J$21))),\"\"))","v":""},"","","","","","","","","","",""]
["20200514238","74200","7","4","2","0","0",null,null,"","","2","0","0","200",{"$f":"IF(OR(LEN($O29)=0),\"\",IFERROR(RIGHT(LARGE(COUNTIF(OFFSET($J29,-1,0,-1*$Q$3,5),{0,1,2,3,4,5,6,7,8,9})*1000+{100,90,80,70,60,50,40,30,20,10}+{0,1,2,3,4,5,6,7,8,9},COLUMN(A$21))),\"\"))","v":""},{"$f":"IF(OR(LEN($O29)=0),\"\",IFERROR(RIGHT(LARGE(COUNTIF(OFFSET($J29,-1,0,-1*$Q$3,5),{0,1,2,3,4,5,6,7,8,9})*1000+{100,90,80,70,60,50,40,30,20,10}+{0,1,2,3,4,5,6,7,8,9},COLUMN(B$21))),\"\"))","v":""},{"$f":"IF(OR(LEN($O29)=0),\"\",IFERROR(RIGHT(LARGE(COUNTIF(OFFSET($J29,-1,0,-1*$Q$3,5),{0,1,2,3,4,5,6,7,8,9})*1000+{100,90,80,70,60,50,40,30,20,10}+{0,1,2,3,4,5,6,7,8,9},COLUMN(C$21))),\"\"))","v":""},{"$f":"IF(OR(LEN($O29)=0),\"\",IFERROR(RIGHT(LARGE(COUNTIF(OFFSET($J29,-1,0,-1*$Q$3,5),{0,1,2,3,4,5,6,7,8,9})*1000+{100,90,80,70,60,50,40,30,20,10}+{0,1,2,3,4,5,6,7,8,9},COLUMN(D$21))),\"\"))","v":""},{"$f":"IF(OR(LEN($O29)=0),\"\",IFERROR(RIGHT(LARGE(COUNTIF(OFFSET($J29,-1,0,-1*$Q$3,5),{0,1,2,3,4,5,6,7,8,9})*1000+{100,90,80,70,60,50,40,30,20,10}+{0,1,2,3,4,5,6,7,8,9},COLUMN(E$21))),\"\"))","v":""},{"$f":"IF(OR(LEN($O29)=0),\"\",IFERROR(RIGHT(LARGE(COUNTIF(OFFSET($J29,-1,0,-1*$Q$3,5),{0,1,2,3,4,5,6,7,8,9})*1000+{100,90,80,70,60,50,40,30,20,10}+{0,1,2,3,4,5,6,7,8,9},COLUMN(F$21))),\"\"))","v":""},{"$f":"IF(OR(LEN($O29)=0),\"\",IFERROR(RIGHT(LARGE(COUNTIF(OFFSET($J29,-1,0,-1*$Q$3,5),{0,1,2,3,4,5,6,7,8,9})*1000+{100,90,80,70,60,50,40,30,20,10}+{0,1,2,3,4,5,6,7,8,9},COLUMN(G$21))),\"\"))","v":""},{"$f":"IF(OR(LEN($O29)=0),\"\",IFERROR(RIGHT(LARGE(COUNTIF(OFFSET($J29,-1,0,-1*$Q$3,5),{0,1,2,3,4,5,6,7,8,9})*1000+{100,90,80,70,60,50,40,30,20,10}+{0,1,2,3,4,5,6,7,8,9},COLUMN(H$21))),\"\"))","v":""},{"$f":"IF(OR(LEN($O29)=0),\"\",IFERROR(RIGHT(LARGE(COUNTIF(OFFSET($J29,-1,0,-1*$Q$3,5),{0,1,2,3,4,5,6,7,8,9})*1000+{100,90,80,70,60,50,40,30,20,10}+{0,1,2,3,4,5,6,7,8,9},COLUMN(I$21))),\"\"))","v":""},{"$f":"IF(OR(LEN($O29)=0),\"\",IFERROR(RIGHT(LARGE(COUNTIF(OFFSET($J29,-1,0,-1*$Q$3,5),{0,1,2,3,4,5,6,7,8,9})*1000+{100,90,80,70,60,50,40,30,20,10}+{0,1,2,3,4,5,6,7,8,9},COLUMN(J$21))),\"\"))","v":""},"","","","","","","","","","",""]
["20200514239","17422","1","7","4","2","2",null,null,"","","4","2","2","422",{"$f":"IF(OR(LEN($O30)=0),\"\",IFERROR(RIGHT(LARGE(COUNTIF(OFFSET($J30,-1,0,-1*$Q$3,5),{0,1,2,3,4,5,6,7,8,9})*1000+{100,90,80,70,60,50,40,30,20,10}+{0,1,2,3,4,5,6,7,8,9},COLUMN(A$21))),\"\"))","v":""},{"$f":"IF(OR(LEN($O30)=0),\"\",IFERROR(RIGHT(LARGE(COUNTIF(OFFSET($J30,-1,0,-1*$Q$3,5),{0,1,2,3,4,5,6,7,8,9})*1000+{100,90,80,70,60,50,40,30,20,10}+{0,1,2,3,4,5,6,7,8,9},COLUMN(B$21))),\"\"))","v":""},{"$f":"IF(OR(LEN($O30)=0),\"\",IFERROR(RIGHT(LARGE(COUNTIF(OFFSET($J30,-1,0,-1*$Q$3,5),{0,1,2,3,4,5,6,7,8,9})*1000+{100,90,80,70,60,50,40,30,20,10}+{0,1,2,3,4,5,6,7,8,9},COLUMN(C$21))),\"\"))","v":""},{"$f":"IF(OR(LEN($O30)=0),\"\",IFERROR(RIGHT(LARGE(COUNTIF(OFFSET($J30,-1,0,-1*$Q$3,5),{0,1,2,3,4,5,6,7,8,9})*1000+{100,90,80,70,60,50,40,30,20,10}+{0,1,2,3,4,5,6,7,8,9},COLUMN(D$21))),\"\"))","v":""},{"$f":"IF(OR(LEN($O30)=0),\"\",IFERROR(RIGHT(LARGE(COUNTIF(OFFSET($J30,-1,0,-1*$Q$3,5),{0,1,2,3,4,5,6,7,8,9})*1000+{100,90,80,70,60,50,40,30,20,10}+{0,1,2,3,4,5,6,7,8,9},COLUMN(E$21))),\"\"))","v":""},{"$f":"IF(OR(LEN($O30)=0),\"\",IFERROR(RIGHT(LARGE(COUNTIF(OFFSET($J30,-1,0,-1*$Q$3,5),{0,1,2,3,4,5,6,7,8,9})*1000+{100,90,80,70,60,50,40,30,20,10}+{0,1,2,3,4,5,6,7,8,9},COLUMN(F$21))),\"\"))","v":""},{"$f":"IF(OR(LEN($O30)=0),\"\",IFERROR(RIGHT(LARGE(COUNTIF(OFFSET($J30,-1,0,-1*$Q$3,5),{0,1,2,3,4,5,6,7,8,9})*1000+{100,90,80,70,60,50,40,30,20,10}+{0,1,2,3,4,5,6,7,8,9},COLUMN(G$21))),\"\"))","v":""},{"$f":"IF(OR(LEN($O30)=0),\"\",IFERROR(RIGHT(LARGE(COUNTIF(OFFSET($J30,-1,0,-1*$Q$3,5),{0,1,2,3,4,5,6,7,8,9})*1000+{100,90,80,70,60,50,40,30,20,10}+{0,1,2,3,4,5,6,7,8,9},COLUMN(H$21))),\"\"))","v":""},{"$f":"IF(OR(LEN($O30)=0),\"\",IFERROR(RIGHT(LARGE(COUNTIF(OFFSET($J30,-1,0,-1*$Q$3,5),{0,1,2,3,4,5,6,7,8,9})*1000+{100,90,80,70,60,50,40,30,20,10}+{0,1,2,3,4,5,6,7,8,9},COLUMN(I$21))),\"\"))","v":""},{"$f":"IF(OR(LEN($O30)=0),\"\",IFERROR(RIGHT(LARGE(COUNTIF(OFFSET($J30,-1,0,-1*$Q$3,5),{0,1,2,3,4,5,6,7,8,9})*1000+{100,90,80,70,60,50,40,30,20,10}+{0,1,2,3,4,5,6,7,8,9},COLUMN(J$21))),\"\"))","v":""},"","","","","","","","","","",""]
["20200514240","71403","7","1","4","0","3",null,null,"","","4","0","3","403",{"$f":"IF(OR(LEN($O31)=0),\"\",IFERROR(RIGHT(LARGE(COUNTIF(OFFSET($J31,-1,0,-1*$Q$3,5),{0,1,2,3,4,5,6,7,8,9})*1000+{100,90,80,70,60,50,40,30,20,10}+{0,1,2,3,4,5,6,7,8,9},COLUMN(A$21))),\"\"))","v":""},{"$f":"IF(OR(LEN($O31)=0),\"\",IFERROR(RIGHT(LARGE(COUNTIF(OFFSET($J31,-1,0,-1*$Q$3,5),{0,1,2,3,4,5,6,7,8,9})*1000+{100,90,80,70,60,50,40,30,20,10}+{0,1,2,3,4,5,6,7,8,9},COLUMN(B$21))),\"\"))","v":""},{"$f":"IF(OR(LEN($O31)=0),\"\",IFERROR(RIGHT(LARGE(COUNTIF(OFFSET($J31,-1,0,-1*$Q$3,5),{0,1,2,3,4,5,6,7,8,9})*1000+{100,90,80,70,60,50,40,30,20,10}+{0,1,2,3,4,5,6,7,8,9},COLUMN(C$21))),\"\"))","v":""},{"$f":"IF(OR(LEN($O31)=0),\"\",IFERROR(RIGHT(LARGE(COUNTIF(OFFSET($J31,-1,0,-1*$Q$3,5),{0,1,2,3,4,5,6,7,8,9})*1000+{100,90,80,70,60,50,40,30,20,10}+{0,1,2,3,4,5,6,7,8,9},COLUMN(D$21))),\"\"))","v":""},{"$f":"IF(OR(LEN($O31)=0),\"\",IFERROR(RIGHT(LARGE(COUNTIF(OFFSET($J31,-1,0,-1*$Q$3,5),{0,1,2,3,4,5,6,7,8,9})*1000+{100,90,80,70,60,50,40,30,20,10}+{0,1,2,3,4,5,6,7,8,9},COLUMN(E$21))),\"\"))","v":""},{"$f":"IF(OR(LEN($O31)=0),\"\",IFERROR(RIGHT(LARGE(COUNTIF(OFFSET($J31,-1,0,-1*$Q$3,5),{0,1,2,3,4,5,6,7,8,9})*1000+{100,90,80,70,60,50,40,30,20,10}+{0,1,2,3,4,5,6,7,8,9},COLUMN(F$21))),\"\"))","v":""},{"$f":"IF(OR(LEN($O31)=0),\"\",IFERROR(RIGHT(LARGE(COUNTIF(OFFSET($J31,-1,0,-1*$Q$3,5),{0,1,2,3,4,5,6,7,8,9})*1000+{100,90,80,70,60,50,40,30,20,10}+{0,1,2,3,4,5,6,7,8,9},COLUMN(G$21))),\"\"))","v":""},{"$f":"IF(OR(LEN($O31)=0),\"\",IFERROR(RIGHT(LARGE(COUNTIF(OFFSET($J31,-1,0,-1*$Q$3,5),{0,1,2,3,4,5,6,7,8,9})*1000+{100,90,80,70,60,50,40,30,20,10}+{0,1,2,3,4,5,6,7,8,9},COLUMN(H$21))),\"\"))","v":""},{"$f":"IF(OR(LEN($O31)=0),\"\",IFERROR(RIGHT(LARGE(COUNTIF(OFFSET($J31,-1,0,-1*$Q$3,5),{0,1,2,3,4,5,6,7,8,9})*1000+{100,90,80,70,60,50,40,30,20,10}+{0,1,2,3,4,5,6,7,8,9},COLUMN(I$21))),\"\"))","v":""},{"$f":"IF(OR(LEN($O31)=0),\"\",IFERROR(RIGHT(LARGE(COUNTIF(OFFSET($J31,-1,0,-1*$Q$3,5),{0,1,2,3,4,5,6,7,8,9})*1000+{100,90,80,70,60,50,40,30,20,10}+{0,1,2,3,4,5,6,7,8,9},COLUMN(J$21))),\"\"))","v":""},"","","","","","","","","","",""]
["20200514241","67225","6","7","2","2","5",null,null,"","","2","2","5","225",{"$f":"IF(OR(LEN($O32)=0),\"\",IFERROR(RIGHT(LARGE(COUNTIF(OFFSET($J32,-1,0,-1*$Q$3,5),{0,1,2,3,4,5,6,7,8,9})*1000+{100,90,80,70,60,50,40,30,20,10}+{0,1,2,3,4,5,6,7,8,9},COLUMN(A$21))),\"\"))","v":""},{"$f":"IF(OR(LEN($O32)=0),\"\",IFERROR(RIGHT(LARGE(COUNTIF(OFFSET($J32,-1,0,-1*$Q$3,5),{0,1,2,3,4,5,6,7,8,9})*1000+{100,90,80,70,60,50,40,30,20,10}+{0,1,2,3,4,5,6,7,8,9},COLUMN(B$21))),\"\"))","v":""},{"$f":"IF(OR(LEN($O32)=0),\"\",IFERROR(RIGHT(LARGE(COUNTIF(OFFSET($J32,-1,0,-1*$Q$3,5),{0,1,2,3,4,5,6,7,8,9})*1000+{100,90,80,70,60,50,40,30,20,10}+{0,1,2,3,4,5,6,7,8,9},COLUMN(C$21))),\"\"))","v":""},{"$f":"IF(OR(LEN($O32)=0),\"\",IFERROR(RIGHT(LARGE(COUNTIF(OFFSET($J32,-1,0,-1*$Q$3,5),{0,1,2,3,4,5,6,7,8,9})*1000+{100,90,80,70,60,50,40,30,20,10}+{0,1,2,3,4,5,6,7,8,9},COLUMN(D$21))),\"\"))","v":""},{"$f":"IF(OR(LEN($O32)=0),\"\",IFERROR(RIGHT(LARGE(COUNTIF(OFFSET($J32,-1,0,-1*$Q$3,5),{0,1,2,3,4,5,6,7,8,9})*1000+{100,90,80,70,60,50,40,30,20,10}+{0,1,2,3,4,5,6,7,8,9},COLUMN(E$21))),\"\"))","v":""},{"$f":"IF(OR(LEN($O32)=0),\"\",IFERROR(RIGHT(LARGE(COUNTIF(OFFSET($J32,-1,0,-1*$Q$3,5),{0,1,2,3,4,5,6,7,8,9})*1000+{100,90,80,70,60,50,40,30,20,10}+{0,1,2,3,4,5,6,7,8,9},COLUMN(F$21))),\"\"))","v":""},{"$f":"IF(OR(LEN($O32)=0),\"\",IFERROR(RIGHT(LARGE(COUNTIF(OFFSET($J32,-1,0,-1*$Q$3,5),{0,1,2,3,4,5,6,7,8,9})*1000+{100,90,80,70,60,50,40,30,20,10}+{0,1,2,3,4,5,6,7,8,9},COLUMN(G$21))),\"\"))","v":""},{"$f":"IF(OR(LEN($O32)=0),\"\",IFERROR(RIGHT(LARGE(COUNTIF(OFFSET($J32,-1,0,-1*$Q$3,5),{0,1,2,3,4,5,6,7,8,9})*1000+{100,90,80,70,60,50,40,30,20,10}+{0,1,2,3,4,5,6,7,8,9},COLUMN(H$21))),\"\"))","v":""},{"$f":"IF(OR(LEN($O32)=0),\"\",IFERROR(RIGHT(LARGE(COUNTIF(OFFSET($J32,-1,0,-1*$Q$3,5),{0,1,2,3,4,5,6,7,8,9})*1000+{100,90,80,70,60,50,40,30,20,10}+{0,1,2,3,4,5,6,7,8,9},COLUMN(I$21))),\"\"))","v":""},{"$f":"IF(OR(LEN($O32)=0),\"\",IFERROR(RIGHT(LARGE(COUNTIF(OFFSET($J32,-1,0,-1*$Q$3,5),{0,1,2,3,4,5,6,7,8,9})*1000+{100,90,80,70,60,50,40,30,20,10}+{0,1,2,3,4,5,6,7,8,9},COLUMN(J$21))),\"\"))","v":""},"","","","","","","","","","",""]
["20200514242","27748","2","7","7","4","8",null,null,"","","7","4","8","748",{"$f":"IF(OR(LEN($O33)=0),\"\",IFERROR(RIGHT(LARGE(COUNTIF(OFFSET($J33,-1,0,-1*$Q$3,5),{0,1,2,3,4,5,6,7,8,9})*1000+{100,90,80,70,60,50,40,30,20,10}+{0,1,2,3,4,5,6,7,8,9},COLUMN(A$21))),\"\"))","v":""},{"$f":"IF(OR(LEN($O33)=0),\"\",IFERROR(RIGHT(LARGE(COUNTIF(OFFSET($J33,-1,0,-1*$Q$3,5),{0,1,2,3,4,5,6,7,8,9})*1000+{100,90,80,70,60,50,40,30,20,10}+{0,1,2,3,4,5,6,7,8,9},COLUMN(B$21))),\"\"))","v":""},{"$f":"IF(OR(LEN($O33)=0),\"\",IFERROR(RIGHT(LARGE(COUNTIF(OFFSET($J33,-1,0,-1*$Q$3,5),{0,1,2,3,4,5,6,7,8,9})*1000+{100,90,80,70,60,50,40,30,20,10}+{0,1,2,3,4,5,6,7,8,9},COLUMN(C$21))),\"\"))","v":""},{"$f":"IF(OR(LEN($O33)=0),\"\",IFERROR(RIGHT(LARGE(COUNTIF(OFFSET($J33,-1,0,-1*$Q$3,5),{0,1,2,3,4,5,6,7,8,9})*1000+{100,90,80,70,60,50,40,30,20,10}+{0,1,2,3,4,5,6,7,8,9},COLUMN(D$21))),\"\"))","v":""},{"$f":"IF(OR(LEN($O33)=0),\"\",IFERROR(RIGHT(LARGE(COUNTIF(OFFSET($J33,-1,0,-1*$Q$3,5),{0,1,2,3,4,5,6,7,8,9})*1000+{100,90,80,70,60,50,40,30,20,10}+{0,1,2,3,4,5,6,7,8,9},COLUMN(E$21))),\"\"))","v":""},{"$f":"IF(OR(LEN($O33)=0),\"\",IFERROR(RIGHT(LARGE(COUNTIF(OFFSET($J33,-1,0,-1*$Q$3,5),{0,1,2,3,4,5,6,7,8,9})*1000+{100,90,80,70,60,50,40,30,20,10}+{0,1,2,3,4,5,6,7,8,9},COLUMN(F$21))),\"\"))","v":""},{"$f":"IF(OR(LEN($O33)=0),\"\",IFERROR(RIGHT(LARGE(COUNTIF(OFFSET($J33,-1,0,-1*$Q$3,5),{0,1,2,3,4,5,6,7,8,9})*1000+{100,90,80,70,60,50,40,30,20,10}+{0,1,2,3,4,5,6,7,8,9},COLUMN(G$21))),\"\"))","v":""},{"$f":"IF(OR(LEN($O33)=0),\"\",IFERROR(RIGHT(LARGE(COUNTIF(OFFSET($J33,-1,0,-1*$Q$3,5),{0,1,2,3,4,5,6,7,8,9})*1000+{100,90,80,70,60,50,40,30,20,10}+{0,1,2,3,4,5,6,7,8,9},COLUMN(H$21))),\"\"))","v":""},{"$f":"IF(OR(LEN($O33)=0),\"\",IFERROR(RIGHT(LARGE(COUNTIF(OFFSET($J33,-1,0,-1*$Q$3,5),{0,1,2,3,4,5,6,7,8,9})*1000+{100,90,80,70,60,50,40,30,20,10}+{0,1,2,3,4,5,6,7,8,9},COLUMN(I$21))),\"\"))","v":""},{"$f":"IF(OR(LEN($O33)=0),\"\",IFERROR(RIGHT(LARGE(COUNTIF(OFFSET($J33,-1,0,-1*$Q$3,5),{0,1,2,3,4,5,6,7,8,9})*1000+{100,90,80,70,60,50,40,30,20,10}+{0,1,2,3,4,5,6,7,8,9},COLUMN(J$21))),\"\"))","v":""},"","","","","","","","","","",""]
["20200514243","91075","9","1","0","7","5",null,null,"","","0","7","5","075",{"$f":"IF(OR(LEN($O34)=0),\"\",IFERROR(RIGHT(LARGE(COUNTIF(OFFSET($J34,-1,0,-1*$Q$3,5),{0,1,2,3,4,5,6,7,8,9})*1000+{100,90,80,70,60,50,40,30,20,10}+{0,1,2,3,4,5,6,7,8,9},COLUMN(A$21))),\"\"))","v":""},{"$f":"IF(OR(LEN($O34)=0),\"\",IFERROR(RIGHT(LARGE(COUNTIF(OFFSET($J34,-1,0,-1*$Q$3,5),{0,1,2,3,4,5,6,7,8,9})*1000+{100,90,80,70,60,50,40,30,20,10}+{0,1,2,3,4,5,6,7,8,9},COLUMN(B$21))),\"\"))","v":""},{"$f":"IF(OR(LEN($O34)=0),\"\",IFERROR(RIGHT(LARGE(COUNTIF(OFFSET($J34,-1,0,-1*$Q$3,5),{0,1,2,3,4,5,6,7,8,9})*1000+{100,90,80,70,60,50,40,30,20,10}+{0,1,2,3,4,5,6,7,8,9},COLUMN(C$21))),\"\"))","v":""},{"$f":"IF(OR(LEN($O34)=0),\"\",IFERROR(RIGHT(LARGE(COUNTIF(OFFSET($J34,-1,0,-1*$Q$3,5),{0,1,2,3,4,5,6,7,8,9})*1000+{100,90,80,70,60,50,40,30,20,10}+{0,1,2,3,4,5,6,7,8,9},COLUMN(D$21))),\"\"))","v":""},{"$f":"IF(OR(LEN($O34)=0),\"\",IFERROR(RIGHT(LARGE(COUNTIF(OFFSET($J34,-1,0,-1*$Q$3,5),{0,1,2,3,4,5,6,7,8,9})*1000+{100,90,80,70,60,50,40,30,20,10}+{0,1,2,3,4,5,6,7,8,9},COLUMN(E$21))),\"\"))","v":""},{"$f":"IF(OR(LEN($O34)=0),\"\",IFERROR(RIGHT(LARGE(COUNTIF(OFFSET($J34,-1,0,-1*$Q$3,5),{0,1,2,3,4,5,6,7,8,9})*1000+{100,90,80,70,60,50,40,30,20,10}+{0,1,2,3,4,5,6,7,8,9},COLUMN(F$21))),\"\"))","v":""},{"$f":"IF(OR(LEN($O34)=0),\"\",IFERROR(RIGHT(LARGE(COUNTIF(OFFSET($J34,-1,0,-1*$Q$3,5),{0,1,2,3,4,5,6,7,8,9})*1000+{100,90,80,70,60,50,40,30,20,10}+{0,1,2,3,4,5,6,7,8,9},COLUMN(G$21))),\"\"))","v":""},{"$f":"IF(OR(LEN($O34)=0),\"\",IFERROR(RIGHT(LARGE(COUNTIF(OFFSET($J34,-1,0,-1*$Q$3,5),{0,1,2,3,4,5,6,7,8,9})*1000+{100,90,80,70,60,50,40,30,20,10}+{0,1,2,3,4,5,6,7,8,9},COLUMN(H$21))),\"\"))","v":""},{"$f":"IF(OR(LEN($O34)=0),\"\",IFERROR(RIGHT(LARGE(COUNTIF(OFFSET($J34,-1,0,-1*$Q$3,5),{0,1,2,3,4,5,6,7,8,9})*1000+{100,90,80,70,60,50,40,30,20,10}+{0,1,2,3,4,5,6,7,8,9},COLUMN(I$21))),\"\"))","v":""},{"$f":"IF(OR(LEN($O34)=0),\"\",IFERROR(RIGHT(LARGE(COUNTIF(OFFSET($J34,-1,0,-1*$Q$3,5),{0,1,2,3,4,5,6,7,8,9})*1000+{100,90,80,70,60,50,40,30,20,10}+{0,1,2,3,4,5,6,7,8,9},COLUMN(J$21))),\"\"))","v":""},"","","","","","","","","","",""]
["20200514244","63882","6","3","8","8","2",null,null,"","","8","8","2","882",{"$f":"IF(OR(LEN($O35)=0),\"\",IFERROR(RIGHT(LARGE(COUNTIF(OFFSET($J35,-1,0,-1*$Q$3,5),{0,1,2,3,4,5,6,7,8,9})*1000+{100,90,80,70,60,50,40,30,20,10}+{0,1,2,3,4,5,6,7,8,9},COLUMN(A$21))),\"\"))","v":""},{"$f":"IF(OR(LEN($O35)=0),\"\",IFERROR(RIGHT(LARGE(COUNTIF(OFFSET($J35,-1,0,-1*$Q$3,5),{0,1,2,3,4,5,6,7,8,9})*1000+{100,90,80,70,60,50,40,30,20,10}+{0,1,2,3,4,5,6,7,8,9},COLUMN(B$21))),\"\"))","v":""},{"$f":"IF(OR(LEN($O35)=0),\"\",IFERROR(RIGHT(LARGE(COUNTIF(OFFSET($J35,-1,0,-1*$Q$3,5),{0,1,2,3,4,5,6,7,8,9})*1000+{100,90,80,70,60,50,40,30,20,10}+{0,1,2,3,4,5,6,7,8,9},COLUMN(C$21))),\"\"))","v":""},{"$f":"IF(OR(LEN($O35)=0),\"\",IFERROR(RIGHT(LARGE(COUNTIF(OFFSET($J35,-1,0,-1*$Q$3,5),{0,1,2,3,4,5,6,7,8,9})*1000+{100,90,80,70,60,50,40,30,20,10}+{0,1,2,3,4,5,6,7,8,9},COLUMN(D$21))),\"\"))","v":""},{"$f":"IF(OR(LEN($O35)=0),\"\",IFERROR(RIGHT(LARGE(COUNTIF(OFFSET($J35,-1,0,-1*$Q$3,5),{0,1,2,3,4,5,6,7,8,9})*1000+{100,90,80,70,60,50,40,30,20,10}+{0,1,2,3,4,5,6,7,8,9},COLUMN(E$21))),\"\"))","v":""},{"$f":"IF(OR(LEN($O35)=0),\"\",IFERROR(RIGHT(LARGE(COUNTIF(OFFSET($J35,-1,0,-1*$Q$3,5),{0,1,2,3,4,5,6,7,8,9})*1000+{100,90,80,70,60,50,40,30,20,10}+{0,1,2,3,4,5,6,7,8,9},COLUMN(F$21))),\"\"))","v":""},{"$f":"IF(OR(LEN($O35)=0),\"\",IFERROR(RIGHT(LARGE(COUNTIF(OFFSET($J35,-1,0,-1*$Q$3,5),{0,1,2,3,4,5,6,7,8,9})*1000+{100,90,80,70,60,50,40,30,20,10}+{0,1,2,3,4,5,6,7,8,9},COLUMN(G$21))),\"\"))","v":""},{"$f":"IF(OR(LEN($O35)=0),\"\",IFERROR(RIGHT(LARGE(COUNTIF(OFFSET($J35,-1,0,-1*$Q$3,5),{0,1,2,3,4,5,6,7,8,9})*1000+{100,90,80,70,60,50,40,30,20,10}+{0,1,2,3,4,5,6,7,8,9},COLUMN(H$21))),\"\"))","v":""},{"$f":"IF(OR(LEN($O35)=0),\"\",IFERROR(RIGHT(LARGE(COUNTIF(OFFSET($J35,-1,0,-1*$Q$3,5),{0,1,2,3,4,5,6,7,8,9})*1000+{100,90,80,70,60,50,40,30,20,10}+{0,1,2,3,4,5,6,7,8,9},COLUMN(I$21))),\"\"))","v":""},{"$f":"IF(OR(LEN($O35)=0),\"\",IFERROR(RIGHT(LARGE(COUNTIF(OFFSET($J35,-1,0,-1*$Q$3,5),{0,1,2,3,4,5,6,7,8,9})*1000+{100,90,80,70,60,50,40,30,20,10}+{0,1,2,3,4,5,6,7,8,9},COLUMN(J$21))),\"\"))","v":""},"","","","","","","","","","",""]
["20200514245","16232","1","6","2","3","2",null,null,"","","2","3","2","232",{"$f":"IF(OR(LEN($O36)=0),\"\",IFERROR(RIGHT(LARGE(COUNTIF(OFFSET($J36,-1,0,-1*$Q$3,5),{0,1,2,3,4,5,6,7,8,9})*1000+{100,90,80,70,60,50,40,30,20,10}+{0,1,2,3,4,5,6,7,8,9},COLUMN(A$21))),\"\"))","v":""},{"$f":"IF(OR(LEN($O36)=0),\"\",IFERROR(RIGHT(LARGE(COUNTIF(OFFSET($J36,-1,0,-1*$Q$3,5),{0,1,2,3,4,5,6,7,8,9})*1000+{100,90,80,70,60,50,40,30,20,10}+{0,1,2,3,4,5,6,7,8,9},COLUMN(B$21))),\"\"))","v":""},{"$f":"IF(OR(LEN($O36)=0),\"\",IFERROR(RIGHT(LARGE(COUNTIF(OFFSET($J36,-1,0,-1*$Q$3,5),{0,1,2,3,4,5,6,7,8,9})*1000+{100,90,80,70,60,50,40,30,20,10}+{0,1,2,3,4,5,6,7,8,9},COLUMN(C$21))),\"\"))","v":""},{"$f":"IF(OR(LEN($O36)=0),\"\",IFERROR(RIGHT(LARGE(COUNTIF(OFFSET($J36,-1,0,-1*$Q$3,5),{0,1,2,3,4,5,6,7,8,9})*1000+{100,90,80,70,60,50,40,30,20,10}+{0,1,2,3,4,5,6,7,8,9},COLUMN(D$21))),\"\"))","v":""},{"$f":"IF(OR(LEN($O36)=0),\"\",IFERROR(RIGHT(LARGE(COUNTIF(OFFSET($J36,-1,0,-1*$Q$3,5),{0,1,2,3,4,5,6,7,8,9})*1000+{100,90,80,70,60,50,40,30,20,10}+{0,1,2,3,4,5,6,7,8,9},COLUMN(E$21))),\"\"))","v":""},{"$f":"IF(OR(LEN($O36)=0),\"\",IFERROR(RIGHT(LARGE(COUNTIF(OFFSET($J36,-1,0,-1*$Q$3,5),{0,1,2,3,4,5,6,7,8,9})*1000+{100,90,80,70,60,50,40,30,20,10}+{0,1,2,3,4,5,6,7,8,9},COLUMN(F$21))),\"\"))","v":""},{"$f":"IF(OR(LEN($O36)=0),\"\",IFERROR(RIGHT(LARGE(COUNTIF(OFFSET($J36,-1,0,-1*$Q$3,5),{0,1,2,3,4,5,6,7,8,9})*1000+{100,90,80,70,60,50,40,30,20,10}+{0,1,2,3,4,5,6,7,8,9},COLUMN(G$21))),\"\"))","v":""},{"$f":"IF(OR(LEN($O36)=0),\"\",IFERROR(RIGHT(LARGE(COUNTIF(OFFSET($J36,-1,0,-1*$Q$3,5),{0,1,2,3,4,5,6,7,8,9})*1000+{100,90,80,70,60,50,40,30,20,10}+{0,1,2,3,4,5,6,7,8,9},COLUMN(H$21))),\"\"))","v":""},{"$f":"IF(OR(LEN($O36)=0),\"\",IFERROR(RIGHT(LARGE(COUNTIF(OFFSET($J36,-1,0,-1*$Q$3,5),{0,1,2,3,4,5,6,7,8,9})*1000+{100,90,80,70,60,50,40,30,20,10}+{0,1,2,3,4,5,6,7,8,9},COLUMN(I$21))),\"\"))","v":""},{"$f":"IF(OR(LEN($O36)=0),\"\",IFERROR(RIGHT(LARGE(COUNTIF(OFFSET($J36,-1,0,-1*$Q$3,5),{0,1,2,3,4,5,6,7,8,9})*1000+{100,90,80,70,60,50,40,30,20,10}+{0,1,2,3,4,5,6,7,8,9},COLUMN(J$21))),\"\"))","v":""},"","","","","","","","","","",""]
["20200514246","71729","7","1","7","2","9",null,null,"","","7","2","9","729",{"$f":"IF(OR(LEN($O37)=0),\"\",IFERROR(RIGHT(LARGE(COUNTIF(OFFSET($J37,-1,0,-1*$Q$3,5),{0,1,2,3,4,5,6,7,8,9})*1000+{100,90,80,70,60,50,40,30,20,10}+{0,1,2,3,4,5,6,7,8,9},COLUMN(A$21))),\"\"))","v":""},{"$f":"IF(OR(LEN($O37)=0),\"\",IFERROR(RIGHT(LARGE(COUNTIF(OFFSET($J37,-1,0,-1*$Q$3,5),{0,1,2,3,4,5,6,7,8,9})*1000+{100,90,80,70,60,50,40,30,20,10}+{0,1,2,3,4,5,6,7,8,9},COLUMN(B$21))),\"\"))","v":""},{"$f":"IF(OR(LEN($O37)=0),\"\",IFERROR(RIGHT(LARGE(COUNTIF(OFFSET($J37,-1,0,-1*$Q$3,5),{0,1,2,3,4,5,6,7,8,9})*1000+{100,90,80,70,60,50,40,30,20,10}+{0,1,2,3,4,5,6,7,8,9},COLUMN(C$21))),\"\"))","v":""},{"$f":"IF(OR(LEN($O37)=0),\"\",IFERROR(RIGHT(LARGE(COUNTIF(OFFSET($J37,-1,0,-1*$Q$3,5),{0,1,2,3,4,5,6,7,8,9})*1000+{100,90,80,70,60,50,40,30,20,10}+{0,1,2,3,4,5,6,7,8,9},COLUMN(D$21))),\"\"))","v":""},{"$f":"IF(OR(LEN($O37)=0),\"\",IFERROR(RIGHT(LARGE(COUNTIF(OFFSET($J37,-1,0,-1*$Q$3,5),{0,1,2,3,4,5,6,7,8,9})*1000+{100,90,80,70,60,50,40,30,20,10}+{0,1,2,3,4,5,6,7,8,9},COLUMN(E$21))),\"\"))","v":""},{"$f":"IF(OR(LEN($O37)=0),\"\",IFERROR(RIGHT(LARGE(COUNTIF(OFFSET($J37,-1,0,-1*$Q$3,5),{0,1,2,3,4,5,6,7,8,9})*1000+{100,90,80,70,60,50,40,30,20,10}+{0,1,2,3,4,5,6,7,8,9},COLUMN(F$21))),\"\"))","v":""},{"$f":"IF(OR(LEN($O37)=0),\"\",IFERROR(RIGHT(LARGE(COUNTIF(OFFSET($J37,-1,0,-1*$Q$3,5),{0,1,2,3,4,5,6,7,8,9})*1000+{100,90,80,70,60,50,40,30,20,10}+{0,1,2,3,4,5,6,7,8,9},COLUMN(G$21))),\"\"))","v":""},{"$f":"IF(OR(LEN($O37)=0),\"\",IFERROR(RIGHT(LARGE(COUNTIF(OFFSET($J37,-1,0,-1*$Q$3,5),{0,1,2,3,4,5,6,7,8,9})*1000+{100,90,80,70,60,50,40,30,20,10}+{0,1,2,3,4,5,6,7,8,9},COLUMN(H$21))),\"\"))","v":""},{"$f":"IF(OR(LEN($O37)=0),\"\",IFERROR(RIGHT(LARGE(COUNTIF(OFFSET($J37,-1,0,-1*$Q$3,5),{0,1,2,3,4,5,6,7,8,9})*1000+{100,90,80,70,60,50,40,30,20,10}+{0,1,2,3,4,5,6,7,8,9},COLUMN(I$21))),\"\"))","v":""},{"$f":"IF(OR(LEN($O37)=0),\"\",IFERROR(RIGHT(LARGE(COUNTIF(OFFSET($J37,-1,0,-1*$Q$3,5),{0,1,2,3,4,5,6,7,8,9})*1000+{100,90,80,70,60,50,40,30,20,10}+{0,1,2,3,4,5,6,7,8,9},COLUMN(J$21))),\"\"))","v":""},"","","","","","","","","","",""]
["20200514247","81151","8","1","1","5","1",null,null,"","","1","5","1","151",{"$f":"IF(OR(LEN($O38)=0),\"\",IFERROR(RIGHT(LARGE(COUNTIF(OFFSET($J38,-1,0,-1*$Q$3,5),{0,1,2,3,4,5,6,7,8,9})*1000+{100,90,80,70,60,50,40,30,20,10}+{0,1,2,3,4,5,6,7,8,9},COLUMN(A$21))),\"\"))","v":""},{"$f":"IF(OR(LEN($O38)=0),\"\",IFERROR(RIGHT(LARGE(COUNTIF(OFFSET($J38,-1,0,-1*$Q$3,5),{0,1,2,3,4,5,6,7,8,9})*1000+{100,90,80,70,60,50,40,30,20,10}+{0,1,2,3,4,5,6,7,8,9},COLUMN(B$21))),\"\"))","v":""},{"$f":"IF(OR(LEN($O38)=0),\"\",IFERROR(RIGHT(LARGE(COUNTIF(OFFSET($J38,-1,0,-1*$Q$3,5),{0,1,2,3,4,5,6,7,8,9})*1000+{100,90,80,70,60,50,40,30,20,10}+{0,1,2,3,4,5,6,7,8,9},COLUMN(C$21))),\"\"))","v":""},{"$f":"IF(OR(LEN($O38)=0),\"\",IFERROR(RIGHT(LARGE(COUNTIF(OFFSET($J38,-1,0,-1*$Q$3,5),{0,1,2,3,4,5,6,7,8,9})*1000+{100,90,80,70,60,50,40,30,20,10}+{0,1,2,3,4,5,6,7,8,9},COLUMN(D$21))),\"\"))","v":""},{"$f":"IF(OR(LEN($O38)=0),\"\",IFERROR(RIGHT(LARGE(COUNTIF(OFFSET($J38,-1,0,-1*$Q$3,5),{0,1,2,3,4,5,6,7,8,9})*1000+{100,90,80,70,60,50,40,30,20,10}+{0,1,2,3,4,5,6,7,8,9},COLUMN(E$21))),\"\"))","v":""},{"$f":"IF(OR(LEN($O38)=0),\"\",IFERROR(RIGHT(LARGE(COUNTIF(OFFSET($J38,-1,0,-1*$Q$3,5),{0,1,2,3,4,5,6,7,8,9})*1000+{100,90,80,70,60,50,40,30,20,10}+{0,1,2,3,4,5,6,7,8,9},COLUMN(F$21))),\"\"))","v":""},{"$f":"IF(OR(LEN($O38)=0),\"\",IFERROR(RIGHT(LARGE(COUNTIF(OFFSET($J38,-1,0,-1*$Q$3,5),{0,1,2,3,4,5,6,7,8,9})*1000+{100,90,80,70,60,50,40,30,20,10}+{0,1,2,3,4,5,6,7,8,9},COLUMN(G$21))),\"\"))","v":""},{"$f":"IF(OR(LEN($O38)=0),\"\",IFERROR(RIGHT(LARGE(COUNTIF(OFFSET($J38,-1,0,-1*$Q$3,5),{0,1,2,3,4,5,6,7,8,9})*1000+{100,90,80,70,60,50,40,30,20,10}+{0,1,2,3,4,5,6,7,8,9},COLUMN(H$21))),\"\"))","v":""},{"$f":"IF(OR(LEN($O38)=0),\"\",IFERROR(RIGHT(LARGE(COUNTIF(OFFSET($J38,-1,0,-1*$Q$3,5),{0,1,2,3,4,5,6,7,8,9})*1000+{100,90,80,70,60,50,40,30,20,10}+{0,1,2,3,4,5,6,7,8,9},COLUMN(I$21))),\"\"))","v":""},{"$f":"IF(OR(LEN($O38)=0),\"\",IFERROR(RIGHT(LARGE(COUNTIF(OFFSET($J38,-1,0,-1*$Q$3,5),{0,1,2,3,4,5,6,7,8,9})*1000+{100,90,80,70,60,50,40,30,20,10}+{0,1,2,3,4,5,6,7,8,9},COLUMN(J$21))),\"\"))","v":""},"","","","","","","","","","",""]
["20200514248","88124","8","8","1","2","4",null,null,"","","1","2","4","124",{"$f":"IF(OR(LEN($O39)=0),\"\",IFERROR(RIGHT(LARGE(COUNTIF(OFFSET($J39,-1,0,-1*$Q$3,5),{0,1,2,3,4,5,6,7,8,9})*1000+{100,90,80,70,60,50,40,30,20,10}+{0,1,2,3,4,5,6,7,8,9},COLUMN(A$21))),\"\"))","v":""},{"$f":"IF(OR(LEN($O39)=0),\"\",IFERROR(RIGHT(LARGE(COUNTIF(OFFSET($J39,-1,0,-1*$Q$3,5),{0,1,2,3,4,5,6,7,8,9})*1000+{100,90,80,70,60,50,40,30,20,10}+{0,1,2,3,4,5,6,7,8,9},COLUMN(B$21))),\"\"))","v":""},{"$f":"IF(OR(LEN($O39)=0),\"\",IFERROR(RIGHT(LARGE(COUNTIF(OFFSET($J39,-1,0,-1*$Q$3,5),{0,1,2,3,4,5,6,7,8,9})*1000+{100,90,80,70,60,50,40,30,20,10}+{0,1,2,3,4,5,6,7,8,9},COLUMN(C$21))),\"\"))","v":""},{"$f":"IF(OR(LEN($O39)=0),\"\",IFERROR(RIGHT(LARGE(COUNTIF(OFFSET($J39,-1,0,-1*$Q$3,5),{0,1,2,3,4,5,6,7,8,9})*1000+{100,90,80,70,60,50,40,30,20,10}+{0,1,2,3,4,5,6,7,8,9},COLUMN(D$21))),\"\"))","v":""},{"$f":"IF(OR(LEN($O39)=0),\"\",IFERROR(RIGHT(LARGE(COUNTIF(OFFSET($J39,-1,0,-1*$Q$3,5),{0,1,2,3,4,5,6,7,8,9})*1000+{100,90,80,70,60,50,40,30,20,10}+{0,1,2,3,4,5,6,7,8,9},COLUMN(E$21))),\"\"))","v":""},{"$f":"IF(OR(LEN($O39)=0),\"\",IFERROR(RIGHT(LARGE(COUNTIF(OFFSET($J39,-1,0,-1*$Q$3,5),{0,1,2,3,4,5,6,7,8,9})*1000+{100,90,80,70,60,50,40,30,20,10}+{0,1,2,3,4,5,6,7,8,9},COLUMN(F$21))),\"\"))","v":""},{"$f":"IF(OR(LEN($O39)=0),\"\",IFERROR(RIGHT(LARGE(COUNTIF(OFFSET($J39,-1,0,-1*$Q$3,5),{0,1,2,3,4,5,6,7,8,9})*1000+{100,90,80,70,60,50,40,30,20,10}+{0,1,2,3,4,5,6,7,8,9},COLUMN(G$21))),\"\"))","v":""},{"$f":"IF(OR(LEN($O39)=0),\"\",IFERROR(RIGHT(LARGE(COUNTIF(OFFSET($J39,-1,0,-1*$Q$3,5),{0,1,2,3,4,5,6,7,8,9})*1000+{100,90,80,70,60,50,40,30,20,10}+{0,1,2,3,4,5,6,7,8,9},COLUMN(H$21))),\"\"))","v":""},{"$f":"IF(OR(LEN($O39)=0),\"\",IFERROR(RIGHT(LARGE(COUNTIF(OFFSET($J39,-1,0,-1*$Q$3,5),{0,1,2,3,4,5,6,7,8,9})*1000+{100,90,80,70,60,50,40,30,20,10}+{0,1,2,3,4,5,6,7,8,9},COLUMN(I$21))),\"\"))","v":""},{"$f":"IF(OR(LEN($O39)=0),\"\",IFERROR(RIGHT(LARGE(COUNTIF(OFFSET($J39,-1,0,-1*$Q$3,5),{0,1,2,3,4,5,6,7,8,9})*1000+{100,90,80,70,60,50,40,30,20,10}+{0,1,2,3,4,5,6,7,8,9},COLUMN(J$21))),\"\"))","v":""},"","","","","","","","","","",""]
["20200514249","75684","7","5","6","8","4",null,null,"","","6","8","4","684",{"$f":"IF(OR(LEN($O40)=0),\"\",IFERROR(RIGHT(LARGE(COUNTIF(OFFSET($J40,-1,0,-1*$Q$3,5),{0,1,2,3,4,5,6,7,8,9})*1000+{100,90,80,70,60,50,40,30,20,10}+{0,1,2,3,4,5,6,7,8,9},COLUMN(A$21))),\"\"))","v":""},{"$f":"IF(OR(LEN($O40)=0),\"\",IFERROR(RIGHT(LARGE(COUNTIF(OFFSET($J40,-1,0,-1*$Q$3,5),{0,1,2,3,4,5,6,7,8,9})*1000+{100,90,80,70,60,50,40,30,20,10}+{0,1,2,3,4,5,6,7,8,9},COLUMN(B$21))),\"\"))","v":""},{"$f":"IF(OR(LEN($O40)=0),\"\",IFERROR(RIGHT(LARGE(COUNTIF(OFFSET($J40,-1,0,-1*$Q$3,5),{0,1,2,3,4,5,6,7,8,9})*1000+{100,90,80,70,60,50,40,30,20,10}+{0,1,2,3,4,5,6,7,8,9},COLUMN(C$21))),\"\"))","v":""},{"$f":"IF(OR(LEN($O40)=0),\"\",IFERROR(RIGHT(LARGE(COUNTIF(OFFSET($J40,-1,0,-1*$Q$3,5),{0,1,2,3,4,5,6,7,8,9})*1000+{100,90,80,70,60,50,40,30,20,10}+{0,1,2,3,4,5,6,7,8,9},COLUMN(D$21))),\"\"))","v":""},{"$f":"IF(OR(LEN($O40)=0),\"\",IFERROR(RIGHT(LARGE(COUNTIF(OFFSET($J40,-1,0,-1*$Q$3,5),{0,1,2,3,4,5,6,7,8,9})*1000+{100,90,80,70,60,50,40,30,20,10}+{0,1,2,3,4,5,6,7,8,9},COLUMN(E$21))),\"\"))","v":""},{"$f":"IF(OR(LEN($O40)=0),\"\",IFERROR(RIGHT(LARGE(COUNTIF(OFFSET($J40,-1,0,-1*$Q$3,5),{0,1,2,3,4,5,6,7,8,9})*1000+{100,90,80,70,60,50,40,30,20,10}+{0,1,2,3,4,5,6,7,8,9},COLUMN(F$21))),\"\"))","v":""},{"$f":"IF(OR(LEN($O40)=0),\"\",IFERROR(RIGHT(LARGE(COUNTIF(OFFSET($J40,-1,0,-1*$Q$3,5),{0,1,2,3,4,5,6,7,8,9})*1000+{100,90,80,70,60,50,40,30,20,10}+{0,1,2,3,4,5,6,7,8,9},COLUMN(G$21))),\"\"))","v":""},{"$f":"IF(OR(LEN($O40)=0),\"\",IFERROR(RIGHT(LARGE(COUNTIF(OFFSET($J40,-1,0,-1*$Q$3,5),{0,1,2,3,4,5,6,7,8,9})*1000+{100,90,80,70,60,50,40,30,20,10}+{0,1,2,3,4,5,6,7,8,9},COLUMN(H$21))),\"\"))","v":""},{"$f":"IF(OR(LEN($O40)=0),\"\",IFERROR(RIGHT(LARGE(COUNTIF(OFFSET($J40,-1,0,-1*$Q$3,5),{0,1,2,3,4,5,6,7,8,9})*1000+{100,90,80,70,60,50,40,30,20,10}+{0,1,2,3,4,5,6,7,8,9},COLUMN(I$21))),\"\"))","v":""},{"$f":"IF(OR(LEN($O40)=0),\"\",IFERROR(RIGHT(LARGE(COUNTIF(OFFSET($J40,-1,0,-1*$Q$3,5),{0,1,2,3,4,5,6,7,8,9})*1000+{100,90,80,70,60,50,40,30,20,10}+{0,1,2,3,4,5,6,7,8,9},COLUMN(J$21))),\"\"))","v":""},"","","","","","","","","","",""]
["20200514250","94654","9","4","6","5","4",null,null,"","","6","5","4","654",{"$f":"IF(OR(LEN($O41)=0),\"\",IFERROR(RIGHT(LARGE(COUNTIF(OFFSET($J41,-1,0,-1*$Q$3,5),{0,1,2,3,4,5,6,7,8,9})*1000+{100,90,80,70,60,50,40,30,20,10}+{0,1,2,3,4,5,6,7,8,9},COLUMN(A$21))),\"\"))","v":""},{"$f":"IF(OR(LEN($O41)=0),\"\",IFERROR(RIGHT(LARGE(COUNTIF(OFFSET($J41,-1,0,-1*$Q$3,5),{0,1,2,3,4,5,6,7,8,9})*1000+{100,90,80,70,60,50,40,30,20,10}+{0,1,2,3,4,5,6,7,8,9},COLUMN(B$21))),\"\"))","v":""},{"$f":"IF(OR(LEN($O41)=0),\"\",IFERROR(RIGHT(LARGE(COUNTIF(OFFSET($J41,-1,0,-1*$Q$3,5),{0,1,2,3,4,5,6,7,8,9})*1000+{100,90,80,70,60,50,40,30,20,10}+{0,1,2,3,4,5,6,7,8,9},COLUMN(C$21))),\"\"))","v":""},{"$f":"IF(OR(LEN($O41)=0),\"\",IFERROR(RIGHT(LARGE(COUNTIF(OFFSET($J41,-1,0,-1*$Q$3,5),{0,1,2,3,4,5,6,7,8,9})*1000+{100,90,80,70,60,50,40,30,20,10}+{0,1,2,3,4,5,6,7,8,9},COLUMN(D$21))),\"\"))","v":""},{"$f":"IF(OR(LEN($O41)=0),\"\",IFERROR(RIGHT(LARGE(COUNTIF(OFFSET($J41,-1,0,-1*$Q$3,5),{0,1,2,3,4,5,6,7,8,9})*1000+{100,90,80,70,60,50,40,30,20,10}+{0,1,2,3,4,5,6,7,8,9},COLUMN(E$21))),\"\"))","v":""},{"$f":"IF(OR(LEN($O41)=0),\"\",IFERROR(RIGHT(LARGE(COUNTIF(OFFSET($J41,-1,0,-1*$Q$3,5),{0,1,2,3,4,5,6,7,8,9})*1000+{100,90,80,70,60,50,40,30,20,10}+{0,1,2,3,4,5,6,7,8,9},COLUMN(F$21))),\"\"))","v":""},{"$f":"IF(OR(LEN($O41)=0),\"\",IFERROR(RIGHT(LARGE(COUNTIF(OFFSET($J41,-1,0,-1*$Q$3,5),{0,1,2,3,4,5,6,7,8,9})*1000+{100,90,80,70,60,50,40,30,20,10}+{0,1,2,3,4,5,6,7,8,9},COLUMN(G$21))),\"\"))","v":""},{"$f":"IF(OR(LEN($O41)=0),\"\",IFERROR(RIGHT(LARGE(COUNTIF(OFFSET($J41,-1,0,-1*$Q$3,5),{0,1,2,3,4,5,6,7,8,9})*1000+{100,90,80,70,60,50,40,30,20,10}+{0,1,2,3,4,5,6,7,8,9},COLUMN(H$21))),\"\"))","v":""},{"$f":"IF(OR(LEN($O41)=0),\"\",IFERROR(RIGHT(LARGE(COUNTIF(OFFSET($J41,-1,0,-1*$Q$3,5),{0,1,2,3,4,5,6,7,8,9})*1000+{100,90,80,70,60,50,40,30,20,10}+{0,1,2,3,4,5,6,7,8,9},COLUMN(I$21))),\"\"))","v":""},{"$f":"IF(OR(LEN($O41)=0),\"\",IFERROR(RIGHT(LARGE(COUNTIF(OFFSET($J41,-1,0,-1*$Q$3,5),{0,1,2,3,4,5,6,7,8,9})*1000+{100,90,80,70,60,50,40,30,20,10}+{0,1,2,3,4,5,6,7,8,9},COLUMN(J$21))),\"\"))","v":""},"","","","","","","","","","",""]
["20200514251","32115","3","2","1","1","5",null,null,"","","1","1","5","115",{"$f":"IF(OR(LEN($O42)=0),\"\",IFERROR(RIGHT(LARGE(COUNTIF(OFFSET($J42,-1,0,-1*$Q$3,5),{0,1,2,3,4,5,6,7,8,9})*1000+{100,90,80,70,60,50,40,30,20,10}+{0,1,2,3,4,5,6,7,8,9},COLUMN(A$21))),\"\"))","v":""},{"$f":"IF(OR(LEN($O42)=0),\"\",IFERROR(RIGHT(LARGE(COUNTIF(OFFSET($J42,-1,0,-1*$Q$3,5),{0,1,2,3,4,5,6,7,8,9})*1000+{100,90,80,70,60,50,40,30,20,10}+{0,1,2,3,4,5,6,7,8,9},COLUMN(B$21))),\"\"))","v":""},{"$f":"IF(OR(LEN($O42)=0),\"\",IFERROR(RIGHT(LARGE(COUNTIF(OFFSET($J42,-1,0,-1*$Q$3,5),{0,1,2,3,4,5,6,7,8,9})*1000+{100,90,80,70,60,50,40,30,20,10}+{0,1,2,3,4,5,6,7,8,9},COLUMN(C$21))),\"\"))","v":""},{"$f":"IF(OR(LEN($O42)=0),\"\",IFERROR(RIGHT(LARGE(COUNTIF(OFFSET($J42,-1,0,-1*$Q$3,5),{0,1,2,3,4,5,6,7,8,9})*1000+{100,90,80,70,60,50,40,30,20,10}+{0,1,2,3,4,5,6,7,8,9},COLUMN(D$21))),\"\"))","v":""},{"$f":"IF(OR(LEN($O42)=0),\"\",IFERROR(RIGHT(LARGE(COUNTIF(OFFSET($J42,-1,0,-1*$Q$3,5),{0,1,2,3,4,5,6,7,8,9})*1000+{100,90,80,70,60,50,40,30,20,10}+{0,1,2,3,4,5,6,7,8,9},COLUMN(E$21))),\"\"))","v":""},{"$f":"IF(OR(LEN($O42)=0),\"\",IFERROR(RIGHT(LARGE(COUNTIF(OFFSET($J42,-1,0,-1*$Q$3,5),{0,1,2,3,4,5,6,7,8,9})*1000+{100,90,80,70,60,50,40,30,20,10}+{0,1,2,3,4,5,6,7,8,9},COLUMN(F$21))),\"\"))","v":""},{"$f":"IF(OR(LEN($O42)=0),\"\",IFERROR(RIGHT(LARGE(COUNTIF(OFFSET($J42,-1,0,-1*$Q$3,5),{0,1,2,3,4,5,6,7,8,9})*1000+{100,90,80,70,60,50,40,30,20,10}+{0,1,2,3,4,5,6,7,8,9},COLUMN(G$21))),\"\"))","v":""},{"$f":"IF(OR(LEN($O42)=0),\"\",IFERROR(RIGHT(LARGE(COUNTIF(OFFSET($J42,-1,0,-1*$Q$3,5),{0,1,2,3,4,5,6,7,8,9})*1000+{100,90,80,70,60,50,40,30,20,10}+{0,1,2,3,4,5,6,7,8,9},COLUMN(H$21))),\"\"))","v":""},{"$f":"IF(OR(LEN($O42)=0),\"\",IFERROR(RIGHT(LARGE(COUNTIF(OFFSET($J42,-1,0,-1*$Q$3,5),{0,1,2,3,4,5,6,7,8,9})*1000+{100,90,80,70,60,50,40,30,20,10}+{0,1,2,3,4,5,6,7,8,9},COLUMN(I$21))),\"\"))","v":""},{"$f":"IF(OR(LEN($O42)=0),\"\",IFERROR(RIGHT(LARGE(COUNTIF(OFFSET($J42,-1,0,-1*$Q$3,5),{0,1,2,3,4,5,6,7,8,9})*1000+{100,90,80,70,60,50,40,30,20,10}+{0,1,2,3,4,5,6,7,8,9},COLUMN(J$21))),\"\"))","v":""},"","","","","","","","","","",""]
["20200514252","79935","7","9","9","3","5",null,null,"","","9","3","5","935",{"$f":"IF(OR(LEN($O43)=0),\"\",IFERROR(RIGHT(LARGE(COUNTIF(OFFSET($J43,-1,0,-1*$Q$3,5),{0,1,2,3,4,5,6,7,8,9})*1000+{100,90,80,70,60,50,40,30,20,10}+{0,1,2,3,4,5,6,7,8,9},COLUMN(A$21))),\"\"))","v":""},{"$f":"IF(OR(LEN($O43)=0),\"\",IFERROR(RIGHT(LARGE(COUNTIF(OFFSET($J43,-1,0,-1*$Q$3,5),{0,1,2,3,4,5,6,7,8,9})*1000+{100,90,80,70,60,50,40,30,20,10}+{0,1,2,3,4,5,6,7,8,9},COLUMN(B$21))),\"\"))","v":""},{"$f":"IF(OR(LEN($O43)=0),\"\",IFERROR(RIGHT(LARGE(COUNTIF(OFFSET($J43,-1,0,-1*$Q$3,5),{0,1,2,3,4,5,6,7,8,9})*1000+{100,90,80,70,60,50,40,30,20,10}+{0,1,2,3,4,5,6,7,8,9},COLUMN(C$21))),\"\"))","v":""},{"$f":"IF(OR(LEN($O43)=0),\"\",IFERROR(RIGHT(LARGE(COUNTIF(OFFSET($J43,-1,0,-1*$Q$3,5),{0,1,2,3,4,5,6,7,8,9})*1000+{100,90,80,70,60,50,40,30,20,10}+{0,1,2,3,4,5,6,7,8,9},COLUMN(D$21))),\"\"))","v":""},{"$f":"IF(OR(LEN($O43)=0),\"\",IFERROR(RIGHT(LARGE(COUNTIF(OFFSET($J43,-1,0,-1*$Q$3,5),{0,1,2,3,4,5,6,7,8,9})*1000+{100,90,80,70,60,50,40,30,20,10}+{0,1,2,3,4,5,6,7,8,9},COLUMN(E$21))),\"\"))","v":""},{"$f":"IF(OR(LEN($O43)=0),\"\",IFERROR(RIGHT(LARGE(COUNTIF(OFFSET($J43,-1,0,-1*$Q$3,5),{0,1,2,3,4,5,6,7,8,9})*1000+{100,90,80,70,60,50,40,30,20,10}+{0,1,2,3,4,5,6,7,8,9},COLUMN(F$21))),\"\"))","v":""},{"$f":"IF(OR(LEN($O43)=0),\"\",IFERROR(RIGHT(LARGE(COUNTIF(OFFSET($J43,-1,0,-1*$Q$3,5),{0,1,2,3,4,5,6,7,8,9})*1000+{100,90,80,70,60,50,40,30,20,10}+{0,1,2,3,4,5,6,7,8,9},COLUMN(G$21))),\"\"))","v":""},{"$f":"IF(OR(LEN($O43)=0),\"\",IFERROR(RIGHT(LARGE(COUNTIF(OFFSET($J43,-1,0,-1*$Q$3,5),{0,1,2,3,4,5,6,7,8,9})*1000+{100,90,80,70,60,50,40,30,20,10}+{0,1,2,3,4,5,6,7,8,9},COLUMN(H$21))),\"\"))","v":""},{"$f":"IF(OR(LEN($O43)=0),\"\",IFERROR(RIGHT(LARGE(COUNTIF(OFFSET($J43,-1,0,-1*$Q$3,5),{0,1,2,3,4,5,6,7,8,9})*1000+{100,90,80,70,60,50,40,30,20,10}+{0,1,2,3,4,5,6,7,8,9},COLUMN(I$21))),\"\"))","v":""},{"$f":"IF(OR(LEN($O43)=0),\"\",IFERROR(RIGHT(LARGE(COUNTIF(OFFSET($J43,-1,0,-1*$Q$3,5),{0,1,2,3,4,5,6,7,8,9})*1000+{100,90,80,70,60,50,40,30,20,10}+{0,1,2,3,4,5,6,7,8,9},COLUMN(J$21))),\"\"))","v":""},"","","","","","","","","","",""]
["20200514253","32532","3","2","5","3","2",null,null,"","","5","3","2","532",{"$f":"IF(OR(LEN($O44)=0),\"\",IFERROR(RIGHT(LARGE(COUNTIF(OFFSET($J44,-1,0,-1*$Q$3,5),{0,1,2,3,4,5,6,7,8,9})*1000+{100,90,80,70,60,50,40,30,20,10}+{0,1,2,3,4,5,6,7,8,9},COLUMN(A$21))),\"\"))","v":""},{"$f":"IF(OR(LEN($O44)=0),\"\",IFERROR(RIGHT(LARGE(COUNTIF(OFFSET($J44,-1,0,-1*$Q$3,5),{0,1,2,3,4,5,6,7,8,9})*1000+{100,90,80,70,60,50,40,30,20,10}+{0,1,2,3,4,5,6,7,8,9},COLUMN(B$21))),\"\"))","v":""},{"$f":"IF(OR(LEN($O44)=0),\"\",IFERROR(RIGHT(LARGE(COUNTIF(OFFSET($J44,-1,0,-1*$Q$3,5),{0,1,2,3,4,5,6,7,8,9})*1000+{100,90,80,70,60,50,40,30,20,10}+{0,1,2,3,4,5,6,7,8,9},COLUMN(C$21))),\"\"))","v":""},{"$f":"IF(OR(LEN($O44)=0),\"\",IFERROR(RIGHT(LARGE(COUNTIF(OFFSET($J44,-1,0,-1*$Q$3,5),{0,1,2,3,4,5,6,7,8,9})*1000+{100,90,80,70,60,50,40,30,20,10}+{0,1,2,3,4,5,6,7,8,9},COLUMN(D$21))),\"\"))","v":""},{"$f":"IF(OR(LEN($O44)=0),\"\",IFERROR(RIGHT(LARGE(COUNTIF(OFFSET($J44,-1,0,-1*$Q$3,5),{0,1,2,3,4,5,6,7,8,9})*1000+{100,90,80,70,60,50,40,30,20,10}+{0,1,2,3,4,5,6,7,8,9},COLUMN(E$21))),\"\"))","v":""},{"$f":"IF(OR(LEN($O44)=0),\"\",IFERROR(RIGHT(LARGE(COUNTIF(OFFSET($J44,-1,0,-1*$Q$3,5),{0,1,2,3,4,5,6,7,8,9})*1000+{100,90,80,70,60,50,40,30,20,10}+{0,1,2,3,4,5,6,7,8,9},COLUMN(F$21))),\"\"))","v":""},{"$f":"IF(OR(LEN($O44)=0),\"\",IFERROR(RIGHT(LARGE(COUNTIF(OFFSET($J44,-1,0,-1*$Q$3,5),{0,1,2,3,4,5,6,7,8,9})*1000+{100,90,80,70,60,50,40,30,20,10}+{0,1,2,3,4,5,6,7,8,9},COLUMN(G$21))),\"\"))","v":""},{"$f":"IF(OR(LEN($O44)=0),\"\",IFERROR(RIGHT(LARGE(COUNTIF(OFFSET($J44,-1,0,-1*$Q$3,5),{0,1,2,3,4,5,6,7,8,9})*1000+{100,90,80,70,60,50,40,30,20,10}+{0,1,2,3,4,5,6,7,8,9},COLUMN(H$21))),\"\"))","v":""},{"$f":"IF(OR(LEN($O44)=0),\"\",IFERROR(RIGHT(LARGE(COUNTIF(OFFSET($J44,-1,0,-1*$Q$3,5),{0,1,2,3,4,5,6,7,8,9})*1000+{100,90,80,70,60,50,40,30,20,10}+{0,1,2,3,4,5,6,7,8,9},COLUMN(I$21))),\"\"))","v":""},{"$f":"IF(OR(LEN($O44)=0),\"\",IFERROR(RIGHT(LARGE(COUNTIF(OFFSET($J44,-1,0,-1*$Q$3,5),{0,1,2,3,4,5,6,7,8,9})*1000+{100,90,80,70,60,50,40,30,20,10}+{0,1,2,3,4,5,6,7,8,9},COLUMN(J$21))),\"\"))","v":""},"","","","","","","","","","",""]
["20200514254","91643","9","1","6","4","3",null,null,"","","6","4","3","643",{"$f":"IF(OR(LEN($O45)=0),\"\",IFERROR(RIGHT(LARGE(COUNTIF(OFFSET($J45,-1,0,-1*$Q$3,5),{0,1,2,3,4,5,6,7,8,9})*1000+{100,90,80,70,60,50,40,30,20,10}+{0,1,2,3,4,5,6,7,8,9},COLUMN(A$21))),\"\"))","v":""},{"$f":"IF(OR(LEN($O45)=0),\"\",IFERROR(RIGHT(LARGE(COUNTIF(OFFSET($J45,-1,0,-1*$Q$3,5),{0,1,2,3,4,5,6,7,8,9})*1000+{100,90,80,70,60,50,40,30,20,10}+{0,1,2,3,4,5,6,7,8,9},COLUMN(B$21))),\"\"))","v":""},{"$f":"IF(OR(LEN($O45)=0),\"\",IFERROR(RIGHT(LARGE(COUNTIF(OFFSET($J45,-1,0,-1*$Q$3,5),{0,1,2,3,4,5,6,7,8,9})*1000+{100,90,80,70,60,50,40,30,20,10}+{0,1,2,3,4,5,6,7,8,9},COLUMN(C$21))),\"\"))","v":""},{"$f":"IF(OR(LEN($O45)=0),\"\",IFERROR(RIGHT(LARGE(COUNTIF(OFFSET($J45,-1,0,-1*$Q$3,5),{0,1,2,3,4,5,6,7,8,9})*1000+{100,90,80,70,60,50,40,30,20,10}+{0,1,2,3,4,5,6,7,8,9},COLUMN(D$21))),\"\"))","v":""},{"$f":"IF(OR(LEN($O45)=0),\"\",IFERROR(RIGHT(LARGE(COUNTIF(OFFSET($J45,-1,0,-1*$Q$3,5),{0,1,2,3,4,5,6,7,8,9})*1000+{100,90,80,70,60,50,40,30,20,10}+{0,1,2,3,4,5,6,7,8,9},COLUMN(E$21))),\"\"))","v":""},{"$f":"IF(OR(LEN($O45)=0),\"\",IFERROR(RIGHT(LARGE(COUNTIF(OFFSET($J45,-1,0,-1*$Q$3,5),{0,1,2,3,4,5,6,7,8,9})*1000+{100,90,80,70,60,50,40,30,20,10}+{0,1,2,3,4,5,6,7,8,9},COLUMN(F$21))),\"\"))","v":""},{"$f":"IF(OR(LEN($O45)=0),\"\",IFERROR(RIGHT(LARGE(COUNTIF(OFFSET($J45,-1,0,-1*$Q$3,5),{0,1,2,3,4,5,6,7,8,9})*1000+{100,90,80,70,60,50,40,30,20,10}+{0,1,2,3,4,5,6,7,8,9},COLUMN(G$21))),\"\"))","v":""},{"$f":"IF(OR(LEN($O45)=0),\"\",IFERROR(RIGHT(LARGE(COUNTIF(OFFSET($J45,-1,0,-1*$Q$3,5),{0,1,2,3,4,5,6,7,8,9})*1000+{100,90,80,70,60,50,40,30,20,10}+{0,1,2,3,4,5,6,7,8,9},COLUMN(H$21))),\"\"))","v":""},{"$f":"IF(OR(LEN($O45)=0),\"\",IFERROR(RIGHT(LARGE(COUNTIF(OFFSET($J45,-1,0,-1*$Q$3,5),{0,1,2,3,4,5,6,7,8,9})*1000+{100,90,80,70,60,50,40,30,20,10}+{0,1,2,3,4,5,6,7,8,9},COLUMN(I$21))),\"\"))","v":""},{"$f":"IF(OR(LEN($O45)=0),\"\",IFERROR(RIGHT(LARGE(COUNTIF(OFFSET($J45,-1,0,-1*$Q$3,5),{0,1,2,3,4,5,6,7,8,9})*1000+{100,90,80,70,60,50,40,30,20,10}+{0,1,2,3,4,5,6,7,8,9},COLUMN(J$21))),\"\"))","v":""},"","","","","","","","","","",""]
["20200514255","85784","8","5","7","8","4",null,null,"","","7","8","4","784",{"$f":"IF(OR(LEN($O46)=0),\"\",IFERROR(RIGHT(LARGE(COUNTIF(OFFSET($J46,-1,0,-1*$Q$3,5),{0,1,2,3,4,5,6,7,8,9})*1000+{100,90,80,70,60,50,40,30,20,10}+{0,1,2,3,4,5,6,7,8,9},COLUMN(A$21))),\"\"))","v":""},{"$f":"IF(OR(LEN($O46)=0),\"\",IFERROR(RIGHT(LARGE(COUNTIF(OFFSET($J46,-1,0,-1*$Q$3,5),{0,1,2,3,4,5,6,7,8,9})*1000+{100,90,80,70,60,50,40,30,20,10}+{0,1,2,3,4,5,6,7,8,9},COLUMN(B$21))),\"\"))","v":""},{"$f":"IF(OR(LEN($O46)=0),\"\",IFERROR(RIGHT(LARGE(COUNTIF(OFFSET($J46,-1,0,-1*$Q$3,5),{0,1,2,3,4,5,6,7,8,9})*1000+{100,90,80,70,60,50,40,30,20,10}+{0,1,2,3,4,5,6,7,8,9},COLUMN(C$21))),\"\"))","v":""},{"$f":"IF(OR(LEN($O46)=0),\"\",IFERROR(RIGHT(LARGE(COUNTIF(OFFSET($J46,-1,0,-1*$Q$3,5),{0,1,2,3,4,5,6,7,8,9})*1000+{100,90,80,70,60,50,40,30,20,10}+{0,1,2,3,4,5,6,7,8,9},COLUMN(D$21))),\"\"))","v":""},{"$f":"IF(OR(LEN($O46)=0),\"\",IFERROR(RIGHT(LARGE(COUNTIF(OFFSET($J46,-1,0,-1*$Q$3,5),{0,1,2,3,4,5,6,7,8,9})*1000+{100,90,80,70,60,50,40,30,20,10}+{0,1,2,3,4,5,6,7,8,9},COLUMN(E$21))),\"\"))","v":""},{"$f":"IF(OR(LEN($O46)=0),\"\",IFERROR(RIGHT(LARGE(COUNTIF(OFFSET($J46,-1,0,-1*$Q$3,5),{0,1,2,3,4,5,6,7,8,9})*1000+{100,90,80,70,60,50,40,30,20,10}+{0,1,2,3,4,5,6,7,8,9},COLUMN(F$21))),\"\"))","v":""},{"$f":"IF(OR(LEN($O46)=0),\"\",IFERROR(RIGHT(LARGE(COUNTIF(OFFSET($J46,-1,0,-1*$Q$3,5),{0,1,2,3,4,5,6,7,8,9})*1000+{100,90,80,70,60,50,40,30,20,10}+{0,1,2,3,4,5,6,7,8,9},COLUMN(G$21))),\"\"))","v":""},{"$f":"IF(OR(LEN($O46)=0),\"\",IFERROR(RIGHT(LARGE(COUNTIF(OFFSET($J46,-1,0,-1*$Q$3,5),{0,1,2,3,4,5,6,7,8,9})*1000+{100,90,80,70,60,50,40,30,20,10}+{0,1,2,3,4,5,6,7,8,9},COLUMN(H$21))),\"\"))","v":""},{"$f":"IF(OR(LEN($O46)=0),\"\",IFERROR(RIGHT(LARGE(COUNTIF(OFFSET($J46,-1,0,-1*$Q$3,5),{0,1,2,3,4,5,6,7,8,9})*1000+{100,90,80,70,60,50,40,30,20,10}+{0,1,2,3,4,5,6,7,8,9},COLUMN(I$21))),\"\"))","v":""},{"$f":"IF(OR(LEN($O46)=0),\"\",IFERROR(RIGHT(LARGE(COUNTIF(OFFSET($J46,-1,0,-1*$Q$3,5),{0,1,2,3,4,5,6,7,8,9})*1000+{100,90,80,70,60,50,40,30,20,10}+{0,1,2,3,4,5,6,7,8,9},COLUMN(J$21))),\"\"))","v":""},"","","","","","","","","","",""]
["20200514256","14840","1","4","8","4","0",null,null,"","","8","4","0","840",{"$f":"IF(OR(LEN($O47)=0),\"\",IFERROR(RIGHT(LARGE(COUNTIF(OFFSET($J47,-1,0,-1*$Q$3,5),{0,1,2,3,4,5,6,7,8,9})*1000+{100,90,80,70,60,50,40,30,20,10}+{0,1,2,3,4,5,6,7,8,9},COLUMN(A$21))),\"\"))","v":""},{"$f":"IF(OR(LEN($O47)=0),\"\",IFERROR(RIGHT(LARGE(COUNTIF(OFFSET($J47,-1,0,-1*$Q$3,5),{0,1,2,3,4,5,6,7,8,9})*1000+{100,90,80,70,60,50,40,30,20,10}+{0,1,2,3,4,5,6,7,8,9},COLUMN(B$21))),\"\"))","v":""},{"$f":"IF(OR(LEN($O47)=0),\"\",IFERROR(RIGHT(LARGE(COUNTIF(OFFSET($J47,-1,0,-1*$Q$3,5),{0,1,2,3,4,5,6,7,8,9})*1000+{100,90,80,70,60,50,40,30,20,10}+{0,1,2,3,4,5,6,7,8,9},COLUMN(C$21))),\"\"))","v":""},{"$f":"IF(OR(LEN($O47)=0),\"\",IFERROR(RIGHT(LARGE(COUNTIF(OFFSET($J47,-1,0,-1*$Q$3,5),{0,1,2,3,4,5,6,7,8,9})*1000+{100,90,80,70,60,50,40,30,20,10}+{0,1,2,3,4,5,6,7,8,9},COLUMN(D$21))),\"\"))","v":""},{"$f":"IF(OR(LEN($O47)=0),\"\",IFERROR(RIGHT(LARGE(COUNTIF(OFFSET($J47,-1,0,-1*$Q$3,5),{0,1,2,3,4,5,6,7,8,9})*1000+{100,90,80,70,60,50,40,30,20,10}+{0,1,2,3,4,5,6,7,8,9},COLUMN(E$21))),\"\"))","v":""},{"$f":"IF(OR(LEN($O47)=0),\"\",IFERROR(RIGHT(LARGE(COUNTIF(OFFSET($J47,-1,0,-1*$Q$3,5),{0,1,2,3,4,5,6,7,8,9})*1000+{100,90,80,70,60,50,40,30,20,10}+{0,1,2,3,4,5,6,7,8,9},COLUMN(F$21))),\"\"))","v":""},{"$f":"IF(OR(LEN($O47)=0),\"\",IFERROR(RIGHT(LARGE(COUNTIF(OFFSET($J47,-1,0,-1*$Q$3,5),{0,1,2,3,4,5,6,7,8,9})*1000+{100,90,80,70,60,50,40,30,20,10}+{0,1,2,3,4,5,6,7,8,9},COLUMN(G$21))),\"\"))","v":""},{"$f":"IF(OR(LEN($O47)=0),\"\",IFERROR(RIGHT(LARGE(COUNTIF(OFFSET($J47,-1,0,-1*$Q$3,5),{0,1,2,3,4,5,6,7,8,9})*1000+{100,90,80,70,60,50,40,30,20,10}+{0,1,2,3,4,5,6,7,8,9},COLUMN(H$21))),\"\"))","v":""},{"$f":"IF(OR(LEN($O47)=0),\"\",IFERROR(RIGHT(LARGE(COUNTIF(OFFSET($J47,-1,0,-1*$Q$3,5),{0,1,2,3,4,5,6,7,8,9})*1000+{100,90,80,70,60,50,40,30,20,10}+{0,1,2,3,4,5,6,7,8,9},COLUMN(I$21))),\"\"))","v":""},{"$f":"IF(OR(LEN($O47)=0),\"\",IFERROR(RIGHT(LARGE(COUNTIF(OFFSET($J47,-1,0,-1*$Q$3,5),{0,1,2,3,4,5,6,7,8,9})*1000+{100,90,80,70,60,50,40,30,20,10}+{0,1,2,3,4,5,6,7,8,9},COLUMN(J$21))),\"\"))","v":""},"","","","","","","","","","",""]
["20200514257","68654","6","8","6","5","4",null,null,"","","6","5","4","654",{"$f":"IF(OR(LEN($O48)=0),\"\",IFERROR(RIGHT(LARGE(COUNTIF(OFFSET($J48,-1,0,-1*$Q$3,5),{0,1,2,3,4,5,6,7,8,9})*1000+{100,90,80,70,60,50,40,30,20,10}+{0,1,2,3,4,5,6,7,8,9},COLUMN(A$21))),\"\"))","v":""},{"$f":"IF(OR(LEN($O48)=0),\"\",IFERROR(RIGHT(LARGE(COUNTIF(OFFSET($J48,-1,0,-1*$Q$3,5),{0,1,2,3,4,5,6,7,8,9})*1000+{100,90,80,70,60,50,40,30,20,10}+{0,1,2,3,4,5,6,7,8,9},COLUMN(B$21))),\"\"))","v":""},{"$f":"IF(OR(LEN($O48)=0),\"\",IFERROR(RIGHT(LARGE(COUNTIF(OFFSET($J48,-1,0,-1*$Q$3,5),{0,1,2,3,4,5,6,7,8,9})*1000+{100,90,80,70,60,50,40,30,20,10}+{0,1,2,3,4,5,6,7,8,9},COLUMN(C$21))),\"\"))","v":""},{"$f":"IF(OR(LEN($O48)=0),\"\",IFERROR(RIGHT(LARGE(COUNTIF(OFFSET($J48,-1,0,-1*$Q$3,5),{0,1,2,3,4,5,6,7,8,9})*1000+{100,90,80,70,60,50,40,30,20,10}+{0,1,2,3,4,5,6,7,8,9},COLUMN(D$21))),\"\"))","v":""},{"$f":"IF(OR(LEN($O48)=0),\"\",IFERROR(RIGHT(LARGE(COUNTIF(OFFSET($J48,-1,0,-1*$Q$3,5),{0,1,2,3,4,5,6,7,8,9})*1000+{100,90,80,70,60,50,40,30,20,10}+{0,1,2,3,4,5,6,7,8,9},COLUMN(E$21))),\"\"))","v":""},{"$f":"IF(OR(LEN($O48)=0),\"\",IFERROR(RIGHT(LARGE(COUNTIF(OFFSET($J48,-1,0,-1*$Q$3,5),{0,1,2,3,4,5,6,7,8,9})*1000+{100,90,80,70,60,50,40,30,20,10}+{0,1,2,3,4,5,6,7,8,9},COLUMN(F$21))),\"\"))","v":""},{"$f":"IF(OR(LEN($O48)=0),\"\",IFERROR(RIGHT(LARGE(COUNTIF(OFFSET($J48,-1,0,-1*$Q$3,5),{0,1,2,3,4,5,6,7,8,9})*1000+{100,90,80,70,60,50,40,30,20,10}+{0,1,2,3,4,5,6,7,8,9},COLUMN(G$21))),\"\"))","v":""},{"$f":"IF(OR(LEN($O48)=0),\"\",IFERROR(RIGHT(LARGE(COUNTIF(OFFSET($J48,-1,0,-1*$Q$3,5),{0,1,2,3,4,5,6,7,8,9})*1000+{100,90,80,70,60,50,40,30,20,10}+{0,1,2,3,4,5,6,7,8,9},COLUMN(H$21))),\"\"))","v":""},{"$f":"IF(OR(LEN($O48)=0),\"\",IFERROR(RIGHT(LARGE(COUNTIF(OFFSET($J48,-1,0,-1*$Q$3,5),{0,1,2,3,4,5,6,7,8,9})*1000+{100,90,80,70,60,50,40,30,20,10}+{0,1,2,3,4,5,6,7,8,9},COLUMN(I$21))),\"\"))","v":""},{"$f":"IF(OR(LEN($O48)=0),\"\",IFERROR(RIGHT(LARGE(COUNTIF(OFFSET($J48,-1,0,-1*$Q$3,5),{0,1,2,3,4,5,6,7,8,9})*1000+{100,90,80,70,60,50,40,30,20,10}+{0,1,2,3,4,5,6,7,8,9},COLUMN(J$21))),\"\"))","v":""},"","","","","","","","","","",""]
["20200514258","23366","2","3","3","6","6",null,null,"","","3","6","6","366",{"$f":"IF(OR(LEN($O49)=0),\"\",IFERROR(RIGHT(LARGE(COUNTIF(OFFSET($J49,-1,0,-1*$Q$3,5),{0,1,2,3,4,5,6,7,8,9})*1000+{100,90,80,70,60,50,40,30,20,10}+{0,1,2,3,4,5,6,7,8,9},COLUMN(A$21))),\"\"))","v":""},{"$f":"IF(OR(LEN($O49)=0),\"\",IFERROR(RIGHT(LARGE(COUNTIF(OFFSET($J49,-1,0,-1*$Q$3,5),{0,1,2,3,4,5,6,7,8,9})*1000+{100,90,80,70,60,50,40,30,20,10}+{0,1,2,3,4,5,6,7,8,9},COLUMN(B$21))),\"\"))","v":""},{"$f":"IF(OR(LEN($O49)=0),\"\",IFERROR(RIGHT(LARGE(COUNTIF(OFFSET($J49,-1,0,-1*$Q$3,5),{0,1,2,3,4,5,6,7,8,9})*1000+{100,90,80,70,60,50,40,30,20,10}+{0,1,2,3,4,5,6,7,8,9},COLUMN(C$21))),\"\"))","v":""},{"$f":"IF(OR(LEN($O49)=0),\"\",IFERROR(RIGHT(LARGE(COUNTIF(OFFSET($J49,-1,0,-1*$Q$3,5),{0,1,2,3,4,5,6,7,8,9})*1000+{100,90,80,70,60,50,40,30,20,10}+{0,1,2,3,4,5,6,7,8,9},COLUMN(D$21))),\"\"))","v":""},{"$f":"IF(OR(LEN($O49)=0),\"\",IFERROR(RIGHT(LARGE(COUNTIF(OFFSET($J49,-1,0,-1*$Q$3,5),{0,1,2,3,4,5,6,7,8,9})*1000+{100,90,80,70,60,50,40,30,20,10}+{0,1,2,3,4,5,6,7,8,9},COLUMN(E$21))),\"\"))","v":""},{"$f":"IF(OR(LEN($O49)=0),\"\",IFERROR(RIGHT(LARGE(COUNTIF(OFFSET($J49,-1,0,-1*$Q$3,5),{0,1,2,3,4,5,6,7,8,9})*1000+{100,90,80,70,60,50,40,30,20,10}+{0,1,2,3,4,5,6,7,8,9},COLUMN(F$21))),\"\"))","v":""},{"$f":"IF(OR(LEN($O49)=0),\"\",IFERROR(RIGHT(LARGE(COUNTIF(OFFSET($J49,-1,0,-1*$Q$3,5),{0,1,2,3,4,5,6,7,8,9})*1000+{100,90,80,70,60,50,40,30,20,10}+{0,1,2,3,4,5,6,7,8,9},COLUMN(G$21))),\"\"))","v":""},{"$f":"IF(OR(LEN($O49)=0),\"\",IFERROR(RIGHT(LARGE(COUNTIF(OFFSET($J49,-1,0,-1*$Q$3,5),{0,1,2,3,4,5,6,7,8,9})*1000+{100,90,80,70,60,50,40,30,20,10}+{0,1,2,3,4,5,6,7,8,9},COLUMN(H$21))),\"\"))","v":""},{"$f":"IF(OR(LEN($O49)=0),\"\",IFERROR(RIGHT(LARGE(COUNTIF(OFFSET($J49,-1,0,-1*$Q$3,5),{0,1,2,3,4,5,6,7,8,9})*1000+{100,90,80,70,60,50,40,30,20,10}+{0,1,2,3,4,5,6,7,8,9},COLUMN(I$21))),\"\"))","v":""},{"$f":"IF(OR(LEN($O49)=0),\"\",IFERROR(RIGHT(LARGE(COUNTIF(OFFSET($J49,-1,0,-1*$Q$3,5),{0,1,2,3,4,5,6,7,8,9})*1000+{100,90,80,70,60,50,40,30,20,10}+{0,1,2,3,4,5,6,7,8,9},COLUMN(J$21))),\"\"))","v":""},"","","","","","","","","","",""]
["20200514259","18085","1","8","0","8","5",null,null,"","","0","8","5","085",{"$f":"IF(OR(LEN($O50)=0),\"\",IFERROR(RIGHT(LARGE(COUNTIF(OFFSET($J50,-1,0,-1*$Q$3,5),{0,1,2,3,4,5,6,7,8,9})*1000+{100,90,80,70,60,50,40,30,20,10}+{0,1,2,3,4,5,6,7,8,9},COLUMN(A$21))),\"\"))","v":""},{"$f":"IF(OR(LEN($O50)=0),\"\",IFERROR(RIGHT(LARGE(COUNTIF(OFFSET($J50,-1,0,-1*$Q$3,5),{0,1,2,3,4,5,6,7,8,9})*1000+{100,90,80,70,60,50,40,30,20,10}+{0,1,2,3,4,5,6,7,8,9},COLUMN(B$21))),\"\"))","v":""},{"$f":"IF(OR(LEN($O50)=0),\"\",IFERROR(RIGHT(LARGE(COUNTIF(OFFSET($J50,-1,0,-1*$Q$3,5),{0,1,2,3,4,5,6,7,8,9})*1000+{100,90,80,70,60,50,40,30,20,10}+{0,1,2,3,4,5,6,7,8,9},COLUMN(C$21))),\"\"))","v":""},{"$f":"IF(OR(LEN($O50)=0),\"\",IFERROR(RIGHT(LARGE(COUNTIF(OFFSET($J50,-1,0,-1*$Q$3,5),{0,1,2,3,4,5,6,7,8,9})*1000+{100,90,80,70,60,50,40,30,20,10}+{0,1,2,3,4,5,6,7,8,9},COLUMN(D$21))),\"\"))","v":""},{"$f":"IF(OR(LEN($O50)=0),\"\",IFERROR(RIGHT(LARGE(COUNTIF(OFFSET($J50,-1,0,-1*$Q$3,5),{0,1,2,3,4,5,6,7,8,9})*1000+{100,90,80,70,60,50,40,30,20,10}+{0,1,2,3,4,5,6,7,8,9},COLUMN(E$21))),\"\"))","v":""},{"$f":"IF(OR(LEN($O50)=0),\"\",IFERROR(RIGHT(LARGE(COUNTIF(OFFSET($J50,-1,0,-1*$Q$3,5),{0,1,2,3,4,5,6,7,8,9})*1000+{100,90,80,70,60,50,40,30,20,10}+{0,1,2,3,4,5,6,7,8,9},COLUMN(F$21))),\"\"))","v":""},{"$f":"IF(OR(LEN($O50)=0),\"\",IFERROR(RIGHT(LARGE(COUNTIF(OFFSET($J50,-1,0,-1*$Q$3,5),{0,1,2,3,4,5,6,7,8,9})*1000+{100,90,80,70,60,50,40,30,20,10}+{0,1,2,3,4,5,6,7,8,9},COLUMN(G$21))),\"\"))","v":""},{"$f":"IF(OR(LEN($O50)=0),\"\",IFERROR(RIGHT(LARGE(COUNTIF(OFFSET($J50,-1,0,-1*$Q$3,5),{0,1,2,3,4,5,6,7,8,9})*1000+{100,90,80,70,60,50,40,30,20,10}+{0,1,2,3,4,5,6,7,8,9},COLUMN(H$21))),\"\"))","v":""},{"$f":"IF(OR(LEN($O50)=0),\"\",IFERROR(RIGHT(LARGE(COUNTIF(OFFSET($J50,-1,0,-1*$Q$3,5),{0,1,2,3,4,5,6,7,8,9})*1000+{100,90,80,70,60,50,40,30,20,10}+{0,1,2,3,4,5,6,7,8,9},COLUMN(I$21))),\"\"))","v":""},{"$f":"IF(OR(LEN($O50)=0),\"\",IFERROR(RIGHT(LARGE(COUNTIF(OFFSET($J50,-1,0,-1*$Q$3,5),{0,1,2,3,4,5,6,7,8,9})*1000+{100,90,80,70,60,50,40,30,20,10}+{0,1,2,3,4,5,6,7,8,9},COLUMN(J$21))),\"\"))","v":""},"","","","","","","","","","",""]
["20200514260","88487","8","8","4","8","7",null,null,"","","4","8","7","487",{"$f":"IF(OR(LEN($O51)=0),\"\",IFERROR(RIGHT(LARGE(COUNTIF(OFFSET($J51,-1,0,-1*$Q$3,5),{0,1,2,3,4,5,6,7,8,9})*1000+{100,90,80,70,60,50,40,30,20,10}+{0,1,2,3,4,5,6,7,8,9},COLUMN(A$21))),\"\"))","v":"1"},{"$f":"IF(OR(LEN($O51)=0),\"\",IFERROR(RIGHT(LARGE(COUNTIF(OFFSET($J51,-1,0,-1*$Q$3,5),{0,1,2,3,4,5,6,7,8,9})*1000+{100,90,80,70,60,50,40,30,20,10}+{0,1,2,3,4,5,6,7,8,9},COLUMN(B$21))),\"\"))","v":"4"},{"$f":"IF(OR(LEN($O51)=0),\"\",IFERROR(RIGHT(LARGE(COUNTIF(OFFSET($J51,-1,0,-1*$Q$3,5),{0,1,2,3,4,5,6,7,8,9})*1000+{100,90,80,70,60,50,40,30,20,10}+{0,1,2,3,4,5,6,7,8,9},COLUMN(C$21))),\"\"))","v":"2"},{"$f":"IF(OR(LEN($O51)=0),\"\",IFERROR(RIGHT(LARGE(COUNTIF(OFFSET($J51,-1,0,-1*$Q$3,5),{0,1,2,3,4,5,6,7,8,9})*1000+{100,90,80,70,60,50,40,30,20,10}+{0,1,2,3,4,5,6,7,8,9},COLUMN(D$21))),\"\"))","v":"8"},{"$f":"IF(OR(LEN($O51)=0),\"\",IFERROR(RIGHT(LARGE(COUNTIF(OFFSET($J51,-1,0,-1*$Q$3,5),{0,1,2,3,4,5,6,7,8,9})*1000+{100,90,80,70,60,50,40,30,20,10}+{0,1,2,3,4,5,6,7,8,9},COLUMN(E$21))),\"\"))","v":"0"},{"$f":"IF(OR(LEN($O51)=0),\"\",IFERROR(RIGHT(LARGE(COUNTIF(OFFSET($J51,-1,0,-1*$Q$3,5),{0,1,2,3,4,5,6,7,8,9})*1000+{100,90,80,70,60,50,40,30,20,10}+{0,1,2,3,4,5,6,7,8,9},COLUMN(F$21))),\"\"))","v":"5"},{"$f":"IF(OR(LEN($O51)=0),\"\",IFERROR(RIGHT(LARGE(COUNTIF(OFFSET($J51,-1,0,-1*$Q$3,5),{0,1,2,3,4,5,6,7,8,9})*1000+{100,90,80,70,60,50,40,30,20,10}+{0,1,2,3,4,5,6,7,8,9},COLUMN(G$21))),\"\"))","v":"6"},{"$f":"IF(OR(LEN($O51)=0),\"\",IFERROR(RIGHT(LARGE(COUNTIF(OFFSET($J51,-1,0,-1*$Q$3,5),{0,1,2,3,4,5,6,7,8,9})*1000+{100,90,80,70,60,50,40,30,20,10}+{0,1,2,3,4,5,6,7,8,9},COLUMN(H$21))),\"\"))","v":"3"},{"$f":"IF(OR(LEN($O51)=0),\"\",IFERROR(RIGHT(LARGE(COUNTIF(OFFSET($J51,-1,0,-1*$Q$3,5),{0,1,2,3,4,5,6,7,8,9})*1000+{100,90,80,70,60,50,40,30,20,10}+{0,1,2,3,4,5,6,7,8,9},COLUMN(I$21))),\"\"))","v":"9"},{"$f":"IF(OR(LEN($O51)=0),\"\",IFERROR(RIGHT(LARGE(COUNTIF(OFFSET($J51,-1,0,-1*$Q$3,5),{0,1,2,3,4,5,6,7,8,9})*1000+{100,90,80,70,60,50,40,30,20,10}+{0,1,2,3,4,5,6,7,8,9},COLUMN(J$21))),\"\"))","v":"7"},"1428","1","4","2","8","","","","","",""]
["20200514261","00282","0","0","2","8","2",null,null,"","","2","8","2","282",{"$f":"IF(OR(LEN($O52)=0),\"\",IFERROR(RIGHT(LARGE(COUNTIF(OFFSET($J52,-1,0,-1*$Q$3,5),{0,1,2,3,4,5,6,7,8,9})*1000+{100,90,80,70,60,50,40,30,20,10}+{0,1,2,3,4,5,6,7,8,9},COLUMN(A$21))),\"\"))","v":"4"},{"$f":"IF(OR(LEN($O52)=0),\"\",IFERROR(RIGHT(LARGE(COUNTIF(OFFSET($J52,-1,0,-1*$Q$3,5),{0,1,2,3,4,5,6,7,8,9})*1000+{100,90,80,70,60,50,40,30,20,10}+{0,1,2,3,4,5,6,7,8,9},COLUMN(B$21))),\"\"))","v":"1"},{"$f":"IF(OR(LEN($O52)=0),\"\",IFERROR(RIGHT(LARGE(COUNTIF(OFFSET($J52,-1,0,-1*$Q$3,5),{0,1,2,3,4,5,6,7,8,9})*1000+{100,90,80,70,60,50,40,30,20,10}+{0,1,2,3,4,5,6,7,8,9},COLUMN(C$21))),\"\"))","v":"2"},{"$f":"IF(OR(LEN($O52)=0),\"\",IFERROR(RIGHT(LARGE(COUNTIF(OFFSET($J52,-1,0,-1*$Q$3,5),{0,1,2,3,4,5,6,7,8,9})*1000+{100,90,80,70,60,50,40,30,20,10}+{0,1,2,3,4,5,6,7,8,9},COLUMN(D$21))),\"\"))","v":"8"},{"$f":"IF(OR(LEN($O52)=0),\"\",IFERROR(RIGHT(LARGE(COUNTIF(OFFSET($J52,-1,0,-1*$Q$3,5),{0,1,2,3,4,5,6,7,8,9})*1000+{100,90,80,70,60,50,40,30,20,10}+{0,1,2,3,4,5,6,7,8,9},COLUMN(E$21))),\"\"))","v":"0"},{"$f":"IF(OR(LEN($O52)=0),\"\",IFERROR(RIGHT(LARGE(COUNTIF(OFFSET($J52,-1,0,-1*$Q$3,5),{0,1,2,3,4,5,6,7,8,9})*1000+{100,90,80,70,60,50,40,30,20,10}+{0,1,2,3,4,5,6,7,8,9},COLUMN(F$21))),\"\"))","v":"5"},{"$f":"IF(OR(LEN($O52)=0),\"\",IFERROR(RIGHT(LARGE(COUNTIF(OFFSET($J52,-1,0,-1*$Q$3,5),{0,1,2,3,4,5,6,7,8,9})*1000+{100,90,80,70,60,50,40,30,20,10}+{0,1,2,3,4,5,6,7,8,9},COLUMN(G$21))),\"\"))","v":"6"},{"$f":"IF(OR(LEN($O52)=0),\"\",IFERROR(RIGHT(LARGE(COUNTIF(OFFSET($J52,-1,0,-1*$Q$3,5),{0,1,2,3,4,5,6,7,8,9})*1000+{100,90,80,70,60,50,40,30,20,10}+{0,1,2,3,4,5,6,7,8,9},COLUMN(H$21))),\"\"))","v":"3"},{"$f":"IF(OR(LEN($O52)=0),\"\",IFERROR(RIGHT(LARGE(COUNTIF(OFFSET($J52,-1,0,-1*$Q$3,5),{0,1,2,3,4,5,6,7,8,9})*1000+{100,90,80,70,60,50,40,30,20,10}+{0,1,2,3,4,5,6,7,8,9},COLUMN(I$21))),\"\"))","v":"9"},{"$f":"IF(OR(LEN($O52)=0),\"\",IFERROR(RIGHT(LARGE(COUNTIF(OFFSET($J52,-1,0,-1*$Q$3,5),{0,1,2,3,4,5,6,7,8,9})*1000+{100,90,80,70,60,50,40,30,20,10}+{0,1,2,3,4,5,6,7,8,9},COLUMN(J$21))),\"\"))","v":"7"},"4128","4","1","2","8","","","","","",""]
["20200514262","81396","8","1","3","9","6",null,null,"","","3","9","6","396",{"$f":"IF(OR(LEN($O53)=0),\"\",IFERROR(RIGHT(LARGE(COUNTIF(OFFSET($J53,-1,0,-1*$Q$3,5),{0,1,2,3,4,5,6,7,8,9})*1000+{100,90,80,70,60,50,40,30,20,10}+{0,1,2,3,4,5,6,7,8,9},COLUMN(A$21))),\"\"))","v":"4"},{"$f":"IF(OR(LEN($O53)=0),\"\",IFERROR(RIGHT(LARGE(COUNTIF(OFFSET($J53,-1,0,-1*$Q$3,5),{0,1,2,3,4,5,6,7,8,9})*1000+{100,90,80,70,60,50,40,30,20,10}+{0,1,2,3,4,5,6,7,8,9},COLUMN(B$21))),\"\"))","v":"1"},{"$f":"IF(OR(LEN($O53)=0),\"\",IFERROR(RIGHT(LARGE(COUNTIF(OFFSET($J53,-1,0,-1*$Q$3,5),{0,1,2,3,4,5,6,7,8,9})*1000+{100,90,80,70,60,50,40,30,20,10}+{0,1,2,3,4,5,6,7,8,9},COLUMN(C$21))),\"\"))","v":"2"},{"$f":"IF(OR(LEN($O53)=0),\"\",IFERROR(RIGHT(LARGE(COUNTIF(OFFSET($J53,-1,0,-1*$Q$3,5),{0,1,2,3,4,5,6,7,8,9})*1000+{100,90,80,70,60,50,40,30,20,10}+{0,1,2,3,4,5,6,7,8,9},COLUMN(D$21))),\"\"))","v":"8"},{"$f":"IF(OR(LEN($O53)=0),\"\",IFERROR(RIGHT(LARGE(COUNTIF(OFFSET($J53,-1,0,-1*$Q$3,5),{0,1,2,3,4,5,6,7,8,9})*1000+{100,90,80,70,60,50,40,30,20,10}+{0,1,2,3,4,5,6,7,8,9},COLUMN(E$21))),\"\"))","v":"5"},{"$f":"IF(OR(LEN($O53)=0),\"\",IFERROR(RIGHT(LARGE(COUNTIF(OFFSET($J53,-1,0,-1*$Q$3,5),{0,1,2,3,4,5,6,7,8,9})*1000+{100,90,80,70,60,50,40,30,20,10}+{0,1,2,3,4,5,6,7,8,9},COLUMN(F$21))),\"\"))","v":"0"},{"$f":"IF(OR(LEN($O53)=0),\"\",IFERROR(RIGHT(LARGE(COUNTIF(OFFSET($J53,-1,0,-1*$Q$3,5),{0,1,2,3,4,5,6,7,8,9})*1000+{100,90,80,70,60,50,40,30,20,10}+{0,1,2,3,4,5,6,7,8,9},COLUMN(G$21))),\"\"))","v":"6"},{"$f":"IF(OR(LEN($O53)=0),\"\",IFERROR(RIGHT(LARGE(COUNTIF(OFFSET($J53,-1,0,-1*$Q$3,5),{0,1,2,3,4,5,6,7,8,9})*1000+{100,90,80,70,60,50,40,30,20,10}+{0,1,2,3,4,5,6,7,8,9},COLUMN(H$21))),\"\"))","v":"9"},{"$f":"IF(OR(LEN($O53)=0),\"\",IFERROR(RIGHT(LARGE(COUNTIF(OFFSET($J53,-1,0,-1*$Q$3,5),{0,1,2,3,4,5,6,7,8,9})*1000+{100,90,80,70,60,50,40,30,20,10}+{0,1,2,3,4,5,6,7,8,9},COLUMN(I$21))),\"\"))","v":"3"},{"$f":"IF(OR(LEN($O53)=0),\"\",IFERROR(RIGHT(LARGE(COUNTIF(OFFSET($J53,-1,0,-1*$Q$3,5),{0,1,2,3,4,5,6,7,8,9})*1000+{100,90,80,70,60,50,40,30,20,10}+{0,1,2,3,4,5,6,7,8,9},COLUMN(J$21))),\"\"))","v":"7"},"4128","4","1","2","8","","","","","",""]
["20200514263","47133","4","7","1","3","3",null,null,"","","1","3","3","133",{"$f":"IF(OR(LEN($O54)=0),\"\",IFERROR(RIGHT(LARGE(COUNTIF(OFFSET($J54,-1,0,-1*$Q$3,5),{0,1,2,3,4,5,6,7,8,9})*1000+{100,90,80,70,60,50,40,30,20,10}+{0,1,2,3,4,5,6,7,8,9},COLUMN(A$21))),\"\"))","v":"4"},{"$f":"IF(OR(LEN($O54)=0),\"\",IFERROR(RIGHT(LARGE(COUNTIF(OFFSET($J54,-1,0,-1*$Q$3,5),{0,1,2,3,4,5,6,7,8,9})*1000+{100,90,80,70,60,50,40,30,20,10}+{0,1,2,3,4,5,6,7,8,9},COLUMN(B$21))),\"\"))","v":"2"},{"$f":"IF(OR(LEN($O54)=0),\"\",IFERROR(RIGHT(LARGE(COUNTIF(OFFSET($J54,-1,0,-1*$Q$3,5),{0,1,2,3,4,5,6,7,8,9})*1000+{100,90,80,70,60,50,40,30,20,10}+{0,1,2,3,4,5,6,7,8,9},COLUMN(C$21))),\"\"))","v":"1"},{"$f":"IF(OR(LEN($O54)=0),\"\",IFERROR(RIGHT(LARGE(COUNTIF(OFFSET($J54,-1,0,-1*$Q$3,5),{0,1,2,3,4,5,6,7,8,9})*1000+{100,90,80,70,60,50,40,30,20,10}+{0,1,2,3,4,5,6,7,8,9},COLUMN(D$21))),\"\"))","v":"8"},{"$f":"IF(OR(LEN($O54)=0),\"\",IFERROR(RIGHT(LARGE(COUNTIF(OFFSET($J54,-1,0,-1*$Q$3,5),{0,1,2,3,4,5,6,7,8,9})*1000+{100,90,80,70,60,50,40,30,20,10}+{0,1,2,3,4,5,6,7,8,9},COLUMN(E$21))),\"\"))","v":"5"},{"$f":"IF(OR(LEN($O54)=0),\"\",IFERROR(RIGHT(LARGE(COUNTIF(OFFSET($J54,-1,0,-1*$Q$3,5),{0,1,2,3,4,5,6,7,8,9})*1000+{100,90,80,70,60,50,40,30,20,10}+{0,1,2,3,4,5,6,7,8,9},COLUMN(F$21))),\"\"))","v":"6"},{"$f":"IF(OR(LEN($O54)=0),\"\",IFERROR(RIGHT(LARGE(COUNTIF(OFFSET($J54,-1,0,-1*$Q$3,5),{0,1,2,3,4,5,6,7,8,9})*1000+{100,90,80,70,60,50,40,30,20,10}+{0,1,2,3,4,5,6,7,8,9},COLUMN(G$21))),\"\"))","v":"0"},{"$f":"IF(OR(LEN($O54)=0),\"\",IFERROR(RIGHT(LARGE(COUNTIF(OFFSET($J54,-1,0,-1*$Q$3,5),{0,1,2,3,4,5,6,7,8,9})*1000+{100,90,80,70,60,50,40,30,20,10}+{0,1,2,3,4,5,6,7,8,9},COLUMN(H$21))),\"\"))","v":"9"},{"$f":"IF(OR(LEN($O54)=0),\"\",IFERROR(RIGHT(LARGE(COUNTIF(OFFSET($J54,-1,0,-1*$Q$3,5),{0,1,2,3,4,5,6,7,8,9})*1000+{100,90,80,70,60,50,40,30,20,10}+{0,1,2,3,4,5,6,7,8,9},COLUMN(I$21))),\"\"))","v":"3"},{"$f":"IF(OR(LEN($O54)=0),\"\",IFERROR(RIGHT(LARGE(COUNTIF(OFFSET($J54,-1,0,-1*$Q$3,5),{0,1,2,3,4,5,6,7,8,9})*1000+{100,90,80,70,60,50,40,30,20,10}+{0,1,2,3,4,5,6,7,8,9},COLUMN(J$21))),\"\"))","v":"7"},"4218","4","2","1","8","","","","","",""]
["20200514264","57353","5","7","3","5","3",null,null,"","","3","5","3","353",{"$f":"IF(OR(LEN($O55)=0),\"\",IFERROR(RIGHT(LARGE(COUNTIF(OFFSET($J55,-1,0,-1*$Q$3,5),{0,1,2,3,4,5,6,7,8,9})*1000+{100,90,80,70,60,50,40,30,20,10}+{0,1,2,3,4,5,6,7,8,9},COLUMN(A$21))),\"\"))","v":"4"},{"$f":"IF(OR(LEN($O55)=0),\"\",IFERROR(RIGHT(LARGE(COUNTIF(OFFSET($J55,-1,0,-1*$Q$3,5),{0,1,2,3,4,5,6,7,8,9})*1000+{100,90,80,70,60,50,40,30,20,10}+{0,1,2,3,4,5,6,7,8,9},COLUMN(B$21))),\"\"))","v":"2"},{"$f":"IF(OR(LEN($O55)=0),\"\",IFERROR(RIGHT(LARGE(COUNTIF(OFFSET($J55,-1,0,-1*$Q$3,5),{0,1,2,3,4,5,6,7,8,9})*1000+{100,90,80,70,60,50,40,30,20,10}+{0,1,2,3,4,5,6,7,8,9},COLUMN(C$21))),\"\"))","v":"1"},{"$f":"IF(OR(LEN($O55)=0),\"\",IFERROR(RIGHT(LARGE(COUNTIF(OFFSET($J55,-1,0,-1*$Q$3,5),{0,1,2,3,4,5,6,7,8,9})*1000+{100,90,80,70,60,50,40,30,20,10}+{0,1,2,3,4,5,6,7,8,9},COLUMN(D$21))),\"\"))","v":"8"},{"$f":"IF(OR(LEN($O55)=0),\"\",IFERROR(RIGHT(LARGE(COUNTIF(OFFSET($J55,-1,0,-1*$Q$3,5),{0,1,2,3,4,5,6,7,8,9})*1000+{100,90,80,70,60,50,40,30,20,10}+{0,1,2,3,4,5,6,7,8,9},COLUMN(E$21))),\"\"))","v":"5"},{"$f":"IF(OR(LEN($O55)=0),\"\",IFERROR(RIGHT(LARGE(COUNTIF(OFFSET($J55,-1,0,-1*$Q$3,5),{0,1,2,3,4,5,6,7,8,9})*1000+{100,90,80,70,60,50,40,30,20,10}+{0,1,2,3,4,5,6,7,8,9},COLUMN(F$21))),\"\"))","v":"6"},{"$f":"IF(OR(LEN($O55)=0),\"\",IFERROR(RIGHT(LARGE(COUNTIF(OFFSET($J55,-1,0,-1*$Q$3,5),{0,1,2,3,4,5,6,7,8,9})*1000+{100,90,80,70,60,50,40,30,20,10}+{0,1,2,3,4,5,6,7,8,9},COLUMN(G$21))),\"\"))","v":"0"},{"$f":"IF(OR(LEN($O55)=0),\"\",IFERROR(RIGHT(LARGE(COUNTIF(OFFSET($J55,-1,0,-1*$Q$3,5),{0,1,2,3,4,5,6,7,8,9})*1000+{100,90,80,70,60,50,40,30,20,10}+{0,1,2,3,4,5,6,7,8,9},COLUMN(H$21))),\"\"))","v":"3"},{"$f":"IF(OR(LEN($O55)=0),\"\",IFERROR(RIGHT(LARGE(COUNTIF(OFFSET($J55,-1,0,-1*$Q$3,5),{0,1,2,3,4,5,6,7,8,9})*1000+{100,90,80,70,60,50,40,30,20,10}+{0,1,2,3,4,5,6,7,8,9},COLUMN(I$21))),\"\"))","v":"9"},{"$f":"IF(OR(LEN($O55)=0),\"\",IFERROR(RIGHT(LARGE(COUNTIF(OFFSET($J55,-1,0,-1*$Q$3,5),{0,1,2,3,4,5,6,7,8,9})*1000+{100,90,80,70,60,50,40,30,20,10}+{0,1,2,3,4,5,6,7,8,9},COLUMN(J$21))),\"\"))","v":"7"},"4218","4","2","1","8","","","","","",""]
["20200514265","29044","2","9","0","4","4",null,null,"","","0","4","4","044",{"$f":"IF(OR(LEN($O56)=0),\"\",IFERROR(RIGHT(LARGE(COUNTIF(OFFSET($J56,-1,0,-1*$Q$3,5),{0,1,2,3,4,5,6,7,8,9})*1000+{100,90,80,70,60,50,40,30,20,10}+{0,1,2,3,4,5,6,7,8,9},COLUMN(A$21))),\"\"))","v":"4"},{"$f":"IF(OR(LEN($O56)=0),\"\",IFERROR(RIGHT(LARGE(COUNTIF(OFFSET($J56,-1,0,-1*$Q$3,5),{0,1,2,3,4,5,6,7,8,9})*1000+{100,90,80,70,60,50,40,30,20,10}+{0,1,2,3,4,5,6,7,8,9},COLUMN(B$21))),\"\"))","v":"2"},{"$f":"IF(OR(LEN($O56)=0),\"\",IFERROR(RIGHT(LARGE(COUNTIF(OFFSET($J56,-1,0,-1*$Q$3,5),{0,1,2,3,4,5,6,7,8,9})*1000+{100,90,80,70,60,50,40,30,20,10}+{0,1,2,3,4,5,6,7,8,9},COLUMN(C$21))),\"\"))","v":"1"},{"$f":"IF(OR(LEN($O56)=0),\"\",IFERROR(RIGHT(LARGE(COUNTIF(OFFSET($J56,-1,0,-1*$Q$3,5),{0,1,2,3,4,5,6,7,8,9})*1000+{100,90,80,70,60,50,40,30,20,10}+{0,1,2,3,4,5,6,7,8,9},COLUMN(D$21))),\"\"))","v":"8"},{"$f":"IF(OR(LEN($O56)=0),\"\",IFERROR(RIGHT(LARGE(COUNTIF(OFFSET($J56,-1,0,-1*$Q$3,5),{0,1,2,3,4,5,6,7,8,9})*1000+{100,90,80,70,60,50,40,30,20,10}+{0,1,2,3,4,5,6,7,8,9},COLUMN(E$21))),\"\"))","v":"5"},{"$f":"IF(OR(LEN($O56)=0),\"\",IFERROR(RIGHT(LARGE(COUNTIF(OFFSET($J56,-1,0,-1*$Q$3,5),{0,1,2,3,4,5,6,7,8,9})*1000+{100,90,80,70,60,50,40,30,20,10}+{0,1,2,3,4,5,6,7,8,9},COLUMN(F$21))),\"\"))","v":"6"},{"$f":"IF(OR(LEN($O56)=0),\"\",IFERROR(RIGHT(LARGE(COUNTIF(OFFSET($J56,-1,0,-1*$Q$3,5),{0,1,2,3,4,5,6,7,8,9})*1000+{100,90,80,70,60,50,40,30,20,10}+{0,1,2,3,4,5,6,7,8,9},COLUMN(G$21))),\"\"))","v":"3"},{"$f":"IF(OR(LEN($O56)=0),\"\",IFERROR(RIGHT(LARGE(COUNTIF(OFFSET($J56,-1,0,-1*$Q$3,5),{0,1,2,3,4,5,6,7,8,9})*1000+{100,90,80,70,60,50,40,30,20,10}+{0,1,2,3,4,5,6,7,8,9},COLUMN(H$21))),\"\"))","v":"0"},{"$f":"IF(OR(LEN($O56)=0),\"\",IFERROR(RIGHT(LARGE(COUNTIF(OFFSET($J56,-1,0,-1*$Q$3,5),{0,1,2,3,4,5,6,7,8,9})*1000+{100,90,80,70,60,50,40,30,20,10}+{0,1,2,3,4,5,6,7,8,9},COLUMN(I$21))),\"\"))","v":"9"},{"$f":"IF(OR(LEN($O56)=0),\"\",IFERROR(RIGHT(LARGE(COUNTIF(OFFSET($J56,-1,0,-1*$Q$3,5),{0,1,2,3,4,5,6,7,8,9})*1000+{100,90,80,70,60,50,40,30,20,10}+{0,1,2,3,4,5,6,7,8,9},COLUMN(J$21))),\"\"))","v":"7"},"4218","4","2","1","8","","","","","",""]
["20200514266","71185","7","1","1","8","5",null,null,"","","1","8","5","185",{"$f":"IF(OR(LEN($O57)=0),\"\",IFERROR(RIGHT(LARGE(COUNTIF(OFFSET($J57,-1,0,-1*$Q$3,5),{0,1,2,3,4,5,6,7,8,9})*1000+{100,90,80,70,60,50,40,30,20,10}+{0,1,2,3,4,5,6,7,8,9},COLUMN(A$21))),\"\"))","v":"4"},{"$f":"IF(OR(LEN($O57)=0),\"\",IFERROR(RIGHT(LARGE(COUNTIF(OFFSET($J57,-1,0,-1*$Q$3,5),{0,1,2,3,4,5,6,7,8,9})*1000+{100,90,80,70,60,50,40,30,20,10}+{0,1,2,3,4,5,6,7,8,9},COLUMN(B$21))),\"\"))","v":"2"},{"$f":"IF(OR(LEN($O57)=0),\"\",IFERROR(RIGHT(LARGE(COUNTIF(OFFSET($J57,-1,0,-1*$Q$3,5),{0,1,2,3,4,5,6,7,8,9})*1000+{100,90,80,70,60,50,40,30,20,10}+{0,1,2,3,4,5,6,7,8,9},COLUMN(C$21))),\"\"))","v":"1"},{"$f":"IF(OR(LEN($O57)=0),\"\",IFERROR(RIGHT(LARGE(COUNTIF(OFFSET($J57,-1,0,-1*$Q$3,5),{0,1,2,3,4,5,6,7,8,9})*1000+{100,90,80,70,60,50,40,30,20,10}+{0,1,2,3,4,5,6,7,8,9},COLUMN(D$21))),\"\"))","v":"8"},{"$f":"IF(OR(LEN($O57)=0),\"\",IFERROR(RIGHT(LARGE(COUNTIF(OFFSET($J57,-1,0,-1*$Q$3,5),{0,1,2,3,4,5,6,7,8,9})*1000+{100,90,80,70,60,50,40,30,20,10}+{0,1,2,3,4,5,6,7,8,9},COLUMN(E$21))),\"\"))","v":"5"},{"$f":"IF(OR(LEN($O57)=0),\"\",IFERROR(RIGHT(LARGE(COUNTIF(OFFSET($J57,-1,0,-1*$Q$3,5),{0,1,2,3,4,5,6,7,8,9})*1000+{100,90,80,70,60,50,40,30,20,10}+{0,1,2,3,4,5,6,7,8,9},COLUMN(F$21))),\"\"))","v":"6"},{"$f":"IF(OR(LEN($O57)=0),\"\",IFERROR(RIGHT(LARGE(COUNTIF(OFFSET($J57,-1,0,-1*$Q$3,5),{0,1,2,3,4,5,6,7,8,9})*1000+{100,90,80,70,60,50,40,30,20,10}+{0,1,2,3,4,5,6,7,8,9},COLUMN(G$21))),\"\"))","v":"0"},{"$f":"IF(OR(LEN($O57)=0),\"\",IFERROR(RIGHT(LARGE(COUNTIF(OFFSET($J57,-1,0,-1*$Q$3,5),{0,1,2,3,4,5,6,7,8,9})*1000+{100,90,80,70,60,50,40,30,20,10}+{0,1,2,3,4,5,6,7,8,9},COLUMN(H$21))),\"\"))","v":"3"},{"$f":"IF(OR(LEN($O57)=0),\"\",IFERROR(RIGHT(LARGE(COUNTIF(OFFSET($J57,-1,0,-1*$Q$3,5),{0,1,2,3,4,5,6,7,8,9})*1000+{100,90,80,70,60,50,40,30,20,10}+{0,1,2,3,4,5,6,7,8,9},COLUMN(I$21))),\"\"))","v":"9"},{"$f":"IF(OR(LEN($O57)=0),\"\",IFERROR(RIGHT(LARGE(COUNTIF(OFFSET($J57,-1,0,-1*$Q$3,5),{0,1,2,3,4,5,6,7,8,9})*1000+{100,90,80,70,60,50,40,30,20,10}+{0,1,2,3,4,5,6,7,8,9},COLUMN(J$21))),\"\"))","v":"7"},"4218","4","2","1","8","","","","","",""]
["20200514267","14973","1","4","9","7","3",null,null,"","","9","7","3","973",{"$f":"IF(OR(LEN($O58)=0),\"\",IFERROR(RIGHT(LARGE(COUNTIF(OFFSET($J58,-1,0,-1*$Q$3,5),{0,1,2,3,4,5,6,7,8,9})*1000+{100,90,80,70,60,50,40,30,20,10}+{0,1,2,3,4,5,6,7,8,9},COLUMN(A$21))),\"\"))","v":"4"},{"$f":"IF(OR(LEN($O58)=0),\"\",IFERROR(RIGHT(LARGE(COUNTIF(OFFSET($J58,-1,0,-1*$Q$3,5),{0,1,2,3,4,5,6,7,8,9})*1000+{100,90,80,70,60,50,40,30,20,10}+{0,1,2,3,4,5,6,7,8,9},COLUMN(B$21))),\"\"))","v":"2"},{"$f":"IF(OR(LEN($O58)=0),\"\",IFERROR(RIGHT(LARGE(COUNTIF(OFFSET($J58,-1,0,-1*$Q$3,5),{0,1,2,3,4,5,6,7,8,9})*1000+{100,90,80,70,60,50,40,30,20,10}+{0,1,2,3,4,5,6,7,8,9},COLUMN(C$21))),\"\"))","v":"1"},{"$f":"IF(OR(LEN($O58)=0),\"\",IFERROR(RIGHT(LARGE(COUNTIF(OFFSET($J58,-1,0,-1*$Q$3,5),{0,1,2,3,4,5,6,7,8,9})*1000+{100,90,80,70,60,50,40,30,20,10}+{0,1,2,3,4,5,6,7,8,9},COLUMN(D$21))),\"\"))","v":"5"},{"$f":"IF(OR(LEN($O58)=0),\"\",IFERROR(RIGHT(LARGE(COUNTIF(OFFSET($J58,-1,0,-1*$Q$3,5),{0,1,2,3,4,5,6,7,8,9})*1000+{100,90,80,70,60,50,40,30,20,10}+{0,1,2,3,4,5,6,7,8,9},COLUMN(E$21))),\"\"))","v":"8"},{"$f":"IF(OR(LEN($O58)=0),\"\",IFERROR(RIGHT(LARGE(COUNTIF(OFFSET($J58,-1,0,-1*$Q$3,5),{0,1,2,3,4,5,6,7,8,9})*1000+{100,90,80,70,60,50,40,30,20,10}+{0,1,2,3,4,5,6,7,8,9},COLUMN(F$21))),\"\"))","v":"6"},{"$f":"IF(OR(LEN($O58)=0),\"\",IFERROR(RIGHT(LARGE(COUNTIF(OFFSET($J58,-1,0,-1*$Q$3,5),{0,1,2,3,4,5,6,7,8,9})*1000+{100,90,80,70,60,50,40,30,20,10}+{0,1,2,3,4,5,6,7,8,9},COLUMN(G$21))),\"\"))","v":"0"},{"$f":"IF(OR(LEN($O58)=0),\"\",IFERROR(RIGHT(LARGE(COUNTIF(OFFSET($J58,-1,0,-1*$Q$3,5),{0,1,2,3,4,5,6,7,8,9})*1000+{100,90,80,70,60,50,40,30,20,10}+{0,1,2,3,4,5,6,7,8,9},COLUMN(H$21))),\"\"))","v":"3"},{"$f":"IF(OR(LEN($O58)=0),\"\",IFERROR(RIGHT(LARGE(COUNTIF(OFFSET($J58,-1,0,-1*$Q$3,5),{0,1,2,3,4,5,6,7,8,9})*1000+{100,90,80,70,60,50,40,30,20,10}+{0,1,2,3,4,5,6,7,8,9},COLUMN(I$21))),\"\"))","v":"9"},{"$f":"IF(OR(LEN($O58)=0),\"\",IFERROR(RIGHT(LARGE(COUNTIF(OFFSET($J58,-1,0,-1*$Q$3,5),{0,1,2,3,4,5,6,7,8,9})*1000+{100,90,80,70,60,50,40,30,20,10}+{0,1,2,3,4,5,6,7,8,9},COLUMN(J$21))),\"\"))","v":"7"},"4215","4","2","1","5","","","","","",""]
["20200514268","92960","9","2","9","6","0",null,null,"","","9","6","0","960",{"$f":"IF(OR(LEN($O59)=0),\"\",IFERROR(RIGHT(LARGE(COUNTIF(OFFSET($J59,-1,0,-1*$Q$3,5),{0,1,2,3,4,5,6,7,8,9})*1000+{100,90,80,70,60,50,40,30,20,10}+{0,1,2,3,4,5,6,7,8,9},COLUMN(A$21))),\"\"))","v":"4"},{"$f":"IF(OR(LEN($O59)=0),\"\",IFERROR(RIGHT(LARGE(COUNTIF(OFFSET($J59,-1,0,-1*$Q$3,5),{0,1,2,3,4,5,6,7,8,9})*1000+{100,90,80,70,60,50,40,30,20,10}+{0,1,2,3,4,5,6,7,8,9},COLUMN(B$21))),\"\"))","v":"2"},{"$f":"IF(OR(LEN($O59)=0),\"\",IFERROR(RIGHT(LARGE(COUNTIF(OFFSET($J59,-1,0,-1*$Q$3,5),{0,1,2,3,4,5,6,7,8,9})*1000+{100,90,80,70,60,50,40,30,20,10}+{0,1,2,3,4,5,6,7,8,9},COLUMN(C$21))),\"\"))","v":"1"},{"$f":"IF(OR(LEN($O59)=0),\"\",IFERROR(RIGHT(LARGE(COUNTIF(OFFSET($J59,-1,0,-1*$Q$3,5),{0,1,2,3,4,5,6,7,8,9})*1000+{100,90,80,70,60,50,40,30,20,10}+{0,1,2,3,4,5,6,7,8,9},COLUMN(D$21))),\"\"))","v":"5"},{"$f":"IF(OR(LEN($O59)=0),\"\",IFERROR(RIGHT(LARGE(COUNTIF(OFFSET($J59,-1,0,-1*$Q$3,5),{0,1,2,3,4,5,6,7,8,9})*1000+{100,90,80,70,60,50,40,30,20,10}+{0,1,2,3,4,5,6,7,8,9},COLUMN(E$21))),\"\"))","v":"8"},{"$f":"IF(OR(LEN($O59)=0),\"\",IFERROR(RIGHT(LARGE(COUNTIF(OFFSET($J59,-1,0,-1*$Q$3,5),{0,1,2,3,4,5,6,7,8,9})*1000+{100,90,80,70,60,50,40,30,20,10}+{0,1,2,3,4,5,6,7,8,9},COLUMN(F$21))),\"\"))","v":"6"},{"$f":"IF(OR(LEN($O59)=0),\"\",IFERROR(RIGHT(LARGE(COUNTIF(OFFSET($J59,-1,0,-1*$Q$3,5),{0,1,2,3,4,5,6,7,8,9})*1000+{100,90,80,70,60,50,40,30,20,10}+{0,1,2,3,4,5,6,7,8,9},COLUMN(G$21))),\"\"))","v":"3"},{"$f":"IF(OR(LEN($O59)=0),\"\",IFERROR(RIGHT(LARGE(COUNTIF(OFFSET($J59,-1,0,-1*$Q$3,5),{0,1,2,3,4,5,6,7,8,9})*1000+{100,90,80,70,60,50,40,30,20,10}+{0,1,2,3,4,5,6,7,8,9},COLUMN(H$21))),\"\"))","v":"0"},{"$f":"IF(OR(LEN($O59)=0),\"\",IFERROR(RIGHT(LARGE(COUNTIF(OFFSET($J59,-1,0,-1*$Q$3,5),{0,1,2,3,4,5,6,7,8,9})*1000+{100,90,80,70,60,50,40,30,20,10}+{0,1,2,3,4,5,6,7,8,9},COLUMN(I$21))),\"\"))","v":"9"},{"$f":"IF(OR(LEN($O59)=0),\"\",IFERROR(RIGHT(LARGE(COUNTIF(OFFSET($J59,-1,0,-1*$Q$3,5),{0,1,2,3,4,5,6,7,8,9})*1000+{100,90,80,70,60,50,40,30,20,10}+{0,1,2,3,4,5,6,7,8,9},COLUMN(J$21))),\"\"))","v":"7"},"4215","4","2","1","5","","","","","",""]
["20200514269","64704","6","4","7","0","4",null,null,"","","7","0","4","704",{"$f":"IF(OR(LEN($O60)=0),\"\",IFERROR(RIGHT(LARGE(COUNTIF(OFFSET($J60,-1,0,-1*$Q$3,5),{0,1,2,3,4,5,6,7,8,9})*1000+{100,90,80,70,60,50,40,30,20,10}+{0,1,2,3,4,5,6,7,8,9},COLUMN(A$21))),\"\"))","v":"4"},{"$f":"IF(OR(LEN($O60)=0),\"\",IFERROR(RIGHT(LARGE(COUNTIF(OFFSET($J60,-1,0,-1*$Q$3,5),{0,1,2,3,4,5,6,7,8,9})*1000+{100,90,80,70,60,50,40,30,20,10}+{0,1,2,3,4,5,6,7,8,9},COLUMN(B$21))),\"\"))","v":"2"},{"$f":"IF(OR(LEN($O60)=0),\"\",IFERROR(RIGHT(LARGE(COUNTIF(OFFSET($J60,-1,0,-1*$Q$3,5),{0,1,2,3,4,5,6,7,8,9})*1000+{100,90,80,70,60,50,40,30,20,10}+{0,1,2,3,4,5,6,7,8,9},COLUMN(C$21))),\"\"))","v":"1"},{"$f":"IF(OR(LEN($O60)=0),\"\",IFERROR(RIGHT(LARGE(COUNTIF(OFFSET($J60,-1,0,-1*$Q$3,5),{0,1,2,3,4,5,6,7,8,9})*1000+{100,90,80,70,60,50,40,30,20,10}+{0,1,2,3,4,5,6,7,8,9},COLUMN(D$21))),\"\"))","v":"5"},{"$f":"IF(OR(LEN($O60)=0),\"\",IFERROR(RIGHT(LARGE(COUNTIF(OFFSET($J60,-1,0,-1*$Q$3,5),{0,1,2,3,4,5,6,7,8,9})*1000+{100,90,80,70,60,50,40,30,20,10}+{0,1,2,3,4,5,6,7,8,9},COLUMN(E$21))),\"\"))","v":"6"},{"$f":"IF(OR(LEN($O60)=0),\"\",IFERROR(RIGHT(LARGE(COUNTIF(OFFSET($J60,-1,0,-1*$Q$3,5),{0,1,2,3,4,5,6,7,8,9})*1000+{100,90,80,70,60,50,40,30,20,10}+{0,1,2,3,4,5,6,7,8,9},COLUMN(F$21))),\"\"))","v":"8"},{"$f":"IF(OR(LEN($O60)=0),\"\",IFERROR(RIGHT(LARGE(COUNTIF(OFFSET($J60,-1,0,-1*$Q$3,5),{0,1,2,3,4,5,6,7,8,9})*1000+{100,90,80,70,60,50,40,30,20,10}+{0,1,2,3,4,5,6,7,8,9},COLUMN(G$21))),\"\"))","v":"3"},{"$f":"IF(OR(LEN($O60)=0),\"\",IFERROR(RIGHT(LARGE(COUNTIF(OFFSET($J60,-1,0,-1*$Q$3,5),{0,1,2,3,4,5,6,7,8,9})*1000+{100,90,80,70,60,50,40,30,20,10}+{0,1,2,3,4,5,6,7,8,9},COLUMN(H$21))),\"\"))","v":"0"},{"$f":"IF(OR(LEN($O60)=0),\"\",IFERROR(RIGHT(LARGE(COUNTIF(OFFSET($J60,-1,0,-1*$Q$3,5),{0,1,2,3,4,5,6,7,8,9})*1000+{100,90,80,70,60,50,40,30,20,10}+{0,1,2,3,4,5,6,7,8,9},COLUMN(I$21))),\"\"))","v":"9"},{"$f":"IF(OR(LEN($O60)=0),\"\",IFERROR(RIGHT(LARGE(COUNTIF(OFFSET($J60,-1,0,-1*$Q$3,5),{0,1,2,3,4,5,6,7,8,9})*1000+{100,90,80,70,60,50,40,30,20,10}+{0,1,2,3,4,5,6,7,8,9},COLUMN(J$21))),\"\"))","v":"7"},"4215","4","2","1","5","","","","","",""]
["20200514270","66608","6","6","6","0","8",null,null,"","","6","0","8","608",{"$f":"IF(OR(LEN($O61)=0),\"\",IFERROR(RIGHT(LARGE(COUNTIF(OFFSET($J61,-1,0,-1*$Q$3,5),{0,1,2,3,4,5,6,7,8,9})*1000+{100,90,80,70,60,50,40,30,20,10}+{0,1,2,3,4,5,6,7,8,9},COLUMN(A$21))),\"\"))","v":"4"},{"$f":"IF(OR(LEN($O61)=0),\"\",IFERROR(RIGHT(LARGE(COUNTIF(OFFSET($J61,-1,0,-1*$Q$3,5),{0,1,2,3,4,5,6,7,8,9})*1000+{100,90,80,70,60,50,40,30,20,10}+{0,1,2,3,4,5,6,7,8,9},COLUMN(B$21))),\"\"))","v":"2"},{"$f":"IF(OR(LEN($O61)=0),\"\",IFERROR(RIGHT(LARGE(COUNTIF(OFFSET($J61,-1,0,-1*$Q$3,5),{0,1,2,3,4,5,6,7,8,9})*1000+{100,90,80,70,60,50,40,30,20,10}+{0,1,2,3,4,5,6,7,8,9},COLUMN(C$21))),\"\"))","v":"1"},{"$f":"IF(OR(LEN($O61)=0),\"\",IFERROR(RIGHT(LARGE(COUNTIF(OFFSET($J61,-1,0,-1*$Q$3,5),{0,1,2,3,4,5,6,7,8,9})*1000+{100,90,80,70,60,50,40,30,20,10}+{0,1,2,3,4,5,6,7,8,9},COLUMN(D$21))),\"\"))","v":"5"},{"$f":"IF(OR(LEN($O61)=0),\"\",IFERROR(RIGHT(LARGE(COUNTIF(OFFSET($J61,-1,0,-1*$Q$3,5),{0,1,2,3,4,5,6,7,8,9})*1000+{100,90,80,70,60,50,40,30,20,10}+{0,1,2,3,4,5,6,7,8,9},COLUMN(E$21))),\"\"))","v":"6"},{"$f":"IF(OR(LEN($O61)=0),\"\",IFERROR(RIGHT(LARGE(COUNTIF(OFFSET($J61,-1,0,-1*$Q$3,5),{0,1,2,3,4,5,6,7,8,9})*1000+{100,90,80,70,60,50,40,30,20,10}+{0,1,2,3,4,5,6,7,8,9},COLUMN(F$21))),\"\"))","v":"8"},{"$f":"IF(OR(LEN($O61)=0),\"\",IFERROR(RIGHT(LARGE(COUNTIF(OFFSET($J61,-1,0,-1*$Q$3,5),{0,1,2,3,4,5,6,7,8,9})*1000+{100,90,80,70,60,50,40,30,20,10}+{0,1,2,3,4,5,6,7,8,9},COLUMN(G$21))),\"\"))","v":"3"},{"$f":"IF(OR(LEN($O61)=0),\"\",IFERROR(RIGHT(LARGE(COUNTIF(OFFSET($J61,-1,0,-1*$Q$3,5),{0,1,2,3,4,5,6,7,8,9})*1000+{100,90,80,70,60,50,40,30,20,10}+{0,1,2,3,4,5,6,7,8,9},COLUMN(H$21))),\"\"))","v":"0"},{"$f":"IF(OR(LEN($O61)=0),\"\",IFERROR(RIGHT(LARGE(COUNTIF(OFFSET($J61,-1,0,-1*$Q$3,5),{0,1,2,3,4,5,6,7,8,9})*1000+{100,90,80,70,60,50,40,30,20,10}+{0,1,2,3,4,5,6,7,8,9},COLUMN(I$21))),\"\"))","v":"9"},{"$f":"IF(OR(LEN($O61)=0),\"\",IFERROR(RIGHT(LARGE(COUNTIF(OFFSET($J61,-1,0,-1*$Q$3,5),{0,1,2,3,4,5,6,7,8,9})*1000+{100,90,80,70,60,50,40,30,20,10}+{0,1,2,3,4,5,6,7,8,9},COLUMN(J$21))),\"\"))","v":"7"},"4215","4","2","1","5","","","","","",""]
["20200514271","41575","4","1","5","7","5",null,null,"","","5","7","5","575",{"$f":"IF(OR(LEN($O62)=0),\"\",IFERROR(RIGHT(LARGE(COUNTIF(OFFSET($J62,-1,0,-1*$Q$3,5),{0,1,2,3,4,5,6,7,8,9})*1000+{100,90,80,70,60,50,40,30,20,10}+{0,1,2,3,4,5,6,7,8,9},COLUMN(A$21))),\"\"))","v":"4"},{"$f":"IF(OR(LEN($O62)=0),\"\",IFERROR(RIGHT(LARGE(COUNTIF(OFFSET($J62,-1,0,-1*$Q$3,5),{0,1,2,3,4,5,6,7,8,9})*1000+{100,90,80,70,60,50,40,30,20,10}+{0,1,2,3,4,5,6,7,8,9},COLUMN(B$21))),\"\"))","v":"2"},{"$f":"IF(OR(LEN($O62)=0),\"\",IFERROR(RIGHT(LARGE(COUNTIF(OFFSET($J62,-1,0,-1*$Q$3,5),{0,1,2,3,4,5,6,7,8,9})*1000+{100,90,80,70,60,50,40,30,20,10}+{0,1,2,3,4,5,6,7,8,9},COLUMN(C$21))),\"\"))","v":"1"},{"$f":"IF(OR(LEN($O62)=0),\"\",IFERROR(RIGHT(LARGE(COUNTIF(OFFSET($J62,-1,0,-1*$Q$3,5),{0,1,2,3,4,5,6,7,8,9})*1000+{100,90,80,70,60,50,40,30,20,10}+{0,1,2,3,4,5,6,7,8,9},COLUMN(D$21))),\"\"))","v":"5"},{"$f":"IF(OR(LEN($O62)=0),\"\",IFERROR(RIGHT(LARGE(COUNTIF(OFFSET($J62,-1,0,-1*$Q$3,5),{0,1,2,3,4,5,6,7,8,9})*1000+{100,90,80,70,60,50,40,30,20,10}+{0,1,2,3,4,5,6,7,8,9},COLUMN(E$21))),\"\"))","v":"6"},{"$f":"IF(OR(LEN($O62)=0),\"\",IFERROR(RIGHT(LARGE(COUNTIF(OFFSET($J62,-1,0,-1*$Q$3,5),{0,1,2,3,4,5,6,7,8,9})*1000+{100,90,80,70,60,50,40,30,20,10}+{0,1,2,3,4,5,6,7,8,9},COLUMN(F$21))),\"\"))","v":"8"},{"$f":"IF(OR(LEN($O62)=0),\"\",IFERROR(RIGHT(LARGE(COUNTIF(OFFSET($J62,-1,0,-1*$Q$3,5),{0,1,2,3,4,5,6,7,8,9})*1000+{100,90,80,70,60,50,40,30,20,10}+{0,1,2,3,4,5,6,7,8,9},COLUMN(G$21))),\"\"))","v":"0"},{"$f":"IF(OR(LEN($O62)=0),\"\",IFERROR(RIGHT(LARGE(COUNTIF(OFFSET($J62,-1,0,-1*$Q$3,5),{0,1,2,3,4,5,6,7,8,9})*1000+{100,90,80,70,60,50,40,30,20,10}+{0,1,2,3,4,5,6,7,8,9},COLUMN(H$21))),\"\"))","v":"3"},{"$f":"IF(OR(LEN($O62)=0),\"\",IFERROR(RIGHT(LARGE(COUNTIF(OFFSET($J62,-1,0,-1*$Q$3,5),{0,1,2,3,4,5,6,7,8,9})*1000+{100,90,80,70,60,50,40,30,20,10}+{0,1,2,3,4,5,6,7,8,9},COLUMN(I$21))),\"\"))","v":"9"},{"$f":"IF(OR(LEN($O62)=0),\"\",IFERROR(RIGHT(LARGE(COUNTIF(OFFSET($J62,-1,0,-1*$Q$3,5),{0,1,2,3,4,5,6,7,8,9})*1000+{100,90,80,70,60,50,40,30,20,10}+{0,1,2,3,4,5,6,7,8,9},COLUMN(J$21))),\"\"))","v":"7"},"4215","4","2","1","5","","","","","",""]
["20200514272","60627","6","0","6","2","7",null,null,"","","6","2","7","627",{"$f":"IF(OR(LEN($O63)=0),\"\",IFERROR(RIGHT(LARGE(COUNTIF(OFFSET($J63,-1,0,-1*$Q$3,5),{0,1,2,3,4,5,6,7,8,9})*1000+{100,90,80,70,60,50,40,30,20,10}+{0,1,2,3,4,5,6,7,8,9},COLUMN(A$21))),\"\"))","v":"4"},{"$f":"IF(OR(LEN($O63)=0),\"\",IFERROR(RIGHT(LARGE(COUNTIF(OFFSET($J63,-1,0,-1*$Q$3,5),{0,1,2,3,4,5,6,7,8,9})*1000+{100,90,80,70,60,50,40,30,20,10}+{0,1,2,3,4,5,6,7,8,9},COLUMN(B$21))),\"\"))","v":"2"},{"$f":"IF(OR(LEN($O63)=0),\"\",IFERROR(RIGHT(LARGE(COUNTIF(OFFSET($J63,-1,0,-1*$Q$3,5),{0,1,2,3,4,5,6,7,8,9})*1000+{100,90,80,70,60,50,40,30,20,10}+{0,1,2,3,4,5,6,7,8,9},COLUMN(C$21))),\"\"))","v":"5"},{"$f":"IF(OR(LEN($O63)=0),\"\",IFERROR(RIGHT(LARGE(COUNTIF(OFFSET($J63,-1,0,-1*$Q$3,5),{0,1,2,3,4,5,6,7,8,9})*1000+{100,90,80,70,60,50,40,30,20,10}+{0,1,2,3,4,5,6,7,8,9},COLUMN(D$21))),\"\"))","v":"1"},{"$f":"IF(OR(LEN($O63)=0),\"\",IFERROR(RIGHT(LARGE(COUNTIF(OFFSET($J63,-1,0,-1*$Q$3,5),{0,1,2,3,4,5,6,7,8,9})*1000+{100,90,80,70,60,50,40,30,20,10}+{0,1,2,3,4,5,6,7,8,9},COLUMN(E$21))),\"\"))","v":"8"},{"$f":"IF(OR(LEN($O63)=0),\"\",IFERROR(RIGHT(LARGE(COUNTIF(OFFSET($J63,-1,0,-1*$Q$3,5),{0,1,2,3,4,5,6,7,8,9})*1000+{100,90,80,70,60,50,40,30,20,10}+{0,1,2,3,4,5,6,7,8,9},COLUMN(F$21))),\"\"))","v":"0"},{"$f":"IF(OR(LEN($O63)=0),\"\",IFERROR(RIGHT(LARGE(COUNTIF(OFFSET($J63,-1,0,-1*$Q$3,5),{0,1,2,3,4,5,6,7,8,9})*1000+{100,90,80,70,60,50,40,30,20,10}+{0,1,2,3,4,5,6,7,8,9},COLUMN(G$21))),\"\"))","v":"3"},{"$f":"IF(OR(LEN($O63)=0),\"\",IFERROR(RIGHT(LARGE(COUNTIF(OFFSET($J63,-1,0,-1*$Q$3,5),{0,1,2,3,4,5,6,7,8,9})*1000+{100,90,80,70,60,50,40,30,20,10}+{0,1,2,3,4,5,6,7,8,9},COLUMN(H$21))),\"\"))","v":"6"},{"$f":"IF(OR(LEN($O63)=0),\"\",IFERROR(RIGHT(LARGE(COUNTIF(OFFSET($J63,-1,0,-1*$Q$3,5),{0,1,2,3,4,5,6,7,8,9})*1000+{100,90,80,70,60,50,40,30,20,10}+{0,1,2,3,4,5,6,7,8,9},COLUMN(I$21))),\"\"))","v":"9"},{"$f":"IF(OR(LEN($O63)=0),\"\",IFERROR(RIGHT(LARGE(COUNTIF(OFFSET($J63,-1,0,-1*$Q$3,5),{0,1,2,3,4,5,6,7,8,9})*1000+{100,90,80,70,60,50,40,30,20,10}+{0,1,2,3,4,5,6,7,8,9},COLUMN(J$21))),\"\"))","v":"7"},"4251","4","2","5","1","","","","","",""]
["20200514273","68002","6","8","0","0","2",null,null,"","","0","0","2","002",{"$f":"IF(OR(LEN($O64)=0),\"\",IFERROR(RIGHT(LARGE(COUNTIF(OFFSET($J64,-1,0,-1*$Q$3,5),{0,1,2,3,4,5,6,7,8,9})*1000+{100,90,80,70,60,50,40,30,20,10}+{0,1,2,3,4,5,6,7,8,9},COLUMN(A$21))),\"\"))","v":"4"},{"$f":"IF(OR(LEN($O64)=0),\"\",IFERROR(RIGHT(LARGE(COUNTIF(OFFSET($J64,-1,0,-1*$Q$3,5),{0,1,2,3,4,5,6,7,8,9})*1000+{100,90,80,70,60,50,40,30,20,10}+{0,1,2,3,4,5,6,7,8,9},COLUMN(B$21))),\"\"))","v":"2"},{"$f":"IF(OR(LEN($O64)=0),\"\",IFERROR(RIGHT(LARGE(COUNTIF(OFFSET($J64,-1,0,-1*$Q$3,5),{0,1,2,3,4,5,6,7,8,9})*1000+{100,90,80,70,60,50,40,30,20,10}+{0,1,2,3,4,5,6,7,8,9},COLUMN(C$21))),\"\"))","v":"5"},{"$f":"IF(OR(LEN($O64)=0),\"\",IFERROR(RIGHT(LARGE(COUNTIF(OFFSET($J64,-1,0,-1*$Q$3,5),{0,1,2,3,4,5,6,7,8,9})*1000+{100,90,80,70,60,50,40,30,20,10}+{0,1,2,3,4,5,6,7,8,9},COLUMN(D$21))),\"\"))","v":"1"},{"$f":"IF(OR(LEN($O64)=0),\"\",IFERROR(RIGHT(LARGE(COUNTIF(OFFSET($J64,-1,0,-1*$Q$3,5),{0,1,2,3,4,5,6,7,8,9})*1000+{100,90,80,70,60,50,40,30,20,10}+{0,1,2,3,4,5,6,7,8,9},COLUMN(E$21))),\"\"))","v":"8"},{"$f":"IF(OR(LEN($O64)=0),\"\",IFERROR(RIGHT(LARGE(COUNTIF(OFFSET($J64,-1,0,-1*$Q$3,5),{0,1,2,3,4,5,6,7,8,9})*1000+{100,90,80,70,60,50,40,30,20,10}+{0,1,2,3,4,5,6,7,8,9},COLUMN(F$21))),\"\"))","v":"6"},{"$f":"IF(OR(LEN($O64)=0),\"\",IFERROR(RIGHT(LARGE(COUNTIF(OFFSET($J64,-1,0,-1*$Q$3,5),{0,1,2,3,4,5,6,7,8,9})*1000+{100,90,80,70,60,50,40,30,20,10}+{0,1,2,3,4,5,6,7,8,9},COLUMN(G$21))),\"\"))","v":"0"},{"$f":"IF(OR(LEN($O64)=0),\"\",IFERROR(RIGHT(LARGE(COUNTIF(OFFSET($J64,-1,0,-1*$Q$3,5),{0,1,2,3,4,5,6,7,8,9})*1000+{100,90,80,70,60,50,40,30,20,10}+{0,1,2,3,4,5,6,7,8,9},COLUMN(H$21))),\"\"))","v":"3"},{"$f":"IF(OR(LEN($O64)=0),\"\",IFERROR(RIGHT(LARGE(COUNTIF(OFFSET($J64,-1,0,-1*$Q$3,5),{0,1,2,3,4,5,6,7,8,9})*1000+{100,90,80,70,60,50,40,30,20,10}+{0,1,2,3,4,5,6,7,8,9},COLUMN(I$21))),\"\"))","v":"9"},{"$f":"IF(OR(LEN($O64)=0),\"\",IFERROR(RIGHT(LARGE(COUNTIF(OFFSET($J64,-1,0,-1*$Q$3,5),{0,1,2,3,4,5,6,7,8,9})*1000+{100,90,80,70,60,50,40,30,20,10}+{0,1,2,3,4,5,6,7,8,9},COLUMN(J$21))),\"\"))","v":"7"},"4251","4","2","5","1","","","","","",""]
["20200514274","49043","4","9","0","4","3",null,null,"","","0","4","3","043",{"$f":"IF(OR(LEN($O65)=0),\"\",IFERROR(RIGHT(LARGE(COUNTIF(OFFSET($J65,-1,0,-1*$Q$3,5),{0,1,2,3,4,5,6,7,8,9})*1000+{100,90,80,70,60,50,40,30,20,10}+{0,1,2,3,4,5,6,7,8,9},COLUMN(A$21))),\"\"))","v":"2"},{"$f":"IF(OR(LEN($O65)=0),\"\",IFERROR(RIGHT(LARGE(COUNTIF(OFFSET($J65,-1,0,-1*$Q$3,5),{0,1,2,3,4,5,6,7,8,9})*1000+{100,90,80,70,60,50,40,30,20,10}+{0,1,2,3,4,5,6,7,8,9},COLUMN(B$21))),\"\"))","v":"4"},{"$f":"IF(OR(LEN($O65)=0),\"\",IFERROR(RIGHT(LARGE(COUNTIF(OFFSET($J65,-1,0,-1*$Q$3,5),{0,1,2,3,4,5,6,7,8,9})*1000+{100,90,80,70,60,50,40,30,20,10}+{0,1,2,3,4,5,6,7,8,9},COLUMN(C$21))),\"\"))","v":"5"},{"$f":"IF(OR(LEN($O65)=0),\"\",IFERROR(RIGHT(LARGE(COUNTIF(OFFSET($J65,-1,0,-1*$Q$3,5),{0,1,2,3,4,5,6,7,8,9})*1000+{100,90,80,70,60,50,40,30,20,10}+{0,1,2,3,4,5,6,7,8,9},COLUMN(D$21))),\"\"))","v":"0"},{"$f":"IF(OR(LEN($O65)=0),\"\",IFERROR(RIGHT(LARGE(COUNTIF(OFFSET($J65,-1,0,-1*$Q$3,5),{0,1,2,3,4,5,6,7,8,9})*1000+{100,90,80,70,60,50,40,30,20,10}+{0,1,2,3,4,5,6,7,8,9},COLUMN(E$21))),\"\"))","v":"1"},{"$f":"IF(OR(LEN($O65)=0),\"\",IFERROR(RIGHT(LARGE(COUNTIF(OFFSET($J65,-1,0,-1*$Q$3,5),{0,1,2,3,4,5,6,7,8,9})*1000+{100,90,80,70,60,50,40,30,20,10}+{0,1,2,3,4,5,6,7,8,9},COLUMN(F$21))),\"\"))","v":"8"},{"$f":"IF(OR(LEN($O65)=0),\"\",IFERROR(RIGHT(LARGE(COUNTIF(OFFSET($J65,-1,0,-1*$Q$3,5),{0,1,2,3,4,5,6,7,8,9})*1000+{100,90,80,70,60,50,40,30,20,10}+{0,1,2,3,4,5,6,7,8,9},COLUMN(G$21))),\"\"))","v":"6"},{"$f":"IF(OR(LEN($O65)=0),\"\",IFERROR(RIGHT(LARGE(COUNTIF(OFFSET($J65,-1,0,-1*$Q$3,5),{0,1,2,3,4,5,6,7,8,9})*1000+{100,90,80,70,60,50,40,30,20,10}+{0,1,2,3,4,5,6,7,8,9},COLUMN(H$21))),\"\"))","v":"3"},{"$f":"IF(OR(LEN($O65)=0),\"\",IFERROR(RIGHT(LARGE(COUNTIF(OFFSET($J65,-1,0,-1*$Q$3,5),{0,1,2,3,4,5,6,7,8,9})*1000+{100,90,80,70,60,50,40,30,20,10}+{0,1,2,3,4,5,6,7,8,9},COLUMN(I$21))),\"\"))","v":"9"},{"$f":"IF(OR(LEN($O65)=0),\"\",IFERROR(RIGHT(LARGE(COUNTIF(OFFSET($J65,-1,0,-1*$Q$3,5),{0,1,2,3,4,5,6,7,8,9})*1000+{100,90,80,70,60,50,40,30,20,10}+{0,1,2,3,4,5,6,7,8,9},COLUMN(J$21))),\"\"))","v":"7"},"2450","2","4","5","0","","","","","",""]
["20200514275","68811","6","8","8","1","1",null,null,"","","8","1","1","811",{"$f":"IF(OR(LEN($O66)=0),\"\",IFERROR(RIGHT(LARGE(COUNTIF(OFFSET($J66,-1,0,-1*$Q$3,5),{0,1,2,3,4,5,6,7,8,9})*1000+{100,90,80,70,60,50,40,30,20,10}+{0,1,2,3,4,5,6,7,8,9},COLUMN(A$21))),\"\"))","v":"2"},{"$f":"IF(OR(LEN($O66)=0),\"\",IFERROR(RIGHT(LARGE(COUNTIF(OFFSET($J66,-1,0,-1*$Q$3,5),{0,1,2,3,4,5,6,7,8,9})*1000+{100,90,80,70,60,50,40,30,20,10}+{0,1,2,3,4,5,6,7,8,9},COLUMN(B$21))),\"\"))","v":"4"},{"$f":"IF(OR(LEN($O66)=0),\"\",IFERROR(RIGHT(LARGE(COUNTIF(OFFSET($J66,-1,0,-1*$Q$3,5),{0,1,2,3,4,5,6,7,8,9})*1000+{100,90,80,70,60,50,40,30,20,10}+{0,1,2,3,4,5,6,7,8,9},COLUMN(C$21))),\"\"))","v":"5"},{"$f":"IF(OR(LEN($O66)=0),\"\",IFERROR(RIGHT(LARGE(COUNTIF(OFFSET($J66,-1,0,-1*$Q$3,5),{0,1,2,3,4,5,6,7,8,9})*1000+{100,90,80,70,60,50,40,30,20,10}+{0,1,2,3,4,5,6,7,8,9},COLUMN(D$21))),\"\"))","v":"0"},{"$f":"IF(OR(LEN($O66)=0),\"\",IFERROR(RIGHT(LARGE(COUNTIF(OFFSET($J66,-1,0,-1*$Q$3,5),{0,1,2,3,4,5,6,7,8,9})*1000+{100,90,80,70,60,50,40,30,20,10}+{0,1,2,3,4,5,6,7,8,9},COLUMN(E$21))),\"\"))","v":"1"},{"$f":"IF(OR(LEN($O66)=0),\"\",IFERROR(RIGHT(LARGE(COUNTIF(OFFSET($J66,-1,0,-1*$Q$3,5),{0,1,2,3,4,5,6,7,8,9})*1000+{100,90,80,70,60,50,40,30,20,10}+{0,1,2,3,4,5,6,7,8,9},COLUMN(F$21))),\"\"))","v":"3"},{"$f":"IF(OR(LEN($O66)=0),\"\",IFERROR(RIGHT(LARGE(COUNTIF(OFFSET($J66,-1,0,-1*$Q$3,5),{0,1,2,3,4,5,6,7,8,9})*1000+{100,90,80,70,60,50,40,30,20,10}+{0,1,2,3,4,5,6,7,8,9},COLUMN(G$21))),\"\"))","v":"6"},{"$f":"IF(OR(LEN($O66)=0),\"\",IFERROR(RIGHT(LARGE(COUNTIF(OFFSET($J66,-1,0,-1*$Q$3,5),{0,1,2,3,4,5,6,7,8,9})*1000+{100,90,80,70,60,50,40,30,20,10}+{0,1,2,3,4,5,6,7,8,9},COLUMN(H$21))),\"\"))","v":"8"},{"$f":"IF(OR(LEN($O66)=0),\"\",IFERROR(RIGHT(LARGE(COUNTIF(OFFSET($J66,-1,0,-1*$Q$3,5),{0,1,2,3,4,5,6,7,8,9})*1000+{100,90,80,70,60,50,40,30,20,10}+{0,1,2,3,4,5,6,7,8,9},COLUMN(I$21))),\"\"))","v":"9"},{"$f":"IF(OR(LEN($O66)=0),\"\",IFERROR(RIGHT(LARGE(COUNTIF(OFFSET($J66,-1,0,-1*$Q$3,5),{0,1,2,3,4,5,6,7,8,9})*1000+{100,90,80,70,60,50,40,30,20,10}+{0,1,2,3,4,5,6,7,8,9},COLUMN(J$21))),\"\"))","v":"7"},"2450","2","4","5","0","","","","","",""]
["20200514276","11154","1","1","1","5","4",null,null,"","","1","5","4","154",{"$f":"IF(OR(LEN($O67)=0),\"\",IFERROR(RIGHT(LARGE(COUNTIF(OFFSET($J67,-1,0,-1*$Q$3,5),{0,1,2,3,4,5,6,7,8,9})*1000+{100,90,80,70,60,50,40,30,20,10}+{0,1,2,3,4,5,6,7,8,9},COLUMN(A$21))),\"\"))","v":"4"},{"$f":"IF(OR(LEN($O67)=0),\"\",IFERROR(RIGHT(LARGE(COUNTIF(OFFSET($J67,-1,0,-1*$Q$3,5),{0,1,2,3,4,5,6,7,8,9})*1000+{100,90,80,70,60,50,40,30,20,10}+{0,1,2,3,4,5,6,7,8,9},COLUMN(B$21))),\"\"))","v":"2"},{"$f":"IF(OR(LEN($O67)=0),\"\",IFERROR(RIGHT(LARGE(COUNTIF(OFFSET($J67,-1,0,-1*$Q$3,5),{0,1,2,3,4,5,6,7,8,9})*1000+{100,90,80,70,60,50,40,30,20,10}+{0,1,2,3,4,5,6,7,8,9},COLUMN(C$21))),\"\"))","v":"5"},{"$f":"IF(OR(LEN($O67)=0),\"\",IFERROR(RIGHT(LARGE(COUNTIF(OFFSET($J67,-1,0,-1*$Q$3,5),{0,1,2,3,4,5,6,7,8,9})*1000+{100,90,80,70,60,50,40,30,20,10}+{0,1,2,3,4,5,6,7,8,9},COLUMN(D$21))),\"\"))","v":"0"},{"$f":"IF(OR(LEN($O67)=0),\"\",IFERROR(RIGHT(LARGE(COUNTIF(OFFSET($J67,-1,0,-1*$Q$3,5),{0,1,2,3,4,5,6,7,8,9})*1000+{100,90,80,70,60,50,40,30,20,10}+{0,1,2,3,4,5,6,7,8,9},COLUMN(E$21))),\"\"))","v":"1"},{"$f":"IF(OR(LEN($O67)=0),\"\",IFERROR(RIGHT(LARGE(COUNTIF(OFFSET($J67,-1,0,-1*$Q$3,5),{0,1,2,3,4,5,6,7,8,9})*1000+{100,90,80,70,60,50,40,30,20,10}+{0,1,2,3,4,5,6,7,8,9},COLUMN(F$21))),\"\"))","v":"8"},{"$f":"IF(OR(LEN($O67)=0),\"\",IFERROR(RIGHT(LARGE(COUNTIF(OFFSET($J67,-1,0,-1*$Q$3,5),{0,1,2,3,4,5,6,7,8,9})*1000+{100,90,80,70,60,50,40,30,20,10}+{0,1,2,3,4,5,6,7,8,9},COLUMN(G$21))),\"\"))","v":"3"},{"$f":"IF(OR(LEN($O67)=0),\"\",IFERROR(RIGHT(LARGE(COUNTIF(OFFSET($J67,-1,0,-1*$Q$3,5),{0,1,2,3,4,5,6,7,8,9})*1000+{100,90,80,70,60,50,40,30,20,10}+{0,1,2,3,4,5,6,7,8,9},COLUMN(H$21))),\"\"))","v":"6"},{"$f":"IF(OR(LEN($O67)=0),\"\",IFERROR(RIGHT(LARGE(COUNTIF(OFFSET($J67,-1,0,-1*$Q$3,5),{0,1,2,3,4,5,6,7,8,9})*1000+{100,90,80,70,60,50,40,30,20,10}+{0,1,2,3,4,5,6,7,8,9},COLUMN(I$21))),\"\"))","v":"7"},{"$f":"IF(OR(LEN($O67)=0),\"\",IFERROR(RIGHT(LARGE(COUNTIF(OFFSET($J67,-1,0,-1*$Q$3,5),{0,1,2,3,4,5,6,7,8,9})*1000+{100,90,80,70,60,50,40,30,20,10}+{0,1,2,3,4,5,6,7,8,9},COLUMN(J$21))),\"\"))","v":"9"},"4250","4","2","5","0","","","","","",""]
["20200514277","55935","5","5","9","3","5",null,null,"","","9","3","5","935",{"$f":"IF(OR(LEN($O68)=0),\"\",IFERROR(RIGHT(LARGE(COUNTIF(OFFSET($J68,-1,0,-1*$Q$3,5),{0,1,2,3,4,5,6,7,8,9})*1000+{100,90,80,70,60,50,40,30,20,10}+{0,1,2,3,4,5,6,7,8,9},COLUMN(A$21))),\"\"))","v":"4"},{"$f":"IF(OR(LEN($O68)=0),\"\",IFERROR(RIGHT(LARGE(COUNTIF(OFFSET($J68,-1,0,-1*$Q$3,5),{0,1,2,3,4,5,6,7,8,9})*1000+{100,90,80,70,60,50,40,30,20,10}+{0,1,2,3,4,5,6,7,8,9},COLUMN(B$21))),\"\"))","v":"2"},{"$f":"IF(OR(LEN($O68)=0),\"\",IFERROR(RIGHT(LARGE(COUNTIF(OFFSET($J68,-1,0,-1*$Q$3,5),{0,1,2,3,4,5,6,7,8,9})*1000+{100,90,80,70,60,50,40,30,20,10}+{0,1,2,3,4,5,6,7,8,9},COLUMN(C$21))),\"\"))","v":"5"},{"$f":"IF(OR(LEN($O68)=0),\"\",IFERROR(RIGHT(LARGE(COUNTIF(OFFSET($J68,-1,0,-1*$Q$3,5),{0,1,2,3,4,5,6,7,8,9})*1000+{100,90,80,70,60,50,40,30,20,10}+{0,1,2,3,4,5,6,7,8,9},COLUMN(D$21))),\"\"))","v":"1"},{"$f":"IF(OR(LEN($O68)=0),\"\",IFERROR(RIGHT(LARGE(COUNTIF(OFFSET($J68,-1,0,-1*$Q$3,5),{0,1,2,3,4,5,6,7,8,9})*1000+{100,90,80,70,60,50,40,30,20,10}+{0,1,2,3,4,5,6,7,8,9},COLUMN(E$21))),\"\"))","v":"8"},{"$f":"IF(OR(LEN($O68)=0),\"\",IFERROR(RIGHT(LARGE(COUNTIF(OFFSET($J68,-1,0,-1*$Q$3,5),{0,1,2,3,4,5,6,7,8,9})*1000+{100,90,80,70,60,50,40,30,20,10}+{0,1,2,3,4,5,6,7,8,9},COLUMN(F$21))),\"\"))","v":"0"},{"$f":"IF(OR(LEN($O68)=0),\"\",IFERROR(RIGHT(LARGE(COUNTIF(OFFSET($J68,-1,0,-1*$Q$3,5),{0,1,2,3,4,5,6,7,8,9})*1000+{100,90,80,70,60,50,40,30,20,10}+{0,1,2,3,4,5,6,7,8,9},COLUMN(G$21))),\"\"))","v":"3"},{"$f":"IF(OR(LEN($O68)=0),\"\",IFERROR(RIGHT(LARGE(COUNTIF(OFFSET($J68,-1,0,-1*$Q$3,5),{0,1,2,3,4,5,6,7,8,9})*1000+{100,90,80,70,60,50,40,30,20,10}+{0,1,2,3,4,5,6,7,8,9},COLUMN(H$21))),\"\"))","v":"6"},{"$f":"IF(OR(LEN($O68)=0),\"\",IFERROR(RIGHT(LARGE(COUNTIF(OFFSET($J68,-1,0,-1*$Q$3,5),{0,1,2,3,4,5,6,7,8,9})*1000+{100,90,80,70,60,50,40,30,20,10}+{0,1,2,3,4,5,6,7,8,9},COLUMN(I$21))),\"\"))","v":"7"},{"$f":"IF(OR(LEN($O68)=0),\"\",IFERROR(RIGHT(LARGE(COUNTIF(OFFSET($J68,-1,0,-1*$Q$3,5),{0,1,2,3,4,5,6,7,8,9})*1000+{100,90,80,70,60,50,40,30,20,10}+{0,1,2,3,4,5,6,7,8,9},COLUMN(J$21))),\"\"))","v":"9"},"4251","4","2","5","1","","","","","",""]
["20200514278","05081","0","5","0","8","1",null,null,"","","0","8","1","081",{"$f":"IF(OR(LEN($O69)=0),\"\",IFERROR(RIGHT(LARGE(COUNTIF(OFFSET($J69,-1,0,-1*$Q$3,5),{0,1,2,3,4,5,6,7,8,9})*1000+{100,90,80,70,60,50,40,30,20,10}+{0,1,2,3,4,5,6,7,8,9},COLUMN(A$21))),\"\"))","v":"4"},{"$f":"IF(OR(LEN($O69)=0),\"\",IFERROR(RIGHT(LARGE(COUNTIF(OFFSET($J69,-1,0,-1*$Q$3,5),{0,1,2,3,4,5,6,7,8,9})*1000+{100,90,80,70,60,50,40,30,20,10}+{0,1,2,3,4,5,6,7,8,9},COLUMN(B$21))),\"\"))","v":"2"},{"$f":"IF(OR(LEN($O69)=0),\"\",IFERROR(RIGHT(LARGE(COUNTIF(OFFSET($J69,-1,0,-1*$Q$3,5),{0,1,2,3,4,5,6,7,8,9})*1000+{100,90,80,70,60,50,40,30,20,10}+{0,1,2,3,4,5,6,7,8,9},COLUMN(C$21))),\"\"))","v":"5"},{"$f":"IF(OR(LEN($O69)=0),\"\",IFERROR(RIGHT(LARGE(COUNTIF(OFFSET($J69,-1,0,-1*$Q$3,5),{0,1,2,3,4,5,6,7,8,9})*1000+{100,90,80,70,60,50,40,30,20,10}+{0,1,2,3,4,5,6,7,8,9},COLUMN(D$21))),\"\"))","v":"3"},{"$f":"IF(OR(LEN($O69)=0),\"\",IFERROR(RIGHT(LARGE(COUNTIF(OFFSET($J69,-1,0,-1*$Q$3,5),{0,1,2,3,4,5,6,7,8,9})*1000+{100,90,80,70,60,50,40,30,20,10}+{0,1,2,3,4,5,6,7,8,9},COLUMN(E$21))),\"\"))","v":"0"},{"$f":"IF(OR(LEN($O69)=0),\"\",IFERROR(RIGHT(LARGE(COUNTIF(OFFSET($J69,-1,0,-1*$Q$3,5),{0,1,2,3,4,5,6,7,8,9})*1000+{100,90,80,70,60,50,40,30,20,10}+{0,1,2,3,4,5,6,7,8,9},COLUMN(F$21))),\"\"))","v":"1"},{"$f":"IF(OR(LEN($O69)=0),\"\",IFERROR(RIGHT(LARGE(COUNTIF(OFFSET($J69,-1,0,-1*$Q$3,5),{0,1,2,3,4,5,6,7,8,9})*1000+{100,90,80,70,60,50,40,30,20,10}+{0,1,2,3,4,5,6,7,8,9},COLUMN(G$21))),\"\"))","v":"6"},{"$f":"IF(OR(LEN($O69)=0),\"\",IFERROR(RIGHT(LARGE(COUNTIF(OFFSET($J69,-1,0,-1*$Q$3,5),{0,1,2,3,4,5,6,7,8,9})*1000+{100,90,80,70,60,50,40,30,20,10}+{0,1,2,3,4,5,6,7,8,9},COLUMN(H$21))),\"\"))","v":"8"},{"$f":"IF(OR(LEN($O69)=0),\"\",IFERROR(RIGHT(LARGE(COUNTIF(OFFSET($J69,-1,0,-1*$Q$3,5),{0,1,2,3,4,5,6,7,8,9})*1000+{100,90,80,70,60,50,40,30,20,10}+{0,1,2,3,4,5,6,7,8,9},COLUMN(I$21))),\"\"))","v":"9"},{"$f":"IF(OR(LEN($O69)=0),\"\",IFERROR(RIGHT(LARGE(COUNTIF(OFFSET($J69,-1,0,-1*$Q$3,5),{0,1,2,3,4,5,6,7,8,9})*1000+{100,90,80,70,60,50,40,30,20,10}+{0,1,2,3,4,5,6,7,8,9},COLUMN(J$21))),\"\"))","v":"7"},"4253","4","2","5","3","","","","","",""]
["20200514279","22663","2","2","6","6","3",null,null,"","","6","6","3","663",{"$f":"IF(OR(LEN($O70)=0),\"\",IFERROR(RIGHT(LARGE(COUNTIF(OFFSET($J70,-1,0,-1*$Q$3,5),{0,1,2,3,4,5,6,7,8,9})*1000+{100,90,80,70,60,50,40,30,20,10}+{0,1,2,3,4,5,6,7,8,9},COLUMN(A$21))),\"\"))","v":"4"},{"$f":"IF(OR(LEN($O70)=0),\"\",IFERROR(RIGHT(LARGE(COUNTIF(OFFSET($J70,-1,0,-1*$Q$3,5),{0,1,2,3,4,5,6,7,8,9})*1000+{100,90,80,70,60,50,40,30,20,10}+{0,1,2,3,4,5,6,7,8,9},COLUMN(B$21))),\"\"))","v":"5"},{"$f":"IF(OR(LEN($O70)=0),\"\",IFERROR(RIGHT(LARGE(COUNTIF(OFFSET($J70,-1,0,-1*$Q$3,5),{0,1,2,3,4,5,6,7,8,9})*1000+{100,90,80,70,60,50,40,30,20,10}+{0,1,2,3,4,5,6,7,8,9},COLUMN(C$21))),\"\"))","v":"2"},{"$f":"IF(OR(LEN($O70)=0),\"\",IFERROR(RIGHT(LARGE(COUNTIF(OFFSET($J70,-1,0,-1*$Q$3,5),{0,1,2,3,4,5,6,7,8,9})*1000+{100,90,80,70,60,50,40,30,20,10}+{0,1,2,3,4,5,6,7,8,9},COLUMN(D$21))),\"\"))","v":"1"},{"$f":"IF(OR(LEN($O70)=0),\"\",IFERROR(RIGHT(LARGE(COUNTIF(OFFSET($J70,-1,0,-1*$Q$3,5),{0,1,2,3,4,5,6,7,8,9})*1000+{100,90,80,70,60,50,40,30,20,10}+{0,1,2,3,4,5,6,7,8,9},COLUMN(E$21))),\"\"))","v":"3"},{"$f":"IF(OR(LEN($O70)=0),\"\",IFERROR(RIGHT(LARGE(COUNTIF(OFFSET($J70,-1,0,-1*$Q$3,5),{0,1,2,3,4,5,6,7,8,9})*1000+{100,90,80,70,60,50,40,30,20,10}+{0,1,2,3,4,5,6,7,8,9},COLUMN(F$21))),\"\"))","v":"0"},{"$f":"IF(OR(LEN($O70)=0),\"\",IFERROR(RIGHT(LARGE(COUNTIF(OFFSET($J70,-1,0,-1*$Q$3,5),{0,1,2,3,4,5,6,7,8,9})*1000+{100,90,80,70,60,50,40,30,20,10}+{0,1,2,3,4,5,6,7,8,9},COLUMN(G$21))),\"\"))","v":"6"},{"$f":"IF(OR(LEN($O70)=0),\"\",IFERROR(RIGHT(LARGE(COUNTIF(OFFSET($J70,-1,0,-1*$Q$3,5),{0,1,2,3,4,5,6,7,8,9})*1000+{100,90,80,70,60,50,40,30,20,10}+{0,1,2,3,4,5,6,7,8,9},COLUMN(H$21))),\"\"))","v":"8"},{"$f":"IF(OR(LEN($O70)=0),\"\",IFERROR(RIGHT(LARGE(COUNTIF(OFFSET($J70,-1,0,-1*$Q$3,5),{0,1,2,3,4,5,6,7,8,9})*1000+{100,90,80,70,60,50,40,30,20,10}+{0,1,2,3,4,5,6,7,8,9},COLUMN(I$21))),\"\"))","v":"9"},{"$f":"IF(OR(LEN($O70)=0),\"\",IFERROR(RIGHT(LARGE(COUNTIF(OFFSET($J70,-1,0,-1*$Q$3,5),{0,1,2,3,4,5,6,7,8,9})*1000+{100,90,80,70,60,50,40,30,20,10}+{0,1,2,3,4,5,6,7,8,9},COLUMN(J$21))),\"\"))","v":"7"},"4521","4","5","2","1","","","","","",""]
["20200514280","29656","2","9","6","5","6",null,null,{"$f":"IF(J$3=0,\"\",C71)","v":""},{"$f":"IF(K$3=0,\"\",D71)","v":""},{"$f":"IF(L$3=0,\"\",E71)","v":"6"},{"$f":"IF(M$3=0,\"\",F71)","v":"5"},{"$f":"IF(N$3=0,\"\",G71)","v":"6"},{"$f":"J71&K71&L71&M71&N71","v":"656"},{"$f":"IF(OR(LEN($O71)=0),\"\",IFERROR(RIGHT(LARGE(COUNTIF(OFFSET($J71,-1,0,-1*$Q$3,5),{0,1,2,3,4,5,6,7,8,9})*1000+{100,90,80,70,60,50,40,30,20,10}+{0,1,2,3,4,5,6,7,8,9},COLUMN(A$21))),\"\"))","v":"4"},{"$f":"IF(OR(LEN($O71)=0),\"\",IFERROR(RIGHT(LARGE(COUNTIF(OFFSET($J71,-1,0,-1*$Q$3,5),{0,1,2,3,4,5,6,7,8,9})*1000+{100,90,80,70,60,50,40,30,20,10}+{0,1,2,3,4,5,6,7,8,9},COLUMN(B$21))),\"\"))","v":"5"},{"$f":"IF(OR(LEN($O71)=0),\"\",IFERROR(RIGHT(LARGE(COUNTIF(OFFSET($J71,-1,0,-1*$Q$3,5),{0,1,2,3,4,5,6,7,8,9})*1000+{100,90,80,70,60,50,40,30,20,10}+{0,1,2,3,4,5,6,7,8,9},COLUMN(C$21))),\"\"))","v":"2"},{"$f":"IF(OR(LEN($O71)=0),\"\",IFERROR(RIGHT(LARGE(COUNTIF(OFFSET($J71,-1,0,-1*$Q$3,5),{0,1,2,3,4,5,6,7,8,9})*1000+{100,90,80,70,60,50,40,30,20,10}+{0,1,2,3,4,5,6,7,8,9},COLUMN(D$21))),\"\"))","v":"3"},{"$f":"IF(OR(LEN($O71)=0),\"\",IFERROR(RIGHT(LARGE(COUNTIF(OFFSET($J71,-1,0,-1*$Q$3,5),{0,1,2,3,4,5,6,7,8,9})*1000+{100,90,80,70,60,50,40,30,20,10}+{0,1,2,3,4,5,6,7,8,9},COLUMN(E$21))),\"\"))","v":"6"},{"$f":"IF(OR(LEN($O71)=0),\"\",IFERROR(RIGHT(LARGE(COUNTIF(OFFSET($J71,-1,0,-1*$Q$3,5),{0,1,2,3,4,5,6,7,8,9})*1000+{100,90,80,70,60,50,40,30,20,10}+{0,1,2,3,4,5,6,7,8,9},COLUMN(F$21))),\"\"))","v":"0"},{"$f":"IF(OR(LEN($O71)=0),\"\",IFERROR(RIGHT(LARGE(COUNTIF(OFFSET($J71,-1,0,-1*$Q$3,5),{0,1,2,3,4,5,6,7,8,9})*1000+{100,90,80,70,60,50,40,30,20,10}+{0,1,2,3,4,5,6,7,8,9},COLUMN(G$21))),\"\"))","v":"1"},{"$f":"IF(OR(LEN($O71)=0),\"\",IFERROR(RIGHT(LARGE(COUNTIF(OFFSET($J71,-1,0,-1*$Q$3,5),{0,1,2,3,4,5,6,7,8,9})*1000+{100,90,80,70,60,50,40,30,20,10}+{0,1,2,3,4,5,6,7,8,9},COLUMN(H$21))),\"\"))","v":"8"},{"$f":"IF(OR(LEN($O71)=0),\"\",IFERROR(RIGHT(LARGE(COUNTIF(OFFSET($J71,-1,0,-1*$Q$3,5),{0,1,2,3,4,5,6,7,8,9})*1000+{100,90,80,70,60,50,40,30,20,10}+{0,1,2,3,4,5,6,7,8,9},COLUMN(I$21))),\"\"))","v":"9"},{"$f":"IF(OR(LEN($O71)=0),\"\",IFERROR(RIGHT(LARGE(COUNTIF(OFFSET($J71,-1,0,-1*$Q$3,5),{0,1,2,3,4,5,6,7,8,9})*1000+{100,90,80,70,60,50,40,30,20,10}+{0,1,2,3,4,5,6,7,8,9},COLUMN(J$21))),\"\"))","v":"7"},"4523",{"$f":"IF(P$4=1,P71,\"\")","v":"4"},"5","2","3","","","","","",""]
["20200514281","98741","9","8","7","4","1",null,null,"","","7","4","1","741",{"$f":"IF(OR(LEN($O72)=0),\"\",IFERROR(RIGHT(LARGE(COUNTIF(OFFSET($J72,-1,0,-1*$Q$3,5),{0,1,2,3,4,5,6,7,8,9})*1000+{100,90,80,70,60,50,40,30,20,10}+{0,1,2,3,4,5,6,7,8,9},COLUMN(A$21))),\"\"))","v":"4"},{"$f":"IF(OR(LEN($O72)=0),\"\",IFERROR(RIGHT(LARGE(COUNTIF(OFFSET($J72,-1,0,-1*$Q$3,5),{0,1,2,3,4,5,6,7,8,9})*1000+{100,90,80,70,60,50,40,30,20,10}+{0,1,2,3,4,5,6,7,8,9},COLUMN(B$21))),\"\"))","v":"5"},{"$f":"IF(OR(LEN($O72)=0),\"\",IFERROR(RIGHT(LARGE(COUNTIF(OFFSET($J72,-1,0,-1*$Q$3,5),{0,1,2,3,4,5,6,7,8,9})*1000+{100,90,80,70,60,50,40,30,20,10}+{0,1,2,3,4,5,6,7,8,9},COLUMN(C$21))),\"\"))","v":"2"},{"$f":"IF(OR(LEN($O72)=0),\"\",IFERROR(RIGHT(LARGE(COUNTIF(OFFSET($J72,-1,0,-1*$Q$3,5),{0,1,2,3,4,5,6,7,8,9})*1000+{100,90,80,70,60,50,40,30,20,10}+{0,1,2,3,4,5,6,7,8,9},COLUMN(D$21))),\"\"))","v":"6"},{"$f":"IF(OR(LEN($O72)=0),\"\",IFERROR(RIGHT(LARGE(COUNTIF(OFFSET($J72,-1,0,-1*$Q$3,5),{0,1,2,3,4,5,6,7,8,9})*1000+{100,90,80,70,60,50,40,30,20,10}+{0,1,2,3,4,5,6,7,8,9},COLUMN(E$21))),\"\"))","v":"3"},{"$f":"IF(OR(LEN($O72)=0),\"\",IFERROR(RIGHT(LARGE(COUNTIF(OFFSET($J72,-1,0,-1*$Q$3,5),{0,1,2,3,4,5,6,7,8,9})*1000+{100,90,80,70,60,50,40,30,20,10}+{0,1,2,3,4,5,6,7,8,9},COLUMN(F$21))),\"\"))","v":"0"},{"$f":"IF(OR(LEN($O72)=0),\"\",IFERROR(RIGHT(LARGE(COUNTIF(OFFSET($J72,-1,0,-1*$Q$3,5),{0,1,2,3,4,5,6,7,8,9})*1000+{100,90,80,70,60,50,40,30,20,10}+{0,1,2,3,4,5,6,7,8,9},COLUMN(G$21))),\"\"))","v":"1"},{"$f":"IF(OR(LEN($O72)=0),\"\",IFERROR(RIGHT(LARGE(COUNTIF(OFFSET($J72,-1,0,-1*$Q$3,5),{0,1,2,3,4,5,6,7,8,9})*1000+{100,90,80,70,60,50,40,30,20,10}+{0,1,2,3,4,5,6,7,8,9},COLUMN(H$21))),\"\"))","v":"8"},{"$f":"IF(OR(LEN($O72)=0),\"\",IFERROR(RIGHT(LARGE(COUNTIF(OFFSET($J72,-1,0,-1*$Q$3,5),{0,1,2,3,4,5,6,7,8,9})*1000+{100,90,80,70,60,50,40,30,20,10}+{0,1,2,3,4,5,6,7,8,9},COLUMN(I$21))),\"\"))","v":"9"},{"$f":"IF(OR(LEN($O72)=0),\"\",IFERROR(RIGHT(LARGE(COUNTIF(OFFSET($J72,-1,0,-1*$Q$3,5),{0,1,2,3,4,5,6,7,8,9})*1000+{100,90,80,70,60,50,40,30,20,10}+{0,1,2,3,4,5,6,7,8,9},COLUMN(J$21))),\"\"))","v":"7"},"4526","4","5","2","6","","","","","",""]
["20200514282","96209","9","6","2","0","9",null,null,"","","2","0","9","209",{"$f":"IF(OR(LEN($O73)=0),\"\",IFERROR(RIGHT(LARGE(COUNTIF(OFFSET($J73,-1,0,-1*$Q$3,5),{0,1,2,3,4,5,6,7,8,9})*1000+{100,90,80,70,60,50,40,30,20,10}+{0,1,2,3,4,5,6,7,8,9},COLUMN(A$21))),\"\"))","v":"4"},{"$f":"IF(OR(LEN($O73)=0),\"\",IFERROR(RIGHT(LARGE(COUNTIF(OFFSET($J73,-1,0,-1*$Q$3,5),{0,1,2,3,4,5,6,7,8,9})*1000+{100,90,80,70,60,50,40,30,20,10}+{0,1,2,3,4,5,6,7,8,9},COLUMN(B$21))),\"\"))","v":"5"},{"$f":"IF(OR(LEN($O73)=0),\"\",IFERROR(RIGHT(LARGE(COUNTIF(OFFSET($J73,-1,0,-1*$Q$3,5),{0,1,2,3,4,5,6,7,8,9})*1000+{100,90,80,70,60,50,40,30,20,10}+{0,1,2,3,4,5,6,7,8,9},COLUMN(C$21))),\"\"))","v":"2"},{"$f":"IF(OR(LEN($O73)=0),\"\",IFERROR(RIGHT(LARGE(COUNTIF(OFFSET($J73,-1,0,-1*$Q$3,5),{0,1,2,3,4,5,6,7,8,9})*1000+{100,90,80,70,60,50,40,30,20,10}+{0,1,2,3,4,5,6,7,8,9},COLUMN(D$21))),\"\"))","v":"6"},{"$f":"IF(OR(LEN($O73)=0),\"\",IFERROR(RIGHT(LARGE(COUNTIF(OFFSET($J73,-1,0,-1*$Q$3,5),{0,1,2,3,4,5,6,7,8,9})*1000+{100,90,80,70,60,50,40,30,20,10}+{0,1,2,3,4,5,6,7,8,9},COLUMN(E$21))),\"\"))","v":"3"},{"$f":"IF(OR(LEN($O73)=0),\"\",IFERROR(RIGHT(LARGE(COUNTIF(OFFSET($J73,-1,0,-1*$Q$3,5),{0,1,2,3,4,5,6,7,8,9})*1000+{100,90,80,70,60,50,40,30,20,10}+{0,1,2,3,4,5,6,7,8,9},COLUMN(F$21))),\"\"))","v":"0"},{"$f":"IF(OR(LEN($O73)=0),\"\",IFERROR(RIGHT(LARGE(COUNTIF(OFFSET($J73,-1,0,-1*$Q$3,5),{0,1,2,3,4,5,6,7,8,9})*1000+{100,90,80,70,60,50,40,30,20,10}+{0,1,2,3,4,5,6,7,8,9},COLUMN(G$21))),\"\"))","v":"1"},{"$f":"IF(OR(LEN($O73)=0),\"\",IFERROR(RIGHT(LARGE(COUNTIF(OFFSET($J73,-1,0,-1*$Q$3,5),{0,1,2,3,4,5,6,7,8,9})*1000+{100,90,80,70,60,50,40,30,20,10}+{0,1,2,3,4,5,6,7,8,9},COLUMN(H$21))),\"\"))","v":"8"},{"$f":"IF(OR(LEN($O73)=0),\"\",IFERROR(RIGHT(LARGE(COUNTIF(OFFSET($J73,-1,0,-1*$Q$3,5),{0,1,2,3,4,5,6,7,8,9})*1000+{100,90,80,70,60,50,40,30,20,10}+{0,1,2,3,4,5,6,7,8,9},COLUMN(I$21))),\"\"))","v":"9"},{"$f":"IF(OR(LEN($O73)=0),\"\",IFERROR(RIGHT(LARGE(COUNTIF(OFFSET($J73,-1,0,-1*$Q$3,5),{0,1,2,3,4,5,6,7,8,9})*1000+{100,90,80,70,60,50,40,30,20,10}+{0,1,2,3,4,5,6,7,8,9},COLUMN(J$21))),\"\"))","v":"7"},"4526","4","5","2","6","","","","","",""]
["20200514283","29853","2","9","8","5","3",null,null,"","","8","5","3","853",{"$f":"IF(OR(LEN($O74)=0),\"\",IFERROR(RIGHT(LARGE(COUNTIF(OFFSET($J74,-1,0,-1*$Q$3,5),{0,1,2,3,4,5,6,7,8,9})*1000+{100,90,80,70,60,50,40,30,20,10}+{0,1,2,3,4,5,6,7,8,9},COLUMN(A$21))),\"\"))","v":"4"},{"$f":"IF(OR(LEN($O74)=0),\"\",IFERROR(RIGHT(LARGE(COUNTIF(OFFSET($J74,-1,0,-1*$Q$3,5),{0,1,2,3,4,5,6,7,8,9})*1000+{100,90,80,70,60,50,40,30,20,10}+{0,1,2,3,4,5,6,7,8,9},COLUMN(B$21))),\"\"))","v":"2"},{"$f":"IF(OR(LEN($O74)=0),\"\",IFERROR(RIGHT(LARGE(COUNTIF(OFFSET($J74,-1,0,-1*$Q$3,5),{0,1,2,3,4,5,6,7,8,9})*1000+{100,90,80,70,60,50,40,30,20,10}+{0,1,2,3,4,5,6,7,8,9},COLUMN(C$21))),\"\"))","v":"5"},{"$f":"IF(OR(LEN($O74)=0),\"\",IFERROR(RIGHT(LARGE(COUNTIF(OFFSET($J74,-1,0,-1*$Q$3,5),{0,1,2,3,4,5,6,7,8,9})*1000+{100,90,80,70,60,50,40,30,20,10}+{0,1,2,3,4,5,6,7,8,9},COLUMN(D$21))),\"\"))","v":"3"},{"$f":"IF(OR(LEN($O74)=0),\"\",IFERROR(RIGHT(LARGE(COUNTIF(OFFSET($J74,-1,0,-1*$Q$3,5),{0,1,2,3,4,5,6,7,8,9})*1000+{100,90,80,70,60,50,40,30,20,10}+{0,1,2,3,4,5,6,7,8,9},COLUMN(E$21))),\"\"))","v":"6"},{"$f":"IF(OR(LEN($O74)=0),\"\",IFERROR(RIGHT(LARGE(COUNTIF(OFFSET($J74,-1,0,-1*$Q$3,5),{0,1,2,3,4,5,6,7,8,9})*1000+{100,90,80,70,60,50,40,30,20,10}+{0,1,2,3,4,5,6,7,8,9},COLUMN(F$21))),\"\"))","v":"0"},{"$f":"IF(OR(LEN($O74)=0),\"\",IFERROR(RIGHT(LARGE(COUNTIF(OFFSET($J74,-1,0,-1*$Q$3,5),{0,1,2,3,4,5,6,7,8,9})*1000+{100,90,80,70,60,50,40,30,20,10}+{0,1,2,3,4,5,6,7,8,9},COLUMN(G$21))),\"\"))","v":"1"},{"$f":"IF(OR(LEN($O74)=0),\"\",IFERROR(RIGHT(LARGE(COUNTIF(OFFSET($J74,-1,0,-1*$Q$3,5),{0,1,2,3,4,5,6,7,8,9})*1000+{100,90,80,70,60,50,40,30,20,10}+{0,1,2,3,4,5,6,7,8,9},COLUMN(H$21))),\"\"))","v":"8"},{"$f":"IF(OR(LEN($O74)=0),\"\",IFERROR(RIGHT(LARGE(COUNTIF(OFFSET($J74,-1,0,-1*$Q$3,5),{0,1,2,3,4,5,6,7,8,9})*1000+{100,90,80,70,60,50,40,30,20,10}+{0,1,2,3,4,5,6,7,8,9},COLUMN(I$21))),\"\"))","v":"7"},{"$f":"IF(OR(LEN($O74)=0),\"\",IFERROR(RIGHT(LARGE(COUNTIF(OFFSET($J74,-1,0,-1*$Q$3,5),{0,1,2,3,4,5,6,7,8,9})*1000+{100,90,80,70,60,50,40,30,20,10}+{0,1,2,3,4,5,6,7,8,9},COLUMN(J$21))),\"\"))","v":"9"},"4253","4","2","5","3","","","","","",""]
["20200514284","75696","7","5","6","9","6",null,null,"","","6","9","6","696",{"$f":"IF(OR(LEN($O75)=0),\"\",IFERROR(RIGHT(LARGE(COUNTIF(OFFSET($J75,-1,0,-1*$Q$3,5),{0,1,2,3,4,5,6,7,8,9})*1000+{100,90,80,70,60,50,40,30,20,10}+{0,1,2,3,4,5,6,7,8,9},COLUMN(A$21))),\"\"))","v":"4"},{"$f":"IF(OR(LEN($O75)=0),\"\",IFERROR(RIGHT(LARGE(COUNTIF(OFFSET($J75,-1,0,-1*$Q$3,5),{0,1,2,3,4,5,6,7,8,9})*1000+{100,90,80,70,60,50,40,30,20,10}+{0,1,2,3,4,5,6,7,8,9},COLUMN(B$21))),\"\"))","v":"2"},{"$f":"IF(OR(LEN($O75)=0),\"\",IFERROR(RIGHT(LARGE(COUNTIF(OFFSET($J75,-1,0,-1*$Q$3,5),{0,1,2,3,4,5,6,7,8,9})*1000+{100,90,80,70,60,50,40,30,20,10}+{0,1,2,3,4,5,6,7,8,9},COLUMN(C$21))),\"\"))","v":"5"},{"$f":"IF(OR(LEN($O75)=0),\"\",IFERROR(RIGHT(LARGE(COUNTIF(OFFSET($J75,-1,0,-1*$Q$3,5),{0,1,2,3,4,5,6,7,8,9})*1000+{100,90,80,70,60,50,40,30,20,10}+{0,1,2,3,4,5,6,7,8,9},COLUMN(D$21))),\"\"))","v":"3"},{"$f":"IF(OR(LEN($O75)=0),\"\",IFERROR(RIGHT(LARGE(COUNTIF(OFFSET($J75,-1,0,-1*$Q$3,5),{0,1,2,3,4,5,6,7,8,9})*1000+{100,90,80,70,60,50,40,30,20,10}+{0,1,2,3,4,5,6,7,8,9},COLUMN(E$21))),\"\"))","v":"0"},{"$f":"IF(OR(LEN($O75)=0),\"\",IFERROR(RIGHT(LARGE(COUNTIF(OFFSET($J75,-1,0,-1*$Q$3,5),{0,1,2,3,4,5,6,7,8,9})*1000+{100,90,80,70,60,50,40,30,20,10}+{0,1,2,3,4,5,6,7,8,9},COLUMN(F$21))),\"\"))","v":"6"},{"$f":"IF(OR(LEN($O75)=0),\"\",IFERROR(RIGHT(LARGE(COUNTIF(OFFSET($J75,-1,0,-1*$Q$3,5),{0,1,2,3,4,5,6,7,8,9})*1000+{100,90,80,70,60,50,40,30,20,10}+{0,1,2,3,4,5,6,7,8,9},COLUMN(G$21))),\"\"))","v":"1"},{"$f":"IF(OR(LEN($O75)=0),\"\",IFERROR(RIGHT(LARGE(COUNTIF(OFFSET($J75,-1,0,-1*$Q$3,5),{0,1,2,3,4,5,6,7,8,9})*1000+{100,90,80,70,60,50,40,30,20,10}+{0,1,2,3,4,5,6,7,8,9},COLUMN(H$21))),\"\"))","v":"8"},{"$f":"IF(OR(LEN($O75)=0),\"\",IFERROR(RIGHT(LARGE(COUNTIF(OFFSET($J75,-1,0,-1*$Q$3,5),{0,1,2,3,4,5,6,7,8,9})*1000+{100,90,80,70,60,50,40,30,20,10}+{0,1,2,3,4,5,6,7,8,9},COLUMN(I$21))),\"\"))","v":"7"},{"$f":"IF(OR(LEN($O75)=0),\"\",IFERROR(RIGHT(LARGE(COUNTIF(OFFSET($J75,-1,0,-1*$Q$3,5),{0,1,2,3,4,5,6,7,8,9})*1000+{100,90,80,70,60,50,40,30,20,10}+{0,1,2,3,4,5,6,7,8,9},COLUMN(J$21))),\"\"))","v":"9"},"4253","4","2","5","3","","","","","",""]
["20200514285","98315","9","8","3","1","5",null,null,"","","3","1","5","315",{"$f":"IF(OR(LEN($O76)=0),\"\",IFERROR(RIGHT(LARGE(COUNTIF(OFFSET($J76,-1,0,-1*$Q$3,5),{0,1,2,3,4,5,6,7,8,9})*1000+{100,90,80,70,60,50,40,30,20,10}+{0,1,2,3,4,5,6,7,8,9},COLUMN(A$21))),\"\"))","v":"4"},{"$f":"IF(OR(LEN($O76)=0),\"\",IFERROR(RIGHT(LARGE(COUNTIF(OFFSET($J76,-1,0,-1*$Q$3,5),{0,1,2,3,4,5,6,7,8,9})*1000+{100,90,80,70,60,50,40,30,20,10}+{0,1,2,3,4,5,6,7,8,9},COLUMN(B$21))),\"\"))","v":"2"},{"$f":"IF(OR(LEN($O76)=0),\"\",IFERROR(RIGHT(LARGE(COUNTIF(OFFSET($J76,-1,0,-1*$Q$3,5),{0,1,2,3,4,5,6,7,8,9})*1000+{100,90,80,70,60,50,40,30,20,10}+{0,1,2,3,4,5,6,7,8,9},COLUMN(C$21))),\"\"))","v":"5"},{"$f":"IF(OR(LEN($O76)=0),\"\",IFERROR(RIGHT(LARGE(COUNTIF(OFFSET($J76,-1,0,-1*$Q$3,5),{0,1,2,3,4,5,6,7,8,9})*1000+{100,90,80,70,60,50,40,30,20,10}+{0,1,2,3,4,5,6,7,8,9},COLUMN(D$21))),\"\"))","v":"6"},{"$f":"IF(OR(LEN($O76)=0),\"\",IFERROR(RIGHT(LARGE(COUNTIF(OFFSET($J76,-1,0,-1*$Q$3,5),{0,1,2,3,4,5,6,7,8,9})*1000+{100,90,80,70,60,50,40,30,20,10}+{0,1,2,3,4,5,6,7,8,9},COLUMN(E$21))),\"\"))","v":"3"},{"$f":"IF(OR(LEN($O76)=0),\"\",IFERROR(RIGHT(LARGE(COUNTIF(OFFSET($J76,-1,0,-1*$Q$3,5),{0,1,2,3,4,5,6,7,8,9})*1000+{100,90,80,70,60,50,40,30,20,10}+{0,1,2,3,4,5,6,7,8,9},COLUMN(F$21))),\"\"))","v":"0"},{"$f":"IF(OR(LEN($O76)=0),\"\",IFERROR(RIGHT(LARGE(COUNTIF(OFFSET($J76,-1,0,-1*$Q$3,5),{0,1,2,3,4,5,6,7,8,9})*1000+{100,90,80,70,60,50,40,30,20,10}+{0,1,2,3,4,5,6,7,8,9},COLUMN(G$21))),\"\"))","v":"1"},{"$f":"IF(OR(LEN($O76)=0),\"\",IFERROR(RIGHT(LARGE(COUNTIF(OFFSET($J76,-1,0,-1*$Q$3,5),{0,1,2,3,4,5,6,7,8,9})*1000+{100,90,80,70,60,50,40,30,20,10}+{0,1,2,3,4,5,6,7,8,9},COLUMN(H$21))),\"\"))","v":"8"},{"$f":"IF(OR(LEN($O76)=0),\"\",IFERROR(RIGHT(LARGE(COUNTIF(OFFSET($J76,-1,0,-1*$Q$3,5),{0,1,2,3,4,5,6,7,8,9})*1000+{100,90,80,70,60,50,40,30,20,10}+{0,1,2,3,4,5,6,7,8,9},COLUMN(I$21))),\"\"))","v":"7"},{"$f":"IF(OR(LEN($O76)=0),\"\",IFERROR(RIGHT(LARGE(COUNTIF(OFFSET($J76,-1,0,-1*$Q$3,5),{0,1,2,3,4,5,6,7,8,9})*1000+{100,90,80,70,60,50,40,30,20,10}+{0,1,2,3,4,5,6,7,8,9},COLUMN(J$21))),\"\"))","v":"9"},"4256","4","2","5","6","","","","","",""]
["20200514286","11374","1","1","3","7","4",null,null,"","","3","7","4","374",{"$f":"IF(OR(LEN($O77)=0),\"\",IFERROR(RIGHT(LARGE(COUNTIF(OFFSET($J77,-1,0,-1*$Q$3,5),{0,1,2,3,4,5,6,7,8,9})*1000+{100,90,80,70,60,50,40,30,20,10}+{0,1,2,3,4,5,6,7,8,9},COLUMN(A$21))),\"\"))","v":"4"},{"$f":"IF(OR(LEN($O77)=0),\"\",IFERROR(RIGHT(LARGE(COUNTIF(OFFSET($J77,-1,0,-1*$Q$3,5),{0,1,2,3,4,5,6,7,8,9})*1000+{100,90,80,70,60,50,40,30,20,10}+{0,1,2,3,4,5,6,7,8,9},COLUMN(B$21))),\"\"))","v":"5"},{"$f":"IF(OR(LEN($O77)=0),\"\",IFERROR(RIGHT(LARGE(COUNTIF(OFFSET($J77,-1,0,-1*$Q$3,5),{0,1,2,3,4,5,6,7,8,9})*1000+{100,90,80,70,60,50,40,30,20,10}+{0,1,2,3,4,5,6,7,8,9},COLUMN(C$21))),\"\"))","v":"3"},{"$f":"IF(OR(LEN($O77)=0),\"\",IFERROR(RIGHT(LARGE(COUNTIF(OFFSET($J77,-1,0,-1*$Q$3,5),{0,1,2,3,4,5,6,7,8,9})*1000+{100,90,80,70,60,50,40,30,20,10}+{0,1,2,3,4,5,6,7,8,9},COLUMN(D$21))),\"\"))","v":"6"},{"$f":"IF(OR(LEN($O77)=0),\"\",IFERROR(RIGHT(LARGE(COUNTIF(OFFSET($J77,-1,0,-1*$Q$3,5),{0,1,2,3,4,5,6,7,8,9})*1000+{100,90,80,70,60,50,40,30,20,10}+{0,1,2,3,4,5,6,7,8,9},COLUMN(E$21))),\"\"))","v":"2"},{"$f":"IF(OR(LEN($O77)=0),\"\",IFERROR(RIGHT(LARGE(COUNTIF(OFFSET($J77,-1,0,-1*$Q$3,5),{0,1,2,3,4,5,6,7,8,9})*1000+{100,90,80,70,60,50,40,30,20,10}+{0,1,2,3,4,5,6,7,8,9},COLUMN(F$21))),\"\"))","v":"0"},{"$f":"IF(OR(LEN($O77)=0),\"\",IFERROR(RIGHT(LARGE(COUNTIF(OFFSET($J77,-1,0,-1*$Q$3,5),{0,1,2,3,4,5,6,7,8,9})*1000+{100,90,80,70,60,50,40,30,20,10}+{0,1,2,3,4,5,6,7,8,9},COLUMN(G$21))),\"\"))","v":"1"},{"$f":"IF(OR(LEN($O77)=0),\"\",IFERROR(RIGHT(LARGE(COUNTIF(OFFSET($J77,-1,0,-1*$Q$3,5),{0,1,2,3,4,5,6,7,8,9})*1000+{100,90,80,70,60,50,40,30,20,10}+{0,1,2,3,4,5,6,7,8,9},COLUMN(H$21))),\"\"))","v":"8"},{"$f":"IF(OR(LEN($O77)=0),\"\",IFERROR(RIGHT(LARGE(COUNTIF(OFFSET($J77,-1,0,-1*$Q$3,5),{0,1,2,3,4,5,6,7,8,9})*1000+{100,90,80,70,60,50,40,30,20,10}+{0,1,2,3,4,5,6,7,8,9},COLUMN(I$21))),\"\"))","v":"7"},{"$f":"IF(OR(LEN($O77)=0),\"\",IFERROR(RIGHT(LARGE(COUNTIF(OFFSET($J77,-1,0,-1*$Q$3,5),{0,1,2,3,4,5,6,7,8,9})*1000+{100,90,80,70,60,50,40,30,20,10}+{0,1,2,3,4,5,6,7,8,9},COLUMN(J$21))),\"\"))","v":"9"},"4536","4","5","3","6","","","","","",""]
["20200514287","44589","4","4","5","8","9",null,null,"","","5","8","9","589",{"$f":"IF(OR(LEN($O78)=0),\"\",IFERROR(RIGHT(LARGE(COUNTIF(OFFSET($J78,-1,0,-1*$Q$3,5),{0,1,2,3,4,5,6,7,8,9})*1000+{100,90,80,70,60,50,40,30,20,10}+{0,1,2,3,4,5,6,7,8,9},COLUMN(A$21))),\"\"))","v":"4"},{"$f":"IF(OR(LEN($O78)=0),\"\",IFERROR(RIGHT(LARGE(COUNTIF(OFFSET($J78,-1,0,-1*$Q$3,5),{0,1,2,3,4,5,6,7,8,9})*1000+{100,90,80,70,60,50,40,30,20,10}+{0,1,2,3,4,5,6,7,8,9},COLUMN(B$21))),\"\"))","v":"3"},{"$f":"IF(OR(LEN($O78)=0),\"\",IFERROR(RIGHT(LARGE(COUNTIF(OFFSET($J78,-1,0,-1*$Q$3,5),{0,1,2,3,4,5,6,7,8,9})*1000+{100,90,80,70,60,50,40,30,20,10}+{0,1,2,3,4,5,6,7,8,9},COLUMN(C$21))),\"\"))","v":"5"},{"$f":"IF(OR(LEN($O78)=0),\"\",IFERROR(RIGHT(LARGE(COUNTIF(OFFSET($J78,-1,0,-1*$Q$3,5),{0,1,2,3,4,5,6,7,8,9})*1000+{100,90,80,70,60,50,40,30,20,10}+{0,1,2,3,4,5,6,7,8,9},COLUMN(D$21))),\"\"))","v":"2"},{"$f":"IF(OR(LEN($O78)=0),\"\",IFERROR(RIGHT(LARGE(COUNTIF(OFFSET($J78,-1,0,-1*$Q$3,5),{0,1,2,3,4,5,6,7,8,9})*1000+{100,90,80,70,60,50,40,30,20,10}+{0,1,2,3,4,5,6,7,8,9},COLUMN(E$21))),\"\"))","v":"6"},{"$f":"IF(OR(LEN($O78)=0),\"\",IFERROR(RIGHT(LARGE(COUNTIF(OFFSET($J78,-1,0,-1*$Q$3,5),{0,1,2,3,4,5,6,7,8,9})*1000+{100,90,80,70,60,50,40,30,20,10}+{0,1,2,3,4,5,6,7,8,9},COLUMN(F$21))),\"\"))","v":"0"},{"$f":"IF(OR(LEN($O78)=0),\"\",IFERROR(RIGHT(LARGE(COUNTIF(OFFSET($J78,-1,0,-1*$Q$3,5),{0,1,2,3,4,5,6,7,8,9})*1000+{100,90,80,70,60,50,40,30,20,10}+{0,1,2,3,4,5,6,7,8,9},COLUMN(G$21))),\"\"))","v":"1"},{"$f":"IF(OR(LEN($O78)=0),\"\",IFERROR(RIGHT(LARGE(COUNTIF(OFFSET($J78,-1,0,-1*$Q$3,5),{0,1,2,3,4,5,6,7,8,9})*1000+{100,90,80,70,60,50,40,30,20,10}+{0,1,2,3,4,5,6,7,8,9},COLUMN(H$21))),\"\"))","v":"8"},{"$f":"IF(OR(LEN($O78)=0),\"\",IFERROR(RIGHT(LARGE(COUNTIF(OFFSET($J78,-1,0,-1*$Q$3,5),{0,1,2,3,4,5,6,7,8,9})*1000+{100,90,80,70,60,50,40,30,20,10}+{0,1,2,3,4,5,6,7,8,9},COLUMN(I$21))),\"\"))","v":"7"},{"$f":"IF(OR(LEN($O78)=0),\"\",IFERROR(RIGHT(LARGE(COUNTIF(OFFSET($J78,-1,0,-1*$Q$3,5),{0,1,2,3,4,5,6,7,8,9})*1000+{100,90,80,70,60,50,40,30,20,10}+{0,1,2,3,4,5,6,7,8,9},COLUMN(J$21))),\"\"))","v":"9"},"4352","4","3","5","2","","","","","",""]
["20200514288","37434","3","7","4","3","4",null,null,"","","4","3","4","434",{"$f":"IF(OR(LEN($O79)=0),\"\",IFERROR(RIGHT(LARGE(COUNTIF(OFFSET($J79,-1,0,-1*$Q$3,5),{0,1,2,3,4,5,6,7,8,9})*1000+{100,90,80,70,60,50,40,30,20,10}+{0,1,2,3,4,5,6,7,8,9},COLUMN(A$21))),\"\"))","v":"5"},{"$f":"IF(OR(LEN($O79)=0),\"\",IFERROR(RIGHT(LARGE(COUNTIF(OFFSET($J79,-1,0,-1*$Q$3,5),{0,1,2,3,4,5,6,7,8,9})*1000+{100,90,80,70,60,50,40,30,20,10}+{0,1,2,3,4,5,6,7,8,9},COLUMN(B$21))),\"\"))","v":"3"},{"$f":"IF(OR(LEN($O79)=0),\"\",IFERROR(RIGHT(LARGE(COUNTIF(OFFSET($J79,-1,0,-1*$Q$3,5),{0,1,2,3,4,5,6,7,8,9})*1000+{100,90,80,70,60,50,40,30,20,10}+{0,1,2,3,4,5,6,7,8,9},COLUMN(C$21))),\"\"))","v":"4"},{"$f":"IF(OR(LEN($O79)=0),\"\",IFERROR(RIGHT(LARGE(COUNTIF(OFFSET($J79,-1,0,-1*$Q$3,5),{0,1,2,3,4,5,6,7,8,9})*1000+{100,90,80,70,60,50,40,30,20,10}+{0,1,2,3,4,5,6,7,8,9},COLUMN(D$21))),\"\"))","v":"2"},{"$f":"IF(OR(LEN($O79)=0),\"\",IFERROR(RIGHT(LARGE(COUNTIF(OFFSET($J79,-1,0,-1*$Q$3,5),{0,1,2,3,4,5,6,7,8,9})*1000+{100,90,80,70,60,50,40,30,20,10}+{0,1,2,3,4,5,6,7,8,9},COLUMN(E$21))),\"\"))","v":"6"},{"$f":"IF(OR(LEN($O79)=0),\"\",IFERROR(RIGHT(LARGE(COUNTIF(OFFSET($J79,-1,0,-1*$Q$3,5),{0,1,2,3,4,5,6,7,8,9})*1000+{100,90,80,70,60,50,40,30,20,10}+{0,1,2,3,4,5,6,7,8,9},COLUMN(F$21))),\"\"))","v":"0"},{"$f":"IF(OR(LEN($O79)=0),\"\",IFERROR(RIGHT(LARGE(COUNTIF(OFFSET($J79,-1,0,-1*$Q$3,5),{0,1,2,3,4,5,6,7,8,9})*1000+{100,90,80,70,60,50,40,30,20,10}+{0,1,2,3,4,5,6,7,8,9},COLUMN(G$21))),\"\"))","v":"8"},{"$f":"IF(OR(LEN($O79)=0),\"\",IFERROR(RIGHT(LARGE(COUNTIF(OFFSET($J79,-1,0,-1*$Q$3,5),{0,1,2,3,4,5,6,7,8,9})*1000+{100,90,80,70,60,50,40,30,20,10}+{0,1,2,3,4,5,6,7,8,9},COLUMN(H$21))),\"\"))","v":"1"},{"$f":"IF(OR(LEN($O79)=0),\"\",IFERROR(RIGHT(LARGE(COUNTIF(OFFSET($J79,-1,0,-1*$Q$3,5),{0,1,2,3,4,5,6,7,8,9})*1000+{100,90,80,70,60,50,40,30,20,10}+{0,1,2,3,4,5,6,7,8,9},COLUMN(I$21))),\"\"))","v":"7"},{"$f":"IF(OR(LEN($O79)=0),\"\",IFERROR(RIGHT(LARGE(COUNTIF(OFFSET($J79,-1,0,-1*$Q$3,5),{0,1,2,3,4,5,6,7,8,9})*1000+{100,90,80,70,60,50,40,30,20,10}+{0,1,2,3,4,5,6,7,8,9},COLUMN(J$21))),\"\"))","v":"9"},"5342","5","3","4","2","","","","","",""]
["20200515001","27187","2","7","1","8","7",null,null,"","","1","8","7","187",{"$f":"IF(OR(LEN($O80)=0),\"\",IFERROR(RIGHT(LARGE(COUNTIF(OFFSET($J80,-1,0,-1*$Q$3,5),{0,1,2,3,4,5,6,7,8,9})*1000+{100,90,80,70,60,50,40,30,20,10}+{0,1,2,3,4,5,6,7,8,9},COLUMN(A$21))),\"\"))","v":"4"},{"$f":"IF(OR(LEN($O80)=0),\"\",IFERROR(RIGHT(LARGE(COUNTIF(OFFSET($J80,-1,0,-1*$Q$3,5),{0,1,2,3,4,5,6,7,8,9})*1000+{100,90,80,70,60,50,40,30,20,10}+{0,1,2,3,4,5,6,7,8,9},COLUMN(B$21))),\"\"))","v":"3"},{"$f":"IF(OR(LEN($O80)=0),\"\",IFERROR(RIGHT(LARGE(COUNTIF(OFFSET($J80,-1,0,-1*$Q$3,5),{0,1,2,3,4,5,6,7,8,9})*1000+{100,90,80,70,60,50,40,30,20,10}+{0,1,2,3,4,5,6,7,8,9},COLUMN(C$21))),\"\"))","v":"5"},{"$f":"IF(OR(LEN($O80)=0),\"\",IFERROR(RIGHT(LARGE(COUNTIF(OFFSET($J80,-1,0,-1*$Q$3,5),{0,1,2,3,4,5,6,7,8,9})*1000+{100,90,80,70,60,50,40,30,20,10}+{0,1,2,3,4,5,6,7,8,9},COLUMN(D$21))),\"\"))","v":"6"},{"$f":"IF(OR(LEN($O80)=0),\"\",IFERROR(RIGHT(LARGE(COUNTIF(OFFSET($J80,-1,0,-1*$Q$3,5),{0,1,2,3,4,5,6,7,8,9})*1000+{100,90,80,70,60,50,40,30,20,10}+{0,1,2,3,4,5,6,7,8,9},COLUMN(E$21))),\"\"))","v":"2"},{"$f":"IF(OR(LEN($O80)=0),\"\",IFERROR(RIGHT(LARGE(COUNTIF(OFFSET($J80,-1,0,-1*$Q$3,5),{0,1,2,3,4,5,6,7,8,9})*1000+{100,90,80,70,60,50,40,30,20,10}+{0,1,2,3,4,5,6,7,8,9},COLUMN(F$21))),\"\"))","v":"8"},{"$f":"IF(OR(LEN($O80)=0),\"\",IFERROR(RIGHT(LARGE(COUNTIF(OFFSET($J80,-1,0,-1*$Q$3,5),{0,1,2,3,4,5,6,7,8,9})*1000+{100,90,80,70,60,50,40,30,20,10}+{0,1,2,3,4,5,6,7,8,9},COLUMN(G$21))),\"\"))","v":"0"},{"$f":"IF(OR(LEN($O80)=0),\"\",IFERROR(RIGHT(LARGE(COUNTIF(OFFSET($J80,-1,0,-1*$Q$3,5),{0,1,2,3,4,5,6,7,8,9})*1000+{100,90,80,70,60,50,40,30,20,10}+{0,1,2,3,4,5,6,7,8,9},COLUMN(H$21))),\"\"))","v":"1"},{"$f":"IF(OR(LEN($O80)=0),\"\",IFERROR(RIGHT(LARGE(COUNTIF(OFFSET($J80,-1,0,-1*$Q$3,5),{0,1,2,3,4,5,6,7,8,9})*1000+{100,90,80,70,60,50,40,30,20,10}+{0,1,2,3,4,5,6,7,8,9},COLUMN(I$21))),\"\"))","v":"7"},{"$f":"IF(OR(LEN($O80)=0),\"\",IFERROR(RIGHT(LARGE(COUNTIF(OFFSET($J80,-1,0,-1*$Q$3,5),{0,1,2,3,4,5,6,7,8,9})*1000+{100,90,80,70,60,50,40,30,20,10}+{0,1,2,3,4,5,6,7,8,9},COLUMN(J$21))),\"\"))","v":"9"},"4356","4","3","5","6","","","","","",""]
["20200515002","08026","0","8","0","2","6",null,null,"","","0","2","6","026",{"$f":"IF(OR(LEN($O81)=0),\"\",IFERROR(RIGHT(LARGE(COUNTIF(OFFSET($J81,-1,0,-1*$Q$3,5),{0,1,2,3,4,5,6,7,8,9})*1000+{100,90,80,70,60,50,40,30,20,10}+{0,1,2,3,4,5,6,7,8,9},COLUMN(A$21))),\"\"))","v":"3"},{"$f":"IF(OR(LEN($O81)=0),\"\",IFERROR(RIGHT(LARGE(COUNTIF(OFFSET($J81,-1,0,-1*$Q$3,5),{0,1,2,3,4,5,6,7,8,9})*1000+{100,90,80,70,60,50,40,30,20,10}+{0,1,2,3,4,5,6,7,8,9},COLUMN(B$21))),\"\"))","v":"4"},{"$f":"IF(OR(LEN($O81)=0),\"\",IFERROR(RIGHT(LARGE(COUNTIF(OFFSET($J81,-1,0,-1*$Q$3,5),{0,1,2,3,4,5,6,7,8,9})*1000+{100,90,80,70,60,50,40,30,20,10}+{0,1,2,3,4,5,6,7,8,9},COLUMN(C$21))),\"\"))","v":"5"},{"$f":"IF(OR(LEN($O81)=0),\"\",IFERROR(RIGHT(LARGE(COUNTIF(OFFSET($J81,-1,0,-1*$Q$3,5),{0,1,2,3,4,5,6,7,8,9})*1000+{100,90,80,70,60,50,40,30,20,10}+{0,1,2,3,4,5,6,7,8,9},COLUMN(D$21))),\"\"))","v":"6"},{"$f":"IF(OR(LEN($O81)=0),\"\",IFERROR(RIGHT(LARGE(COUNTIF(OFFSET($J81,-1,0,-1*$Q$3,5),{0,1,2,3,4,5,6,7,8,9})*1000+{100,90,80,70,60,50,40,30,20,10}+{0,1,2,3,4,5,6,7,8,9},COLUMN(E$21))),\"\"))","v":"8"},{"$f":"IF(OR(LEN($O81)=0),\"\",IFERROR(RIGHT(LARGE(COUNTIF(OFFSET($J81,-1,0,-1*$Q$3,5),{0,1,2,3,4,5,6,7,8,9})*1000+{100,90,80,70,60,50,40,30,20,10}+{0,1,2,3,4,5,6,7,8,9},COLUMN(F$21))),\"\"))","v":"1"},{"$f":"IF(OR(LEN($O81)=0),\"\",IFERROR(RIGHT(LARGE(COUNTIF(OFFSET($J81,-1,0,-1*$Q$3,5),{0,1,2,3,4,5,6,7,8,9})*1000+{100,90,80,70,60,50,40,30,20,10}+{0,1,2,3,4,5,6,7,8,9},COLUMN(G$21))),\"\"))","v":"0"},{"$f":"IF(OR(LEN($O81)=0),\"\",IFERROR(RIGHT(LARGE(COUNTIF(OFFSET($J81,-1,0,-1*$Q$3,5),{0,1,2,3,4,5,6,7,8,9})*1000+{100,90,80,70,60,50,40,30,20,10}+{0,1,2,3,4,5,6,7,8,9},COLUMN(H$21))),\"\"))","v":"2"},{"$f":"IF(OR(LEN($O81)=0),\"\",IFERROR(RIGHT(LARGE(COUNTIF(OFFSET($J81,-1,0,-1*$Q$3,5),{0,1,2,3,4,5,6,7,8,9})*1000+{100,90,80,70,60,50,40,30,20,10}+{0,1,2,3,4,5,6,7,8,9},COLUMN(I$21))),\"\"))","v":"7"},{"$f":"IF(OR(LEN($O81)=0),\"\",IFERROR(RIGHT(LARGE(COUNTIF(OFFSET($J81,-1,0,-1*$Q$3,5),{0,1,2,3,4,5,6,7,8,9})*1000+{100,90,80,70,60,50,40,30,20,10}+{0,1,2,3,4,5,6,7,8,9},COLUMN(J$21))),\"\"))","v":"9"},"3456","3","4","5","6","","","","","",""]
["20200515003","44824","4","4","8","2","4",null,null,"","","8","2","4","824",{"$f":"IF(OR(LEN($O82)=0),\"\",IFERROR(RIGHT(LARGE(COUNTIF(OFFSET($J82,-1,0,-1*$Q$3,5),{0,1,2,3,4,5,6,7,8,9})*1000+{100,90,80,70,60,50,40,30,20,10}+{0,1,2,3,4,5,6,7,8,9},COLUMN(A$21))),\"\"))","v":"5"},{"$f":"IF(OR(LEN($O82)=0),\"\",IFERROR(RIGHT(LARGE(COUNTIF(OFFSET($J82,-1,0,-1*$Q$3,5),{0,1,2,3,4,5,6,7,8,9})*1000+{100,90,80,70,60,50,40,30,20,10}+{0,1,2,3,4,5,6,7,8,9},COLUMN(B$21))),\"\"))","v":"3"},{"$f":"IF(OR(LEN($O82)=0),\"\",IFERROR(RIGHT(LARGE(COUNTIF(OFFSET($J82,-1,0,-1*$Q$3,5),{0,1,2,3,4,5,6,7,8,9})*1000+{100,90,80,70,60,50,40,30,20,10}+{0,1,2,3,4,5,6,7,8,9},COLUMN(C$21))),\"\"))","v":"4"},{"$f":"IF(OR(LEN($O82)=0),\"\",IFERROR(RIGHT(LARGE(COUNTIF(OFFSET($J82,-1,0,-1*$Q$3,5),{0,1,2,3,4,5,6,7,8,9})*1000+{100,90,80,70,60,50,40,30,20,10}+{0,1,2,3,4,5,6,7,8,9},COLUMN(D$21))),\"\"))","v":"6"},{"$f":"IF(OR(LEN($O82)=0),\"\",IFERROR(RIGHT(LARGE(COUNTIF(OFFSET($J82,-1,0,-1*$Q$3,5),{0,1,2,3,4,5,6,7,8,9})*1000+{100,90,80,70,60,50,40,30,20,10}+{0,1,2,3,4,5,6,7,8,9},COLUMN(E$21))),\"\"))","v":"8"},{"$f":"IF(OR(LEN($O82)=0),\"\",IFERROR(RIGHT(LARGE(COUNTIF(OFFSET($J82,-1,0,-1*$Q$3,5),{0,1,2,3,4,5,6,7,8,9})*1000+{100,90,80,70,60,50,40,30,20,10}+{0,1,2,3,4,5,6,7,8,9},COLUMN(F$21))),\"\"))","v":"1"},{"$f":"IF(OR(LEN($O82)=0),\"\",IFERROR(RIGHT(LARGE(COUNTIF(OFFSET($J82,-1,0,-1*$Q$3,5),{0,1,2,3,4,5,6,7,8,9})*1000+{100,90,80,70,60,50,40,30,20,10}+{0,1,2,3,4,5,6,7,8,9},COLUMN(G$21))),\"\"))","v":"2"},{"$f":"IF(OR(LEN($O82)=0),\"\",IFERROR(RIGHT(LARGE(COUNTIF(OFFSET($J82,-1,0,-1*$Q$3,5),{0,1,2,3,4,5,6,7,8,9})*1000+{100,90,80,70,60,50,40,30,20,10}+{0,1,2,3,4,5,6,7,8,9},COLUMN(H$21))),\"\"))","v":"0"},{"$f":"IF(OR(LEN($O82)=0),\"\",IFERROR(RIGHT(LARGE(COUNTIF(OFFSET($J82,-1,0,-1*$Q$3,5),{0,1,2,3,4,5,6,7,8,9})*1000+{100,90,80,70,60,50,40,30,20,10}+{0,1,2,3,4,5,6,7,8,9},COLUMN(I$21))),\"\"))","v":"7"},{"$f":"IF(OR(LEN($O82)=0),\"\",IFERROR(RIGHT(LARGE(COUNTIF(OFFSET($J82,-1,0,-1*$Q$3,5),{0,1,2,3,4,5,6,7,8,9})*1000+{100,90,80,70,60,50,40,30,20,10}+{0,1,2,3,4,5,6,7,8,9},COLUMN(J$21))),\"\"))","v":"9"},"5346","5","3","4","6","","","","","",""]
["20200515004","94626","9","4","6","2","6",null,null,"","","6","2","6","626",{"$f":"IF(OR(LEN($O83)=0),\"\",IFERROR(RIGHT(LARGE(COUNTIF(OFFSET($J83,-1,0,-1*$Q$3,5),{0,1,2,3,4,5,6,7,8,9})*1000+{100,90,80,70,60,50,40,30,20,10}+{0,1,2,3,4,5,6,7,8,9},COLUMN(A$21))),\"\"))","v":"4"},{"$f":"IF(OR(LEN($O83)=0),\"\",IFERROR(RIGHT(LARGE(COUNTIF(OFFSET($J83,-1,0,-1*$Q$3,5),{0,1,2,3,4,5,6,7,8,9})*1000+{100,90,80,70,60,50,40,30,20,10}+{0,1,2,3,4,5,6,7,8,9},COLUMN(B$21))),\"\"))","v":"3"},{"$f":"IF(OR(LEN($O83)=0),\"\",IFERROR(RIGHT(LARGE(COUNTIF(OFFSET($J83,-1,0,-1*$Q$3,5),{0,1,2,3,4,5,6,7,8,9})*1000+{100,90,80,70,60,50,40,30,20,10}+{0,1,2,3,4,5,6,7,8,9},COLUMN(C$21))),\"\"))","v":"5"},{"$f":"IF(OR(LEN($O83)=0),\"\",IFERROR(RIGHT(LARGE(COUNTIF(OFFSET($J83,-1,0,-1*$Q$3,5),{0,1,2,3,4,5,6,7,8,9})*1000+{100,90,80,70,60,50,40,30,20,10}+{0,1,2,3,4,5,6,7,8,9},COLUMN(D$21))),\"\"))","v":"6"},{"$f":"IF(OR(LEN($O83)=0),\"\",IFERROR(RIGHT(LARGE(COUNTIF(OFFSET($J83,-1,0,-1*$Q$3,5),{0,1,2,3,4,5,6,7,8,9})*1000+{100,90,80,70,60,50,40,30,20,10}+{0,1,2,3,4,5,6,7,8,9},COLUMN(E$21))),\"\"))","v":"8"},{"$f":"IF(OR(LEN($O83)=0),\"\",IFERROR(RIGHT(LARGE(COUNTIF(OFFSET($J83,-1,0,-1*$Q$3,5),{0,1,2,3,4,5,6,7,8,9})*1000+{100,90,80,70,60,50,40,30,20,10}+{0,1,2,3,4,5,6,7,8,9},COLUMN(F$21))),\"\"))","v":"1"},{"$f":"IF(OR(LEN($O83)=0),\"\",IFERROR(RIGHT(LARGE(COUNTIF(OFFSET($J83,-1,0,-1*$Q$3,5),{0,1,2,3,4,5,6,7,8,9})*1000+{100,90,80,70,60,50,40,30,20,10}+{0,1,2,3,4,5,6,7,8,9},COLUMN(G$21))),\"\"))","v":"0"},{"$f":"IF(OR(LEN($O83)=0),\"\",IFERROR(RIGHT(LARGE(COUNTIF(OFFSET($J83,-1,0,-1*$Q$3,5),{0,1,2,3,4,5,6,7,8,9})*1000+{100,90,80,70,60,50,40,30,20,10}+{0,1,2,3,4,5,6,7,8,9},COLUMN(H$21))),\"\"))","v":"2"},{"$f":"IF(OR(LEN($O83)=0),\"\",IFERROR(RIGHT(LARGE(COUNTIF(OFFSET($J83,-1,0,-1*$Q$3,5),{0,1,2,3,4,5,6,7,8,9})*1000+{100,90,80,70,60,50,40,30,20,10}+{0,1,2,3,4,5,6,7,8,9},COLUMN(I$21))),\"\"))","v":"7"},{"$f":"IF(OR(LEN($O83)=0),\"\",IFERROR(RIGHT(LARGE(COUNTIF(OFFSET($J83,-1,0,-1*$Q$3,5),{0,1,2,3,4,5,6,7,8,9})*1000+{100,90,80,70,60,50,40,30,20,10}+{0,1,2,3,4,5,6,7,8,9},COLUMN(J$21))),\"\"))","v":"9"},"4356","4","3","5","6","","","","","",""]
["20200515005","05074","0","5","0","7","4",null,null,"","","0","7","4","074",{"$f":"IF(OR(LEN($O84)=0),\"\",IFERROR(RIGHT(LARGE(COUNTIF(OFFSET($J84,-1,0,-1*$Q$3,5),{0,1,2,3,4,5,6,7,8,9})*1000+{100,90,80,70,60,50,40,30,20,10}+{0,1,2,3,4,5,6,7,8,9},COLUMN(A$21))),\"\"))","v":"6"},{"$f":"IF(OR(LEN($O84)=0),\"\",IFERROR(RIGHT(LARGE(COUNTIF(OFFSET($J84,-1,0,-1*$Q$3,5),{0,1,2,3,4,5,6,7,8,9})*1000+{100,90,80,70,60,50,40,30,20,10}+{0,1,2,3,4,5,6,7,8,9},COLUMN(B$21))),\"\"))","v":"3"},{"$f":"IF(OR(LEN($O84)=0),\"\",IFERROR(RIGHT(LARGE(COUNTIF(OFFSET($J84,-1,0,-1*$Q$3,5),{0,1,2,3,4,5,6,7,8,9})*1000+{100,90,80,70,60,50,40,30,20,10}+{0,1,2,3,4,5,6,7,8,9},COLUMN(C$21))),\"\"))","v":"4"},{"$f":"IF(OR(LEN($O84)=0),\"\",IFERROR(RIGHT(LARGE(COUNTIF(OFFSET($J84,-1,0,-1*$Q$3,5),{0,1,2,3,4,5,6,7,8,9})*1000+{100,90,80,70,60,50,40,30,20,10}+{0,1,2,3,4,5,6,7,8,9},COLUMN(D$21))),\"\"))","v":"5"},{"$f":"IF(OR(LEN($O84)=0),\"\",IFERROR(RIGHT(LARGE(COUNTIF(OFFSET($J84,-1,0,-1*$Q$3,5),{0,1,2,3,4,5,6,7,8,9})*1000+{100,90,80,70,60,50,40,30,20,10}+{0,1,2,3,4,5,6,7,8,9},COLUMN(E$21))),\"\"))","v":"8"},{"$f":"IF(OR(LEN($O84)=0),\"\",IFERROR(RIGHT(LARGE(COUNTIF(OFFSET($J84,-1,0,-1*$Q$3,5),{0,1,2,3,4,5,6,7,8,9})*1000+{100,90,80,70,60,50,40,30,20,10}+{0,1,2,3,4,5,6,7,8,9},COLUMN(F$21))),\"\"))","v":"1"},{"$f":"IF(OR(LEN($O84)=0),\"\",IFERROR(RIGHT(LARGE(COUNTIF(OFFSET($J84,-1,0,-1*$Q$3,5),{0,1,2,3,4,5,6,7,8,9})*1000+{100,90,80,70,60,50,40,30,20,10}+{0,1,2,3,4,5,6,7,8,9},COLUMN(G$21))),\"\"))","v":"2"},{"$f":"IF(OR(LEN($O84)=0),\"\",IFERROR(RIGHT(LARGE(COUNTIF(OFFSET($J84,-1,0,-1*$Q$3,5),{0,1,2,3,4,5,6,7,8,9})*1000+{100,90,80,70,60,50,40,30,20,10}+{0,1,2,3,4,5,6,7,8,9},COLUMN(H$21))),\"\"))","v":"0"},{"$f":"IF(OR(LEN($O84)=0),\"\",IFERROR(RIGHT(LARGE(COUNTIF(OFFSET($J84,-1,0,-1*$Q$3,5),{0,1,2,3,4,5,6,7,8,9})*1000+{100,90,80,70,60,50,40,30,20,10}+{0,1,2,3,4,5,6,7,8,9},COLUMN(I$21))),\"\"))","v":"7"},{"$f":"IF(OR(LEN($O84)=0),\"\",IFERROR(RIGHT(LARGE(COUNTIF(OFFSET($J84,-1,0,-1*$Q$3,5),{0,1,2,3,4,5,6,7,8,9})*1000+{100,90,80,70,60,50,40,30,20,10}+{0,1,2,3,4,5,6,7,8,9},COLUMN(J$21))),\"\"))","v":"9"},"6345","6","3","4","5","","","","","",""]
["20200515006","05093","0","5","0","9","3",null,null,"","","0","9","3","093",{"$f":"IF(OR(LEN($O85)=0),\"\",IFERROR(RIGHT(LARGE(COUNTIF(OFFSET($J85,-1,0,-1*$Q$3,5),{0,1,2,3,4,5,6,7,8,9})*1000+{100,90,80,70,60,50,40,30,20,10}+{0,1,2,3,4,5,6,7,8,9},COLUMN(A$21))),\"\"))","v":"4"},{"$f":"IF(OR(LEN($O85)=0),\"\",IFERROR(RIGHT(LARGE(COUNTIF(OFFSET($J85,-1,0,-1*$Q$3,5),{0,1,2,3,4,5,6,7,8,9})*1000+{100,90,80,70,60,50,40,30,20,10}+{0,1,2,3,4,5,6,7,8,9},COLUMN(B$21))),\"\"))","v":"6"},{"$f":"IF(OR(LEN($O85)=0),\"\",IFERROR(RIGHT(LARGE(COUNTIF(OFFSET($J85,-1,0,-1*$Q$3,5),{0,1,2,3,4,5,6,7,8,9})*1000+{100,90,80,70,60,50,40,30,20,10}+{0,1,2,3,4,5,6,7,8,9},COLUMN(C$21))),\"\"))","v":"3"},{"$f":"IF(OR(LEN($O85)=0),\"\",IFERROR(RIGHT(LARGE(COUNTIF(OFFSET($J85,-1,0,-1*$Q$3,5),{0,1,2,3,4,5,6,7,8,9})*1000+{100,90,80,70,60,50,40,30,20,10}+{0,1,2,3,4,5,6,7,8,9},COLUMN(D$21))),\"\"))","v":"5"},{"$f":"IF(OR(LEN($O85)=0),\"\",IFERROR(RIGHT(LARGE(COUNTIF(OFFSET($J85,-1,0,-1*$Q$3,5),{0,1,2,3,4,5,6,7,8,9})*1000+{100,90,80,70,60,50,40,30,20,10}+{0,1,2,3,4,5,6,7,8,9},COLUMN(E$21))),\"\"))","v":"8"},{"$f":"IF(OR(LEN($O85)=0),\"\",IFERROR(RIGHT(LARGE(COUNTIF(OFFSET($J85,-1,0,-1*$Q$3,5),{0,1,2,3,4,5,6,7,8,9})*1000+{100,90,80,70,60,50,40,30,20,10}+{0,1,2,3,4,5,6,7,8,9},COLUMN(F$21))),\"\"))","v":"1"},{"$f":"IF(OR(LEN($O85)=0),\"\",IFERROR(RIGHT(LARGE(COUNTIF(OFFSET($J85,-1,0,-1*$Q$3,5),{0,1,2,3,4,5,6,7,8,9})*1000+{100,90,80,70,60,50,40,30,20,10}+{0,1,2,3,4,5,6,7,8,9},COLUMN(G$21))),\"\"))","v":"2"},{"$f":"IF(OR(LEN($O85)=0),\"\",IFERROR(RIGHT(LARGE(COUNTIF(OFFSET($J85,-1,0,-1*$Q$3,5),{0,1,2,3,4,5,6,7,8,9})*1000+{100,90,80,70,60,50,40,30,20,10}+{0,1,2,3,4,5,6,7,8,9},COLUMN(H$21))),\"\"))","v":"0"},{"$f":"IF(OR(LEN($O85)=0),\"\",IFERROR(RIGHT(LARGE(COUNTIF(OFFSET($J85,-1,0,-1*$Q$3,5),{0,1,2,3,4,5,6,7,8,9})*1000+{100,90,80,70,60,50,40,30,20,10}+{0,1,2,3,4,5,6,7,8,9},COLUMN(I$21))),\"\"))","v":"7"},{"$f":"IF(OR(LEN($O85)=0),\"\",IFERROR(RIGHT(LARGE(COUNTIF(OFFSET($J85,-1,0,-1*$Q$3,5),{0,1,2,3,4,5,6,7,8,9})*1000+{100,90,80,70,60,50,40,30,20,10}+{0,1,2,3,4,5,6,7,8,9},COLUMN(J$21))),\"\"))","v":"9"},"4635","4","6","3","5","","","","","",""]
["20200515007","85143","8","5","1","4","3",null,null,"","","1","4","3","143",{"$f":"IF(OR(LEN($O86)=0),\"\",IFERROR(RIGHT(LARGE(COUNTIF(OFFSET($J86,-1,0,-1*$Q$3,5),{0,1,2,3,4,5,6,7,8,9})*1000+{100,90,80,70,60,50,40,30,20,10}+{0,1,2,3,4,5,6,7,8,9},COLUMN(A$21))),\"\"))","v":"3"},{"$f":"IF(OR(LEN($O86)=0),\"\",IFERROR(RIGHT(LARGE(COUNTIF(OFFSET($J86,-1,0,-1*$Q$3,5),{0,1,2,3,4,5,6,7,8,9})*1000+{100,90,80,70,60,50,40,30,20,10}+{0,1,2,3,4,5,6,7,8,9},COLUMN(B$21))),\"\"))","v":"4"},{"$f":"IF(OR(LEN($O86)=0),\"\",IFERROR(RIGHT(LARGE(COUNTIF(OFFSET($J86,-1,0,-1*$Q$3,5),{0,1,2,3,4,5,6,7,8,9})*1000+{100,90,80,70,60,50,40,30,20,10}+{0,1,2,3,4,5,6,7,8,9},COLUMN(C$21))),\"\"))","v":"6"},{"$f":"IF(OR(LEN($O86)=0),\"\",IFERROR(RIGHT(LARGE(COUNTIF(OFFSET($J86,-1,0,-1*$Q$3,5),{0,1,2,3,4,5,6,7,8,9})*1000+{100,90,80,70,60,50,40,30,20,10}+{0,1,2,3,4,5,6,7,8,9},COLUMN(D$21))),\"\"))","v":"5"},{"$f":"IF(OR(LEN($O86)=0),\"\",IFERROR(RIGHT(LARGE(COUNTIF(OFFSET($J86,-1,0,-1*$Q$3,5),{0,1,2,3,4,5,6,7,8,9})*1000+{100,90,80,70,60,50,40,30,20,10}+{0,1,2,3,4,5,6,7,8,9},COLUMN(E$21))),\"\"))","v":"0"},{"$f":"IF(OR(LEN($O86)=0),\"\",IFERROR(RIGHT(LARGE(COUNTIF(OFFSET($J86,-1,0,-1*$Q$3,5),{0,1,2,3,4,5,6,7,8,9})*1000+{100,90,80,70,60,50,40,30,20,10}+{0,1,2,3,4,5,6,7,8,9},COLUMN(F$21))),\"\"))","v":"1"},{"$f":"IF(OR(LEN($O86)=0),\"\",IFERROR(RIGHT(LARGE(COUNTIF(OFFSET($J86,-1,0,-1*$Q$3,5),{0,1,2,3,4,5,6,7,8,9})*1000+{100,90,80,70,60,50,40,30,20,10}+{0,1,2,3,4,5,6,7,8,9},COLUMN(G$21))),\"\"))","v":"8"},{"$f":"IF(OR(LEN($O86)=0),\"\",IFERROR(RIGHT(LARGE(COUNTIF(OFFSET($J86,-1,0,-1*$Q$3,5),{0,1,2,3,4,5,6,7,8,9})*1000+{100,90,80,70,60,50,40,30,20,10}+{0,1,2,3,4,5,6,7,8,9},COLUMN(H$21))),\"\"))","v":"2"},{"$f":"IF(OR(LEN($O86)=0),\"\",IFERROR(RIGHT(LARGE(COUNTIF(OFFSET($J86,-1,0,-1*$Q$3,5),{0,1,2,3,4,5,6,7,8,9})*1000+{100,90,80,70,60,50,40,30,20,10}+{0,1,2,3,4,5,6,7,8,9},COLUMN(I$21))),\"\"))","v":"7"},{"$f":"IF(OR(LEN($O86)=0),\"\",IFERROR(RIGHT(LARGE(COUNTIF(OFFSET($J86,-1,0,-1*$Q$3,5),{0,1,2,3,4,5,6,7,8,9})*1000+{100,90,80,70,60,50,40,30,20,10}+{0,1,2,3,4,5,6,7,8,9},COLUMN(J$21))),\"\"))","v":"9"},{"$f":"AA86&AB86&AC86&AD86&AE86&AF86&AG86&AH86&AI86&AJ86","v":"3465"},"3","4","6","5","","","","","",""]
["20200515008","92342","9","2","3","4","2",null,null,"","","3","4","2","342",{"$f":"IF(OR(LEN($O87)=0),\"\",IFERROR(RIGHT(LARGE(COUNTIF(OFFSET($J87,-1,0,-1*$Q$3,5),{0,1,2,3,4,5,6,7,8,9})*1000+{100,90,80,70,60,50,40,30,20,10}+{0,1,2,3,4,5,6,7,8,9},COLUMN(A$21))),\"\"))","v":"4"},{"$f":"IF(OR(LEN($O87)=0),\"\",IFERROR(RIGHT(LARGE(COUNTIF(OFFSET($J87,-1,0,-1*$Q$3,5),{0,1,2,3,4,5,6,7,8,9})*1000+{100,90,80,70,60,50,40,30,20,10}+{0,1,2,3,4,5,6,7,8,9},COLUMN(B$21))),\"\"))","v":"3"},{"$f":"IF(OR(LEN($O87)=0),\"\",IFERROR(RIGHT(LARGE(COUNTIF(OFFSET($J87,-1,0,-1*$Q$3,5),{0,1,2,3,4,5,6,7,8,9})*1000+{100,90,80,70,60,50,40,30,20,10}+{0,1,2,3,4,5,6,7,8,9},COLUMN(C$21))),\"\"))","v":"6"},{"$f":"IF(OR(LEN($O87)=0),\"\",IFERROR(RIGHT(LARGE(COUNTIF(OFFSET($J87,-1,0,-1*$Q$3,5),{0,1,2,3,4,5,6,7,8,9})*1000+{100,90,80,70,60,50,40,30,20,10}+{0,1,2,3,4,5,6,7,8,9},COLUMN(D$21))),\"\"))","v":"5"},{"$f":"IF(OR(LEN($O87)=0),\"\",IFERROR(RIGHT(LARGE(COUNTIF(OFFSET($J87,-1,0,-1*$Q$3,5),{0,1,2,3,4,5,6,7,8,9})*1000+{100,90,80,70,60,50,40,30,20,10}+{0,1,2,3,4,5,6,7,8,9},COLUMN(E$21))),\"\"))","v":"1"},{"$f":"IF(OR(LEN($O87)=0),\"\",IFERROR(RIGHT(LARGE(COUNTIF(OFFSET($J87,-1,0,-1*$Q$3,5),{0,1,2,3,4,5,6,7,8,9})*1000+{100,90,80,70,60,50,40,30,20,10}+{0,1,2,3,4,5,6,7,8,9},COLUMN(F$21))),\"\"))","v":"0"},{"$f":"IF(OR(LEN($O87)=0),\"\",IFERROR(RIGHT(LARGE(COUNTIF(OFFSET($J87,-1,0,-1*$Q$3,5),{0,1,2,3,4,5,6,7,8,9})*1000+{100,90,80,70,60,50,40,30,20,10}+{0,1,2,3,4,5,6,7,8,9},COLUMN(G$21))),\"\"))","v":"8"},{"$f":"IF(OR(LEN($O87)=0),\"\",IFERROR(RIGHT(LARGE(COUNTIF(OFFSET($J87,-1,0,-1*$Q$3,5),{0,1,2,3,4,5,6,7,8,9})*1000+{100,90,80,70,60,50,40,30,20,10}+{0,1,2,3,4,5,6,7,8,9},COLUMN(H$21))),\"\"))","v":"2"},{"$f":"IF(OR(LEN($O87)=0),\"\",IFERROR(RIGHT(LARGE(COUNTIF(OFFSET($J87,-1,0,-1*$Q$3,5),{0,1,2,3,4,5,6,7,8,9})*1000+{100,90,80,70,60,50,40,30,20,10}+{0,1,2,3,4,5,6,7,8,9},COLUMN(I$21))),\"\"))","v":"7"},{"$f":"IF(OR(LEN($O87)=0),\"\",IFERROR(RIGHT(LARGE(COUNTIF(OFFSET($J87,-1,0,-1*$Q$3,5),{0,1,2,3,4,5,6,7,8,9})*1000+{100,90,80,70,60,50,40,30,20,10}+{0,1,2,3,4,5,6,7,8,9},COLUMN(J$21))),\"\"))","v":"9"},"4365","4","3","6","5","","","","","",""]
["20200515009","89187","8","9","1","8","7",null,null,"","","1","8","7","187",{"$f":"IF(OR(LEN($O88)=0),\"\",IFERROR(RIGHT(LARGE(COUNTIF(OFFSET($J88,-1,0,-1*$Q$3,5),{0,1,2,3,4,5,6,7,8,9})*1000+{100,90,80,70,60,50,40,30,20,10}+{0,1,2,3,4,5,6,7,8,9},COLUMN(A$21))),\"\"))","v":"4"},{"$f":"IF(OR(LEN($O88)=0),\"\",IFERROR(RIGHT(LARGE(COUNTIF(OFFSET($J88,-1,0,-1*$Q$3,5),{0,1,2,3,4,5,6,7,8,9})*1000+{100,90,80,70,60,50,40,30,20,10}+{0,1,2,3,4,5,6,7,8,9},COLUMN(B$21))),\"\"))","v":"3"},{"$f":"IF(OR(LEN($O88)=0),\"\",IFERROR(RIGHT(LARGE(COUNTIF(OFFSET($J88,-1,0,-1*$Q$3,5),{0,1,2,3,4,5,6,7,8,9})*1000+{100,90,80,70,60,50,40,30,20,10}+{0,1,2,3,4,5,6,7,8,9},COLUMN(C$21))),\"\"))","v":"6"},{"$f":"IF(OR(LEN($O88)=0),\"\",IFERROR(RIGHT(LARGE(COUNTIF(OFFSET($J88,-1,0,-1*$Q$3,5),{0,1,2,3,4,5,6,7,8,9})*1000+{100,90,80,70,60,50,40,30,20,10}+{0,1,2,3,4,5,6,7,8,9},COLUMN(D$21))),\"\"))","v":"5"},{"$f":"IF(OR(LEN($O88)=0),\"\",IFERROR(RIGHT(LARGE(COUNTIF(OFFSET($J88,-1,0,-1*$Q$3,5),{0,1,2,3,4,5,6,7,8,9})*1000+{100,90,80,70,60,50,40,30,20,10}+{0,1,2,3,4,5,6,7,8,9},COLUMN(E$21))),\"\"))","v":"1"},{"$f":"IF(OR(LEN($O88)=0),\"\",IFERROR(RIGHT(LARGE(COUNTIF(OFFSET($J88,-1,0,-1*$Q$3,5),{0,1,2,3,4,5,6,7,8,9})*1000+{100,90,80,70,60,50,40,30,20,10}+{0,1,2,3,4,5,6,7,8,9},COLUMN(F$21))),\"\"))","v":"0"},{"$f":"IF(OR(LEN($O88)=0),\"\",IFERROR(RIGHT(LARGE(COUNTIF(OFFSET($J88,-1,0,-1*$Q$3,5),{0,1,2,3,4,5,6,7,8,9})*1000+{100,90,80,70,60,50,40,30,20,10}+{0,1,2,3,4,5,6,7,8,9},COLUMN(G$21))),\"\"))","v":"8"},{"$f":"IF(OR(LEN($O88)=0),\"\",IFERROR(RIGHT(LARGE(COUNTIF(OFFSET($J88,-1,0,-1*$Q$3,5),{0,1,2,3,4,5,6,7,8,9})*1000+{100,90,80,70,60,50,40,30,20,10}+{0,1,2,3,4,5,6,7,8,9},COLUMN(H$21))),\"\"))","v":"2"},{"$f":"IF(OR(LEN($O88)=0),\"\",IFERROR(RIGHT(LARGE(COUNTIF(OFFSET($J88,-1,0,-1*$Q$3,5),{0,1,2,3,4,5,6,7,8,9})*1000+{100,90,80,70,60,50,40,30,20,10}+{0,1,2,3,4,5,6,7,8,9},COLUMN(I$21))),\"\"))","v":"7"},{"$f":"IF(OR(LEN($O88)=0),\"\",IFERROR(RIGHT(LARGE(COUNTIF(OFFSET($J88,-1,0,-1*$Q$3,5),{0,1,2,3,4,5,6,7,8,9})*1000+{100,90,80,70,60,50,40,30,20,10}+{0,1,2,3,4,5,6,7,8,9},COLUMN(J$21))),\"\"))","v":"9"},"4365","4","3","6","5","","","","","",""]
["20200515010","08684","0","8","6","8","4",null,null,"","","6","8","4","684",{"$f":"IF(OR(LEN($O89)=0),\"\",IFERROR(RIGHT(LARGE(COUNTIF(OFFSET($J89,-1,0,-1*$Q$3,5),{0,1,2,3,4,5,6,7,8,9})*1000+{100,90,80,70,60,50,40,30,20,10}+{0,1,2,3,4,5,6,7,8,9},COLUMN(A$21))),\"\"))","v":"4"},{"$f":"IF(OR(LEN($O89)=0),\"\",IFERROR(RIGHT(LARGE(COUNTIF(OFFSET($J89,-1,0,-1*$Q$3,5),{0,1,2,3,4,5,6,7,8,9})*1000+{100,90,80,70,60,50,40,30,20,10}+{0,1,2,3,4,5,6,7,8,9},COLUMN(B$21))),\"\"))","v":"3"},{"$f":"IF(OR(LEN($O89)=0),\"\",IFERROR(RIGHT(LARGE(COUNTIF(OFFSET($J89,-1,0,-1*$Q$3,5),{0,1,2,3,4,5,6,7,8,9})*1000+{100,90,80,70,60,50,40,30,20,10}+{0,1,2,3,4,5,6,7,8,9},COLUMN(C$21))),\"\"))","v":"6"},{"$f":"IF(OR(LEN($O89)=0),\"\",IFERROR(RIGHT(LARGE(COUNTIF(OFFSET($J89,-1,0,-1*$Q$3,5),{0,1,2,3,4,5,6,7,8,9})*1000+{100,90,80,70,60,50,40,30,20,10}+{0,1,2,3,4,5,6,7,8,9},COLUMN(D$21))),\"\"))","v":"5"},{"$f":"IF(OR(LEN($O89)=0),\"\",IFERROR(RIGHT(LARGE(COUNTIF(OFFSET($J89,-1,0,-1*$Q$3,5),{0,1,2,3,4,5,6,7,8,9})*1000+{100,90,80,70,60,50,40,30,20,10}+{0,1,2,3,4,5,6,7,8,9},COLUMN(E$21))),\"\"))","v":"8"},{"$f":"IF(OR(LEN($O89)=0),\"\",IFERROR(RIGHT(LARGE(COUNTIF(OFFSET($J89,-1,0,-1*$Q$3,5),{0,1,2,3,4,5,6,7,8,9})*1000+{100,90,80,70,60,50,40,30,20,10}+{0,1,2,3,4,5,6,7,8,9},COLUMN(F$21))),\"\"))","v":"0"},{"$f":"IF(OR(LEN($O89)=0),\"\",IFERROR(RIGHT(LARGE(COUNTIF(OFFSET($J89,-1,0,-1*$Q$3,5),{0,1,2,3,4,5,6,7,8,9})*1000+{100,90,80,70,60,50,40,30,20,10}+{0,1,2,3,4,5,6,7,8,9},COLUMN(G$21))),\"\"))","v":"1"},{"$f":"IF(OR(LEN($O89)=0),\"\",IFERROR(RIGHT(LARGE(COUNTIF(OFFSET($J89,-1,0,-1*$Q$3,5),{0,1,2,3,4,5,6,7,8,9})*1000+{100,90,80,70,60,50,40,30,20,10}+{0,1,2,3,4,5,6,7,8,9},COLUMN(H$21))),\"\"))","v":"2"},{"$f":"IF(OR(LEN($O89)=0),\"\",IFERROR(RIGHT(LARGE(COUNTIF(OFFSET($J89,-1,0,-1*$Q$3,5),{0,1,2,3,4,5,6,7,8,9})*1000+{100,90,80,70,60,50,40,30,20,10}+{0,1,2,3,4,5,6,7,8,9},COLUMN(I$21))),\"\"))","v":"7"},{"$f":"IF(OR(LEN($O89)=0),\"\",IFERROR(RIGHT(LARGE(COUNTIF(OFFSET($J89,-1,0,-1*$Q$3,5),{0,1,2,3,4,5,6,7,8,9})*1000+{100,90,80,70,60,50,40,30,20,10}+{0,1,2,3,4,5,6,7,8,9},COLUMN(J$21))),\"\"))","v":"9"},"4365","4","3","6","5","","","","","",""]
["20200515011","66807","6","6","8","0","7",null,null,"","","8","0","7","807",{"$f":"IF(OR(LEN($O90)=0),\"\",IFERROR(RIGHT(LARGE(COUNTIF(OFFSET($J90,-1,0,-1*$Q$3,5),{0,1,2,3,4,5,6,7,8,9})*1000+{100,90,80,70,60,50,40,30,20,10}+{0,1,2,3,4,5,6,7,8,9},COLUMN(A$21))),\"\"))","v":"4"},{"$f":"IF(OR(LEN($O90)=0),\"\",IFERROR(RIGHT(LARGE(COUNTIF(OFFSET($J90,-1,0,-1*$Q$3,5),{0,1,2,3,4,5,6,7,8,9})*1000+{100,90,80,70,60,50,40,30,20,10}+{0,1,2,3,4,5,6,7,8,9},COLUMN(B$21))),\"\"))","v":"3"},{"$f":"IF(OR(LEN($O90)=0),\"\",IFERROR(RIGHT(LARGE(COUNTIF(OFFSET($J90,-1,0,-1*$Q$3,5),{0,1,2,3,4,5,6,7,8,9})*1000+{100,90,80,70,60,50,40,30,20,10}+{0,1,2,3,4,5,6,7,8,9},COLUMN(C$21))),\"\"))","v":"6"},{"$f":"IF(OR(LEN($O90)=0),\"\",IFERROR(RIGHT(LARGE(COUNTIF(OFFSET($J90,-1,0,-1*$Q$3,5),{0,1,2,3,4,5,6,7,8,9})*1000+{100,90,80,70,60,50,40,30,20,10}+{0,1,2,3,4,5,6,7,8,9},COLUMN(D$21))),\"\"))","v":"5"},{"$f":"IF(OR(LEN($O90)=0),\"\",IFERROR(RIGHT(LARGE(COUNTIF(OFFSET($J90,-1,0,-1*$Q$3,5),{0,1,2,3,4,5,6,7,8,9})*1000+{100,90,80,70,60,50,40,30,20,10}+{0,1,2,3,4,5,6,7,8,9},COLUMN(E$21))),\"\"))","v":"8"},{"$f":"IF(OR(LEN($O90)=0),\"\",IFERROR(RIGHT(LARGE(COUNTIF(OFFSET($J90,-1,0,-1*$Q$3,5),{0,1,2,3,4,5,6,7,8,9})*1000+{100,90,80,70,60,50,40,30,20,10}+{0,1,2,3,4,5,6,7,8,9},COLUMN(F$21))),\"\"))","v":"0"},{"$f":"IF(OR(LEN($O90)=0),\"\",IFERROR(RIGHT(LARGE(COUNTIF(OFFSET($J90,-1,0,-1*$Q$3,5),{0,1,2,3,4,5,6,7,8,9})*1000+{100,90,80,70,60,50,40,30,20,10}+{0,1,2,3,4,5,6,7,8,9},COLUMN(G$21))),\"\"))","v":"1"},{"$f":"IF(OR(LEN($O90)=0),\"\",IFERROR(RIGHT(LARGE(COUNTIF(OFFSET($J90,-1,0,-1*$Q$3,5),{0,1,2,3,4,5,6,7,8,9})*1000+{100,90,80,70,60,50,40,30,20,10}+{0,1,2,3,4,5,6,7,8,9},COLUMN(H$21))),\"\"))","v":"7"},{"$f":"IF(OR(LEN($O90)=0),\"\",IFERROR(RIGHT(LARGE(COUNTIF(OFFSET($J90,-1,0,-1*$Q$3,5),{0,1,2,3,4,5,6,7,8,9})*1000+{100,90,80,70,60,50,40,30,20,10}+{0,1,2,3,4,5,6,7,8,9},COLUMN(I$21))),\"\"))","v":"2"},{"$f":"IF(OR(LEN($O90)=0),\"\",IFERROR(RIGHT(LARGE(COUNTIF(OFFSET($J90,-1,0,-1*$Q$3,5),{0,1,2,3,4,5,6,7,8,9})*1000+{100,90,80,70,60,50,40,30,20,10}+{0,1,2,3,4,5,6,7,8,9},COLUMN(J$21))),\"\"))","v":"9"},"4365","4","3","6","5","",{"$f":"IF(U$4=1,U90,\"\")","v":""},{"$f":"IF(V$4=1,V90,\"\")","v":""},{"$f":"IF(W$4=1,W90,\"\")","v":""},{"$f":"IF(X$4=1,X90,\"\")","v":""},{"$f":"IF(Y$4=1,Y90,\"\")","v":""}]
["20200515012","92855","9","2","8","5","5",null,null,"","","8","5","5","855",{"$f":"IF(OR(LEN($O91)=0),\"\",IFERROR(RIGHT(LARGE(COUNTIF(OFFSET($J91,-1,0,-1*$Q$3,5),{0,1,2,3,4,5,6,7,8,9})*1000+{100,90,80,70,60,50,40,30,20,10}+{0,1,2,3,4,5,6,7,8,9},COLUMN(A$21))),\"\"))","v":"3"},{"$f":"IF(OR(LEN($O91)=0),\"\",IFERROR(RIGHT(LARGE(COUNTIF(OFFSET($J91,-1,0,-1*$Q$3,5),{0,1,2,3,4,5,6,7,8,9})*1000+{100,90,80,70,60,50,40,30,20,10}+{0,1,2,3,4,5,6,7,8,9},COLUMN(B$21))),\"\"))","v":"4"},{"$f":"IF(OR(LEN($O91)=0),\"\",IFERROR(RIGHT(LARGE(COUNTIF(OFFSET($J91,-1,0,-1*$Q$3,5),{0,1,2,3,4,5,6,7,8,9})*1000+{100,90,80,70,60,50,40,30,20,10}+{0,1,2,3,4,5,6,7,8,9},COLUMN(C$21))),\"\"))","v":"6"},{"$f":"IF(OR(LEN($O91)=0),\"\",IFERROR(RIGHT(LARGE(COUNTIF(OFFSET($J91,-1,0,-1*$Q$3,5),{0,1,2,3,4,5,6,7,8,9})*1000+{100,90,80,70,60,50,40,30,20,10}+{0,1,2,3,4,5,6,7,8,9},COLUMN(D$21))),\"\"))","v":"5"},{"$f":"IF(OR(LEN($O91)=0),\"\",IFERROR(RIGHT(LARGE(COUNTIF(OFFSET($J91,-1,0,-1*$Q$3,5),{0,1,2,3,4,5,6,7,8,9})*1000+{100,90,80,70,60,50,40,30,20,10}+{0,1,2,3,4,5,6,7,8,9},COLUMN(E$21))),\"\"))","v":"8"},{"$f":"IF(OR(LEN($O91)=0),\"\",IFERROR(RIGHT(LARGE(COUNTIF(OFFSET($J91,-1,0,-1*$Q$3,5),{0,1,2,3,4,5,6,7,8,9})*1000+{100,90,80,70,60,50,40,30,20,10}+{0,1,2,3,4,5,6,7,8,9},COLUMN(F$21))),\"\"))","v":"0"},{"$f":"IF(OR(LEN($O91)=0),\"\",IFERROR(RIGHT(LARGE(COUNTIF(OFFSET($J91,-1,0,-1*$Q$3,5),{0,1,2,3,4,5,6,7,8,9})*1000+{100,90,80,70,60,50,40,30,20,10}+{0,1,2,3,4,5,6,7,8,9},COLUMN(G$21))),\"\"))","v":"1"},{"$f":"IF(OR(LEN($O91)=0),\"\",IFERROR(RIGHT(LARGE(COUNTIF(OFFSET($J91,-1,0,-1*$Q$3,5),{0,1,2,3,4,5,6,7,8,9})*1000+{100,90,80,70,60,50,40,30,20,10}+{0,1,2,3,4,5,6,7,8,9},COLUMN(H$21))),\"\"))","v":"7"},{"$f":"IF(OR(LEN($O91)=0),\"\",IFERROR(RIGHT(LARGE(COUNTIF(OFFSET($J91,-1,0,-1*$Q$3,5),{0,1,2,3,4,5,6,7,8,9})*1000+{100,90,80,70,60,50,40,30,20,10}+{0,1,2,3,4,5,6,7,8,9},COLUMN(I$21))),\"\"))","v":"2"},{"$f":"IF(OR(LEN($O91)=0),\"\",IFERROR(RIGHT(LARGE(COUNTIF(OFFSET($J91,-1,0,-1*$Q$3,5),{0,1,2,3,4,5,6,7,8,9})*1000+{100,90,80,70,60,50,40,30,20,10}+{0,1,2,3,4,5,6,7,8,9},COLUMN(J$21))),\"\"))","v":"9"},"3465","3","4","6","5","","","","","",""]
["20200515013","95824","9","5","8","2","4",null,null,"","","8","2","4","824",{"$f":"IF(OR(LEN($O92)=0),\"\",IFERROR(RIGHT(LARGE(COUNTIF(OFFSET($J92,-1,0,-1*$Q$3,5),{0,1,2,3,4,5,6,7,8,9})*1000+{100,90,80,70,60,50,40,30,20,10}+{0,1,2,3,4,5,6,7,8,9},COLUMN(A$21))),\"\"))","v":"3"},{"$f":"IF(OR(LEN($O92)=0),\"\",IFERROR(RIGHT(LARGE(COUNTIF(OFFSET($J92,-1,0,-1*$Q$3,5),{0,1,2,3,4,5,6,7,8,9})*1000+{100,90,80,70,60,50,40,30,20,10}+{0,1,2,3,4,5,6,7,8,9},COLUMN(B$21))),\"\"))","v":"4"},{"$f":"IF(OR(LEN($O92)=0),\"\",IFERROR(RIGHT(LARGE(COUNTIF(OFFSET($J92,-1,0,-1*$Q$3,5),{0,1,2,3,4,5,6,7,8,9})*1000+{100,90,80,70,60,50,40,30,20,10}+{0,1,2,3,4,5,6,7,8,9},COLUMN(C$21))),\"\"))","v":"6"},{"$f":"IF(OR(LEN($O92)=0),\"\",IFERROR(RIGHT(LARGE(COUNTIF(OFFSET($J92,-1,0,-1*$Q$3,5),{0,1,2,3,4,5,6,7,8,9})*1000+{100,90,80,70,60,50,40,30,20,10}+{0,1,2,3,4,5,6,7,8,9},COLUMN(D$21))),\"\"))","v":"5"},{"$f":"IF(OR(LEN($O92)=0),\"\",IFERROR(RIGHT(LARGE(COUNTIF(OFFSET($J92,-1,0,-1*$Q$3,5),{0,1,2,3,4,5,6,7,8,9})*1000+{100,90,80,70,60,50,40,30,20,10}+{0,1,2,3,4,5,6,7,8,9},COLUMN(E$21))),\"\"))","v":"8"},{"$f":"IF(OR(LEN($O92)=0),\"\",IFERROR(RIGHT(LARGE(COUNTIF(OFFSET($J92,-1,0,-1*$Q$3,5),{0,1,2,3,4,5,6,7,8,9})*1000+{100,90,80,70,60,50,40,30,20,10}+{0,1,2,3,4,5,6,7,8,9},COLUMN(F$21))),\"\"))","v":"0"},{"$f":"IF(OR(LEN($O92)=0),\"\",IFERROR(RIGHT(LARGE(COUNTIF(OFFSET($J92,-1,0,-1*$Q$3,5),{0,1,2,3,4,5,6,7,8,9})*1000+{100,90,80,70,60,50,40,30,20,10}+{0,1,2,3,4,5,6,7,8,9},COLUMN(G$21))),\"\"))","v":"1"},{"$f":"IF(OR(LEN($O92)=0),\"\",IFERROR(RIGHT(LARGE(COUNTIF(OFFSET($J92,-1,0,-1*$Q$3,5),{0,1,2,3,4,5,6,7,8,9})*1000+{100,90,80,70,60,50,40,30,20,10}+{0,1,2,3,4,5,6,7,8,9},COLUMN(H$21))),\"\"))","v":"7"},{"$f":"IF(OR(LEN($O92)=0),\"\",IFERROR(RIGHT(LARGE(COUNTIF(OFFSET($J92,-1,0,-1*$Q$3,5),{0,1,2,3,4,5,6,7,8,9})*1000+{100,90,80,70,60,50,40,30,20,10}+{0,1,2,3,4,5,6,7,8,9},COLUMN(I$21))),\"\"))","v":"2"},{"$f":"IF(OR(LEN($O92)=0),\"\",IFERROR(RIGHT(LARGE(COUNTIF(OFFSET($J92,-1,0,-1*$Q$3,5),{0,1,2,3,4,5,6,7,8,9})*1000+{100,90,80,70,60,50,40,30,20,10}+{0,1,2,3,4,5,6,7,8,9},COLUMN(J$21))),\"\"))","v":"9"},"3465","3","4","6","5","","","","","",""]
["20200515014","20462","2","0","4","6","2",null,null,"","","4","6","2","462",{"$f":"IF(OR(LEN($O93)=0),\"\",IFERROR(RIGHT(LARGE(COUNTIF(OFFSET($J93,-1,0,-1*$Q$3,5),{0,1,2,3,4,5,6,7,8,9})*1000+{100,90,80,70,60,50,40,30,20,10}+{0,1,2,3,4,5,6,7,8,9},COLUMN(A$21))),\"\"))","v":"3"},{"$f":"IF(OR(LEN($O93)=0),\"\",IFERROR(RIGHT(LARGE(COUNTIF(OFFSET($J93,-1,0,-1*$Q$3,5),{0,1,2,3,4,5,6,7,8,9})*1000+{100,90,80,70,60,50,40,30,20,10}+{0,1,2,3,4,5,6,7,8,9},COLUMN(B$21))),\"\"))","v":"4"},{"$f":"IF(OR(LEN($O93)=0),\"\",IFERROR(RIGHT(LARGE(COUNTIF(OFFSET($J93,-1,0,-1*$Q$3,5),{0,1,2,3,4,5,6,7,8,9})*1000+{100,90,80,70,60,50,40,30,20,10}+{0,1,2,3,4,5,6,7,8,9},COLUMN(C$21))),\"\"))","v":"6"},{"$f":"IF(OR(LEN($O93)=0),\"\",IFERROR(RIGHT(LARGE(COUNTIF(OFFSET($J93,-1,0,-1*$Q$3,5),{0,1,2,3,4,5,6,7,8,9})*1000+{100,90,80,70,60,50,40,30,20,10}+{0,1,2,3,4,5,6,7,8,9},COLUMN(D$21))),\"\"))","v":"8"},{"$f":"IF(OR(LEN($O93)=0),\"\",IFERROR(RIGHT(LARGE(COUNTIF(OFFSET($J93,-1,0,-1*$Q$3,5),{0,1,2,3,4,5,6,7,8,9})*1000+{100,90,80,70,60,50,40,30,20,10}+{0,1,2,3,4,5,6,7,8,9},COLUMN(E$21))),\"\"))","v":"5"},{"$f":"IF(OR(LEN($O93)=0),\"\",IFERROR(RIGHT(LARGE(COUNTIF(OFFSET($J93,-1,0,-1*$Q$3,5),{0,1,2,3,4,5,6,7,8,9})*1000+{100,90,80,70,60,50,40,30,20,10}+{0,1,2,3,4,5,6,7,8,9},COLUMN(F$21))),\"\"))","v":"0"},{"$f":"IF(OR(LEN($O93)=0),\"\",IFERROR(RIGHT(LARGE(COUNTIF(OFFSET($J93,-1,0,-1*$Q$3,5),{0,1,2,3,4,5,6,7,8,9})*1000+{100,90,80,70,60,50,40,30,20,10}+{0,1,2,3,4,5,6,7,8,9},COLUMN(G$21))),\"\"))","v":"7"},{"$f":"IF(OR(LEN($O93)=0),\"\",IFERROR(RIGHT(LARGE(COUNTIF(OFFSET($J93,-1,0,-1*$Q$3,5),{0,1,2,3,4,5,6,7,8,9})*1000+{100,90,80,70,60,50,40,30,20,10}+{0,1,2,3,4,5,6,7,8,9},COLUMN(H$21))),\"\"))","v":"1"},{"$f":"IF(OR(LEN($O93)=0),\"\",IFERROR(RIGHT(LARGE(COUNTIF(OFFSET($J93,-1,0,-1*$Q$3,5),{0,1,2,3,4,5,6,7,8,9})*1000+{100,90,80,70,60,50,40,30,20,10}+{0,1,2,3,4,5,6,7,8,9},COLUMN(I$21))),\"\"))","v":"2"},{"$f":"IF(OR(LEN($O93)=0),\"\",IFERROR(RIGHT(LARGE(COUNTIF(OFFSET($J93,-1,0,-1*$Q$3,5),{0,1,2,3,4,5,6,7,8,9})*1000+{100,90,80,70,60,50,40,30,20,10}+{0,1,2,3,4,5,6,7,8,9},COLUMN(J$21))),\"\"))","v":"9"},"3468","3","4","6","8","","","","","",""]
["20200515015","29670","2","9","6","7","0",null,null,"","","6","7","0","670",{"$f":"IF(OR(LEN($O94)=0),\"\",IFERROR(RIGHT(LARGE(COUNTIF(OFFSET($J94,-1,0,-1*$Q$3,5),{0,1,2,3,4,5,6,7,8,9})*1000+{100,90,80,70,60,50,40,30,20,10}+{0,1,2,3,4,5,6,7,8,9},COLUMN(A$21))),\"\"))","v":"4"},{"$f":"IF(OR(LEN($O94)=0),\"\",IFERROR(RIGHT(LARGE(COUNTIF(OFFSET($J94,-1,0,-1*$Q$3,5),{0,1,2,3,4,5,6,7,8,9})*1000+{100,90,80,70,60,50,40,30,20,10}+{0,1,2,3,4,5,6,7,8,9},COLUMN(B$21))),\"\"))","v":"3"},{"$f":"IF(OR(LEN($O94)=0),\"\",IFERROR(RIGHT(LARGE(COUNTIF(OFFSET($J94,-1,0,-1*$Q$3,5),{0,1,2,3,4,5,6,7,8,9})*1000+{100,90,80,70,60,50,40,30,20,10}+{0,1,2,3,4,5,6,7,8,9},COLUMN(C$21))),\"\"))","v":"6"},{"$f":"IF(OR(LEN($O94)=0),\"\",IFERROR(RIGHT(LARGE(COUNTIF(OFFSET($J94,-1,0,-1*$Q$3,5),{0,1,2,3,4,5,6,7,8,9})*1000+{100,90,80,70,60,50,40,30,20,10}+{0,1,2,3,4,5,6,7,8,9},COLUMN(D$21))),\"\"))","v":"8"},{"$f":"IF(OR(LEN($O94)=0),\"\",IFERROR(RIGHT(LARGE(COUNTIF(OFFSET($J94,-1,0,-1*$Q$3,5),{0,1,2,3,4,5,6,7,8,9})*1000+{100,90,80,70,60,50,40,30,20,10}+{0,1,2,3,4,5,6,7,8,9},COLUMN(E$21))),\"\"))","v":"0"},{"$f":"IF(OR(LEN($O94)=0),\"\",IFERROR(RIGHT(LARGE(COUNTIF(OFFSET($J94,-1,0,-1*$Q$3,5),{0,1,2,3,4,5,6,7,8,9})*1000+{100,90,80,70,60,50,40,30,20,10}+{0,1,2,3,4,5,6,7,8,9},COLUMN(F$21))),\"\"))","v":"5"},{"$f":"IF(OR(LEN($O94)=0),\"\",IFERROR(RIGHT(LARGE(COUNTIF(OFFSET($J94,-1,0,-1*$Q$3,5),{0,1,2,3,4,5,6,7,8,9})*1000+{100,90,80,70,60,50,40,30,20,10}+{0,1,2,3,4,5,6,7,8,9},COLUMN(G$21))),\"\"))","v":"2"},{"$f":"IF(OR(LEN($O94)=0),\"\",IFERROR(RIGHT(LARGE(COUNTIF(OFFSET($J94,-1,0,-1*$Q$3,5),{0,1,2,3,4,5,6,7,8,9})*1000+{100,90,80,70,60,50,40,30,20,10}+{0,1,2,3,4,5,6,7,8,9},COLUMN(H$21))),\"\"))","v":"7"},{"$f":"IF(OR(LEN($O94)=0),\"\",IFERROR(RIGHT(LARGE(COUNTIF(OFFSET($J94,-1,0,-1*$Q$3,5),{0,1,2,3,4,5,6,7,8,9})*1000+{100,90,80,70,60,50,40,30,20,10}+{0,1,2,3,4,5,6,7,8,9},COLUMN(I$21))),\"\"))","v":"1"},{"$f":"IF(OR(LEN($O94)=0),\"\",IFERROR(RIGHT(LARGE(COUNTIF(OFFSET($J94,-1,0,-1*$Q$3,5),{0,1,2,3,4,5,6,7,8,9})*1000+{100,90,80,70,60,50,40,30,20,10}+{0,1,2,3,4,5,6,7,8,9},COLUMN(J$21))),\"\"))","v":"9"},"4368","4","3","6","8","","","","","",""]
["20200515016","11252","1","1","2","5","2",null,null,"","","2","5","2","252",{"$f":"IF(OR(LEN($O95)=0),\"\",IFERROR(RIGHT(LARGE(COUNTIF(OFFSET($J95,-1,0,-1*$Q$3,5),{0,1,2,3,4,5,6,7,8,9})*1000+{100,90,80,70,60,50,40,30,20,10}+{0,1,2,3,4,5,6,7,8,9},COLUMN(A$21))),\"\"))","v":"4"},{"$f":"IF(OR(LEN($O95)=0),\"\",IFERROR(RIGHT(LARGE(COUNTIF(OFFSET($J95,-1,0,-1*$Q$3,5),{0,1,2,3,4,5,6,7,8,9})*1000+{100,90,80,70,60,50,40,30,20,10}+{0,1,2,3,4,5,6,7,8,9},COLUMN(B$21))),\"\"))","v":"6"},{"$f":"IF(OR(LEN($O95)=0),\"\",IFERROR(RIGHT(LARGE(COUNTIF(OFFSET($J95,-1,0,-1*$Q$3,5),{0,1,2,3,4,5,6,7,8,9})*1000+{100,90,80,70,60,50,40,30,20,10}+{0,1,2,3,4,5,6,7,8,9},COLUMN(C$21))),\"\"))","v":"3"},{"$f":"IF(OR(LEN($O95)=0),\"\",IFERROR(RIGHT(LARGE(COUNTIF(OFFSET($J95,-1,0,-1*$Q$3,5),{0,1,2,3,4,5,6,7,8,9})*1000+{100,90,80,70,60,50,40,30,20,10}+{0,1,2,3,4,5,6,7,8,9},COLUMN(D$21))),\"\"))","v":"8"},{"$f":"IF(OR(LEN($O95)=0),\"\",IFERROR(RIGHT(LARGE(COUNTIF(OFFSET($J95,-1,0,-1*$Q$3,5),{0,1,2,3,4,5,6,7,8,9})*1000+{100,90,80,70,60,50,40,30,20,10}+{0,1,2,3,4,5,6,7,8,9},COLUMN(E$21))),\"\"))","v":"0"},{"$f":"IF(OR(LEN($O95)=0),\"\",IFERROR(RIGHT(LARGE(COUNTIF(OFFSET($J95,-1,0,-1*$Q$3,5),{0,1,2,3,4,5,6,7,8,9})*1000+{100,90,80,70,60,50,40,30,20,10}+{0,1,2,3,4,5,6,7,8,9},COLUMN(F$21))),\"\"))","v":"5"},{"$f":"IF(OR(LEN($O95)=0),\"\",IFERROR(RIGHT(LARGE(COUNTIF(OFFSET($J95,-1,0,-1*$Q$3,5),{0,1,2,3,4,5,6,7,8,9})*1000+{100,90,80,70,60,50,40,30,20,10}+{0,1,2,3,4,5,6,7,8,9},COLUMN(G$21))),\"\"))","v":"7"},{"$f":"IF(OR(LEN($O95)=0),\"\",IFERROR(RIGHT(LARGE(COUNTIF(OFFSET($J95,-1,0,-1*$Q$3,5),{0,1,2,3,4,5,6,7,8,9})*1000+{100,90,80,70,60,50,40,30,20,10}+{0,1,2,3,4,5,6,7,8,9},COLUMN(H$21))),\"\"))","v":"1"},{"$f":"IF(OR(LEN($O95)=0),\"\",IFERROR(RIGHT(LARGE(COUNTIF(OFFSET($J95,-1,0,-1*$Q$3,5),{0,1,2,3,4,5,6,7,8,9})*1000+{100,90,80,70,60,50,40,30,20,10}+{0,1,2,3,4,5,6,7,8,9},COLUMN(I$21))),\"\"))","v":"2"},{"$f":"IF(OR(LEN($O95)=0),\"\",IFERROR(RIGHT(LARGE(COUNTIF(OFFSET($J95,-1,0,-1*$Q$3,5),{0,1,2,3,4,5,6,7,8,9})*1000+{100,90,80,70,60,50,40,30,20,10}+{0,1,2,3,4,5,6,7,8,9},COLUMN(J$21))),\"\"))","v":"9"},"4638","4","6","3","8","","","","","",""]
["20200515017","87730","8","7","7","3","0",null,null,"","","7","3","0","730",{"$f":"IF(OR(LEN($O96)=0),\"\",IFERROR(RIGHT(LARGE(COUNTIF(OFFSET($J96,-1,0,-1*$Q$3,5),{0,1,2,3,4,5,6,7,8,9})*1000+{100,90,80,70,60,50,40,30,20,10}+{0,1,2,3,4,5,6,7,8,9},COLUMN(A$21))),\"\"))","v":"4"},{"$f":"IF(OR(LEN($O96)=0),\"\",IFERROR(RIGHT(LARGE(COUNTIF(OFFSET($J96,-1,0,-1*$Q$3,5),{0,1,2,3,4,5,6,7,8,9})*1000+{100,90,80,70,60,50,40,30,20,10}+{0,1,2,3,4,5,6,7,8,9},COLUMN(B$21))),\"\"))","v":"6"},{"$f":"IF(OR(LEN($O96)=0),\"\",IFERROR(RIGHT(LARGE(COUNTIF(OFFSET($J96,-1,0,-1*$Q$3,5),{0,1,2,3,4,5,6,7,8,9})*1000+{100,90,80,70,60,50,40,30,20,10}+{0,1,2,3,4,5,6,7,8,9},COLUMN(C$21))),\"\"))","v":"8"},{"$f":"IF(OR(LEN($O96)=0),\"\",IFERROR(RIGHT(LARGE(COUNTIF(OFFSET($J96,-1,0,-1*$Q$3,5),{0,1,2,3,4,5,6,7,8,9})*1000+{100,90,80,70,60,50,40,30,20,10}+{0,1,2,3,4,5,6,7,8,9},COLUMN(D$21))),\"\"))","v":"3"},{"$f":"IF(OR(LEN($O96)=0),\"\",IFERROR(RIGHT(LARGE(COUNTIF(OFFSET($J96,-1,0,-1*$Q$3,5),{0,1,2,3,4,5,6,7,8,9})*1000+{100,90,80,70,60,50,40,30,20,10}+{0,1,2,3,4,5,6,7,8,9},COLUMN(E$21))),\"\"))","v":"0"},{"$f":"IF(OR(LEN($O96)=0),\"\",IFERROR(RIGHT(LARGE(COUNTIF(OFFSET($J96,-1,0,-1*$Q$3,5),{0,1,2,3,4,5,6,7,8,9})*1000+{100,90,80,70,60,50,40,30,20,10}+{0,1,2,3,4,5,6,7,8,9},COLUMN(F$21))),\"\"))","v":"5"},{"$f":"IF(OR(LEN($O96)=0),\"\",IFERROR(RIGHT(LARGE(COUNTIF(OFFSET($J96,-1,0,-1*$Q$3,5),{0,1,2,3,4,5,6,7,8,9})*1000+{100,90,80,70,60,50,40,30,20,10}+{0,1,2,3,4,5,6,7,8,9},COLUMN(G$21))),\"\"))","v":"2"},{"$f":"IF(OR(LEN($O96)=0),\"\",IFERROR(RIGHT(LARGE(COUNTIF(OFFSET($J96,-1,0,-1*$Q$3,5),{0,1,2,3,4,5,6,7,8,9})*1000+{100,90,80,70,60,50,40,30,20,10}+{0,1,2,3,4,5,6,7,8,9},COLUMN(H$21))),\"\"))","v":"7"},{"$f":"IF(OR(LEN($O96)=0),\"\",IFERROR(RIGHT(LARGE(COUNTIF(OFFSET($J96,-1,0,-1*$Q$3,5),{0,1,2,3,4,5,6,7,8,9})*1000+{100,90,80,70,60,50,40,30,20,10}+{0,1,2,3,4,5,6,7,8,9},COLUMN(I$21))),\"\"))","v":"1"},{"$f":"IF(OR(LEN($O96)=0),\"\",IFERROR(RIGHT(LARGE(COUNTIF(OFFSET($J96,-1,0,-1*$Q$3,5),{0,1,2,3,4,5,6,7,8,9})*1000+{100,90,80,70,60,50,40,30,20,10}+{0,1,2,3,4,5,6,7,8,9},COLUMN(J$21))),\"\"))","v":"9"},"4683","4","6","8","3","","","","","",""]
["20200515018","49192","4","9","1","9","2",null,null,"","","1","9","2","192",{"$f":"IF(OR(LEN($O97)=0),\"\",IFERROR(RIGHT(LARGE(COUNTIF(OFFSET($J97,-1,0,-1*$Q$3,5),{0,1,2,3,4,5,6,7,8,9})*1000+{100,90,80,70,60,50,40,30,20,10}+{0,1,2,3,4,5,6,7,8,9},COLUMN(A$21))),\"\"))","v":"4"},{"$f":"IF(OR(LEN($O97)=0),\"\",IFERROR(RIGHT(LARGE(COUNTIF(OFFSET($J97,-1,0,-1*$Q$3,5),{0,1,2,3,4,5,6,7,8,9})*1000+{100,90,80,70,60,50,40,30,20,10}+{0,1,2,3,4,5,6,7,8,9},COLUMN(B$21))),\"\"))","v":"6"},{"$f":"IF(OR(LEN($O97)=0),\"\",IFERROR(RIGHT(LARGE(COUNTIF(OFFSET($J97,-1,0,-1*$Q$3,5),{0,1,2,3,4,5,6,7,8,9})*1000+{100,90,80,70,60,50,40,30,20,10}+{0,1,2,3,4,5,6,7,8,9},COLUMN(C$21))),\"\"))","v":"3"},{"$f":"IF(OR(LEN($O97)=0),\"\",IFERROR(RIGHT(LARGE(COUNTIF(OFFSET($J97,-1,0,-1*$Q$3,5),{0,1,2,3,4,5,6,7,8,9})*1000+{100,90,80,70,60,50,40,30,20,10}+{0,1,2,3,4,5,6,7,8,9},COLUMN(D$21))),\"\"))","v":"0"},{"$f":"IF(OR(LEN($O97)=0),\"\",IFERROR(RIGHT(LARGE(COUNTIF(OFFSET($J97,-1,0,-1*$Q$3,5),{0,1,2,3,4,5,6,7,8,9})*1000+{100,90,80,70,60,50,40,30,20,10}+{0,1,2,3,4,5,6,7,8,9},COLUMN(E$21))),\"\"))","v":"8"},{"$f":"IF(OR(LEN($O97)=0),\"\",IFERROR(RIGHT(LARGE(COUNTIF(OFFSET($J97,-1,0,-1*$Q$3,5),{0,1,2,3,4,5,6,7,8,9})*1000+{100,90,80,70,60,50,40,30,20,10}+{0,1,2,3,4,5,6,7,8,9},COLUMN(F$21))),\"\"))","v":"5"},{"$f":"IF(OR(LEN($O97)=0),\"\",IFERROR(RIGHT(LARGE(COUNTIF(OFFSET($J97,-1,0,-1*$Q$3,5),{0,1,2,3,4,5,6,7,8,9})*1000+{100,90,80,70,60,50,40,30,20,10}+{0,1,2,3,4,5,6,7,8,9},COLUMN(G$21))),\"\"))","v":"2"},{"$f":"IF(OR(LEN($O97)=0),\"\",IFERROR(RIGHT(LARGE(COUNTIF(OFFSET($J97,-1,0,-1*$Q$3,5),{0,1,2,3,4,5,6,7,8,9})*1000+{100,90,80,70,60,50,40,30,20,10}+{0,1,2,3,4,5,6,7,8,9},COLUMN(H$21))),\"\"))","v":"7"},{"$f":"IF(OR(LEN($O97)=0),\"\",IFERROR(RIGHT(LARGE(COUNTIF(OFFSET($J97,-1,0,-1*$Q$3,5),{0,1,2,3,4,5,6,7,8,9})*1000+{100,90,80,70,60,50,40,30,20,10}+{0,1,2,3,4,5,6,7,8,9},COLUMN(I$21))),\"\"))","v":"1"},{"$f":"IF(OR(LEN($O97)=0),\"\",IFERROR(RIGHT(LARGE(COUNTIF(OFFSET($J97,-1,0,-1*$Q$3,5),{0,1,2,3,4,5,6,7,8,9})*1000+{100,90,80,70,60,50,40,30,20,10}+{0,1,2,3,4,5,6,7,8,9},COLUMN(J$21))),\"\"))","v":"9"},"4630","4","6","3","0","","","","","",""]
["20200515019","15687","1","5","6","8","7",null,null,"","","6","8","7","687",{"$f":"IF(OR(LEN($O98)=0),\"\",IFERROR(RIGHT(LARGE(COUNTIF(OFFSET($J98,-1,0,-1*$Q$3,5),{0,1,2,3,4,5,6,7,8,9})*1000+{100,90,80,70,60,50,40,30,20,10}+{0,1,2,3,4,5,6,7,8,9},COLUMN(A$21))),\"\"))","v":"6"},{"$f":"IF(OR(LEN($O98)=0),\"\",IFERROR(RIGHT(LARGE(COUNTIF(OFFSET($J98,-1,0,-1*$Q$3,5),{0,1,2,3,4,5,6,7,8,9})*1000+{100,90,80,70,60,50,40,30,20,10}+{0,1,2,3,4,5,6,7,8,9},COLUMN(B$21))),\"\"))","v":"3"},{"$f":"IF(OR(LEN($O98)=0),\"\",IFERROR(RIGHT(LARGE(COUNTIF(OFFSET($J98,-1,0,-1*$Q$3,5),{0,1,2,3,4,5,6,7,8,9})*1000+{100,90,80,70,60,50,40,30,20,10}+{0,1,2,3,4,5,6,7,8,9},COLUMN(C$21))),\"\"))","v":"4"},{"$f":"IF(OR(LEN($O98)=0),\"\",IFERROR(RIGHT(LARGE(COUNTIF(OFFSET($J98,-1,0,-1*$Q$3,5),{0,1,2,3,4,5,6,7,8,9})*1000+{100,90,80,70,60,50,40,30,20,10}+{0,1,2,3,4,5,6,7,8,9},COLUMN(D$21))),\"\"))","v":"0"},{"$f":"IF(OR(LEN($O98)=0),\"\",IFERROR(RIGHT(LARGE(COUNTIF(OFFSET($J98,-1,0,-1*$Q$3,5),{0,1,2,3,4,5,6,7,8,9})*1000+{100,90,80,70,60,50,40,30,20,10}+{0,1,2,3,4,5,6,7,8,9},COLUMN(E$21))),\"\"))","v":"8"},{"$f":"IF(OR(LEN($O98)=0),\"\",IFERROR(RIGHT(LARGE(COUNTIF(OFFSET($J98,-1,0,-1*$Q$3,5),{0,1,2,3,4,5,6,7,8,9})*1000+{100,90,80,70,60,50,40,30,20,10}+{0,1,2,3,4,5,6,7,8,9},COLUMN(F$21))),\"\"))","v":"5"},{"$f":"IF(OR(LEN($O98)=0),\"\",IFERROR(RIGHT(LARGE(COUNTIF(OFFSET($J98,-1,0,-1*$Q$3,5),{0,1,2,3,4,5,6,7,8,9})*1000+{100,90,80,70,60,50,40,30,20,10}+{0,1,2,3,4,5,6,7,8,9},COLUMN(G$21))),\"\"))","v":"2"},{"$f":"IF(OR(LEN($O98)=0),\"\",IFERROR(RIGHT(LARGE(COUNTIF(OFFSET($J98,-1,0,-1*$Q$3,5),{0,1,2,3,4,5,6,7,8,9})*1000+{100,90,80,70,60,50,40,30,20,10}+{0,1,2,3,4,5,6,7,8,9},COLUMN(H$21))),\"\"))","v":"7"},{"$f":"IF(OR(LEN($O98)=0),\"\",IFERROR(RIGHT(LARGE(COUNTIF(OFFSET($J98,-1,0,-1*$Q$3,5),{0,1,2,3,4,5,6,7,8,9})*1000+{100,90,80,70,60,50,40,30,20,10}+{0,1,2,3,4,5,6,7,8,9},COLUMN(I$21))),\"\"))","v":"1"},{"$f":"IF(OR(LEN($O98)=0),\"\",IFERROR(RIGHT(LARGE(COUNTIF(OFFSET($J98,-1,0,-1*$Q$3,5),{0,1,2,3,4,5,6,7,8,9})*1000+{100,90,80,70,60,50,40,30,20,10}+{0,1,2,3,4,5,6,7,8,9},COLUMN(J$21))),\"\"))","v":"9"},"6340","6","3","4","0","","","","","",""]
["20200515020","56574","5","6","5","7","4",null,null,"","","5","7","4","574",{"$f":"IF(OR(LEN($O99)=0),\"\",IFERROR(RIGHT(LARGE(COUNTIF(OFFSET($J99,-1,0,-1*$Q$3,5),{0,1,2,3,4,5,6,7,8,9})*1000+{100,90,80,70,60,50,40,30,20,10}+{0,1,2,3,4,5,6,7,8,9},COLUMN(A$21))),\"\"))","v":"6"},{"$f":"IF(OR(LEN($O99)=0),\"\",IFERROR(RIGHT(LARGE(COUNTIF(OFFSET($J99,-1,0,-1*$Q$3,5),{0,1,2,3,4,5,6,7,8,9})*1000+{100,90,80,70,60,50,40,30,20,10}+{0,1,2,3,4,5,6,7,8,9},COLUMN(B$21))),\"\"))","v":"3"},{"$f":"IF(OR(LEN($O99)=0),\"\",IFERROR(RIGHT(LARGE(COUNTIF(OFFSET($J99,-1,0,-1*$Q$3,5),{0,1,2,3,4,5,6,7,8,9})*1000+{100,90,80,70,60,50,40,30,20,10}+{0,1,2,3,4,5,6,7,8,9},COLUMN(C$21))),\"\"))","v":"4"},{"$f":"IF(OR(LEN($O99)=0),\"\",IFERROR(RIGHT(LARGE(COUNTIF(OFFSET($J99,-1,0,-1*$Q$3,5),{0,1,2,3,4,5,6,7,8,9})*1000+{100,90,80,70,60,50,40,30,20,10}+{0,1,2,3,4,5,6,7,8,9},COLUMN(D$21))),\"\"))","v":"8"},{"$f":"IF(OR(LEN($O99)=0),\"\",IFERROR(RIGHT(LARGE(COUNTIF(OFFSET($J99,-1,0,-1*$Q$3,5),{0,1,2,3,4,5,6,7,8,9})*1000+{100,90,80,70,60,50,40,30,20,10}+{0,1,2,3,4,5,6,7,8,9},COLUMN(E$21))),\"\"))","v":"0"},{"$f":"IF(OR(LEN($O99)=0),\"\",IFERROR(RIGHT(LARGE(COUNTIF(OFFSET($J99,-1,0,-1*$Q$3,5),{0,1,2,3,4,5,6,7,8,9})*1000+{100,90,80,70,60,50,40,30,20,10}+{0,1,2,3,4,5,6,7,8,9},COLUMN(F$21))),\"\"))","v":"2"},{"$f":"IF(OR(LEN($O99)=0),\"\",IFERROR(RIGHT(LARGE(COUNTIF(OFFSET($J99,-1,0,-1*$Q$3,5),{0,1,2,3,4,5,6,7,8,9})*1000+{100,90,80,70,60,50,40,30,20,10}+{0,1,2,3,4,5,6,7,8,9},COLUMN(G$21))),\"\"))","v":"5"},{"$f":"IF(OR(LEN($O99)=0),\"\",IFERROR(RIGHT(LARGE(COUNTIF(OFFSET($J99,-1,0,-1*$Q$3,5),{0,1,2,3,4,5,6,7,8,9})*1000+{100,90,80,70,60,50,40,30,20,10}+{0,1,2,3,4,5,6,7,8,9},COLUMN(H$21))),\"\"))","v":"7"},{"$f":"IF(OR(LEN($O99)=0),\"\",IFERROR(RIGHT(LARGE(COUNTIF(OFFSET($J99,-1,0,-1*$Q$3,5),{0,1,2,3,4,5,6,7,8,9})*1000+{100,90,80,70,60,50,40,30,20,10}+{0,1,2,3,4,5,6,7,8,9},COLUMN(I$21))),\"\"))","v":"1"},{"$f":"IF(OR(LEN($O99)=0),\"\",IFERROR(RIGHT(LARGE(COUNTIF(OFFSET($J99,-1,0,-1*$Q$3,5),{0,1,2,3,4,5,6,7,8,9})*1000+{100,90,80,70,60,50,40,30,20,10}+{0,1,2,3,4,5,6,7,8,9},COLUMN(J$21))),\"\"))","v":"9"},"6348","6","3","4","8","","","","","",""]
["20200515021","49543","4","9","5","4","3",null,null,"","","5","4","3","543",{"$f":"IF(OR(LEN($O100)=0),\"\",IFERROR(RIGHT(LARGE(COUNTIF(OFFSET($J100,-1,0,-1*$Q$3,5),{0,1,2,3,4,5,6,7,8,9})*1000+{100,90,80,70,60,50,40,30,20,10}+{0,1,2,3,4,5,6,7,8,9},COLUMN(A$21))),\"\"))","v":"4"},{"$f":"IF(OR(LEN($O100)=0),\"\",IFERROR(RIGHT(LARGE(COUNTIF(OFFSET($J100,-1,0,-1*$Q$3,5),{0,1,2,3,4,5,6,7,8,9})*1000+{100,90,80,70,60,50,40,30,20,10}+{0,1,2,3,4,5,6,7,8,9},COLUMN(B$21))),\"\"))","v":"3"},{"$f":"IF(OR(LEN($O100)=0),\"\",IFERROR(RIGHT(LARGE(COUNTIF(OFFSET($J100,-1,0,-1*$Q$3,5),{0,1,2,3,4,5,6,7,8,9})*1000+{100,90,80,70,60,50,40,30,20,10}+{0,1,2,3,4,5,6,7,8,9},COLUMN(C$21))),\"\"))","v":"6"},{"$f":"IF(OR(LEN($O100)=0),\"\",IFERROR(RIGHT(LARGE(COUNTIF(OFFSET($J100,-1,0,-1*$Q$3,5),{0,1,2,3,4,5,6,7,8,9})*1000+{100,90,80,70,60,50,40,30,20,10}+{0,1,2,3,4,5,6,7,8,9},COLUMN(D$21))),\"\"))","v":"8"},{"$f":"IF(OR(LEN($O100)=0),\"\",IFERROR(RIGHT(LARGE(COUNTIF(OFFSET($J100,-1,0,-1*$Q$3,5),{0,1,2,3,4,5,6,7,8,9})*1000+{100,90,80,70,60,50,40,30,20,10}+{0,1,2,3,4,5,6,7,8,9},COLUMN(E$21))),\"\"))","v":"0"},{"$f":"IF(OR(LEN($O100)=0),\"\",IFERROR(RIGHT(LARGE(COUNTIF(OFFSET($J100,-1,0,-1*$Q$3,5),{0,1,2,3,4,5,6,7,8,9})*1000+{100,90,80,70,60,50,40,30,20,10}+{0,1,2,3,4,5,6,7,8,9},COLUMN(F$21))),\"\"))","v":"5"},{"$f":"IF(OR(LEN($O100)=0),\"\",IFERROR(RIGHT(LARGE(COUNTIF(OFFSET($J100,-1,0,-1*$Q$3,5),{0,1,2,3,4,5,6,7,8,9})*1000+{100,90,80,70,60,50,40,30,20,10}+{0,1,2,3,4,5,6,7,8,9},COLUMN(G$21))),\"\"))","v":"7"},{"$f":"IF(OR(LEN($O100)=0),\"\",IFERROR(RIGHT(LARGE(COUNTIF(OFFSET($J100,-1,0,-1*$Q$3,5),{0,1,2,3,4,5,6,7,8,9})*1000+{100,90,80,70,60,50,40,30,20,10}+{0,1,2,3,4,5,6,7,8,9},COLUMN(H$21))),\"\"))","v":"2"},{"$f":"IF(OR(LEN($O100)=0),\"\",IFERROR(RIGHT(LARGE(COUNTIF(OFFSET($J100,-1,0,-1*$Q$3,5),{0,1,2,3,4,5,6,7,8,9})*1000+{100,90,80,70,60,50,40,30,20,10}+{0,1,2,3,4,5,6,7,8,9},COLUMN(I$21))),\"\"))","v":"1"},{"$f":"IF(OR(LEN($O100)=0),\"\",IFERROR(RIGHT(LARGE(COUNTIF(OFFSET($J100,-1,0,-1*$Q$3,5),{0,1,2,3,4,5,6,7,8,9})*1000+{100,90,80,70,60,50,40,30,20,10}+{0,1,2,3,4,5,6,7,8,9},COLUMN(J$21))),\"\"))","v":"9"},"4368","4","3","6","8","","","","","",""]
["20200515022","64720","6","4","7","2","0",null,null,"","","7","2","0","720",{"$f":"IF(OR(LEN($O101)=0),\"\",IFERROR(RIGHT(LARGE(COUNTIF(OFFSET($J101,-1,0,-1*$Q$3,5),{0,1,2,3,4,5,6,7,8,9})*1000+{100,90,80,70,60,50,40,30,20,10}+{0,1,2,3,4,5,6,7,8,9},COLUMN(A$21))),\"\"))","v":"4"},{"$f":"IF(OR(LEN($O101)=0),\"\",IFERROR(RIGHT(LARGE(COUNTIF(OFFSET($J101,-1,0,-1*$Q$3,5),{0,1,2,3,4,5,6,7,8,9})*1000+{100,90,80,70,60,50,40,30,20,10}+{0,1,2,3,4,5,6,7,8,9},COLUMN(B$21))),\"\"))","v":"3"},{"$f":"IF(OR(LEN($O101)=0),\"\",IFERROR(RIGHT(LARGE(COUNTIF(OFFSET($J101,-1,0,-1*$Q$3,5),{0,1,2,3,4,5,6,7,8,9})*1000+{100,90,80,70,60,50,40,30,20,10}+{0,1,2,3,4,5,6,7,8,9},COLUMN(C$21))),\"\"))","v":"6"},{"$f":"IF(OR(LEN($O101)=0),\"\",IFERROR(RIGHT(LARGE(COUNTIF(OFFSET($J101,-1,0,-1*$Q$3,5),{0,1,2,3,4,5,6,7,8,9})*1000+{100,90,80,70,60,50,40,30,20,10}+{0,1,2,3,4,5,6,7,8,9},COLUMN(D$21))),\"\"))","v":"8"},{"$f":"IF(OR(LEN($O101)=0),\"\",IFERROR(RIGHT(LARGE(COUNTIF(OFFSET($J101,-1,0,-1*$Q$3,5),{0,1,2,3,4,5,6,7,8,9})*1000+{100,90,80,70,60,50,40,30,20,10}+{0,1,2,3,4,5,6,7,8,9},COLUMN(E$21))),\"\"))","v":"0"},{"$f":"IF(OR(LEN($O101)=0),\"\",IFERROR(RIGHT(LARGE(COUNTIF(OFFSET($J101,-1,0,-1*$Q$3,5),{0,1,2,3,4,5,6,7,8,9})*1000+{100,90,80,70,60,50,40,30,20,10}+{0,1,2,3,4,5,6,7,8,9},COLUMN(F$21))),\"\"))","v":"5"},{"$f":"IF(OR(LEN($O101)=0),\"\",IFERROR(RIGHT(LARGE(COUNTIF(OFFSET($J101,-1,0,-1*$Q$3,5),{0,1,2,3,4,5,6,7,8,9})*1000+{100,90,80,70,60,50,40,30,20,10}+{0,1,2,3,4,5,6,7,8,9},COLUMN(G$21))),\"\"))","v":"7"},{"$f":"IF(OR(LEN($O101)=0),\"\",IFERROR(RIGHT(LARGE(COUNTIF(OFFSET($J101,-1,0,-1*$Q$3,5),{0,1,2,3,4,5,6,7,8,9})*1000+{100,90,80,70,60,50,40,30,20,10}+{0,1,2,3,4,5,6,7,8,9},COLUMN(H$21))),\"\"))","v":"2"},{"$f":"IF(OR(LEN($O101)=0),\"\",IFERROR(RIGHT(LARGE(COUNTIF(OFFSET($J101,-1,0,-1*$Q$3,5),{0,1,2,3,4,5,6,7,8,9})*1000+{100,90,80,70,60,50,40,30,20,10}+{0,1,2,3,4,5,6,7,8,9},COLUMN(I$21))),\"\"))","v":"1"},{"$f":"IF(OR(LEN($O101)=0),\"\",IFERROR(RIGHT(LARGE(COUNTIF(OFFSET($J101,-1,0,-1*$Q$3,5),{0,1,2,3,4,5,6,7,8,9})*1000+{100,90,80,70,60,50,40,30,20,10}+{0,1,2,3,4,5,6,7,8,9},COLUMN(J$21))),\"\"))","v":"9"},"4368","4","3","6","8","","","","","",""]
["20200515023","29473","2","9","4","7","3",null,null,"","","4","7","3","473",{"$f":"IF(OR(LEN($O102)=0),\"\",IFERROR(RIGHT(LARGE(COUNTIF(OFFSET($J102,-1,0,-1*$Q$3,5),{0,1,2,3,4,5,6,7,8,9})*1000+{100,90,80,70,60,50,40,30,20,10}+{0,1,2,3,4,5,6,7,8,9},COLUMN(A$21))),\"\"))","v":"3"},{"$f":"IF(OR(LEN($O102)=0),\"\",IFERROR(RIGHT(LARGE(COUNTIF(OFFSET($J102,-1,0,-1*$Q$3,5),{0,1,2,3,4,5,6,7,8,9})*1000+{100,90,80,70,60,50,40,30,20,10}+{0,1,2,3,4,5,6,7,8,9},COLUMN(B$21))),\"\"))","v":"4"},{"$f":"IF(OR(LEN($O102)=0),\"\",IFERROR(RIGHT(LARGE(COUNTIF(OFFSET($J102,-1,0,-1*$Q$3,5),{0,1,2,3,4,5,6,7,8,9})*1000+{100,90,80,70,60,50,40,30,20,10}+{0,1,2,3,4,5,6,7,8,9},COLUMN(C$21))),\"\"))","v":"6"},{"$f":"IF(OR(LEN($O102)=0),\"\",IFERROR(RIGHT(LARGE(COUNTIF(OFFSET($J102,-1,0,-1*$Q$3,5),{0,1,2,3,4,5,6,7,8,9})*1000+{100,90,80,70,60,50,40,30,20,10}+{0,1,2,3,4,5,6,7,8,9},COLUMN(D$21))),\"\"))","v":"0"},{"$f":"IF(OR(LEN($O102)=0),\"\",IFERROR(RIGHT(LARGE(COUNTIF(OFFSET($J102,-1,0,-1*$Q$3,5),{0,1,2,3,4,5,6,7,8,9})*1000+{100,90,80,70,60,50,40,30,20,10}+{0,1,2,3,4,5,6,7,8,9},COLUMN(E$21))),\"\"))","v":"2"},{"$f":"IF(OR(LEN($O102)=0),\"\",IFERROR(RIGHT(LARGE(COUNTIF(OFFSET($J102,-1,0,-1*$Q$3,5),{0,1,2,3,4,5,6,7,8,9})*1000+{100,90,80,70,60,50,40,30,20,10}+{0,1,2,3,4,5,6,7,8,9},COLUMN(F$21))),\"\"))","v":"5"},{"$f":"IF(OR(LEN($O102)=0),\"\",IFERROR(RIGHT(LARGE(COUNTIF(OFFSET($J102,-1,0,-1*$Q$3,5),{0,1,2,3,4,5,6,7,8,9})*1000+{100,90,80,70,60,50,40,30,20,10}+{0,1,2,3,4,5,6,7,8,9},COLUMN(G$21))),\"\"))","v":"7"},{"$f":"IF(OR(LEN($O102)=0),\"\",IFERROR(RIGHT(LARGE(COUNTIF(OFFSET($J102,-1,0,-1*$Q$3,5),{0,1,2,3,4,5,6,7,8,9})*1000+{100,90,80,70,60,50,40,30,20,10}+{0,1,2,3,4,5,6,7,8,9},COLUMN(H$21))),\"\"))","v":"8"},{"$f":"IF(OR(LEN($O102)=0),\"\",IFERROR(RIGHT(LARGE(COUNTIF(OFFSET($J102,-1,0,-1*$Q$3,5),{0,1,2,3,4,5,6,7,8,9})*1000+{100,90,80,70,60,50,40,30,20,10}+{0,1,2,3,4,5,6,7,8,9},COLUMN(I$21))),\"\"))","v":"1"},{"$f":"IF(OR(LEN($O102)=0),\"\",IFERROR(RIGHT(LARGE(COUNTIF(OFFSET($J102,-1,0,-1*$Q$3,5),{0,1,2,3,4,5,6,7,8,9})*1000+{100,90,80,70,60,50,40,30,20,10}+{0,1,2,3,4,5,6,7,8,9},COLUMN(J$21))),\"\"))","v":"9"},"3460","3","4","6","0","","","","","",""]
["20200515024","83883","8","3","8","8","3",null,null,"","","8","8","3","883",{"$f":"IF(OR(LEN($O103)=0),\"\",IFERROR(RIGHT(LARGE(COUNTIF(OFFSET($J103,-1,0,-1*$Q$3,5),{0,1,2,3,4,5,6,7,8,9})*1000+{100,90,80,70,60,50,40,30,20,10}+{0,1,2,3,4,5,6,7,8,9},COLUMN(A$21))),\"\"))","v":"3"},{"$f":"IF(OR(LEN($O103)=0),\"\",IFERROR(RIGHT(LARGE(COUNTIF(OFFSET($J103,-1,0,-1*$Q$3,5),{0,1,2,3,4,5,6,7,8,9})*1000+{100,90,80,70,60,50,40,30,20,10}+{0,1,2,3,4,5,6,7,8,9},COLUMN(B$21))),\"\"))","v":"4"},{"$f":"IF(OR(LEN($O103)=0),\"\",IFERROR(RIGHT(LARGE(COUNTIF(OFFSET($J103,-1,0,-1*$Q$3,5),{0,1,2,3,4,5,6,7,8,9})*1000+{100,90,80,70,60,50,40,30,20,10}+{0,1,2,3,4,5,6,7,8,9},COLUMN(C$21))),\"\"))","v":"6"},{"$f":"IF(OR(LEN($O103)=0),\"\",IFERROR(RIGHT(LARGE(COUNTIF(OFFSET($J103,-1,0,-1*$Q$3,5),{0,1,2,3,4,5,6,7,8,9})*1000+{100,90,80,70,60,50,40,30,20,10}+{0,1,2,3,4,5,6,7,8,9},COLUMN(D$21))),\"\"))","v":"0"},{"$f":"IF(OR(LEN($O103)=0),\"\",IFERROR(RIGHT(LARGE(COUNTIF(OFFSET($J103,-1,0,-1*$Q$3,5),{0,1,2,3,4,5,6,7,8,9})*1000+{100,90,80,70,60,50,40,30,20,10}+{0,1,2,3,4,5,6,7,8,9},COLUMN(E$21))),\"\"))","v":"7"},{"$f":"IF(OR(LEN($O103)=0),\"\",IFERROR(RIGHT(LARGE(COUNTIF(OFFSET($J103,-1,0,-1*$Q$3,5),{0,1,2,3,4,5,6,7,8,9})*1000+{100,90,80,70,60,50,40,30,20,10}+{0,1,2,3,4,5,6,7,8,9},COLUMN(F$21))),\"\"))","v":"5"},{"$f":"IF(OR(LEN($O103)=0),\"\",IFERROR(RIGHT(LARGE(COUNTIF(OFFSET($J103,-1,0,-1*$Q$3,5),{0,1,2,3,4,5,6,7,8,9})*1000+{100,90,80,70,60,50,40,30,20,10}+{0,1,2,3,4,5,6,7,8,9},COLUMN(G$21))),\"\"))","v":"8"},{"$f":"IF(OR(LEN($O103)=0),\"\",IFERROR(RIGHT(LARGE(COUNTIF(OFFSET($J103,-1,0,-1*$Q$3,5),{0,1,2,3,4,5,6,7,8,9})*1000+{100,90,80,70,60,50,40,30,20,10}+{0,1,2,3,4,5,6,7,8,9},COLUMN(H$21))),\"\"))","v":"2"},{"$f":"IF(OR(LEN($O103)=0),\"\",IFERROR(RIGHT(LARGE(COUNTIF(OFFSET($J103,-1,0,-1*$Q$3,5),{0,1,2,3,4,5,6,7,8,9})*1000+{100,90,80,70,60,50,40,30,20,10}+{0,1,2,3,4,5,6,7,8,9},COLUMN(I$21))),\"\"))","v":"1"},{"$f":"IF(OR(LEN($O103)=0),\"\",IFERROR(RIGHT(LARGE(COUNTIF(OFFSET($J103,-1,0,-1*$Q$3,5),{0,1,2,3,4,5,6,7,8,9})*1000+{100,90,80,70,60,50,40,30,20,10}+{0,1,2,3,4,5,6,7,8,9},COLUMN(J$21))),\"\"))","v":"9"},"3460","3","4","6","0","","","","","",""]
["20200515025","98431","9","8","4","3","1",null,null,"","","4","3","1","431",{"$f":"IF(OR(LEN($O104)=0),\"\",IFERROR(RIGHT(LARGE(COUNTIF(OFFSET($J104,-1,0,-1*$Q$3,5),{0,1,2,3,4,5,6,7,8,9})*1000+{100,90,80,70,60,50,40,30,20,10}+{0,1,2,3,4,5,6,7,8,9},COLUMN(A$21))),\"\"))","v":"3"},{"$f":"IF(OR(LEN($O104)=0),\"\",IFERROR(RIGHT(LARGE(COUNTIF(OFFSET($J104,-1,0,-1*$Q$3,5),{0,1,2,3,4,5,6,7,8,9})*1000+{100,90,80,70,60,50,40,30,20,10}+{0,1,2,3,4,5,6,7,8,9},COLUMN(B$21))),\"\"))","v":"4"},{"$f":"IF(OR(LEN($O104)=0),\"\",IFERROR(RIGHT(LARGE(COUNTIF(OFFSET($J104,-1,0,-1*$Q$3,5),{0,1,2,3,4,5,6,7,8,9})*1000+{100,90,80,70,60,50,40,30,20,10}+{0,1,2,3,4,5,6,7,8,9},COLUMN(C$21))),\"\"))","v":"0"},{"$f":"IF(OR(LEN($O104)=0),\"\",IFERROR(RIGHT(LARGE(COUNTIF(OFFSET($J104,-1,0,-1*$Q$3,5),{0,1,2,3,4,5,6,7,8,9})*1000+{100,90,80,70,60,50,40,30,20,10}+{0,1,2,3,4,5,6,7,8,9},COLUMN(D$21))),\"\"))","v":"6"},{"$f":"IF(OR(LEN($O104)=0),\"\",IFERROR(RIGHT(LARGE(COUNTIF(OFFSET($J104,-1,0,-1*$Q$3,5),{0,1,2,3,4,5,6,7,8,9})*1000+{100,90,80,70,60,50,40,30,20,10}+{0,1,2,3,4,5,6,7,8,9},COLUMN(E$21))),\"\"))","v":"7"},{"$f":"IF(OR(LEN($O104)=0),\"\",IFERROR(RIGHT(LARGE(COUNTIF(OFFSET($J104,-1,0,-1*$Q$3,5),{0,1,2,3,4,5,6,7,8,9})*1000+{100,90,80,70,60,50,40,30,20,10}+{0,1,2,3,4,5,6,7,8,9},COLUMN(F$21))),\"\"))","v":"8"},{"$f":"IF(OR(LEN($O104)=0),\"\",IFERROR(RIGHT(LARGE(COUNTIF(OFFSET($J104,-1,0,-1*$Q$3,5),{0,1,2,3,4,5,6,7,8,9})*1000+{100,90,80,70,60,50,40,30,20,10}+{0,1,2,3,4,5,6,7,8,9},COLUMN(G$21))),\"\"))","v":"5"},{"$f":"IF(OR(LEN($O104)=0),\"\",IFERROR(RIGHT(LARGE(COUNTIF(OFFSET($J104,-1,0,-1*$Q$3,5),{0,1,2,3,4,5,6,7,8,9})*1000+{100,90,80,70,60,50,40,30,20,10}+{0,1,2,3,4,5,6,7,8,9},COLUMN(H$21))),\"\"))","v":"2"},{"$f":"IF(OR(LEN($O104)=0),\"\",IFERROR(RIGHT(LARGE(COUNTIF(OFFSET($J104,-1,0,-1*$Q$3,5),{0,1,2,3,4,5,6,7,8,9})*1000+{100,90,80,70,60,50,40,30,20,10}+{0,1,2,3,4,5,6,7,8,9},COLUMN(I$21))),\"\"))","v":"1"},{"$f":"IF(OR(LEN($O104)=0),\"\",IFERROR(RIGHT(LARGE(COUNTIF(OFFSET($J104,-1,0,-1*$Q$3,5),{0,1,2,3,4,5,6,7,8,9})*1000+{100,90,80,70,60,50,40,30,20,10}+{0,1,2,3,4,5,6,7,8,9},COLUMN(J$21))),\"\"))","v":"9"},"3406","3","4","0","6","","","","","",""]
["20200515026","22664","2","2","6","6","4",null,null,"","","6","6","4","664",{"$f":"IF(OR(LEN($O105)=0),\"\",IFERROR(RIGHT(LARGE(COUNTIF(OFFSET($J105,-1,0,-1*$Q$3,5),{0,1,2,3,4,5,6,7,8,9})*1000+{100,90,80,70,60,50,40,30,20,10}+{0,1,2,3,4,5,6,7,8,9},COLUMN(A$21))),\"\"))","v":"4"},{"$f":"IF(OR(LEN($O105)=0),\"\",IFERROR(RIGHT(LARGE(COUNTIF(OFFSET($J105,-1,0,-1*$Q$3,5),{0,1,2,3,4,5,6,7,8,9})*1000+{100,90,80,70,60,50,40,30,20,10}+{0,1,2,3,4,5,6,7,8,9},COLUMN(B$21))),\"\"))","v":"3"},{"$f":"IF(OR(LEN($O105)=0),\"\",IFERROR(RIGHT(LARGE(COUNTIF(OFFSET($J105,-1,0,-1*$Q$3,5),{0,1,2,3,4,5,6,7,8,9})*1000+{100,90,80,70,60,50,40,30,20,10}+{0,1,2,3,4,5,6,7,8,9},COLUMN(C$21))),\"\"))","v":"0"},{"$f":"IF(OR(LEN($O105)=0),\"\",IFERROR(RIGHT(LARGE(COUNTIF(OFFSET($J105,-1,0,-1*$Q$3,5),{0,1,2,3,4,5,6,7,8,9})*1000+{100,90,80,70,60,50,40,30,20,10}+{0,1,2,3,4,5,6,7,8,9},COLUMN(D$21))),\"\"))","v":"6"},{"$f":"IF(OR(LEN($O105)=0),\"\",IFERROR(RIGHT(LARGE(COUNTIF(OFFSET($J105,-1,0,-1*$Q$3,5),{0,1,2,3,4,5,6,7,8,9})*1000+{100,90,80,70,60,50,40,30,20,10}+{0,1,2,3,4,5,6,7,8,9},COLUMN(E$21))),\"\"))","v":"7"},{"$f":"IF(OR(LEN($O105)=0),\"\",IFERROR(RIGHT(LARGE(COUNTIF(OFFSET($J105,-1,0,-1*$Q$3,5),{0,1,2,3,4,5,6,7,8,9})*1000+{100,90,80,70,60,50,40,30,20,10}+{0,1,2,3,4,5,6,7,8,9},COLUMN(F$21))),\"\"))","v":"8"},{"$f":"IF(OR(LEN($O105)=0),\"\",IFERROR(RIGHT(LARGE(COUNTIF(OFFSET($J105,-1,0,-1*$Q$3,5),{0,1,2,3,4,5,6,7,8,9})*1000+{100,90,80,70,60,50,40,30,20,10}+{0,1,2,3,4,5,6,7,8,9},COLUMN(G$21))),\"\"))","v":"5"},{"$f":"IF(OR(LEN($O105)=0),\"\",IFERROR(RIGHT(LARGE(COUNTIF(OFFSET($J105,-1,0,-1*$Q$3,5),{0,1,2,3,4,5,6,7,8,9})*1000+{100,90,80,70,60,50,40,30,20,10}+{0,1,2,3,4,5,6,7,8,9},COLUMN(H$21))),\"\"))","v":"2"},{"$f":"IF(OR(LEN($O105)=0),\"\",IFERROR(RIGHT(LARGE(COUNTIF(OFFSET($J105,-1,0,-1*$Q$3,5),{0,1,2,3,4,5,6,7,8,9})*1000+{100,90,80,70,60,50,40,30,20,10}+{0,1,2,3,4,5,6,7,8,9},COLUMN(I$21))),\"\"))","v":"1"},{"$f":"IF(OR(LEN($O105)=0),\"\",IFERROR(RIGHT(LARGE(COUNTIF(OFFSET($J105,-1,0,-1*$Q$3,5),{0,1,2,3,4,5,6,7,8,9})*1000+{100,90,80,70,60,50,40,30,20,10}+{0,1,2,3,4,5,6,7,8,9},COLUMN(J$21))),\"\"))","v":"9"},"4306","4","3","0","6","","","","","",""]
["20200515027","23285","2","3","2","8","5",null,null,{"$f":"IF(J$3=0,\"\",C106)","v":""},{"$f":"IF(K$3=0,\"\",D106)","v":""},{"$f":"IF(L$3=0,\"\",E106)","v":"2"},{"$f":"IF(M$3=0,\"\",F106)","v":"8"},{"$f":"IF(N$3=0,\"\",G106)","v":"5"},"285",{"$f":"IF(OR(LEN($O106)=0),\"\",IFERROR(RIGHT(LARGE(COUNTIF(OFFSET($J106,-1,0,-1*$Q$3,5),{0,1,2,3,4,5,6,7,8,9})*1000+{100,90,80,70,60,50,40,30,20,10}+{0,1,2,3,4,5,6,7,8,9},COLUMN(A$21))),\"\"))","v":"4"},{"$f":"IF(OR(LEN($O106)=0),\"\",IFERROR(RIGHT(LARGE(COUNTIF(OFFSET($J106,-1,0,-1*$Q$3,5),{0,1,2,3,4,5,6,7,8,9})*1000+{100,90,80,70,60,50,40,30,20,10}+{0,1,2,3,4,5,6,7,8,9},COLUMN(B$21))),\"\"))","v":"6"},{"$f":"IF(OR(LEN($O106)=0),\"\",IFERROR(RIGHT(LARGE(COUNTIF(OFFSET($J106,-1,0,-1*$Q$3,5),{0,1,2,3,4,5,6,7,8,9})*1000+{100,90,80,70,60,50,40,30,20,10}+{0,1,2,3,4,5,6,7,8,9},COLUMN(C$21))),\"\"))","v":"0"},{"$f":"IF(OR(LEN($O106)=0),\"\",IFERROR(RIGHT(LARGE(COUNTIF(OFFSET($J106,-1,0,-1*$Q$3,5),{0,1,2,3,4,5,6,7,8,9})*1000+{100,90,80,70,60,50,40,30,20,10}+{0,1,2,3,4,5,6,7,8,9},COLUMN(D$21))),\"\"))","v":"3"},{"$f":"IF(OR(LEN($O106)=0),\"\",IFERROR(RIGHT(LARGE(COUNTIF(OFFSET($J106,-1,0,-1*$Q$3,5),{0,1,2,3,4,5,6,7,8,9})*1000+{100,90,80,70,60,50,40,30,20,10}+{0,1,2,3,4,5,6,7,8,9},COLUMN(E$21))),\"\"))","v":"7"},{"$f":"IF(OR(LEN($O106)=0),\"\",IFERROR(RIGHT(LARGE(COUNTIF(OFFSET($J106,-1,0,-1*$Q$3,5),{0,1,2,3,4,5,6,7,8,9})*1000+{100,90,80,70,60,50,40,30,20,10}+{0,1,2,3,4,5,6,7,8,9},COLUMN(F$21))),\"\"))","v":"8"},{"$f":"IF(OR(LEN($O106)=0),\"\",IFERROR(RIGHT(LARGE(COUNTIF(OFFSET($J106,-1,0,-1*$Q$3,5),{0,1,2,3,4,5,6,7,8,9})*1000+{100,90,80,70,60,50,40,30,20,10}+{0,1,2,3,4,5,6,7,8,9},COLUMN(G$21))),\"\"))","v":"5"},{"$f":"IF(OR(LEN($O106)=0),\"\",IFERROR(RIGHT(LARGE(COUNTIF(OFFSET($J106,-1,0,-1*$Q$3,5),{0,1,2,3,4,5,6,7,8,9})*1000+{100,90,80,70,60,50,40,30,20,10}+{0,1,2,3,4,5,6,7,8,9},COLUMN(H$21))),\"\"))","v":"2"},{"$f":"IF(OR(LEN($O106)=0),\"\",IFERROR(RIGHT(LARGE(COUNTIF(OFFSET($J106,-1,0,-1*$Q$3,5),{0,1,2,3,4,5,6,7,8,9})*1000+{100,90,80,70,60,50,40,30,20,10}+{0,1,2,3,4,5,6,7,8,9},COLUMN(I$21))),\"\"))","v":"1"},{"$f":"IF(OR(LEN($O106)=0),\"\",IFERROR(RIGHT(LARGE(COUNTIF(OFFSET($J106,-1,0,-1*$Q$3,5),{0,1,2,3,4,5,6,7,8,9})*1000+{100,90,80,70,60,50,40,30,20,10}+{0,1,2,3,4,5,6,7,8,9},COLUMN(J$21))),\"\"))","v":"9"},"4603","4","6","0","3","","","","","",""]
["20200515028","49342","4","9","3","4","2",null,null,"","","3","4","2","342",{"$f":"IF(OR(LEN($O107)=0),\"\",IFERROR(RIGHT(LARGE(COUNTIF(OFFSET($J107,-1,0,-1*$Q$3,5),{0,1,2,3,4,5,6,7,8,9})*1000+{100,90,80,70,60,50,40,30,20,10}+{0,1,2,3,4,5,6,7,8,9},COLUMN(A$21))),\"\"))","v":"4"},{"$f":"IF(OR(LEN($O107)=0),\"\",IFERROR(RIGHT(LARGE(COUNTIF(OFFSET($J107,-1,0,-1*$Q$3,5),{0,1,2,3,4,5,6,7,8,9})*1000+{100,90,80,70,60,50,40,30,20,10}+{0,1,2,3,4,5,6,7,8,9},COLUMN(B$21))),\"\"))","v":"6"},{"$f":"IF(OR(LEN($O107)=0),\"\",IFERROR(RIGHT(LARGE(COUNTIF(OFFSET($J107,-1,0,-1*$Q$3,5),{0,1,2,3,4,5,6,7,8,9})*1000+{100,90,80,70,60,50,40,30,20,10}+{0,1,2,3,4,5,6,7,8,9},COLUMN(C$21))),\"\"))","v":"8"},{"$f":"IF(OR(LEN($O107)=0),\"\",IFERROR(RIGHT(LARGE(COUNTIF(OFFSET($J107,-1,0,-1*$Q$3,5),{0,1,2,3,4,5,6,7,8,9})*1000+{100,90,80,70,60,50,40,30,20,10}+{0,1,2,3,4,5,6,7,8,9},COLUMN(D$21))),\"\"))","v":"3"},{"$f":"IF(OR(LEN($O107)=0),\"\",IFERROR(RIGHT(LARGE(COUNTIF(OFFSET($J107,-1,0,-1*$Q$3,5),{0,1,2,3,4,5,6,7,8,9})*1000+{100,90,80,70,60,50,40,30,20,10}+{0,1,2,3,4,5,6,7,8,9},COLUMN(E$21))),\"\"))","v":"7"},{"$f":"IF(OR(LEN($O107)=0),\"\",IFERROR(RIGHT(LARGE(COUNTIF(OFFSET($J107,-1,0,-1*$Q$3,5),{0,1,2,3,4,5,6,7,8,9})*1000+{100,90,80,70,60,50,40,30,20,10}+{0,1,2,3,4,5,6,7,8,9},COLUMN(F$21))),\"\"))","v":"0"},{"$f":"IF(OR(LEN($O107)=0),\"\",IFERROR(RIGHT(LARGE(COUNTIF(OFFSET($J107,-1,0,-1*$Q$3,5),{0,1,2,3,4,5,6,7,8,9})*1000+{100,90,80,70,60,50,40,30,20,10}+{0,1,2,3,4,5,6,7,8,9},COLUMN(G$21))),\"\"))","v":"5"},{"$f":"IF(OR(LEN($O107)=0),\"\",IFERROR(RIGHT(LARGE(COUNTIF(OFFSET($J107,-1,0,-1*$Q$3,5),{0,1,2,3,4,5,6,7,8,9})*1000+{100,90,80,70,60,50,40,30,20,10}+{0,1,2,3,4,5,6,7,8,9},COLUMN(H$21))),\"\"))","v":"2"},{"$f":"IF(OR(LEN($O107)=0),\"\",IFERROR(RIGHT(LARGE(COUNTIF(OFFSET($J107,-1,0,-1*$Q$3,5),{0,1,2,3,4,5,6,7,8,9})*1000+{100,90,80,70,60,50,40,30,20,10}+{0,1,2,3,4,5,6,7,8,9},COLUMN(I$21))),\"\"))","v":"1"},{"$f":"IF(OR(LEN($O107)=0),\"\",IFERROR(RIGHT(LARGE(COUNTIF(OFFSET($J107,-1,0,-1*$Q$3,5),{0,1,2,3,4,5,6,7,8,9})*1000+{100,90,80,70,60,50,40,30,20,10}+{0,1,2,3,4,5,6,7,8,9},COLUMN(J$21))),\"\"))","v":"9"},{"$f":"AA107&AB107&AC107&AD107&AE107&AF107&AG107&AH107&AI107&AJ107","v":"4683"},{"$f":"IF(P$4=1,P107,\"\")","v":"4"},"6","8","3","",{"$f":"IF(U$4=1,U107,\"\")","v":""},{"$f":"IF(V$4=1,V107,\"\")","v":""},{"$f":"IF(W$4=1,W107,\"\")","v":""},{"$f":"IF(X$4=1,X107,\"\")","v":""},{"$f":"IF(Y$4=1,Y107,\"\")","v":""}]
["20200515029","61428","6","1","4","2","8",null,null,"","","4","2","8","428",{"$f":"IF(OR(LEN($O108)=0),\"\",IFERROR(RIGHT(LARGE(COUNTIF(OFFSET($J108,-1,0,-1*$Q$3,5),{0,1,2,3,4,5,6,7,8,9})*1000+{100,90,80,70,60,50,40,30,20,10}+{0,1,2,3,4,5,6,7,8,9},COLUMN(A$21))),\"\"))","v":"4"},{"$f":"IF(OR(LEN($O108)=0),\"\",IFERROR(RIGHT(LARGE(COUNTIF(OFFSET($J108,-1,0,-1*$Q$3,5),{0,1,2,3,4,5,6,7,8,9})*1000+{100,90,80,70,60,50,40,30,20,10}+{0,1,2,3,4,5,6,7,8,9},COLUMN(B$21))),\"\"))","v":"6"},{"$f":"IF(OR(LEN($O108)=0),\"\",IFERROR(RIGHT(LARGE(COUNTIF(OFFSET($J108,-1,0,-1*$Q$3,5),{0,1,2,3,4,5,6,7,8,9})*1000+{100,90,80,70,60,50,40,30,20,10}+{0,1,2,3,4,5,6,7,8,9},COLUMN(C$21))),\"\"))","v":"3"},{"$f":"IF(OR(LEN($O108)=0),\"\",IFERROR(RIGHT(LARGE(COUNTIF(OFFSET($J108,-1,0,-1*$Q$3,5),{0,1,2,3,4,5,6,7,8,9})*1000+{100,90,80,70,60,50,40,30,20,10}+{0,1,2,3,4,5,6,7,8,9},COLUMN(D$21))),\"\"))","v":"7"},{"$f":"IF(OR(LEN($O108)=0),\"\",IFERROR(RIGHT(LARGE(COUNTIF(OFFSET($J108,-1,0,-1*$Q$3,5),{0,1,2,3,4,5,6,7,8,9})*1000+{100,90,80,70,60,50,40,30,20,10}+{0,1,2,3,4,5,6,7,8,9},COLUMN(E$21))),\"\"))","v":"8"},{"$f":"IF(OR(LEN($O108)=0),\"\",IFERROR(RIGHT(LARGE(COUNTIF(OFFSET($J108,-1,0,-1*$Q$3,5),{0,1,2,3,4,5,6,7,8,9})*1000+{100,90,80,70,60,50,40,30,20,10}+{0,1,2,3,4,5,6,7,8,9},COLUMN(F$21))),\"\"))","v":"0"},{"$f":"IF(OR(LEN($O108)=0),\"\",IFERROR(RIGHT(LARGE(COUNTIF(OFFSET($J108,-1,0,-1*$Q$3,5),{0,1,2,3,4,5,6,7,8,9})*1000+{100,90,80,70,60,50,40,30,20,10}+{0,1,2,3,4,5,6,7,8,9},COLUMN(G$21))),\"\"))","v":"2"},{"$f":"IF(OR(LEN($O108)=0),\"\",IFERROR(RIGHT(LARGE(COUNTIF(OFFSET($J108,-1,0,-1*$Q$3,5),{0,1,2,3,4,5,6,7,8,9})*1000+{100,90,80,70,60,50,40,30,20,10}+{0,1,2,3,4,5,6,7,8,9},COLUMN(H$21))),\"\"))","v":"5"},{"$f":"IF(OR(LEN($O108)=0),\"\",IFERROR(RIGHT(LARGE(COUNTIF(OFFSET($J108,-1,0,-1*$Q$3,5),{0,1,2,3,4,5,6,7,8,9})*1000+{100,90,80,70,60,50,40,30,20,10}+{0,1,2,3,4,5,6,7,8,9},COLUMN(I$21))),\"\"))","v":"1"},{"$f":"IF(OR(LEN($O108)=0),\"\",IFERROR(RIGHT(LARGE(COUNTIF(OFFSET($J108,-1,0,-1*$Q$3,5),{0,1,2,3,4,5,6,7,8,9})*1000+{100,90,80,70,60,50,40,30,20,10}+{0,1,2,3,4,5,6,7,8,9},COLUMN(J$21))),\"\"))","v":"9"},"4637","4","6","3","7","","","","","",""]
["20200515030","47429","4","7","4","2","9",null,null,"","","4","2","9","429",{"$f":"IF(OR(LEN($O109)=0),\"\",IFERROR(RIGHT(LARGE(COUNTIF(OFFSET($J109,-1,0,-1*$Q$3,5),{0,1,2,3,4,5,6,7,8,9})*1000+{100,90,80,70,60,50,40,30,20,10}+{0,1,2,3,4,5,6,7,8,9},COLUMN(A$21))),\"\"))","v":"4"},{"$f":"IF(OR(LEN($O109)=0),\"\",IFERROR(RIGHT(LARGE(COUNTIF(OFFSET($J109,-1,0,-1*$Q$3,5),{0,1,2,3,4,5,6,7,8,9})*1000+{100,90,80,70,60,50,40,30,20,10}+{0,1,2,3,4,5,6,7,8,9},COLUMN(B$21))),\"\"))","v":"6"},{"$f":"IF(OR(LEN($O109)=0),\"\",IFERROR(RIGHT(LARGE(COUNTIF(OFFSET($J109,-1,0,-1*$Q$3,5),{0,1,2,3,4,5,6,7,8,9})*1000+{100,90,80,70,60,50,40,30,20,10}+{0,1,2,3,4,5,6,7,8,9},COLUMN(C$21))),\"\"))","v":"8"},{"$f":"IF(OR(LEN($O109)=0),\"\",IFERROR(RIGHT(LARGE(COUNTIF(OFFSET($J109,-1,0,-1*$Q$3,5),{0,1,2,3,4,5,6,7,8,9})*1000+{100,90,80,70,60,50,40,30,20,10}+{0,1,2,3,4,5,6,7,8,9},COLUMN(D$21))),\"\"))","v":"2"},{"$f":"IF(OR(LEN($O109)=0),\"\",IFERROR(RIGHT(LARGE(COUNTIF(OFFSET($J109,-1,0,-1*$Q$3,5),{0,1,2,3,4,5,6,7,8,9})*1000+{100,90,80,70,60,50,40,30,20,10}+{0,1,2,3,4,5,6,7,8,9},COLUMN(E$21))),\"\"))","v":"3"},{"$f":"IF(OR(LEN($O109)=0),\"\",IFERROR(RIGHT(LARGE(COUNTIF(OFFSET($J109,-1,0,-1*$Q$3,5),{0,1,2,3,4,5,6,7,8,9})*1000+{100,90,80,70,60,50,40,30,20,10}+{0,1,2,3,4,5,6,7,8,9},COLUMN(F$21))),\"\"))","v":"0"},{"$f":"IF(OR(LEN($O109)=0),\"\",IFERROR(RIGHT(LARGE(COUNTIF(OFFSET($J109,-1,0,-1*$Q$3,5),{0,1,2,3,4,5,6,7,8,9})*1000+{100,90,80,70,60,50,40,30,20,10}+{0,1,2,3,4,5,6,7,8,9},COLUMN(G$21))),\"\"))","v":"7"},{"$f":"IF(OR(LEN($O109)=0),\"\",IFERROR(RIGHT(LARGE(COUNTIF(OFFSET($J109,-1,0,-1*$Q$3,5),{0,1,2,3,4,5,6,7,8,9})*1000+{100,90,80,70,60,50,40,30,20,10}+{0,1,2,3,4,5,6,7,8,9},COLUMN(H$21))),\"\"))","v":"5"},{"$f":"IF(OR(LEN($O109)=0),\"\",IFERROR(RIGHT(LARGE(COUNTIF(OFFSET($J109,-1,0,-1*$Q$3,5),{0,1,2,3,4,5,6,7,8,9})*1000+{100,90,80,70,60,50,40,30,20,10}+{0,1,2,3,4,5,6,7,8,9},COLUMN(I$21))),\"\"))","v":"1"},{"$f":"IF(OR(LEN($O109)=0),\"\",IFERROR(RIGHT(LARGE(COUNTIF(OFFSET($J109,-1,0,-1*$Q$3,5),{0,1,2,3,4,5,6,7,8,9})*1000+{100,90,80,70,60,50,40,30,20,10}+{0,1,2,3,4,5,6,7,8,9},COLUMN(J$21))),\"\"))","v":"9"},"4682","4","6","8","2","","","","","",""]
["20200515031","21482","2","1","4","8","2",null,null,"","","4","8","2","482",{"$f":"IF(OR(LEN($O110)=0),\"\",IFERROR(RIGHT(LARGE(COUNTIF(OFFSET($J110,-1,0,-1*$Q$3,5),{0,1,2,3,4,5,6,7,8,9})*1000+{100,90,80,70,60,50,40,30,20,10}+{0,1,2,3,4,5,6,7,8,9},COLUMN(A$21))),\"\"))","v":"4"},{"$f":"IF(OR(LEN($O110)=0),\"\",IFERROR(RIGHT(LARGE(COUNTIF(OFFSET($J110,-1,0,-1*$Q$3,5),{0,1,2,3,4,5,6,7,8,9})*1000+{100,90,80,70,60,50,40,30,20,10}+{0,1,2,3,4,5,6,7,8,9},COLUMN(B$21))),\"\"))","v":"2"},{"$f":"IF(OR(LEN($O110)=0),\"\",IFERROR(RIGHT(LARGE(COUNTIF(OFFSET($J110,-1,0,-1*$Q$3,5),{0,1,2,3,4,5,6,7,8,9})*1000+{100,90,80,70,60,50,40,30,20,10}+{0,1,2,3,4,5,6,7,8,9},COLUMN(C$21))),\"\"))","v":"6"},{"$f":"IF(OR(LEN($O110)=0),\"\",IFERROR(RIGHT(LARGE(COUNTIF(OFFSET($J110,-1,0,-1*$Q$3,5),{0,1,2,3,4,5,6,7,8,9})*1000+{100,90,80,70,60,50,40,30,20,10}+{0,1,2,3,4,5,6,7,8,9},COLUMN(D$21))),\"\"))","v":"8"},{"$f":"IF(OR(LEN($O110)=0),\"\",IFERROR(RIGHT(LARGE(COUNTIF(OFFSET($J110,-1,0,-1*$Q$3,5),{0,1,2,3,4,5,6,7,8,9})*1000+{100,90,80,70,60,50,40,30,20,10}+{0,1,2,3,4,5,6,7,8,9},COLUMN(E$21))),\"\"))","v":"3"},{"$f":"IF(OR(LEN($O110)=0),\"\",IFERROR(RIGHT(LARGE(COUNTIF(OFFSET($J110,-1,0,-1*$Q$3,5),{0,1,2,3,4,5,6,7,8,9})*1000+{100,90,80,70,60,50,40,30,20,10}+{0,1,2,3,4,5,6,7,8,9},COLUMN(F$21))),\"\"))","v":"7"},{"$f":"IF(OR(LEN($O110)=0),\"\",IFERROR(RIGHT(LARGE(COUNTIF(OFFSET($J110,-1,0,-1*$Q$3,5),{0,1,2,3,4,5,6,7,8,9})*1000+{100,90,80,70,60,50,40,30,20,10}+{0,1,2,3,4,5,6,7,8,9},COLUMN(G$21))),\"\"))","v":"0"},{"$f":"IF(OR(LEN($O110)=0),\"\",IFERROR(RIGHT(LARGE(COUNTIF(OFFSET($J110,-1,0,-1*$Q$3,5),{0,1,2,3,4,5,6,7,8,9})*1000+{100,90,80,70,60,50,40,30,20,10}+{0,1,2,3,4,5,6,7,8,9},COLUMN(H$21))),\"\"))","v":"5"},{"$f":"IF(OR(LEN($O110)=0),\"\",IFERROR(RIGHT(LARGE(COUNTIF(OFFSET($J110,-1,0,-1*$Q$3,5),{0,1,2,3,4,5,6,7,8,9})*1000+{100,90,80,70,60,50,40,30,20,10}+{0,1,2,3,4,5,6,7,8,9},COLUMN(I$21))),\"\"))","v":"1"},{"$f":"IF(OR(LEN($O110)=0),\"\",IFERROR(RIGHT(LARGE(COUNTIF(OFFSET($J110,-1,0,-1*$Q$3,5),{0,1,2,3,4,5,6,7,8,9})*1000+{100,90,80,70,60,50,40,30,20,10}+{0,1,2,3,4,5,6,7,8,9},COLUMN(J$21))),\"\"))","v":"9"},"4268","4","2","6","8","","","","","",""]
["20200515032","60215","6","0","2","1","5",null,null,"","","2","1","5","215",{"$f":"IF(OR(LEN($O111)=0),\"\",IFERROR(RIGHT(LARGE(COUNTIF(OFFSET($J111,-1,0,-1*$Q$3,5),{0,1,2,3,4,5,6,7,8,9})*1000+{100,90,80,70,60,50,40,30,20,10}+{0,1,2,3,4,5,6,7,8,9},COLUMN(A$21))),\"\"))","v":"4"},{"$f":"IF(OR(LEN($O111)=0),\"\",IFERROR(RIGHT(LARGE(COUNTIF(OFFSET($J111,-1,0,-1*$Q$3,5),{0,1,2,3,4,5,6,7,8,9})*1000+{100,90,80,70,60,50,40,30,20,10}+{0,1,2,3,4,5,6,7,8,9},COLUMN(B$21))),\"\"))","v":"2"},{"$f":"IF(OR(LEN($O111)=0),\"\",IFERROR(RIGHT(LARGE(COUNTIF(OFFSET($J111,-1,0,-1*$Q$3,5),{0,1,2,3,4,5,6,7,8,9})*1000+{100,90,80,70,60,50,40,30,20,10}+{0,1,2,3,4,5,6,7,8,9},COLUMN(C$21))),\"\"))","v":"8"},{"$f":"IF(OR(LEN($O111)=0),\"\",IFERROR(RIGHT(LARGE(COUNTIF(OFFSET($J111,-1,0,-1*$Q$3,5),{0,1,2,3,4,5,6,7,8,9})*1000+{100,90,80,70,60,50,40,30,20,10}+{0,1,2,3,4,5,6,7,8,9},COLUMN(D$21))),\"\"))","v":"6"},{"$f":"IF(OR(LEN($O111)=0),\"\",IFERROR(RIGHT(LARGE(COUNTIF(OFFSET($J111,-1,0,-1*$Q$3,5),{0,1,2,3,4,5,6,7,8,9})*1000+{100,90,80,70,60,50,40,30,20,10}+{0,1,2,3,4,5,6,7,8,9},COLUMN(E$21))),\"\"))","v":"3"},{"$f":"IF(OR(LEN($O111)=0),\"\",IFERROR(RIGHT(LARGE(COUNTIF(OFFSET($J111,-1,0,-1*$Q$3,5),{0,1,2,3,4,5,6,7,8,9})*1000+{100,90,80,70,60,50,40,30,20,10}+{0,1,2,3,4,5,6,7,8,9},COLUMN(F$21))),\"\"))","v":"5"},{"$f":"IF(OR(LEN($O111)=0),\"\",IFERROR(RIGHT(LARGE(COUNTIF(OFFSET($J111,-1,0,-1*$Q$3,5),{0,1,2,3,4,5,6,7,8,9})*1000+{100,90,80,70,60,50,40,30,20,10}+{0,1,2,3,4,5,6,7,8,9},COLUMN(G$21))),\"\"))","v":"7"},{"$f":"IF(OR(LEN($O111)=0),\"\",IFERROR(RIGHT(LARGE(COUNTIF(OFFSET($J111,-1,0,-1*$Q$3,5),{0,1,2,3,4,5,6,7,8,9})*1000+{100,90,80,70,60,50,40,30,20,10}+{0,1,2,3,4,5,6,7,8,9},COLUMN(H$21))),\"\"))","v":"0"},{"$f":"IF(OR(LEN($O111)=0),\"\",IFERROR(RIGHT(LARGE(COUNTIF(OFFSET($J111,-1,0,-1*$Q$3,5),{0,1,2,3,4,5,6,7,8,9})*1000+{100,90,80,70,60,50,40,30,20,10}+{0,1,2,3,4,5,6,7,8,9},COLUMN(I$21))),\"\"))","v":"1"},{"$f":"IF(OR(LEN($O111)=0),\"\",IFERROR(RIGHT(LARGE(COUNTIF(OFFSET($J111,-1,0,-1*$Q$3,5),{0,1,2,3,4,5,6,7,8,9})*1000+{100,90,80,70,60,50,40,30,20,10}+{0,1,2,3,4,5,6,7,8,9},COLUMN(J$21))),\"\"))","v":"9"},"4286","4","2","8","6","","","","","",""]
["20200515033","10892","1","0","8","9","2",null,null,"","","8","9","2","892",{"$f":"IF(OR(LEN($O112)=0),\"\",IFERROR(RIGHT(LARGE(COUNTIF(OFFSET($J112,-1,0,-1*$Q$3,5),{0,1,2,3,4,5,6,7,8,9})*1000+{100,90,80,70,60,50,40,30,20,10}+{0,1,2,3,4,5,6,7,8,9},COLUMN(A$21))),\"\"))","v":"4"},{"$f":"IF(OR(LEN($O112)=0),\"\",IFERROR(RIGHT(LARGE(COUNTIF(OFFSET($J112,-1,0,-1*$Q$3,5),{0,1,2,3,4,5,6,7,8,9})*1000+{100,90,80,70,60,50,40,30,20,10}+{0,1,2,3,4,5,6,7,8,9},COLUMN(B$21))),\"\"))","v":"2"},{"$f":"IF(OR(LEN($O112)=0),\"\",IFERROR(RIGHT(LARGE(COUNTIF(OFFSET($J112,-1,0,-1*$Q$3,5),{0,1,2,3,4,5,6,7,8,9})*1000+{100,90,80,70,60,50,40,30,20,10}+{0,1,2,3,4,5,6,7,8,9},COLUMN(C$21))),\"\"))","v":"8"},{"$f":"IF(OR(LEN($O112)=0),\"\",IFERROR(RIGHT(LARGE(COUNTIF(OFFSET($J112,-1,0,-1*$Q$3,5),{0,1,2,3,4,5,6,7,8,9})*1000+{100,90,80,70,60,50,40,30,20,10}+{0,1,2,3,4,5,6,7,8,9},COLUMN(D$21))),\"\"))","v":"3"},{"$f":"IF(OR(LEN($O112)=0),\"\",IFERROR(RIGHT(LARGE(COUNTIF(OFFSET($J112,-1,0,-1*$Q$3,5),{0,1,2,3,4,5,6,7,8,9})*1000+{100,90,80,70,60,50,40,30,20,10}+{0,1,2,3,4,5,6,7,8,9},COLUMN(E$21))),\"\"))","v":"6"},{"$f":"IF(OR(LEN($O112)=0),\"\",IFERROR(RIGHT(LARGE(COUNTIF(OFFSET($J112,-1,0,-1*$Q$3,5),{0,1,2,3,4,5,6,7,8,9})*1000+{100,90,80,70,60,50,40,30,20,10}+{0,1,2,3,4,5,6,7,8,9},COLUMN(F$21))),\"\"))","v":"5"},{"$f":"IF(OR(LEN($O112)=0),\"\",IFERROR(RIGHT(LARGE(COUNTIF(OFFSET($J112,-1,0,-1*$Q$3,5),{0,1,2,3,4,5,6,7,8,9})*1000+{100,90,80,70,60,50,40,30,20,10}+{0,1,2,3,4,5,6,7,8,9},COLUMN(G$21))),\"\"))","v":"7"},{"$f":"IF(OR(LEN($O112)=0),\"\",IFERROR(RIGHT(LARGE(COUNTIF(OFFSET($J112,-1,0,-1*$Q$3,5),{0,1,2,3,4,5,6,7,8,9})*1000+{100,90,80,70,60,50,40,30,20,10}+{0,1,2,3,4,5,6,7,8,9},COLUMN(H$21))),\"\"))","v":"0"},{"$f":"IF(OR(LEN($O112)=0),\"\",IFERROR(RIGHT(LARGE(COUNTIF(OFFSET($J112,-1,0,-1*$Q$3,5),{0,1,2,3,4,5,6,7,8,9})*1000+{100,90,80,70,60,50,40,30,20,10}+{0,1,2,3,4,5,6,7,8,9},COLUMN(I$21))),\"\"))","v":"1"},{"$f":"IF(OR(LEN($O112)=0),\"\",IFERROR(RIGHT(LARGE(COUNTIF(OFFSET($J112,-1,0,-1*$Q$3,5),{0,1,2,3,4,5,6,7,8,9})*1000+{100,90,80,70,60,50,40,30,20,10}+{0,1,2,3,4,5,6,7,8,9},COLUMN(J$21))),\"\"))","v":"9"},"4283","4","2","8","3","","","","","",""]
["20200515034","79532","7","9","5","3","2",null,null,"","","5","3","2","532",{"$f":"IF(OR(LEN($O113)=0),\"\",IFERROR(RIGHT(LARGE(COUNTIF(OFFSET($J113,-1,0,-1*$Q$3,5),{0,1,2,3,4,5,6,7,8,9})*1000+{100,90,80,70,60,50,40,30,20,10}+{0,1,2,3,4,5,6,7,8,9},COLUMN(A$21))),\"\"))","v":"4"},{"$f":"IF(OR(LEN($O113)=0),\"\",IFERROR(RIGHT(LARGE(COUNTIF(OFFSET($J113,-1,0,-1*$Q$3,5),{0,1,2,3,4,5,6,7,8,9})*1000+{100,90,80,70,60,50,40,30,20,10}+{0,1,2,3,4,5,6,7,8,9},COLUMN(B$21))),\"\"))","v":"2"},{"$f":"IF(OR(LEN($O113)=0),\"\",IFERROR(RIGHT(LARGE(COUNTIF(OFFSET($J113,-1,0,-1*$Q$3,5),{0,1,2,3,4,5,6,7,8,9})*1000+{100,90,80,70,60,50,40,30,20,10}+{0,1,2,3,4,5,6,7,8,9},COLUMN(C$21))),\"\"))","v":"8"},{"$f":"IF(OR(LEN($O113)=0),\"\",IFERROR(RIGHT(LARGE(COUNTIF(OFFSET($J113,-1,0,-1*$Q$3,5),{0,1,2,3,4,5,6,7,8,9})*1000+{100,90,80,70,60,50,40,30,20,10}+{0,1,2,3,4,5,6,7,8,9},COLUMN(D$21))),\"\"))","v":"3"},{"$f":"IF(OR(LEN($O113)=0),\"\",IFERROR(RIGHT(LARGE(COUNTIF(OFFSET($J113,-1,0,-1*$Q$3,5),{0,1,2,3,4,5,6,7,8,9})*1000+{100,90,80,70,60,50,40,30,20,10}+{0,1,2,3,4,5,6,7,8,9},COLUMN(E$21))),\"\"))","v":"6"},{"$f":"IF(OR(LEN($O113)=0),\"\",IFERROR(RIGHT(LARGE(COUNTIF(OFFSET($J113,-1,0,-1*$Q$3,5),{0,1,2,3,4,5,6,7,8,9})*1000+{100,90,80,70,60,50,40,30,20,10}+{0,1,2,3,4,5,6,7,8,9},COLUMN(F$21))),\"\"))","v":"5"},{"$f":"IF(OR(LEN($O113)=0),\"\",IFERROR(RIGHT(LARGE(COUNTIF(OFFSET($J113,-1,0,-1*$Q$3,5),{0,1,2,3,4,5,6,7,8,9})*1000+{100,90,80,70,60,50,40,30,20,10}+{0,1,2,3,4,5,6,7,8,9},COLUMN(G$21))),\"\"))","v":"7"},{"$f":"IF(OR(LEN($O113)=0),\"\",IFERROR(RIGHT(LARGE(COUNTIF(OFFSET($J113,-1,0,-1*$Q$3,5),{0,1,2,3,4,5,6,7,8,9})*1000+{100,90,80,70,60,50,40,30,20,10}+{0,1,2,3,4,5,6,7,8,9},COLUMN(H$21))),\"\"))","v":"0"},{"$f":"IF(OR(LEN($O113)=0),\"\",IFERROR(RIGHT(LARGE(COUNTIF(OFFSET($J113,-1,0,-1*$Q$3,5),{0,1,2,3,4,5,6,7,8,9})*1000+{100,90,80,70,60,50,40,30,20,10}+{0,1,2,3,4,5,6,7,8,9},COLUMN(I$21))),\"\"))","v":"1"},{"$f":"IF(OR(LEN($O113)=0),\"\",IFERROR(RIGHT(LARGE(COUNTIF(OFFSET($J113,-1,0,-1*$Q$3,5),{0,1,2,3,4,5,6,7,8,9})*1000+{100,90,80,70,60,50,40,30,20,10}+{0,1,2,3,4,5,6,7,8,9},COLUMN(J$21))),\"\"))","v":"9"},"4283","4","2","8","3","","","","","",""]
["20200515035","48110","4","8","1","1","0",null,null,"","","1","1","0","110",{"$f":"IF(OR(LEN($O114)=0),\"\",IFERROR(RIGHT(LARGE(COUNTIF(OFFSET($J114,-1,0,-1*$Q$3,5),{0,1,2,3,4,5,6,7,8,9})*1000+{100,90,80,70,60,50,40,30,20,10}+{0,1,2,3,4,5,6,7,8,9},COLUMN(A$21))),\"\"))","v":"4"},{"$f":"IF(OR(LEN($O114)=0),\"\",IFERROR(RIGHT(LARGE(COUNTIF(OFFSET($J114,-1,0,-1*$Q$3,5),{0,1,2,3,4,5,6,7,8,9})*1000+{100,90,80,70,60,50,40,30,20,10}+{0,1,2,3,4,5,6,7,8,9},COLUMN(B$21))),\"\"))","v":"2"},{"$f":"IF(OR(LEN($O114)=0),\"\",IFERROR(RIGHT(LARGE(COUNTIF(OFFSET($J114,-1,0,-1*$Q$3,5),{0,1,2,3,4,5,6,7,8,9})*1000+{100,90,80,70,60,50,40,30,20,10}+{0,1,2,3,4,5,6,7,8,9},COLUMN(C$21))),\"\"))","v":"8"},{"$f":"IF(OR(LEN($O114)=0),\"\",IFERROR(RIGHT(LARGE(COUNTIF(OFFSET($J114,-1,0,-1*$Q$3,5),{0,1,2,3,4,5,6,7,8,9})*1000+{100,90,80,70,60,50,40,30,20,10}+{0,1,2,3,4,5,6,7,8,9},COLUMN(D$21))),\"\"))","v":"3"},{"$f":"IF(OR(LEN($O114)=0),\"\",IFERROR(RIGHT(LARGE(COUNTIF(OFFSET($J114,-1,0,-1*$Q$3,5),{0,1,2,3,4,5,6,7,8,9})*1000+{100,90,80,70,60,50,40,30,20,10}+{0,1,2,3,4,5,6,7,8,9},COLUMN(E$21))),\"\"))","v":"6"},{"$f":"IF(OR(LEN($O114)=0),\"\",IFERROR(RIGHT(LARGE(COUNTIF(OFFSET($J114,-1,0,-1*$Q$3,5),{0,1,2,3,4,5,6,7,8,9})*1000+{100,90,80,70,60,50,40,30,20,10}+{0,1,2,3,4,5,6,7,8,9},COLUMN(F$21))),\"\"))","v":"5"},{"$f":"IF(OR(LEN($O114)=0),\"\",IFERROR(RIGHT(LARGE(COUNTIF(OFFSET($J114,-1,0,-1*$Q$3,5),{0,1,2,3,4,5,6,7,8,9})*1000+{100,90,80,70,60,50,40,30,20,10}+{0,1,2,3,4,5,6,7,8,9},COLUMN(G$21))),\"\"))","v":"0"},{"$f":"IF(OR(LEN($O114)=0),\"\",IFERROR(RIGHT(LARGE(COUNTIF(OFFSET($J114,-1,0,-1*$Q$3,5),{0,1,2,3,4,5,6,7,8,9})*1000+{100,90,80,70,60,50,40,30,20,10}+{0,1,2,3,4,5,6,7,8,9},COLUMN(H$21))),\"\"))","v":"1"},{"$f":"IF(OR(LEN($O114)=0),\"\",IFERROR(RIGHT(LARGE(COUNTIF(OFFSET($J114,-1,0,-1*$Q$3,5),{0,1,2,3,4,5,6,7,8,9})*1000+{100,90,80,70,60,50,40,30,20,10}+{0,1,2,3,4,5,6,7,8,9},COLUMN(I$21))),\"\"))","v":"7"},{"$f":"IF(OR(LEN($O114)=0),\"\",IFERROR(RIGHT(LARGE(COUNTIF(OFFSET($J114,-1,0,-1*$Q$3,5),{0,1,2,3,4,5,6,7,8,9})*1000+{100,90,80,70,60,50,40,30,20,10}+{0,1,2,3,4,5,6,7,8,9},COLUMN(J$21))),\"\"))","v":"9"},"4283","4","2","8","3","","","","","",""]
["20200515036","26770","2","6","7","7","0",null,null,"","","7","7","0","770",{"$f":"IF(OR(LEN($O115)=0),\"\",IFERROR(RIGHT(LARGE(COUNTIF(OFFSET($J115,-1,0,-1*$Q$3,5),{0,1,2,3,4,5,6,7,8,9})*1000+{100,90,80,70,60,50,40,30,20,10}+{0,1,2,3,4,5,6,7,8,9},COLUMN(A$21))),\"\"))","v":"4"},{"$f":"IF(OR(LEN($O115)=0),\"\",IFERROR(RIGHT(LARGE(COUNTIF(OFFSET($J115,-1,0,-1*$Q$3,5),{0,1,2,3,4,5,6,7,8,9})*1000+{100,90,80,70,60,50,40,30,20,10}+{0,1,2,3,4,5,6,7,8,9},COLUMN(B$21))),\"\"))","v":"2"},{"$f":"IF(OR(LEN($O115)=0),\"\",IFERROR(RIGHT(LARGE(COUNTIF(OFFSET($J115,-1,0,-1*$Q$3,5),{0,1,2,3,4,5,6,7,8,9})*1000+{100,90,80,70,60,50,40,30,20,10}+{0,1,2,3,4,5,6,7,8,9},COLUMN(C$21))),\"\"))","v":"8"},{"$f":"IF(OR(LEN($O115)=0),\"\",IFERROR(RIGHT(LARGE(COUNTIF(OFFSET($J115,-1,0,-1*$Q$3,5),{0,1,2,3,4,5,6,7,8,9})*1000+{100,90,80,70,60,50,40,30,20,10}+{0,1,2,3,4,5,6,7,8,9},COLUMN(D$21))),\"\"))","v":"3"},{"$f":"IF(OR(LEN($O115)=0),\"\",IFERROR(RIGHT(LARGE(COUNTIF(OFFSET($J115,-1,0,-1*$Q$3,5),{0,1,2,3,4,5,6,7,8,9})*1000+{100,90,80,70,60,50,40,30,20,10}+{0,1,2,3,4,5,6,7,8,9},COLUMN(E$21))),\"\"))","v":"6"},{"$f":"IF(OR(LEN($O115)=0),\"\",IFERROR(RIGHT(LARGE(COUNTIF(OFFSET($J115,-1,0,-1*$Q$3,5),{0,1,2,3,4,5,6,7,8,9})*1000+{100,90,80,70,60,50,40,30,20,10}+{0,1,2,3,4,5,6,7,8,9},COLUMN(F$21))),\"\"))","v":"1"},{"$f":"IF(OR(LEN($O115)=0),\"\",IFERROR(RIGHT(LARGE(COUNTIF(OFFSET($J115,-1,0,-1*$Q$3,5),{0,1,2,3,4,5,6,7,8,9})*1000+{100,90,80,70,60,50,40,30,20,10}+{0,1,2,3,4,5,6,7,8,9},COLUMN(G$21))),\"\"))","v":"5"},{"$f":"IF(OR(LEN($O115)=0),\"\",IFERROR(RIGHT(LARGE(COUNTIF(OFFSET($J115,-1,0,-1*$Q$3,5),{0,1,2,3,4,5,6,7,8,9})*1000+{100,90,80,70,60,50,40,30,20,10}+{0,1,2,3,4,5,6,7,8,9},COLUMN(H$21))),\"\"))","v":"7"},{"$f":"IF(OR(LEN($O115)=0),\"\",IFERROR(RIGHT(LARGE(COUNTIF(OFFSET($J115,-1,0,-1*$Q$3,5),{0,1,2,3,4,5,6,7,8,9})*1000+{100,90,80,70,60,50,40,30,20,10}+{0,1,2,3,4,5,6,7,8,9},COLUMN(I$21))),\"\"))","v":"0"},{"$f":"IF(OR(LEN($O115)=0),\"\",IFERROR(RIGHT(LARGE(COUNTIF(OFFSET($J115,-1,0,-1*$Q$3,5),{0,1,2,3,4,5,6,7,8,9})*1000+{100,90,80,70,60,50,40,30,20,10}+{0,1,2,3,4,5,6,7,8,9},COLUMN(J$21))),\"\"))","v":"9"},"4283","4","2","8","3","","","","","",""]
["20200515037","00351","0","0","3","5","1",null,null,"","","3","5","1","351",{"$f":"IF(OR(LEN($O116)=0),\"\",IFERROR(RIGHT(LARGE(COUNTIF(OFFSET($J116,-1,0,-1*$Q$3,5),{0,1,2,3,4,5,6,7,8,9})*1000+{100,90,80,70,60,50,40,30,20,10}+{0,1,2,3,4,5,6,7,8,9},COLUMN(A$21))),\"\"))","v":"4"},{"$f":"IF(OR(LEN($O116)=0),\"\",IFERROR(RIGHT(LARGE(COUNTIF(OFFSET($J116,-1,0,-1*$Q$3,5),{0,1,2,3,4,5,6,7,8,9})*1000+{100,90,80,70,60,50,40,30,20,10}+{0,1,2,3,4,5,6,7,8,9},COLUMN(B$21))),\"\"))","v":"2"},{"$f":"IF(OR(LEN($O116)=0),\"\",IFERROR(RIGHT(LARGE(COUNTIF(OFFSET($J116,-1,0,-1*$Q$3,5),{0,1,2,3,4,5,6,7,8,9})*1000+{100,90,80,70,60,50,40,30,20,10}+{0,1,2,3,4,5,6,7,8,9},COLUMN(C$21))),\"\"))","v":"8"},{"$f":"IF(OR(LEN($O116)=0),\"\",IFERROR(RIGHT(LARGE(COUNTIF(OFFSET($J116,-1,0,-1*$Q$3,5),{0,1,2,3,4,5,6,7,8,9})*1000+{100,90,80,70,60,50,40,30,20,10}+{0,1,2,3,4,5,6,7,8,9},COLUMN(D$21))),\"\"))","v":"3"},{"$f":"IF(OR(LEN($O116)=0),\"\",IFERROR(RIGHT(LARGE(COUNTIF(OFFSET($J116,-1,0,-1*$Q$3,5),{0,1,2,3,4,5,6,7,8,9})*1000+{100,90,80,70,60,50,40,30,20,10}+{0,1,2,3,4,5,6,7,8,9},COLUMN(E$21))),\"\"))","v":"6"},{"$f":"IF(OR(LEN($O116)=0),\"\",IFERROR(RIGHT(LARGE(COUNTIF(OFFSET($J116,-1,0,-1*$Q$3,5),{0,1,2,3,4,5,6,7,8,9})*1000+{100,90,80,70,60,50,40,30,20,10}+{0,1,2,3,4,5,6,7,8,9},COLUMN(F$21))),\"\"))","v":"1"},{"$f":"IF(OR(LEN($O116)=0),\"\",IFERROR(RIGHT(LARGE(COUNTIF(OFFSET($J116,-1,0,-1*$Q$3,5),{0,1,2,3,4,5,6,7,8,9})*1000+{100,90,80,70,60,50,40,30,20,10}+{0,1,2,3,4,5,6,7,8,9},COLUMN(G$21))),\"\"))","v":"5"},{"$f":"IF(OR(LEN($O116)=0),\"\",IFERROR(RIGHT(LARGE(COUNTIF(OFFSET($J116,-1,0,-1*$Q$3,5),{0,1,2,3,4,5,6,7,8,9})*1000+{100,90,80,70,60,50,40,30,20,10}+{0,1,2,3,4,5,6,7,8,9},COLUMN(H$21))),\"\"))","v":"7"},{"$f":"IF(OR(LEN($O116)=0),\"\",IFERROR(RIGHT(LARGE(COUNTIF(OFFSET($J116,-1,0,-1*$Q$3,5),{0,1,2,3,4,5,6,7,8,9})*1000+{100,90,80,70,60,50,40,30,20,10}+{0,1,2,3,4,5,6,7,8,9},COLUMN(I$21))),\"\"))","v":"0"},{"$f":"IF(OR(LEN($O116)=0),\"\",IFERROR(RIGHT(LARGE(COUNTIF(OFFSET($J116,-1,0,-1*$Q$3,5),{0,1,2,3,4,5,6,7,8,9})*1000+{100,90,80,70,60,50,40,30,20,10}+{0,1,2,3,4,5,6,7,8,9},COLUMN(J$21))),\"\"))","v":"9"},"4283","4","2","8","3","","","","","",""]
["20200515038","39996","3","9","9","9","6",null,null,"","","9","9","6","996",{"$f":"IF(OR(LEN($O117)=0),\"\",IFERROR(RIGHT(LARGE(COUNTIF(OFFSET($J117,-1,0,-1*$Q$3,5),{0,1,2,3,4,5,6,7,8,9})*1000+{100,90,80,70,60,50,40,30,20,10}+{0,1,2,3,4,5,6,7,8,9},COLUMN(A$21))),\"\"))","v":"4"},{"$f":"IF(OR(LEN($O117)=0),\"\",IFERROR(RIGHT(LARGE(COUNTIF(OFFSET($J117,-1,0,-1*$Q$3,5),{0,1,2,3,4,5,6,7,8,9})*1000+{100,90,80,70,60,50,40,30,20,10}+{0,1,2,3,4,5,6,7,8,9},COLUMN(B$21))),\"\"))","v":"2"},{"$f":"IF(OR(LEN($O117)=0),\"\",IFERROR(RIGHT(LARGE(COUNTIF(OFFSET($J117,-1,0,-1*$Q$3,5),{0,1,2,3,4,5,6,7,8,9})*1000+{100,90,80,70,60,50,40,30,20,10}+{0,1,2,3,4,5,6,7,8,9},COLUMN(C$21))),\"\"))","v":"3"},{"$f":"IF(OR(LEN($O117)=0),\"\",IFERROR(RIGHT(LARGE(COUNTIF(OFFSET($J117,-1,0,-1*$Q$3,5),{0,1,2,3,4,5,6,7,8,9})*1000+{100,90,80,70,60,50,40,30,20,10}+{0,1,2,3,4,5,6,7,8,9},COLUMN(D$21))),\"\"))","v":"8"},{"$f":"IF(OR(LEN($O117)=0),\"\",IFERROR(RIGHT(LARGE(COUNTIF(OFFSET($J117,-1,0,-1*$Q$3,5),{0,1,2,3,4,5,6,7,8,9})*1000+{100,90,80,70,60,50,40,30,20,10}+{0,1,2,3,4,5,6,7,8,9},COLUMN(E$21))),\"\"))","v":"5"},{"$f":"IF(OR(LEN($O117)=0),\"\",IFERROR(RIGHT(LARGE(COUNTIF(OFFSET($J117,-1,0,-1*$Q$3,5),{0,1,2,3,4,5,6,7,8,9})*1000+{100,90,80,70,60,50,40,30,20,10}+{0,1,2,3,4,5,6,7,8,9},COLUMN(F$21))),\"\"))","v":"6"},{"$f":"IF(OR(LEN($O117)=0),\"\",IFERROR(RIGHT(LARGE(COUNTIF(OFFSET($J117,-1,0,-1*$Q$3,5),{0,1,2,3,4,5,6,7,8,9})*1000+{100,90,80,70,60,50,40,30,20,10}+{0,1,2,3,4,5,6,7,8,9},COLUMN(G$21))),\"\"))","v":"7"},{"$f":"IF(OR(LEN($O117)=0),\"\",IFERROR(RIGHT(LARGE(COUNTIF(OFFSET($J117,-1,0,-1*$Q$3,5),{0,1,2,3,4,5,6,7,8,9})*1000+{100,90,80,70,60,50,40,30,20,10}+{0,1,2,3,4,5,6,7,8,9},COLUMN(H$21))),\"\"))","v":"1"},{"$f":"IF(OR(LEN($O117)=0),\"\",IFERROR(RIGHT(LARGE(COUNTIF(OFFSET($J117,-1,0,-1*$Q$3,5),{0,1,2,3,4,5,6,7,8,9})*1000+{100,90,80,70,60,50,40,30,20,10}+{0,1,2,3,4,5,6,7,8,9},COLUMN(I$21))),\"\"))","v":"0"},{"$f":"IF(OR(LEN($O117)=0),\"\",IFERROR(RIGHT(LARGE(COUNTIF(OFFSET($J117,-1,0,-1*$Q$3,5),{0,1,2,3,4,5,6,7,8,9})*1000+{100,90,80,70,60,50,40,30,20,10}+{0,1,2,3,4,5,6,7,8,9},COLUMN(J$21))),\"\"))","v":"9"},"4238","4","2","3","8","","","","","",""]
["20200515039","99386","9","9","3","8","6",null,null,"","","3","8","6","386",{"$f":"IF(OR(LEN($O118)=0),\"\",IFERROR(RIGHT(LARGE(COUNTIF(OFFSET($J118,-1,0,-1*$Q$3,5),{0,1,2,3,4,5,6,7,8,9})*1000+{100,90,80,70,60,50,40,30,20,10}+{0,1,2,3,4,5,6,7,8,9},COLUMN(A$21))),\"\"))","v":"4"},{"$f":"IF(OR(LEN($O118)=0),\"\",IFERROR(RIGHT(LARGE(COUNTIF(OFFSET($J118,-1,0,-1*$Q$3,5),{0,1,2,3,4,5,6,7,8,9})*1000+{100,90,80,70,60,50,40,30,20,10}+{0,1,2,3,4,5,6,7,8,9},COLUMN(B$21))),\"\"))","v":"2"},{"$f":"IF(OR(LEN($O118)=0),\"\",IFERROR(RIGHT(LARGE(COUNTIF(OFFSET($J118,-1,0,-1*$Q$3,5),{0,1,2,3,4,5,6,7,8,9})*1000+{100,90,80,70,60,50,40,30,20,10}+{0,1,2,3,4,5,6,7,8,9},COLUMN(C$21))),\"\"))","v":"3"},{"$f":"IF(OR(LEN($O118)=0),\"\",IFERROR(RIGHT(LARGE(COUNTIF(OFFSET($J118,-1,0,-1*$Q$3,5),{0,1,2,3,4,5,6,7,8,9})*1000+{100,90,80,70,60,50,40,30,20,10}+{0,1,2,3,4,5,6,7,8,9},COLUMN(D$21))),\"\"))","v":"8"},{"$f":"IF(OR(LEN($O118)=0),\"\",IFERROR(RIGHT(LARGE(COUNTIF(OFFSET($J118,-1,0,-1*$Q$3,5),{0,1,2,3,4,5,6,7,8,9})*1000+{100,90,80,70,60,50,40,30,20,10}+{0,1,2,3,4,5,6,7,8,9},COLUMN(E$21))),\"\"))","v":"6"},{"$f":"IF(OR(LEN($O118)=0),\"\",IFERROR(RIGHT(LARGE(COUNTIF(OFFSET($J118,-1,0,-1*$Q$3,5),{0,1,2,3,4,5,6,7,8,9})*1000+{100,90,80,70,60,50,40,30,20,10}+{0,1,2,3,4,5,6,7,8,9},COLUMN(F$21))),\"\"))","v":"5"},{"$f":"IF(OR(LEN($O118)=0),\"\",IFERROR(RIGHT(LARGE(COUNTIF(OFFSET($J118,-1,0,-1*$Q$3,5),{0,1,2,3,4,5,6,7,8,9})*1000+{100,90,80,70,60,50,40,30,20,10}+{0,1,2,3,4,5,6,7,8,9},COLUMN(G$21))),\"\"))","v":"7"},{"$f":"IF(OR(LEN($O118)=0),\"\",IFERROR(RIGHT(LARGE(COUNTIF(OFFSET($J118,-1,0,-1*$Q$3,5),{0,1,2,3,4,5,6,7,8,9})*1000+{100,90,80,70,60,50,40,30,20,10}+{0,1,2,3,4,5,6,7,8,9},COLUMN(H$21))),\"\"))","v":"1"},{"$f":"IF(OR(LEN($O118)=0),\"\",IFERROR(RIGHT(LARGE(COUNTIF(OFFSET($J118,-1,0,-1*$Q$3,5),{0,1,2,3,4,5,6,7,8,9})*1000+{100,90,80,70,60,50,40,30,20,10}+{0,1,2,3,4,5,6,7,8,9},COLUMN(I$21))),\"\"))","v":"0"},{"$f":"IF(OR(LEN($O118)=0),\"\",IFERROR(RIGHT(LARGE(COUNTIF(OFFSET($J118,-1,0,-1*$Q$3,5),{0,1,2,3,4,5,6,7,8,9})*1000+{100,90,80,70,60,50,40,30,20,10}+{0,1,2,3,4,5,6,7,8,9},COLUMN(J$21))),\"\"))","v":"9"},"4238","4","2","3","8","","","","","",""]
["20200515040","81426","8","1","4","2","6",null,null,"","","4","2","6","426",{"$f":"IF(OR(LEN($O119)=0),\"\",IFERROR(RIGHT(LARGE(COUNTIF(OFFSET($J119,-1,0,-1*$Q$3,5),{0,1,2,3,4,5,6,7,8,9})*1000+{100,90,80,70,60,50,40,30,20,10}+{0,1,2,3,4,5,6,7,8,9},COLUMN(A$21))),\"\"))","v":"4"},{"$f":"IF(OR(LEN($O119)=0),\"\",IFERROR(RIGHT(LARGE(COUNTIF(OFFSET($J119,-1,0,-1*$Q$3,5),{0,1,2,3,4,5,6,7,8,9})*1000+{100,90,80,70,60,50,40,30,20,10}+{0,1,2,3,4,5,6,7,8,9},COLUMN(B$21))),\"\"))","v":"2"},{"$f":"IF(OR(LEN($O119)=0),\"\",IFERROR(RIGHT(LARGE(COUNTIF(OFFSET($J119,-1,0,-1*$Q$3,5),{0,1,2,3,4,5,6,7,8,9})*1000+{100,90,80,70,60,50,40,30,20,10}+{0,1,2,3,4,5,6,7,8,9},COLUMN(C$21))),\"\"))","v":"8"},{"$f":"IF(OR(LEN($O119)=0),\"\",IFERROR(RIGHT(LARGE(COUNTIF(OFFSET($J119,-1,0,-1*$Q$3,5),{0,1,2,3,4,5,6,7,8,9})*1000+{100,90,80,70,60,50,40,30,20,10}+{0,1,2,3,4,5,6,7,8,9},COLUMN(D$21))),\"\"))","v":"3"},{"$f":"IF(OR(LEN($O119)=0),\"\",IFERROR(RIGHT(LARGE(COUNTIF(OFFSET($J119,-1,0,-1*$Q$3,5),{0,1,2,3,4,5,6,7,8,9})*1000+{100,90,80,70,60,50,40,30,20,10}+{0,1,2,3,4,5,6,7,8,9},COLUMN(E$21))),\"\"))","v":"6"},{"$f":"IF(OR(LEN($O119)=0),\"\",IFERROR(RIGHT(LARGE(COUNTIF(OFFSET($J119,-1,0,-1*$Q$3,5),{0,1,2,3,4,5,6,7,8,9})*1000+{100,90,80,70,60,50,40,30,20,10}+{0,1,2,3,4,5,6,7,8,9},COLUMN(F$21))),\"\"))","v":"7"},{"$f":"IF(OR(LEN($O119)=0),\"\",IFERROR(RIGHT(LARGE(COUNTIF(OFFSET($J119,-1,0,-1*$Q$3,5),{0,1,2,3,4,5,6,7,8,9})*1000+{100,90,80,70,60,50,40,30,20,10}+{0,1,2,3,4,5,6,7,8,9},COLUMN(G$21))),\"\"))","v":"5"},{"$f":"IF(OR(LEN($O119)=0),\"\",IFERROR(RIGHT(LARGE(COUNTIF(OFFSET($J119,-1,0,-1*$Q$3,5),{0,1,2,3,4,5,6,7,8,9})*1000+{100,90,80,70,60,50,40,30,20,10}+{0,1,2,3,4,5,6,7,8,9},COLUMN(H$21))),\"\"))","v":"1"},{"$f":"IF(OR(LEN($O119)=0),\"\",IFERROR(RIGHT(LARGE(COUNTIF(OFFSET($J119,-1,0,-1*$Q$3,5),{0,1,2,3,4,5,6,7,8,9})*1000+{100,90,80,70,60,50,40,30,20,10}+{0,1,2,3,4,5,6,7,8,9},COLUMN(I$21))),\"\"))","v":"0"},{"$f":"IF(OR(LEN($O119)=0),\"\",IFERROR(RIGHT(LARGE(COUNTIF(OFFSET($J119,-1,0,-1*$Q$3,5),{0,1,2,3,4,5,6,7,8,9})*1000+{100,90,80,70,60,50,40,30,20,10}+{0,1,2,3,4,5,6,7,8,9},COLUMN(J$21))),\"\"))","v":"9"},"4283","4","2","8","3","","","","","",""]
["20200515041","47300","4","7","3","0","0",null,null,"","","3","0","0","300",{"$f":"IF(OR(LEN($O120)=0),\"\",IFERROR(RIGHT(LARGE(COUNTIF(OFFSET($J120,-1,0,-1*$Q$3,5),{0,1,2,3,4,5,6,7,8,9})*1000+{100,90,80,70,60,50,40,30,20,10}+{0,1,2,3,4,5,6,7,8,9},COLUMN(A$21))),\"\"))","v":"4"},{"$f":"IF(OR(LEN($O120)=0),\"\",IFERROR(RIGHT(LARGE(COUNTIF(OFFSET($J120,-1,0,-1*$Q$3,5),{0,1,2,3,4,5,6,7,8,9})*1000+{100,90,80,70,60,50,40,30,20,10}+{0,1,2,3,4,5,6,7,8,9},COLUMN(B$21))),\"\"))","v":"2"},{"$f":"IF(OR(LEN($O120)=0),\"\",IFERROR(RIGHT(LARGE(COUNTIF(OFFSET($J120,-1,0,-1*$Q$3,5),{0,1,2,3,4,5,6,7,8,9})*1000+{100,90,80,70,60,50,40,30,20,10}+{0,1,2,3,4,5,6,7,8,9},COLUMN(C$21))),\"\"))","v":"6"},{"$f":"IF(OR(LEN($O120)=0),\"\",IFERROR(RIGHT(LARGE(COUNTIF(OFFSET($J120,-1,0,-1*$Q$3,5),{0,1,2,3,4,5,6,7,8,9})*1000+{100,90,80,70,60,50,40,30,20,10}+{0,1,2,3,4,5,6,7,8,9},COLUMN(D$21))),\"\"))","v":"3"},{"$f":"IF(OR(LEN($O120)=0),\"\",IFERROR(RIGHT(LARGE(COUNTIF(OFFSET($J120,-1,0,-1*$Q$3,5),{0,1,2,3,4,5,6,7,8,9})*1000+{100,90,80,70,60,50,40,30,20,10}+{0,1,2,3,4,5,6,7,8,9},COLUMN(E$21))),\"\"))","v":"8"},{"$f":"IF(OR(LEN($O120)=0),\"\",IFERROR(RIGHT(LARGE(COUNTIF(OFFSET($J120,-1,0,-1*$Q$3,5),{0,1,2,3,4,5,6,7,8,9})*1000+{100,90,80,70,60,50,40,30,20,10}+{0,1,2,3,4,5,6,7,8,9},COLUMN(F$21))),\"\"))","v":"7"},{"$f":"IF(OR(LEN($O120)=0),\"\",IFERROR(RIGHT(LARGE(COUNTIF(OFFSET($J120,-1,0,-1*$Q$3,5),{0,1,2,3,4,5,6,7,8,9})*1000+{100,90,80,70,60,50,40,30,20,10}+{0,1,2,3,4,5,6,7,8,9},COLUMN(G$21))),\"\"))","v":"5"},{"$f":"IF(OR(LEN($O120)=0),\"\",IFERROR(RIGHT(LARGE(COUNTIF(OFFSET($J120,-1,0,-1*$Q$3,5),{0,1,2,3,4,5,6,7,8,9})*1000+{100,90,80,70,60,50,40,30,20,10}+{0,1,2,3,4,5,6,7,8,9},COLUMN(H$21))),\"\"))","v":"1"},{"$f":"IF(OR(LEN($O120)=0),\"\",IFERROR(RIGHT(LARGE(COUNTIF(OFFSET($J120,-1,0,-1*$Q$3,5),{0,1,2,3,4,5,6,7,8,9})*1000+{100,90,80,70,60,50,40,30,20,10}+{0,1,2,3,4,5,6,7,8,9},COLUMN(I$21))),\"\"))","v":"0"},{"$f":"IF(OR(LEN($O120)=0),\"\",IFERROR(RIGHT(LARGE(COUNTIF(OFFSET($J120,-1,0,-1*$Q$3,5),{0,1,2,3,4,5,6,7,8,9})*1000+{100,90,80,70,60,50,40,30,20,10}+{0,1,2,3,4,5,6,7,8,9},COLUMN(J$21))),\"\"))","v":"9"},"4263","4","2","6","3","","","","","",""]
["20200515042","94526","9","4","5","2","6",null,null,"","","5","2","6","526",{"$f":"IF(OR(LEN($O121)=0),\"\",IFERROR(RIGHT(LARGE(COUNTIF(OFFSET($J121,-1,0,-1*$Q$3,5),{0,1,2,3,4,5,6,7,8,9})*1000+{100,90,80,70,60,50,40,30,20,10}+{0,1,2,3,4,5,6,7,8,9},COLUMN(A$21))),\"\"))","v":"4"},{"$f":"IF(OR(LEN($O121)=0),\"\",IFERROR(RIGHT(LARGE(COUNTIF(OFFSET($J121,-1,0,-1*$Q$3,5),{0,1,2,3,4,5,6,7,8,9})*1000+{100,90,80,70,60,50,40,30,20,10}+{0,1,2,3,4,5,6,7,8,9},COLUMN(B$21))),\"\"))","v":"2"},{"$f":"IF(OR(LEN($O121)=0),\"\",IFERROR(RIGHT(LARGE(COUNTIF(OFFSET($J121,-1,0,-1*$Q$3,5),{0,1,2,3,4,5,6,7,8,9})*1000+{100,90,80,70,60,50,40,30,20,10}+{0,1,2,3,4,5,6,7,8,9},COLUMN(C$21))),\"\"))","v":"3"},{"$f":"IF(OR(LEN($O121)=0),\"\",IFERROR(RIGHT(LARGE(COUNTIF(OFFSET($J121,-1,0,-1*$Q$3,5),{0,1,2,3,4,5,6,7,8,9})*1000+{100,90,80,70,60,50,40,30,20,10}+{0,1,2,3,4,5,6,7,8,9},COLUMN(D$21))),\"\"))","v":"8"},{"$f":"IF(OR(LEN($O121)=0),\"\",IFERROR(RIGHT(LARGE(COUNTIF(OFFSET($J121,-1,0,-1*$Q$3,5),{0,1,2,3,4,5,6,7,8,9})*1000+{100,90,80,70,60,50,40,30,20,10}+{0,1,2,3,4,5,6,7,8,9},COLUMN(E$21))),\"\"))","v":"6"},{"$f":"IF(OR(LEN($O121)=0),\"\",IFERROR(RIGHT(LARGE(COUNTIF(OFFSET($J121,-1,0,-1*$Q$3,5),{0,1,2,3,4,5,6,7,8,9})*1000+{100,90,80,70,60,50,40,30,20,10}+{0,1,2,3,4,5,6,7,8,9},COLUMN(F$21))),\"\"))","v":"7"},{"$f":"IF(OR(LEN($O121)=0),\"\",IFERROR(RIGHT(LARGE(COUNTIF(OFFSET($J121,-1,0,-1*$Q$3,5),{0,1,2,3,4,5,6,7,8,9})*1000+{100,90,80,70,60,50,40,30,20,10}+{0,1,2,3,4,5,6,7,8,9},COLUMN(G$21))),\"\"))","v":"5"},{"$f":"IF(OR(LEN($O121)=0),\"\",IFERROR(RIGHT(LARGE(COUNTIF(OFFSET($J121,-1,0,-1*$Q$3,5),{0,1,2,3,4,5,6,7,8,9})*1000+{100,90,80,70,60,50,40,30,20,10}+{0,1,2,3,4,5,6,7,8,9},COLUMN(H$21))),\"\"))","v":"0"},{"$f":"IF(OR(LEN($O121)=0),\"\",IFERROR(RIGHT(LARGE(COUNTIF(OFFSET($J121,-1,0,-1*$Q$3,5),{0,1,2,3,4,5,6,7,8,9})*1000+{100,90,80,70,60,50,40,30,20,10}+{0,1,2,3,4,5,6,7,8,9},COLUMN(I$21))),\"\"))","v":"1"},{"$f":"IF(OR(LEN($O121)=0),\"\",IFERROR(RIGHT(LARGE(COUNTIF(OFFSET($J121,-1,0,-1*$Q$3,5),{0,1,2,3,4,5,6,7,8,9})*1000+{100,90,80,70,60,50,40,30,20,10}+{0,1,2,3,4,5,6,7,8,9},COLUMN(J$21))),\"\"))","v":"9"},"4238","4","2","3","8","","","","","",""]
["20200515043","84041","8","4","0","4","1",null,null,"","","0","4","1","041",{"$f":"IF(OR(LEN($O122)=0),\"\",IFERROR(RIGHT(LARGE(COUNTIF(OFFSET($J122,-1,0,-1*$Q$3,5),{0,1,2,3,4,5,6,7,8,9})*1000+{100,90,80,70,60,50,40,30,20,10}+{0,1,2,3,4,5,6,7,8,9},COLUMN(A$21))),\"\"))","v":"2"},{"$f":"IF(OR(LEN($O122)=0),\"\",IFERROR(RIGHT(LARGE(COUNTIF(OFFSET($J122,-1,0,-1*$Q$3,5),{0,1,2,3,4,5,6,7,8,9})*1000+{100,90,80,70,60,50,40,30,20,10}+{0,1,2,3,4,5,6,7,8,9},COLUMN(B$21))),\"\"))","v":"4"},{"$f":"IF(OR(LEN($O122)=0),\"\",IFERROR(RIGHT(LARGE(COUNTIF(OFFSET($J122,-1,0,-1*$Q$3,5),{0,1,2,3,4,5,6,7,8,9})*1000+{100,90,80,70,60,50,40,30,20,10}+{0,1,2,3,4,5,6,7,8,9},COLUMN(C$21))),\"\"))","v":"3"},{"$f":"IF(OR(LEN($O122)=0),\"\",IFERROR(RIGHT(LARGE(COUNTIF(OFFSET($J122,-1,0,-1*$Q$3,5),{0,1,2,3,4,5,6,7,8,9})*1000+{100,90,80,70,60,50,40,30,20,10}+{0,1,2,3,4,5,6,7,8,9},COLUMN(D$21))),\"\"))","v":"8"},{"$f":"IF(OR(LEN($O122)=0),\"\",IFERROR(RIGHT(LARGE(COUNTIF(OFFSET($J122,-1,0,-1*$Q$3,5),{0,1,2,3,4,5,6,7,8,9})*1000+{100,90,80,70,60,50,40,30,20,10}+{0,1,2,3,4,5,6,7,8,9},COLUMN(E$21))),\"\"))","v":"6"},{"$f":"IF(OR(LEN($O122)=0),\"\",IFERROR(RIGHT(LARGE(COUNTIF(OFFSET($J122,-1,0,-1*$Q$3,5),{0,1,2,3,4,5,6,7,8,9})*1000+{100,90,80,70,60,50,40,30,20,10}+{0,1,2,3,4,5,6,7,8,9},COLUMN(F$21))),\"\"))","v":"7"},{"$f":"IF(OR(LEN($O122)=0),\"\",IFERROR(RIGHT(LARGE(COUNTIF(OFFSET($J122,-1,0,-1*$Q$3,5),{0,1,2,3,4,5,6,7,8,9})*1000+{100,90,80,70,60,50,40,30,20,10}+{0,1,2,3,4,5,6,7,8,9},COLUMN(G$21))),\"\"))","v":"5"},{"$f":"IF(OR(LEN($O122)=0),\"\",IFERROR(RIGHT(LARGE(COUNTIF(OFFSET($J122,-1,0,-1*$Q$3,5),{0,1,2,3,4,5,6,7,8,9})*1000+{100,90,80,70,60,50,40,30,20,10}+{0,1,2,3,4,5,6,7,8,9},COLUMN(H$21))),\"\"))","v":"0"},{"$f":"IF(OR(LEN($O122)=0),\"\",IFERROR(RIGHT(LARGE(COUNTIF(OFFSET($J122,-1,0,-1*$Q$3,5),{0,1,2,3,4,5,6,7,8,9})*1000+{100,90,80,70,60,50,40,30,20,10}+{0,1,2,3,4,5,6,7,8,9},COLUMN(I$21))),\"\"))","v":"1"},{"$f":"IF(OR(LEN($O122)=0),\"\",IFERROR(RIGHT(LARGE(COUNTIF(OFFSET($J122,-1,0,-1*$Q$3,5),{0,1,2,3,4,5,6,7,8,9})*1000+{100,90,80,70,60,50,40,30,20,10}+{0,1,2,3,4,5,6,7,8,9},COLUMN(J$21))),\"\"))","v":"9"},"2438","2","4","3","8","","","","","",""]
["20200515044","12005","1","2","0","0","5",null,null,"","","0","0","5","005",{"$f":"IF(OR(LEN($O123)=0),\"\",IFERROR(RIGHT(LARGE(COUNTIF(OFFSET($J123,-1,0,-1*$Q$3,5),{0,1,2,3,4,5,6,7,8,9})*1000+{100,90,80,70,60,50,40,30,20,10}+{0,1,2,3,4,5,6,7,8,9},COLUMN(A$21))),\"\"))","v":"2"},{"$f":"IF(OR(LEN($O123)=0),\"\",IFERROR(RIGHT(LARGE(COUNTIF(OFFSET($J123,-1,0,-1*$Q$3,5),{0,1,2,3,4,5,6,7,8,9})*1000+{100,90,80,70,60,50,40,30,20,10}+{0,1,2,3,4,5,6,7,8,9},COLUMN(B$21))),\"\"))","v":"4"},{"$f":"IF(OR(LEN($O123)=0),\"\",IFERROR(RIGHT(LARGE(COUNTIF(OFFSET($J123,-1,0,-1*$Q$3,5),{0,1,2,3,4,5,6,7,8,9})*1000+{100,90,80,70,60,50,40,30,20,10}+{0,1,2,3,4,5,6,7,8,9},COLUMN(C$21))),\"\"))","v":"3"},{"$f":"IF(OR(LEN($O123)=0),\"\",IFERROR(RIGHT(LARGE(COUNTIF(OFFSET($J123,-1,0,-1*$Q$3,5),{0,1,2,3,4,5,6,7,8,9})*1000+{100,90,80,70,60,50,40,30,20,10}+{0,1,2,3,4,5,6,7,8,9},COLUMN(D$21))),\"\"))","v":"8"},{"$f":"IF(OR(LEN($O123)=0),\"\",IFERROR(RIGHT(LARGE(COUNTIF(OFFSET($J123,-1,0,-1*$Q$3,5),{0,1,2,3,4,5,6,7,8,9})*1000+{100,90,80,70,60,50,40,30,20,10}+{0,1,2,3,4,5,6,7,8,9},COLUMN(E$21))),\"\"))","v":"6"},{"$f":"IF(OR(LEN($O123)=0),\"\",IFERROR(RIGHT(LARGE(COUNTIF(OFFSET($J123,-1,0,-1*$Q$3,5),{0,1,2,3,4,5,6,7,8,9})*1000+{100,90,80,70,60,50,40,30,20,10}+{0,1,2,3,4,5,6,7,8,9},COLUMN(F$21))),\"\"))","v":"0"},{"$f":"IF(OR(LEN($O123)=0),\"\",IFERROR(RIGHT(LARGE(COUNTIF(OFFSET($J123,-1,0,-1*$Q$3,5),{0,1,2,3,4,5,6,7,8,9})*1000+{100,90,80,70,60,50,40,30,20,10}+{0,1,2,3,4,5,6,7,8,9},COLUMN(G$21))),\"\"))","v":"5"},{"$f":"IF(OR(LEN($O123)=0),\"\",IFERROR(RIGHT(LARGE(COUNTIF(OFFSET($J123,-1,0,-1*$Q$3,5),{0,1,2,3,4,5,6,7,8,9})*1000+{100,90,80,70,60,50,40,30,20,10}+{0,1,2,3,4,5,6,7,8,9},COLUMN(H$21))),\"\"))","v":"7"},{"$f":"IF(OR(LEN($O123)=0),\"\",IFERROR(RIGHT(LARGE(COUNTIF(OFFSET($J123,-1,0,-1*$Q$3,5),{0,1,2,3,4,5,6,7,8,9})*1000+{100,90,80,70,60,50,40,30,20,10}+{0,1,2,3,4,5,6,7,8,9},COLUMN(I$21))),\"\"))","v":"1"},{"$f":"IF(OR(LEN($O123)=0),\"\",IFERROR(RIGHT(LARGE(COUNTIF(OFFSET($J123,-1,0,-1*$Q$3,5),{0,1,2,3,4,5,6,7,8,9})*1000+{100,90,80,70,60,50,40,30,20,10}+{0,1,2,3,4,5,6,7,8,9},COLUMN(J$21))),\"\"))","v":"9"},"2438","2","4","3","8","","","","","",""]
["20200515045","59835","5","9","8","3","5",null,null,"","","8","3","5","835",{"$f":"IF(OR(LEN($O124)=0),\"\",IFERROR(RIGHT(LARGE(COUNTIF(OFFSET($J124,-1,0,-1*$Q$3,5),{0,1,2,3,4,5,6,7,8,9})*1000+{100,90,80,70,60,50,40,30,20,10}+{0,1,2,3,4,5,6,7,8,9},COLUMN(A$21))),\"\"))","v":"4"},{"$f":"IF(OR(LEN($O124)=0),\"\",IFERROR(RIGHT(LARGE(COUNTIF(OFFSET($J124,-1,0,-1*$Q$3,5),{0,1,2,3,4,5,6,7,8,9})*1000+{100,90,80,70,60,50,40,30,20,10}+{0,1,2,3,4,5,6,7,8,9},COLUMN(B$21))),\"\"))","v":"2"},{"$f":"IF(OR(LEN($O124)=0),\"\",IFERROR(RIGHT(LARGE(COUNTIF(OFFSET($J124,-1,0,-1*$Q$3,5),{0,1,2,3,4,5,6,7,8,9})*1000+{100,90,80,70,60,50,40,30,20,10}+{0,1,2,3,4,5,6,7,8,9},COLUMN(C$21))),\"\"))","v":"3"},{"$f":"IF(OR(LEN($O124)=0),\"\",IFERROR(RIGHT(LARGE(COUNTIF(OFFSET($J124,-1,0,-1*$Q$3,5),{0,1,2,3,4,5,6,7,8,9})*1000+{100,90,80,70,60,50,40,30,20,10}+{0,1,2,3,4,5,6,7,8,9},COLUMN(D$21))),\"\"))","v":"8"},{"$f":"IF(OR(LEN($O124)=0),\"\",IFERROR(RIGHT(LARGE(COUNTIF(OFFSET($J124,-1,0,-1*$Q$3,5),{0,1,2,3,4,5,6,7,8,9})*1000+{100,90,80,70,60,50,40,30,20,10}+{0,1,2,3,4,5,6,7,8,9},COLUMN(E$21))),\"\"))","v":"6"},{"$f":"IF(OR(LEN($O124)=0),\"\",IFERROR(RIGHT(LARGE(COUNTIF(OFFSET($J124,-1,0,-1*$Q$3,5),{0,1,2,3,4,5,6,7,8,9})*1000+{100,90,80,70,60,50,40,30,20,10}+{0,1,2,3,4,5,6,7,8,9},COLUMN(F$21))),\"\"))","v":"0"},{"$f":"IF(OR(LEN($O124)=0),\"\",IFERROR(RIGHT(LARGE(COUNTIF(OFFSET($J124,-1,0,-1*$Q$3,5),{0,1,2,3,4,5,6,7,8,9})*1000+{100,90,80,70,60,50,40,30,20,10}+{0,1,2,3,4,5,6,7,8,9},COLUMN(G$21))),\"\"))","v":"5"},{"$f":"IF(OR(LEN($O124)=0),\"\",IFERROR(RIGHT(LARGE(COUNTIF(OFFSET($J124,-1,0,-1*$Q$3,5),{0,1,2,3,4,5,6,7,8,9})*1000+{100,90,80,70,60,50,40,30,20,10}+{0,1,2,3,4,5,6,7,8,9},COLUMN(H$21))),\"\"))","v":"7"},{"$f":"IF(OR(LEN($O124)=0),\"\",IFERROR(RIGHT(LARGE(COUNTIF(OFFSET($J124,-1,0,-1*$Q$3,5),{0,1,2,3,4,5,6,7,8,9})*1000+{100,90,80,70,60,50,40,30,20,10}+{0,1,2,3,4,5,6,7,8,9},COLUMN(I$21))),\"\"))","v":"1"},{"$f":"IF(OR(LEN($O124)=0),\"\",IFERROR(RIGHT(LARGE(COUNTIF(OFFSET($J124,-1,0,-1*$Q$3,5),{0,1,2,3,4,5,6,7,8,9})*1000+{100,90,80,70,60,50,40,30,20,10}+{0,1,2,3,4,5,6,7,8,9},COLUMN(J$21))),\"\"))","v":"9"},"4238","4","2","3","8","","","","","",""]
["20200515046","50767","5","0","7","6","7",null,null,"","","7","6","7","767",{"$f":"IF(OR(LEN($O125)=0),\"\",IFERROR(RIGHT(LARGE(COUNTIF(OFFSET($J125,-1,0,-1*$Q$3,5),{0,1,2,3,4,5,6,7,8,9})*1000+{100,90,80,70,60,50,40,30,20,10}+{0,1,2,3,4,5,6,7,8,9},COLUMN(A$21))),\"\"))","v":"4"},{"$f":"IF(OR(LEN($O125)=0),\"\",IFERROR(RIGHT(LARGE(COUNTIF(OFFSET($J125,-1,0,-1*$Q$3,5),{0,1,2,3,4,5,6,7,8,9})*1000+{100,90,80,70,60,50,40,30,20,10}+{0,1,2,3,4,5,6,7,8,9},COLUMN(B$21))),\"\"))","v":"2"},{"$f":"IF(OR(LEN($O125)=0),\"\",IFERROR(RIGHT(LARGE(COUNTIF(OFFSET($J125,-1,0,-1*$Q$3,5),{0,1,2,3,4,5,6,7,8,9})*1000+{100,90,80,70,60,50,40,30,20,10}+{0,1,2,3,4,5,6,7,8,9},COLUMN(C$21))),\"\"))","v":"3"},{"$f":"IF(OR(LEN($O125)=0),\"\",IFERROR(RIGHT(LARGE(COUNTIF(OFFSET($J125,-1,0,-1*$Q$3,5),{0,1,2,3,4,5,6,7,8,9})*1000+{100,90,80,70,60,50,40,30,20,10}+{0,1,2,3,4,5,6,7,8,9},COLUMN(D$21))),\"\"))","v":"8"},{"$f":"IF(OR(LEN($O125)=0),\"\",IFERROR(RIGHT(LARGE(COUNTIF(OFFSET($J125,-1,0,-1*$Q$3,5),{0,1,2,3,4,5,6,7,8,9})*1000+{100,90,80,70,60,50,40,30,20,10}+{0,1,2,3,4,5,6,7,8,9},COLUMN(E$21))),\"\"))","v":"6"},{"$f":"IF(OR(LEN($O125)=0),\"\",IFERROR(RIGHT(LARGE(COUNTIF(OFFSET($J125,-1,0,-1*$Q$3,5),{0,1,2,3,4,5,6,7,8,9})*1000+{100,90,80,70,60,50,40,30,20,10}+{0,1,2,3,4,5,6,7,8,9},COLUMN(F$21))),\"\"))","v":"0"},{"$f":"IF(OR(LEN($O125)=0),\"\",IFERROR(RIGHT(LARGE(COUNTIF(OFFSET($J125,-1,0,-1*$Q$3,5),{0,1,2,3,4,5,6,7,8,9})*1000+{100,90,80,70,60,50,40,30,20,10}+{0,1,2,3,4,5,6,7,8,9},COLUMN(G$21))),\"\"))","v":"5"},{"$f":"IF(OR(LEN($O125)=0),\"\",IFERROR(RIGHT(LARGE(COUNTIF(OFFSET($J125,-1,0,-1*$Q$3,5),{0,1,2,3,4,5,6,7,8,9})*1000+{100,90,80,70,60,50,40,30,20,10}+{0,1,2,3,4,5,6,7,8,9},COLUMN(H$21))),\"\"))","v":"7"},{"$f":"IF(OR(LEN($O125)=0),\"\",IFERROR(RIGHT(LARGE(COUNTIF(OFFSET($J125,-1,0,-1*$Q$3,5),{0,1,2,3,4,5,6,7,8,9})*1000+{100,90,80,70,60,50,40,30,20,10}+{0,1,2,3,4,5,6,7,8,9},COLUMN(I$21))),\"\"))","v":"1"},{"$f":"IF(OR(LEN($O125)=0),\"\",IFERROR(RIGHT(LARGE(COUNTIF(OFFSET($J125,-1,0,-1*$Q$3,5),{0,1,2,3,4,5,6,7,8,9})*1000+{100,90,80,70,60,50,40,30,20,10}+{0,1,2,3,4,5,6,7,8,9},COLUMN(J$21))),\"\"))","v":"9"},"4238","4","2","3","8","","","","","",""]
["20200515047","02214","0","2","2","1","4",null,null,"","","2","1","4","214",{"$f":"IF(OR(LEN($O126)=0),\"\",IFERROR(RIGHT(LARGE(COUNTIF(OFFSET($J126,-1,0,-1*$Q$3,5),{0,1,2,3,4,5,6,7,8,9})*1000+{100,90,80,70,60,50,40,30,20,10}+{0,1,2,3,4,5,6,7,8,9},COLUMN(A$21))),\"\"))","v":"4"},{"$f":"IF(OR(LEN($O126)=0),\"\",IFERROR(RIGHT(LARGE(COUNTIF(OFFSET($J126,-1,0,-1*$Q$3,5),{0,1,2,3,4,5,6,7,8,9})*1000+{100,90,80,70,60,50,40,30,20,10}+{0,1,2,3,4,5,6,7,8,9},COLUMN(B$21))),\"\"))","v":"2"},{"$f":"IF(OR(LEN($O126)=0),\"\",IFERROR(RIGHT(LARGE(COUNTIF(OFFSET($J126,-1,0,-1*$Q$3,5),{0,1,2,3,4,5,6,7,8,9})*1000+{100,90,80,70,60,50,40,30,20,10}+{0,1,2,3,4,5,6,7,8,9},COLUMN(C$21))),\"\"))","v":"3"},{"$f":"IF(OR(LEN($O126)=0),\"\",IFERROR(RIGHT(LARGE(COUNTIF(OFFSET($J126,-1,0,-1*$Q$3,5),{0,1,2,3,4,5,6,7,8,9})*1000+{100,90,80,70,60,50,40,30,20,10}+{0,1,2,3,4,5,6,7,8,9},COLUMN(D$21))),\"\"))","v":"8"},{"$f":"IF(OR(LEN($O126)=0),\"\",IFERROR(RIGHT(LARGE(COUNTIF(OFFSET($J126,-1,0,-1*$Q$3,5),{0,1,2,3,4,5,6,7,8,9})*1000+{100,90,80,70,60,50,40,30,20,10}+{0,1,2,3,4,5,6,7,8,9},COLUMN(E$21))),\"\"))","v":"7"},{"$f":"IF(OR(LEN($O126)=0),\"\",IFERROR(RIGHT(LARGE(COUNTIF(OFFSET($J126,-1,0,-1*$Q$3,5),{0,1,2,3,4,5,6,7,8,9})*1000+{100,90,80,70,60,50,40,30,20,10}+{0,1,2,3,4,5,6,7,8,9},COLUMN(F$21))),\"\"))","v":"0"},{"$f":"IF(OR(LEN($O126)=0),\"\",IFERROR(RIGHT(LARGE(COUNTIF(OFFSET($J126,-1,0,-1*$Q$3,5),{0,1,2,3,4,5,6,7,8,9})*1000+{100,90,80,70,60,50,40,30,20,10}+{0,1,2,3,4,5,6,7,8,9},COLUMN(G$21))),\"\"))","v":"5"},{"$f":"IF(OR(LEN($O126)=0),\"\",IFERROR(RIGHT(LARGE(COUNTIF(OFFSET($J126,-1,0,-1*$Q$3,5),{0,1,2,3,4,5,6,7,8,9})*1000+{100,90,80,70,60,50,40,30,20,10}+{0,1,2,3,4,5,6,7,8,9},COLUMN(H$21))),\"\"))","v":"6"},{"$f":"IF(OR(LEN($O126)=0),\"\",IFERROR(RIGHT(LARGE(COUNTIF(OFFSET($J126,-1,0,-1*$Q$3,5),{0,1,2,3,4,5,6,7,8,9})*1000+{100,90,80,70,60,50,40,30,20,10}+{0,1,2,3,4,5,6,7,8,9},COLUMN(I$21))),\"\"))","v":"1"},{"$f":"IF(OR(LEN($O126)=0),\"\",IFERROR(RIGHT(LARGE(COUNTIF(OFFSET($J126,-1,0,-1*$Q$3,5),{0,1,2,3,4,5,6,7,8,9})*1000+{100,90,80,70,60,50,40,30,20,10}+{0,1,2,3,4,5,6,7,8,9},COLUMN(J$21))),\"\"))","v":"9"},"4238","4","2","3","8","","","","","",""]
["20200515048","50652","5","0","6","5","2",null,null,"","","6","5","2","652",{"$f":"IF(OR(LEN($O127)=0),\"\",IFERROR(RIGHT(LARGE(COUNTIF(OFFSET($J127,-1,0,-1*$Q$3,5),{0,1,2,3,4,5,6,7,8,9})*1000+{100,90,80,70,60,50,40,30,20,10}+{0,1,2,3,4,5,6,7,8,9},COLUMN(A$21))),\"\"))","v":"4"},{"$f":"IF(OR(LEN($O127)=0),\"\",IFERROR(RIGHT(LARGE(COUNTIF(OFFSET($J127,-1,0,-1*$Q$3,5),{0,1,2,3,4,5,6,7,8,9})*1000+{100,90,80,70,60,50,40,30,20,10}+{0,1,2,3,4,5,6,7,8,9},COLUMN(B$21))),\"\"))","v":"2"},{"$f":"IF(OR(LEN($O127)=0),\"\",IFERROR(RIGHT(LARGE(COUNTIF(OFFSET($J127,-1,0,-1*$Q$3,5),{0,1,2,3,4,5,6,7,8,9})*1000+{100,90,80,70,60,50,40,30,20,10}+{0,1,2,3,4,5,6,7,8,9},COLUMN(C$21))),\"\"))","v":"8"},{"$f":"IF(OR(LEN($O127)=0),\"\",IFERROR(RIGHT(LARGE(COUNTIF(OFFSET($J127,-1,0,-1*$Q$3,5),{0,1,2,3,4,5,6,7,8,9})*1000+{100,90,80,70,60,50,40,30,20,10}+{0,1,2,3,4,5,6,7,8,9},COLUMN(D$21))),\"\"))","v":"3"},{"$f":"IF(OR(LEN($O127)=0),\"\",IFERROR(RIGHT(LARGE(COUNTIF(OFFSET($J127,-1,0,-1*$Q$3,5),{0,1,2,3,4,5,6,7,8,9})*1000+{100,90,80,70,60,50,40,30,20,10}+{0,1,2,3,4,5,6,7,8,9},COLUMN(E$21))),\"\"))","v":"7"},{"$f":"IF(OR(LEN($O127)=0),\"\",IFERROR(RIGHT(LARGE(COUNTIF(OFFSET($J127,-1,0,-1*$Q$3,5),{0,1,2,3,4,5,6,7,8,9})*1000+{100,90,80,70,60,50,40,30,20,10}+{0,1,2,3,4,5,6,7,8,9},COLUMN(F$21))),\"\"))","v":"0"},{"$f":"IF(OR(LEN($O127)=0),\"\",IFERROR(RIGHT(LARGE(COUNTIF(OFFSET($J127,-1,0,-1*$Q$3,5),{0,1,2,3,4,5,6,7,8,9})*1000+{100,90,80,70,60,50,40,30,20,10}+{0,1,2,3,4,5,6,7,8,9},COLUMN(G$21))),\"\"))","v":"6"},{"$f":"IF(OR(LEN($O127)=0),\"\",IFERROR(RIGHT(LARGE(COUNTIF(OFFSET($J127,-1,0,-1*$Q$3,5),{0,1,2,3,4,5,6,7,8,9})*1000+{100,90,80,70,60,50,40,30,20,10}+{0,1,2,3,4,5,6,7,8,9},COLUMN(H$21))),\"\"))","v":"5"},{"$f":"IF(OR(LEN($O127)=0),\"\",IFERROR(RIGHT(LARGE(COUNTIF(OFFSET($J127,-1,0,-1*$Q$3,5),{0,1,2,3,4,5,6,7,8,9})*1000+{100,90,80,70,60,50,40,30,20,10}+{0,1,2,3,4,5,6,7,8,9},COLUMN(I$21))),\"\"))","v":"1"},{"$f":"IF(OR(LEN($O127)=0),\"\",IFERROR(RIGHT(LARGE(COUNTIF(OFFSET($J127,-1,0,-1*$Q$3,5),{0,1,2,3,4,5,6,7,8,9})*1000+{100,90,80,70,60,50,40,30,20,10}+{0,1,2,3,4,5,6,7,8,9},COLUMN(J$21))),\"\"))","v":"9"},"4283","4","2","8","3","","","","","",""]
["20200515049","28378","2","8","3","7","8",null,null,"","","3","7","8","378",{"$f":"IF(OR(LEN($O128)=0),\"\",IFERROR(RIGHT(LARGE(COUNTIF(OFFSET($J128,-1,0,-1*$Q$3,5),{0,1,2,3,4,5,6,7,8,9})*1000+{100,90,80,70,60,50,40,30,20,10}+{0,1,2,3,4,5,6,7,8,9},COLUMN(A$21))),\"\"))","v":"2"},{"$f":"IF(OR(LEN($O128)=0),\"\",IFERROR(RIGHT(LARGE(COUNTIF(OFFSET($J128,-1,0,-1*$Q$3,5),{0,1,2,3,4,5,6,7,8,9})*1000+{100,90,80,70,60,50,40,30,20,10}+{0,1,2,3,4,5,6,7,8,9},COLUMN(B$21))),\"\"))","v":"4"},{"$f":"IF(OR(LEN($O128)=0),\"\",IFERROR(RIGHT(LARGE(COUNTIF(OFFSET($J128,-1,0,-1*$Q$3,5),{0,1,2,3,4,5,6,7,8,9})*1000+{100,90,80,70,60,50,40,30,20,10}+{0,1,2,3,4,5,6,7,8,9},COLUMN(C$21))),\"\"))","v":"8"},{"$f":"IF(OR(LEN($O128)=0),\"\",IFERROR(RIGHT(LARGE(COUNTIF(OFFSET($J128,-1,0,-1*$Q$3,5),{0,1,2,3,4,5,6,7,8,9})*1000+{100,90,80,70,60,50,40,30,20,10}+{0,1,2,3,4,5,6,7,8,9},COLUMN(D$21))),\"\"))","v":"3"},{"$f":"IF(OR(LEN($O128)=0),\"\",IFERROR(RIGHT(LARGE(COUNTIF(OFFSET($J128,-1,0,-1*$Q$3,5),{0,1,2,3,4,5,6,7,8,9})*1000+{100,90,80,70,60,50,40,30,20,10}+{0,1,2,3,4,5,6,7,8,9},COLUMN(E$21))),\"\"))","v":"6"},{"$f":"IF(OR(LEN($O128)=0),\"\",IFERROR(RIGHT(LARGE(COUNTIF(OFFSET($J128,-1,0,-1*$Q$3,5),{0,1,2,3,4,5,6,7,8,9})*1000+{100,90,80,70,60,50,40,30,20,10}+{0,1,2,3,4,5,6,7,8,9},COLUMN(F$21))),\"\"))","v":"0"},{"$f":"IF(OR(LEN($O128)=0),\"\",IFERROR(RIGHT(LARGE(COUNTIF(OFFSET($J128,-1,0,-1*$Q$3,5),{0,1,2,3,4,5,6,7,8,9})*1000+{100,90,80,70,60,50,40,30,20,10}+{0,1,2,3,4,5,6,7,8,9},COLUMN(G$21))),\"\"))","v":"5"},{"$f":"IF(OR(LEN($O128)=0),\"\",IFERROR(RIGHT(LARGE(COUNTIF(OFFSET($J128,-1,0,-1*$Q$3,5),{0,1,2,3,4,5,6,7,8,9})*1000+{100,90,80,70,60,50,40,30,20,10}+{0,1,2,3,4,5,6,7,8,9},COLUMN(H$21))),\"\"))","v":"7"},{"$f":"IF(OR(LEN($O128)=0),\"\",IFERROR(RIGHT(LARGE(COUNTIF(OFFSET($J128,-1,0,-1*$Q$3,5),{0,1,2,3,4,5,6,7,8,9})*1000+{100,90,80,70,60,50,40,30,20,10}+{0,1,2,3,4,5,6,7,8,9},COLUMN(I$21))),\"\"))","v":"1"},{"$f":"IF(OR(LEN($O128)=0),\"\",IFERROR(RIGHT(LARGE(COUNTIF(OFFSET($J128,-1,0,-1*$Q$3,5),{0,1,2,3,4,5,6,7,8,9})*1000+{100,90,80,70,60,50,40,30,20,10}+{0,1,2,3,4,5,6,7,8,9},COLUMN(J$21))),\"\"))","v":"9"},"2483","2","4","8","3","","","","","",""]
["20200515050","18864","1","8","8","6","4",null,null,"","","8","6","4","864",{"$f":"IF(OR(LEN($O129)=0),\"\",IFERROR(RIGHT(LARGE(COUNTIF(OFFSET($J129,-1,0,-1*$Q$3,5),{0,1,2,3,4,5,6,7,8,9})*1000+{100,90,80,70,60,50,40,30,20,10}+{0,1,2,3,4,5,6,7,8,9},COLUMN(A$21))),\"\"))","v":"2"},{"$f":"IF(OR(LEN($O129)=0),\"\",IFERROR(RIGHT(LARGE(COUNTIF(OFFSET($J129,-1,0,-1*$Q$3,5),{0,1,2,3,4,5,6,7,8,9})*1000+{100,90,80,70,60,50,40,30,20,10}+{0,1,2,3,4,5,6,7,8,9},COLUMN(B$21))),\"\"))","v":"4"},{"$f":"IF(OR(LEN($O129)=0),\"\",IFERROR(RIGHT(LARGE(COUNTIF(OFFSET($J129,-1,0,-1*$Q$3,5),{0,1,2,3,4,5,6,7,8,9})*1000+{100,90,80,70,60,50,40,30,20,10}+{0,1,2,3,4,5,6,7,8,9},COLUMN(C$21))),\"\"))","v":"8"},{"$f":"IF(OR(LEN($O129)=0),\"\",IFERROR(RIGHT(LARGE(COUNTIF(OFFSET($J129,-1,0,-1*$Q$3,5),{0,1,2,3,4,5,6,7,8,9})*1000+{100,90,80,70,60,50,40,30,20,10}+{0,1,2,3,4,5,6,7,8,9},COLUMN(D$21))),\"\"))","v":"3"},{"$f":"IF(OR(LEN($O129)=0),\"\",IFERROR(RIGHT(LARGE(COUNTIF(OFFSET($J129,-1,0,-1*$Q$3,5),{0,1,2,3,4,5,6,7,8,9})*1000+{100,90,80,70,60,50,40,30,20,10}+{0,1,2,3,4,5,6,7,8,9},COLUMN(E$21))),\"\"))","v":"6"},{"$f":"IF(OR(LEN($O129)=0),\"\",IFERROR(RIGHT(LARGE(COUNTIF(OFFSET($J129,-1,0,-1*$Q$3,5),{0,1,2,3,4,5,6,7,8,9})*1000+{100,90,80,70,60,50,40,30,20,10}+{0,1,2,3,4,5,6,7,8,9},COLUMN(F$21))),\"\"))","v":"7"},{"$f":"IF(OR(LEN($O129)=0),\"\",IFERROR(RIGHT(LARGE(COUNTIF(OFFSET($J129,-1,0,-1*$Q$3,5),{0,1,2,3,4,5,6,7,8,9})*1000+{100,90,80,70,60,50,40,30,20,10}+{0,1,2,3,4,5,6,7,8,9},COLUMN(G$21))),\"\"))","v":"0"},{"$f":"IF(OR(LEN($O129)=0),\"\",IFERROR(RIGHT(LARGE(COUNTIF(OFFSET($J129,-1,0,-1*$Q$3,5),{0,1,2,3,4,5,6,7,8,9})*1000+{100,90,80,70,60,50,40,30,20,10}+{0,1,2,3,4,5,6,7,8,9},COLUMN(H$21))),\"\"))","v":"5"},{"$f":"IF(OR(LEN($O129)=0),\"\",IFERROR(RIGHT(LARGE(COUNTIF(OFFSET($J129,-1,0,-1*$Q$3,5),{0,1,2,3,4,5,6,7,8,9})*1000+{100,90,80,70,60,50,40,30,20,10}+{0,1,2,3,4,5,6,7,8,9},COLUMN(I$21))),\"\"))","v":"1"},{"$f":"IF(OR(LEN($O129)=0),\"\",IFERROR(RIGHT(LARGE(COUNTIF(OFFSET($J129,-1,0,-1*$Q$3,5),{0,1,2,3,4,5,6,7,8,9})*1000+{100,90,80,70,60,50,40,30,20,10}+{0,1,2,3,4,5,6,7,8,9},COLUMN(J$21))),\"\"))","v":"9"},"2483","2","4","8","3","","","","","",""]
["20200515051","22235","2","2","2","3","5",null,null,"","","2","3","5","235",{"$f":"IF(OR(LEN($O130)=0),\"\",IFERROR(RIGHT(LARGE(COUNTIF(OFFSET($J130,-1,0,-1*$Q$3,5),{0,1,2,3,4,5,6,7,8,9})*1000+{100,90,80,70,60,50,40,30,20,10}+{0,1,2,3,4,5,6,7,8,9},COLUMN(A$21))),\"\"))","v":"2"},{"$f":"IF(OR(LEN($O130)=0),\"\",IFERROR(RIGHT(LARGE(COUNTIF(OFFSET($J130,-1,0,-1*$Q$3,5),{0,1,2,3,4,5,6,7,8,9})*1000+{100,90,80,70,60,50,40,30,20,10}+{0,1,2,3,4,5,6,7,8,9},COLUMN(B$21))),\"\"))","v":"4"},{"$f":"IF(OR(LEN($O130)=0),\"\",IFERROR(RIGHT(LARGE(COUNTIF(OFFSET($J130,-1,0,-1*$Q$3,5),{0,1,2,3,4,5,6,7,8,9})*1000+{100,90,80,70,60,50,40,30,20,10}+{0,1,2,3,4,5,6,7,8,9},COLUMN(C$21))),\"\"))","v":"8"},{"$f":"IF(OR(LEN($O130)=0),\"\",IFERROR(RIGHT(LARGE(COUNTIF(OFFSET($J130,-1,0,-1*$Q$3,5),{0,1,2,3,4,5,6,7,8,9})*1000+{100,90,80,70,60,50,40,30,20,10}+{0,1,2,3,4,5,6,7,8,9},COLUMN(D$21))),\"\"))","v":"6"},{"$f":"IF(OR(LEN($O130)=0),\"\",IFERROR(RIGHT(LARGE(COUNTIF(OFFSET($J130,-1,0,-1*$Q$3,5),{0,1,2,3,4,5,6,7,8,9})*1000+{100,90,80,70,60,50,40,30,20,10}+{0,1,2,3,4,5,6,7,8,9},COLUMN(E$21))),\"\"))","v":"3"},{"$f":"IF(OR(LEN($O130)=0),\"\",IFERROR(RIGHT(LARGE(COUNTIF(OFFSET($J130,-1,0,-1*$Q$3,5),{0,1,2,3,4,5,6,7,8,9})*1000+{100,90,80,70,60,50,40,30,20,10}+{0,1,2,3,4,5,6,7,8,9},COLUMN(F$21))),\"\"))","v":"7"},{"$f":"IF(OR(LEN($O130)=0),\"\",IFERROR(RIGHT(LARGE(COUNTIF(OFFSET($J130,-1,0,-1*$Q$3,5),{0,1,2,3,4,5,6,7,8,9})*1000+{100,90,80,70,60,50,40,30,20,10}+{0,1,2,3,4,5,6,7,8,9},COLUMN(G$21))),\"\"))","v":"0"},{"$f":"IF(OR(LEN($O130)=0),\"\",IFERROR(RIGHT(LARGE(COUNTIF(OFFSET($J130,-1,0,-1*$Q$3,5),{0,1,2,3,4,5,6,7,8,9})*1000+{100,90,80,70,60,50,40,30,20,10}+{0,1,2,3,4,5,6,7,8,9},COLUMN(H$21))),\"\"))","v":"5"},{"$f":"IF(OR(LEN($O130)=0),\"\",IFERROR(RIGHT(LARGE(COUNTIF(OFFSET($J130,-1,0,-1*$Q$3,5),{0,1,2,3,4,5,6,7,8,9})*1000+{100,90,80,70,60,50,40,30,20,10}+{0,1,2,3,4,5,6,7,8,9},COLUMN(I$21))),\"\"))","v":"1"},{"$f":"IF(OR(LEN($O130)=0),\"\",IFERROR(RIGHT(LARGE(COUNTIF(OFFSET($J130,-1,0,-1*$Q$3,5),{0,1,2,3,4,5,6,7,8,9})*1000+{100,90,80,70,60,50,40,30,20,10}+{0,1,2,3,4,5,6,7,8,9},COLUMN(J$21))),\"\"))","v":"9"},"2486","2","4","8","6","","","","","",""]
["20200515052","43453","4","3","4","5","3",null,null,"","","4","5","3","453",{"$f":"IF(OR(LEN($O131)=0),\"\",IFERROR(RIGHT(LARGE(COUNTIF(OFFSET($J131,-1,0,-1*$Q$3,5),{0,1,2,3,4,5,6,7,8,9})*1000+{100,90,80,70,60,50,40,30,20,10}+{0,1,2,3,4,5,6,7,8,9},COLUMN(A$21))),\"\"))","v":"2"},{"$f":"IF(OR(LEN($O131)=0),\"\",IFERROR(RIGHT(LARGE(COUNTIF(OFFSET($J131,-1,0,-1*$Q$3,5),{0,1,2,3,4,5,6,7,8,9})*1000+{100,90,80,70,60,50,40,30,20,10}+{0,1,2,3,4,5,6,7,8,9},COLUMN(B$21))),\"\"))","v":"4"},{"$f":"IF(OR(LEN($O131)=0),\"\",IFERROR(RIGHT(LARGE(COUNTIF(OFFSET($J131,-1,0,-1*$Q$3,5),{0,1,2,3,4,5,6,7,8,9})*1000+{100,90,80,70,60,50,40,30,20,10}+{0,1,2,3,4,5,6,7,8,9},COLUMN(C$21))),\"\"))","v":"8"},{"$f":"IF(OR(LEN($O131)=0),\"\",IFERROR(RIGHT(LARGE(COUNTIF(OFFSET($J131,-1,0,-1*$Q$3,5),{0,1,2,3,4,5,6,7,8,9})*1000+{100,90,80,70,60,50,40,30,20,10}+{0,1,2,3,4,5,6,7,8,9},COLUMN(D$21))),\"\"))","v":"3"},{"$f":"IF(OR(LEN($O131)=0),\"\",IFERROR(RIGHT(LARGE(COUNTIF(OFFSET($J131,-1,0,-1*$Q$3,5),{0,1,2,3,4,5,6,7,8,9})*1000+{100,90,80,70,60,50,40,30,20,10}+{0,1,2,3,4,5,6,7,8,9},COLUMN(E$21))),\"\"))","v":"6"},{"$f":"IF(OR(LEN($O131)=0),\"\",IFERROR(RIGHT(LARGE(COUNTIF(OFFSET($J131,-1,0,-1*$Q$3,5),{0,1,2,3,4,5,6,7,8,9})*1000+{100,90,80,70,60,50,40,30,20,10}+{0,1,2,3,4,5,6,7,8,9},COLUMN(F$21))),\"\"))","v":"0"},{"$f":"IF(OR(LEN($O131)=0),\"\",IFERROR(RIGHT(LARGE(COUNTIF(OFFSET($J131,-1,0,-1*$Q$3,5),{0,1,2,3,4,5,6,7,8,9})*1000+{100,90,80,70,60,50,40,30,20,10}+{0,1,2,3,4,5,6,7,8,9},COLUMN(G$21))),\"\"))","v":"5"},{"$f":"IF(OR(LEN($O131)=0),\"\",IFERROR(RIGHT(LARGE(COUNTIF(OFFSET($J131,-1,0,-1*$Q$3,5),{0,1,2,3,4,5,6,7,8,9})*1000+{100,90,80,70,60,50,40,30,20,10}+{0,1,2,3,4,5,6,7,8,9},COLUMN(H$21))),\"\"))","v":"7"},{"$f":"IF(OR(LEN($O131)=0),\"\",IFERROR(RIGHT(LARGE(COUNTIF(OFFSET($J131,-1,0,-1*$Q$3,5),{0,1,2,3,4,5,6,7,8,9})*1000+{100,90,80,70,60,50,40,30,20,10}+{0,1,2,3,4,5,6,7,8,9},COLUMN(I$21))),\"\"))","v":"1"},{"$f":"IF(OR(LEN($O131)=0),\"\",IFERROR(RIGHT(LARGE(COUNTIF(OFFSET($J131,-1,0,-1*$Q$3,5),{0,1,2,3,4,5,6,7,8,9})*1000+{100,90,80,70,60,50,40,30,20,10}+{0,1,2,3,4,5,6,7,8,9},COLUMN(J$21))),\"\"))","v":"9"},"2483","2","4","8","3","","","","","",""]
["20200515053","96655","9","6","6","5","5",null,null,"","","6","5","5","655",{"$f":"IF(OR(LEN($O132)=0),\"\",IFERROR(RIGHT(LARGE(COUNTIF(OFFSET($J132,-1,0,-1*$Q$3,5),{0,1,2,3,4,5,6,7,8,9})*1000+{100,90,80,70,60,50,40,30,20,10}+{0,1,2,3,4,5,6,7,8,9},COLUMN(A$21))),\"\"))","v":"2"},{"$f":"IF(OR(LEN($O132)=0),\"\",IFERROR(RIGHT(LARGE(COUNTIF(OFFSET($J132,-1,0,-1*$Q$3,5),{0,1,2,3,4,5,6,7,8,9})*1000+{100,90,80,70,60,50,40,30,20,10}+{0,1,2,3,4,5,6,7,8,9},COLUMN(B$21))),\"\"))","v":"4"},{"$f":"IF(OR(LEN($O132)=0),\"\",IFERROR(RIGHT(LARGE(COUNTIF(OFFSET($J132,-1,0,-1*$Q$3,5),{0,1,2,3,4,5,6,7,8,9})*1000+{100,90,80,70,60,50,40,30,20,10}+{0,1,2,3,4,5,6,7,8,9},COLUMN(C$21))),\"\"))","v":"3"},{"$f":"IF(OR(LEN($O132)=0),\"\",IFERROR(RIGHT(LARGE(COUNTIF(OFFSET($J132,-1,0,-1*$Q$3,5),{0,1,2,3,4,5,6,7,8,9})*1000+{100,90,80,70,60,50,40,30,20,10}+{0,1,2,3,4,5,6,7,8,9},COLUMN(D$21))),\"\"))","v":"8"},{"$f":"IF(OR(LEN($O132)=0),\"\",IFERROR(RIGHT(LARGE(COUNTIF(OFFSET($J132,-1,0,-1*$Q$3,5),{0,1,2,3,4,5,6,7,8,9})*1000+{100,90,80,70,60,50,40,30,20,10}+{0,1,2,3,4,5,6,7,8,9},COLUMN(E$21))),\"\"))","v":"5"},{"$f":"IF(OR(LEN($O132)=0),\"\",IFERROR(RIGHT(LARGE(COUNTIF(OFFSET($J132,-1,0,-1*$Q$3,5),{0,1,2,3,4,5,6,7,8,9})*1000+{100,90,80,70,60,50,40,30,20,10}+{0,1,2,3,4,5,6,7,8,9},COLUMN(F$21))),\"\"))","v":"6"},{"$f":"IF(OR(LEN($O132)=0),\"\",IFERROR(RIGHT(LARGE(COUNTIF(OFFSET($J132,-1,0,-1*$Q$3,5),{0,1,2,3,4,5,6,7,8,9})*1000+{100,90,80,70,60,50,40,30,20,10}+{0,1,2,3,4,5,6,7,8,9},COLUMN(G$21))),\"\"))","v":"7"},{"$f":"IF(OR(LEN($O132)=0),\"\",IFERROR(RIGHT(LARGE(COUNTIF(OFFSET($J132,-1,0,-1*$Q$3,5),{0,1,2,3,4,5,6,7,8,9})*1000+{100,90,80,70,60,50,40,30,20,10}+{0,1,2,3,4,5,6,7,8,9},COLUMN(H$21))),\"\"))","v":"0"},{"$f":"IF(OR(LEN($O132)=0),\"\",IFERROR(RIGHT(LARGE(COUNTIF(OFFSET($J132,-1,0,-1*$Q$3,5),{0,1,2,3,4,5,6,7,8,9})*1000+{100,90,80,70,60,50,40,30,20,10}+{0,1,2,3,4,5,6,7,8,9},COLUMN(I$21))),\"\"))","v":"1"},{"$f":"IF(OR(LEN($O132)=0),\"\",IFERROR(RIGHT(LARGE(COUNTIF(OFFSET($J132,-1,0,-1*$Q$3,5),{0,1,2,3,4,5,6,7,8,9})*1000+{100,90,80,70,60,50,40,30,20,10}+{0,1,2,3,4,5,6,7,8,9},COLUMN(J$21))),\"\"))","v":"9"},"2438","2","4","3","8","","","","","",""]
["20200515054","26079","2","6","0","7","9",null,null,"","","0","7","9","079",{"$f":"IF(OR(LEN($O133)=0),\"\",IFERROR(RIGHT(LARGE(COUNTIF(OFFSET($J133,-1,0,-1*$Q$3,5),{0,1,2,3,4,5,6,7,8,9})*1000+{100,90,80,70,60,50,40,30,20,10}+{0,1,2,3,4,5,6,7,8,9},COLUMN(A$21))),\"\"))","v":"2"},{"$f":"IF(OR(LEN($O133)=0),\"\",IFERROR(RIGHT(LARGE(COUNTIF(OFFSET($J133,-1,0,-1*$Q$3,5),{0,1,2,3,4,5,6,7,8,9})*1000+{100,90,80,70,60,50,40,30,20,10}+{0,1,2,3,4,5,6,7,8,9},COLUMN(B$21))),\"\"))","v":"4"},{"$f":"IF(OR(LEN($O133)=0),\"\",IFERROR(RIGHT(LARGE(COUNTIF(OFFSET($J133,-1,0,-1*$Q$3,5),{0,1,2,3,4,5,6,7,8,9})*1000+{100,90,80,70,60,50,40,30,20,10}+{0,1,2,3,4,5,6,7,8,9},COLUMN(C$21))),\"\"))","v":"3"},{"$f":"IF(OR(LEN($O133)=0),\"\",IFERROR(RIGHT(LARGE(COUNTIF(OFFSET($J133,-1,0,-1*$Q$3,5),{0,1,2,3,4,5,6,7,8,9})*1000+{100,90,80,70,60,50,40,30,20,10}+{0,1,2,3,4,5,6,7,8,9},COLUMN(D$21))),\"\"))","v":"5"},{"$f":"IF(OR(LEN($O133)=0),\"\",IFERROR(RIGHT(LARGE(COUNTIF(OFFSET($J133,-1,0,-1*$Q$3,5),{0,1,2,3,4,5,6,7,8,9})*1000+{100,90,80,70,60,50,40,30,20,10}+{0,1,2,3,4,5,6,7,8,9},COLUMN(E$21))),\"\"))","v":"6"},{"$f":"IF(OR(LEN($O133)=0),\"\",IFERROR(RIGHT(LARGE(COUNTIF(OFFSET($J133,-1,0,-1*$Q$3,5),{0,1,2,3,4,5,6,7,8,9})*1000+{100,90,80,70,60,50,40,30,20,10}+{0,1,2,3,4,5,6,7,8,9},COLUMN(F$21))),\"\"))","v":"8"},{"$f":"IF(OR(LEN($O133)=0),\"\",IFERROR(RIGHT(LARGE(COUNTIF(OFFSET($J133,-1,0,-1*$Q$3,5),{0,1,2,3,4,5,6,7,8,9})*1000+{100,90,80,70,60,50,40,30,20,10}+{0,1,2,3,4,5,6,7,8,9},COLUMN(G$21))),\"\"))","v":"7"},{"$f":"IF(OR(LEN($O133)=0),\"\",IFERROR(RIGHT(LARGE(COUNTIF(OFFSET($J133,-1,0,-1*$Q$3,5),{0,1,2,3,4,5,6,7,8,9})*1000+{100,90,80,70,60,50,40,30,20,10}+{0,1,2,3,4,5,6,7,8,9},COLUMN(H$21))),\"\"))","v":"0"},{"$f":"IF(OR(LEN($O133)=0),\"\",IFERROR(RIGHT(LARGE(COUNTIF(OFFSET($J133,-1,0,-1*$Q$3,5),{0,1,2,3,4,5,6,7,8,9})*1000+{100,90,80,70,60,50,40,30,20,10}+{0,1,2,3,4,5,6,7,8,9},COLUMN(I$21))),\"\"))","v":"1"},{"$f":"IF(OR(LEN($O133)=0),\"\",IFERROR(RIGHT(LARGE(COUNTIF(OFFSET($J133,-1,0,-1*$Q$3,5),{0,1,2,3,4,5,6,7,8,9})*1000+{100,90,80,70,60,50,40,30,20,10}+{0,1,2,3,4,5,6,7,8,9},COLUMN(J$21))),\"\"))","v":"9"},"2435","2","4","3","5","","","","","",""]
["20200515055","48919","4","8","9","1","9",null,null,"","","9","1","9","919",{"$f":"IF(OR(LEN($O134)=0),\"\",IFERROR(RIGHT(LARGE(COUNTIF(OFFSET($J134,-1,0,-1*$Q$3,5),{0,1,2,3,4,5,6,7,8,9})*1000+{100,90,80,70,60,50,40,30,20,10}+{0,1,2,3,4,5,6,7,8,9},COLUMN(A$21))),\"\"))","v":"2"},{"$f":"IF(OR(LEN($O134)=0),\"\",IFERROR(RIGHT(LARGE(COUNTIF(OFFSET($J134,-1,0,-1*$Q$3,5),{0,1,2,3,4,5,6,7,8,9})*1000+{100,90,80,70,60,50,40,30,20,10}+{0,1,2,3,4,5,6,7,8,9},COLUMN(B$21))),\"\"))","v":"4"},{"$f":"IF(OR(LEN($O134)=0),\"\",IFERROR(RIGHT(LARGE(COUNTIF(OFFSET($J134,-1,0,-1*$Q$3,5),{0,1,2,3,4,5,6,7,8,9})*1000+{100,90,80,70,60,50,40,30,20,10}+{0,1,2,3,4,5,6,7,8,9},COLUMN(C$21))),\"\"))","v":"3"},{"$f":"IF(OR(LEN($O134)=0),\"\",IFERROR(RIGHT(LARGE(COUNTIF(OFFSET($J134,-1,0,-1*$Q$3,5),{0,1,2,3,4,5,6,7,8,9})*1000+{100,90,80,70,60,50,40,30,20,10}+{0,1,2,3,4,5,6,7,8,9},COLUMN(D$21))),\"\"))","v":"5"},{"$f":"IF(OR(LEN($O134)=0),\"\",IFERROR(RIGHT(LARGE(COUNTIF(OFFSET($J134,-1,0,-1*$Q$3,5),{0,1,2,3,4,5,6,7,8,9})*1000+{100,90,80,70,60,50,40,30,20,10}+{0,1,2,3,4,5,6,7,8,9},COLUMN(E$21))),\"\"))","v":"8"},{"$f":"IF(OR(LEN($O134)=0),\"\",IFERROR(RIGHT(LARGE(COUNTIF(OFFSET($J134,-1,0,-1*$Q$3,5),{0,1,2,3,4,5,6,7,8,9})*1000+{100,90,80,70,60,50,40,30,20,10}+{0,1,2,3,4,5,6,7,8,9},COLUMN(F$21))),\"\"))","v":"7"},{"$f":"IF(OR(LEN($O134)=0),\"\",IFERROR(RIGHT(LARGE(COUNTIF(OFFSET($J134,-1,0,-1*$Q$3,5),{0,1,2,3,4,5,6,7,8,9})*1000+{100,90,80,70,60,50,40,30,20,10}+{0,1,2,3,4,5,6,7,8,9},COLUMN(G$21))),\"\"))","v":"0"},{"$f":"IF(OR(LEN($O134)=0),\"\",IFERROR(RIGHT(LARGE(COUNTIF(OFFSET($J134,-1,0,-1*$Q$3,5),{0,1,2,3,4,5,6,7,8,9})*1000+{100,90,80,70,60,50,40,30,20,10}+{0,1,2,3,4,5,6,7,8,9},COLUMN(H$21))),\"\"))","v":"6"},{"$f":"IF(OR(LEN($O134)=0),\"\",IFERROR(RIGHT(LARGE(COUNTIF(OFFSET($J134,-1,0,-1*$Q$3,5),{0,1,2,3,4,5,6,7,8,9})*1000+{100,90,80,70,60,50,40,30,20,10}+{0,1,2,3,4,5,6,7,8,9},COLUMN(I$21))),\"\"))","v":"1"},{"$f":"IF(OR(LEN($O134)=0),\"\",IFERROR(RIGHT(LARGE(COUNTIF(OFFSET($J134,-1,0,-1*$Q$3,5),{0,1,2,3,4,5,6,7,8,9})*1000+{100,90,80,70,60,50,40,30,20,10}+{0,1,2,3,4,5,6,7,8,9},COLUMN(J$21))),\"\"))","v":"9"},"2435","2","4","3","5","","","","","",""]
["20200515056","16600","1","6","6","0","0",null,null,"","","6","0","0",{"$f":"J135&K135&L135&M135&N135","v":"600"},{"$f":"IF(OR(LEN($O135)=0),\"\",IFERROR(RIGHT(LARGE(COUNTIF(OFFSET($J135,-1,0,-1*$Q$3,5),{0,1,2,3,4,5,6,7,8,9})*1000+{100,90,80,70,60,50,40,30,20,10}+{0,1,2,3,4,5,6,7,8,9},COLUMN(A$21))),\"\"))","v":"2"},{"$f":"IF(OR(LEN($O135)=0),\"\",IFERROR(RIGHT(LARGE(COUNTIF(OFFSET($J135,-1,0,-1*$Q$3,5),{0,1,2,3,4,5,6,7,8,9})*1000+{100,90,80,70,60,50,40,30,20,10}+{0,1,2,3,4,5,6,7,8,9},COLUMN(B$21))),\"\"))","v":"4"},{"$f":"IF(OR(LEN($O135)=0),\"\",IFERROR(RIGHT(LARGE(COUNTIF(OFFSET($J135,-1,0,-1*$Q$3,5),{0,1,2,3,4,5,6,7,8,9})*1000+{100,90,80,70,60,50,40,30,20,10}+{0,1,2,3,4,5,6,7,8,9},COLUMN(C$21))),\"\"))","v":"3"},{"$f":"IF(OR(LEN($O135)=0),\"\",IFERROR(RIGHT(LARGE(COUNTIF(OFFSET($J135,-1,0,-1*$Q$3,5),{0,1,2,3,4,5,6,7,8,9})*1000+{100,90,80,70,60,50,40,30,20,10}+{0,1,2,3,4,5,6,7,8,9},COLUMN(D$21))),\"\"))","v":"5"},{"$f":"IF(OR(LEN($O135)=0),\"\",IFERROR(RIGHT(LARGE(COUNTIF(OFFSET($J135,-1,0,-1*$Q$3,5),{0,1,2,3,4,5,6,7,8,9})*1000+{100,90,80,70,60,50,40,30,20,10}+{0,1,2,3,4,5,6,7,8,9},COLUMN(E$21))),\"\"))","v":"8"},{"$f":"IF(OR(LEN($O135)=0),\"\",IFERROR(RIGHT(LARGE(COUNTIF(OFFSET($J135,-1,0,-1*$Q$3,5),{0,1,2,3,4,5,6,7,8,9})*1000+{100,90,80,70,60,50,40,30,20,10}+{0,1,2,3,4,5,6,7,8,9},COLUMN(F$21))),\"\"))","v":"6"},{"$f":"IF(OR(LEN($O135)=0),\"\",IFERROR(RIGHT(LARGE(COUNTIF(OFFSET($J135,-1,0,-1*$Q$3,5),{0,1,2,3,4,5,6,7,8,9})*1000+{100,90,80,70,60,50,40,30,20,10}+{0,1,2,3,4,5,6,7,8,9},COLUMN(G$21))),\"\"))","v":"7"},{"$f":"IF(OR(LEN($O135)=0),\"\",IFERROR(RIGHT(LARGE(COUNTIF(OFFSET($J135,-1,0,-1*$Q$3,5),{0,1,2,3,4,5,6,7,8,9})*1000+{100,90,80,70,60,50,40,30,20,10}+{0,1,2,3,4,5,6,7,8,9},COLUMN(H$21))),\"\"))","v":"0"},{"$f":"IF(OR(LEN($O135)=0),\"\",IFERROR(RIGHT(LARGE(COUNTIF(OFFSET($J135,-1,0,-1*$Q$3,5),{0,1,2,3,4,5,6,7,8,9})*1000+{100,90,80,70,60,50,40,30,20,10}+{0,1,2,3,4,5,6,7,8,9},COLUMN(I$21))),\"\"))","v":"1"},{"$f":"IF(OR(LEN($O135)=0),\"\",IFERROR(RIGHT(LARGE(COUNTIF(OFFSET($J135,-1,0,-1*$Q$3,5),{0,1,2,3,4,5,6,7,8,9})*1000+{100,90,80,70,60,50,40,30,20,10}+{0,1,2,3,4,5,6,7,8,9},COLUMN(J$21))),\"\"))","v":"9"},"2435","2","4","3","5","","","","","",""]
["20200515057","40099","4","0","0","9","9",null,null,"","","0","9","9","099",{"$f":"IF(OR(LEN($O136)=0),\"\",IFERROR(RIGHT(LARGE(COUNTIF(OFFSET($J136,-1,0,-1*$Q$3,5),{0,1,2,3,4,5,6,7,8,9})*1000+{100,90,80,70,60,50,40,30,20,10}+{0,1,2,3,4,5,6,7,8,9},COLUMN(A$21))),\"\"))","v":"2"},{"$f":"IF(OR(LEN($O136)=0),\"\",IFERROR(RIGHT(LARGE(COUNTIF(OFFSET($J136,-1,0,-1*$Q$3,5),{0,1,2,3,4,5,6,7,8,9})*1000+{100,90,80,70,60,50,40,30,20,10}+{0,1,2,3,4,5,6,7,8,9},COLUMN(B$21))),\"\"))","v":"4"},{"$f":"IF(OR(LEN($O136)=0),\"\",IFERROR(RIGHT(LARGE(COUNTIF(OFFSET($J136,-1,0,-1*$Q$3,5),{0,1,2,3,4,5,6,7,8,9})*1000+{100,90,80,70,60,50,40,30,20,10}+{0,1,2,3,4,5,6,7,8,9},COLUMN(C$21))),\"\"))","v":"5"},{"$f":"IF(OR(LEN($O136)=0),\"\",IFERROR(RIGHT(LARGE(COUNTIF(OFFSET($J136,-1,0,-1*$Q$3,5),{0,1,2,3,4,5,6,7,8,9})*1000+{100,90,80,70,60,50,40,30,20,10}+{0,1,2,3,4,5,6,7,8,9},COLUMN(D$21))),\"\"))","v":"3"},{"$f":"IF(OR(LEN($O136)=0),\"\",IFERROR(RIGHT(LARGE(COUNTIF(OFFSET($J136,-1,0,-1*$Q$3,5),{0,1,2,3,4,5,6,7,8,9})*1000+{100,90,80,70,60,50,40,30,20,10}+{0,1,2,3,4,5,6,7,8,9},COLUMN(E$21))),\"\"))","v":"8"},{"$f":"IF(OR(LEN($O136)=0),\"\",IFERROR(RIGHT(LARGE(COUNTIF(OFFSET($J136,-1,0,-1*$Q$3,5),{0,1,2,3,4,5,6,7,8,9})*1000+{100,90,80,70,60,50,40,30,20,10}+{0,1,2,3,4,5,6,7,8,9},COLUMN(F$21))),\"\"))","v":"6"},{"$f":"IF(OR(LEN($O136)=0),\"\",IFERROR(RIGHT(LARGE(COUNTIF(OFFSET($J136,-1,0,-1*$Q$3,5),{0,1,2,3,4,5,6,7,8,9})*1000+{100,90,80,70,60,50,40,30,20,10}+{0,1,2,3,4,5,6,7,8,9},COLUMN(G$21))),\"\"))","v":"0"},{"$f":"IF(OR(LEN($O136)=0),\"\",IFERROR(RIGHT(LARGE(COUNTIF(OFFSET($J136,-1,0,-1*$Q$3,5),{0,1,2,3,4,5,6,7,8,9})*1000+{100,90,80,70,60,50,40,30,20,10}+{0,1,2,3,4,5,6,7,8,9},COLUMN(H$21))),\"\"))","v":"7"},{"$f":"IF(OR(LEN($O136)=0),\"\",IFERROR(RIGHT(LARGE(COUNTIF(OFFSET($J136,-1,0,-1*$Q$3,5),{0,1,2,3,4,5,6,7,8,9})*1000+{100,90,80,70,60,50,40,30,20,10}+{0,1,2,3,4,5,6,7,8,9},COLUMN(I$21))),\"\"))","v":"1"},{"$f":"IF(OR(LEN($O136)=0),\"\",IFERROR(RIGHT(LARGE(COUNTIF(OFFSET($J136,-1,0,-1*$Q$3,5),{0,1,2,3,4,5,6,7,8,9})*1000+{100,90,80,70,60,50,40,30,20,10}+{0,1,2,3,4,5,6,7,8,9},COLUMN(J$21))),\"\"))","v":"9"},"2453","2","4","5","3","","","","","",""]
["20200515058","11462","1","1","4","6","2",null,null,"","","4","6","2","462",{"$f":"IF(OR(LEN($O137)=0),\"\",IFERROR(RIGHT(LARGE(COUNTIF(OFFSET($J137,-1,0,-1*$Q$3,5),{0,1,2,3,4,5,6,7,8,9})*1000+{100,90,80,70,60,50,40,30,20,10}+{0,1,2,3,4,5,6,7,8,9},COLUMN(A$21))),\"\"))","v":"2"},{"$f":"IF(OR(LEN($O137)=0),\"\",IFERROR(RIGHT(LARGE(COUNTIF(OFFSET($J137,-1,0,-1*$Q$3,5),{0,1,2,3,4,5,6,7,8,9})*1000+{100,90,80,70,60,50,40,30,20,10}+{0,1,2,3,4,5,6,7,8,9},COLUMN(B$21))),\"\"))","v":"4"},{"$f":"IF(OR(LEN($O137)=0),\"\",IFERROR(RIGHT(LARGE(COUNTIF(OFFSET($J137,-1,0,-1*$Q$3,5),{0,1,2,3,4,5,6,7,8,9})*1000+{100,90,80,70,60,50,40,30,20,10}+{0,1,2,3,4,5,6,7,8,9},COLUMN(C$21))),\"\"))","v":"5"},{"$f":"IF(OR(LEN($O137)=0),\"\",IFERROR(RIGHT(LARGE(COUNTIF(OFFSET($J137,-1,0,-1*$Q$3,5),{0,1,2,3,4,5,6,7,8,9})*1000+{100,90,80,70,60,50,40,30,20,10}+{0,1,2,3,4,5,6,7,8,9},COLUMN(D$21))),\"\"))","v":"8"},{"$f":"IF(OR(LEN($O137)=0),\"\",IFERROR(RIGHT(LARGE(COUNTIF(OFFSET($J137,-1,0,-1*$Q$3,5),{0,1,2,3,4,5,6,7,8,9})*1000+{100,90,80,70,60,50,40,30,20,10}+{0,1,2,3,4,5,6,7,8,9},COLUMN(E$21))),\"\"))","v":"0"},{"$f":"IF(OR(LEN($O137)=0),\"\",IFERROR(RIGHT(LARGE(COUNTIF(OFFSET($J137,-1,0,-1*$Q$3,5),{0,1,2,3,4,5,6,7,8,9})*1000+{100,90,80,70,60,50,40,30,20,10}+{0,1,2,3,4,5,6,7,8,9},COLUMN(F$21))),\"\"))","v":"3"},{"$f":"IF(OR(LEN($O137)=0),\"\",IFERROR(RIGHT(LARGE(COUNTIF(OFFSET($J137,-1,0,-1*$Q$3,5),{0,1,2,3,4,5,6,7,8,9})*1000+{100,90,80,70,60,50,40,30,20,10}+{0,1,2,3,4,5,6,7,8,9},COLUMN(G$21))),\"\"))","v":"6"},{"$f":"IF(OR(LEN($O137)=0),\"\",IFERROR(RIGHT(LARGE(COUNTIF(OFFSET($J137,-1,0,-1*$Q$3,5),{0,1,2,3,4,5,6,7,8,9})*1000+{100,90,80,70,60,50,40,30,20,10}+{0,1,2,3,4,5,6,7,8,9},COLUMN(H$21))),\"\"))","v":"7"},{"$f":"IF(OR(LEN($O137)=0),\"\",IFERROR(RIGHT(LARGE(COUNTIF(OFFSET($J137,-1,0,-1*$Q$3,5),{0,1,2,3,4,5,6,7,8,9})*1000+{100,90,80,70,60,50,40,30,20,10}+{0,1,2,3,4,5,6,7,8,9},COLUMN(I$21))),\"\"))","v":"1"},{"$f":"IF(OR(LEN($O137)=0),\"\",IFERROR(RIGHT(LARGE(COUNTIF(OFFSET($J137,-1,0,-1*$Q$3,5),{0,1,2,3,4,5,6,7,8,9})*1000+{100,90,80,70,60,50,40,30,20,10}+{0,1,2,3,4,5,6,7,8,9},COLUMN(J$21))),\"\"))","v":"9"},"2458","2","4","5","8","","","","","",""]
["20200515059","14050","1","4","0","5","0",null,null,"","","0","5","0","050",{"$f":"IF(OR(LEN($O138)=0),\"\",IFERROR(RIGHT(LARGE(COUNTIF(OFFSET($J138,-1,0,-1*$Q$3,5),{0,1,2,3,4,5,6,7,8,9})*1000+{100,90,80,70,60,50,40,30,20,10}+{0,1,2,3,4,5,6,7,8,9},COLUMN(A$21))),\"\"))","v":"2"},{"$f":"IF(OR(LEN($O138)=0),\"\",IFERROR(RIGHT(LARGE(COUNTIF(OFFSET($J138,-1,0,-1*$Q$3,5),{0,1,2,3,4,5,6,7,8,9})*1000+{100,90,80,70,60,50,40,30,20,10}+{0,1,2,3,4,5,6,7,8,9},COLUMN(B$21))),\"\"))","v":"4"},{"$f":"IF(OR(LEN($O138)=0),\"\",IFERROR(RIGHT(LARGE(COUNTIF(OFFSET($J138,-1,0,-1*$Q$3,5),{0,1,2,3,4,5,6,7,8,9})*1000+{100,90,80,70,60,50,40,30,20,10}+{0,1,2,3,4,5,6,7,8,9},COLUMN(C$21))),\"\"))","v":"5"},{"$f":"IF(OR(LEN($O138)=0),\"\",IFERROR(RIGHT(LARGE(COUNTIF(OFFSET($J138,-1,0,-1*$Q$3,5),{0,1,2,3,4,5,6,7,8,9})*1000+{100,90,80,70,60,50,40,30,20,10}+{0,1,2,3,4,5,6,7,8,9},COLUMN(D$21))),\"\"))","v":"6"},{"$f":"IF(OR(LEN($O138)=0),\"\",IFERROR(RIGHT(LARGE(COUNTIF(OFFSET($J138,-1,0,-1*$Q$3,5),{0,1,2,3,4,5,6,7,8,9})*1000+{100,90,80,70,60,50,40,30,20,10}+{0,1,2,3,4,5,6,7,8,9},COLUMN(E$21))),\"\"))","v":"8"},{"$f":"IF(OR(LEN($O138)=0),\"\",IFERROR(RIGHT(LARGE(COUNTIF(OFFSET($J138,-1,0,-1*$Q$3,5),{0,1,2,3,4,5,6,7,8,9})*1000+{100,90,80,70,60,50,40,30,20,10}+{0,1,2,3,4,5,6,7,8,9},COLUMN(F$21))),\"\"))","v":"0"},{"$f":"IF(OR(LEN($O138)=0),\"\",IFERROR(RIGHT(LARGE(COUNTIF(OFFSET($J138,-1,0,-1*$Q$3,5),{0,1,2,3,4,5,6,7,8,9})*1000+{100,90,80,70,60,50,40,30,20,10}+{0,1,2,3,4,5,6,7,8,9},COLUMN(G$21))),\"\"))","v":"3"},{"$f":"IF(OR(LEN($O138)=0),\"\",IFERROR(RIGHT(LARGE(COUNTIF(OFFSET($J138,-1,0,-1*$Q$3,5),{0,1,2,3,4,5,6,7,8,9})*1000+{100,90,80,70,60,50,40,30,20,10}+{0,1,2,3,4,5,6,7,8,9},COLUMN(H$21))),\"\"))","v":"7"},{"$f":"IF(OR(LEN($O138)=0),\"\",IFERROR(RIGHT(LARGE(COUNTIF(OFFSET($J138,-1,0,-1*$Q$3,5),{0,1,2,3,4,5,6,7,8,9})*1000+{100,90,80,70,60,50,40,30,20,10}+{0,1,2,3,4,5,6,7,8,9},COLUMN(I$21))),\"\"))","v":"1"},{"$f":"IF(OR(LEN($O138)=0),\"\",IFERROR(RIGHT(LARGE(COUNTIF(OFFSET($J138,-1,0,-1*$Q$3,5),{0,1,2,3,4,5,6,7,8,9})*1000+{100,90,80,70,60,50,40,30,20,10}+{0,1,2,3,4,5,6,7,8,9},COLUMN(J$21))),\"\"))","v":"9"},"2456","2","4","5","6","","","","","",""]
["20200515060","33080","3","3","0","8","0",null,null,"","","0","8","0","080",{"$f":"IF(OR(LEN($O139)=0),\"\",IFERROR(RIGHT(LARGE(COUNTIF(OFFSET($J139,-1,0,-1*$Q$3,5),{0,1,2,3,4,5,6,7,8,9})*1000+{100,90,80,70,60,50,40,30,20,10}+{0,1,2,3,4,5,6,7,8,9},COLUMN(A$21))),\"\"))","v":"2"},{"$f":"IF(OR(LEN($O139)=0),\"\",IFERROR(RIGHT(LARGE(COUNTIF(OFFSET($J139,-1,0,-1*$Q$3,5),{0,1,2,3,4,5,6,7,8,9})*1000+{100,90,80,70,60,50,40,30,20,10}+{0,1,2,3,4,5,6,7,8,9},COLUMN(B$21))),\"\"))","v":"4"},{"$f":"IF(OR(LEN($O139)=0),\"\",IFERROR(RIGHT(LARGE(COUNTIF(OFFSET($J139,-1,0,-1*$Q$3,5),{0,1,2,3,4,5,6,7,8,9})*1000+{100,90,80,70,60,50,40,30,20,10}+{0,1,2,3,4,5,6,7,8,9},COLUMN(C$21))),\"\"))","v":"5"},{"$f":"IF(OR(LEN($O139)=0),\"\",IFERROR(RIGHT(LARGE(COUNTIF(OFFSET($J139,-1,0,-1*$Q$3,5),{0,1,2,3,4,5,6,7,8,9})*1000+{100,90,80,70,60,50,40,30,20,10}+{0,1,2,3,4,5,6,7,8,9},COLUMN(D$21))),\"\"))","v":"0"},{"$f":"IF(OR(LEN($O139)=0),\"\",IFERROR(RIGHT(LARGE(COUNTIF(OFFSET($J139,-1,0,-1*$Q$3,5),{0,1,2,3,4,5,6,7,8,9})*1000+{100,90,80,70,60,50,40,30,20,10}+{0,1,2,3,4,5,6,7,8,9},COLUMN(E$21))),\"\"))","v":"6"},{"$f":"IF(OR(LEN($O139)=0),\"\",IFERROR(RIGHT(LARGE(COUNTIF(OFFSET($J139,-1,0,-1*$Q$3,5),{0,1,2,3,4,5,6,7,8,9})*1000+{100,90,80,70,60,50,40,30,20,10}+{0,1,2,3,4,5,6,7,8,9},COLUMN(F$21))),\"\"))","v":"8"},{"$f":"IF(OR(LEN($O139)=0),\"\",IFERROR(RIGHT(LARGE(COUNTIF(OFFSET($J139,-1,0,-1*$Q$3,5),{0,1,2,3,4,5,6,7,8,9})*1000+{100,90,80,70,60,50,40,30,20,10}+{0,1,2,3,4,5,6,7,8,9},COLUMN(G$21))),\"\"))","v":"3"},{"$f":"IF(OR(LEN($O139)=0),\"\",IFERROR(RIGHT(LARGE(COUNTIF(OFFSET($J139,-1,0,-1*$Q$3,5),{0,1,2,3,4,5,6,7,8,9})*1000+{100,90,80,70,60,50,40,30,20,10}+{0,1,2,3,4,5,6,7,8,9},COLUMN(H$21))),\"\"))","v":"7"},{"$f":"IF(OR(LEN($O139)=0),\"\",IFERROR(RIGHT(LARGE(COUNTIF(OFFSET($J139,-1,0,-1*$Q$3,5),{0,1,2,3,4,5,6,7,8,9})*1000+{100,90,80,70,60,50,40,30,20,10}+{0,1,2,3,4,5,6,7,8,9},COLUMN(I$21))),\"\"))","v":"9"},{"$f":"IF(OR(LEN($O139)=0),\"\",IFERROR(RIGHT(LARGE(COUNTIF(OFFSET($J139,-1,0,-1*$Q$3,5),{0,1,2,3,4,5,6,7,8,9})*1000+{100,90,80,70,60,50,40,30,20,10}+{0,1,2,3,4,5,6,7,8,9},COLUMN(J$21))),\"\"))","v":"1"},"2450","2","4","5","0","","","","","",""]
["20200515061","85871","8","5","8","7","1",null,null,"","","8","7","1","871",{"$f":"IF(OR(LEN($O140)=0),\"\",IFERROR(RIGHT(LARGE(COUNTIF(OFFSET($J140,-1,0,-1*$Q$3,5),{0,1,2,3,4,5,6,7,8,9})*1000+{100,90,80,70,60,50,40,30,20,10}+{0,1,2,3,4,5,6,7,8,9},COLUMN(A$21))),\"\"))","v":"2"},{"$f":"IF(OR(LEN($O140)=0),\"\",IFERROR(RIGHT(LARGE(COUNTIF(OFFSET($J140,-1,0,-1*$Q$3,5),{0,1,2,3,4,5,6,7,8,9})*1000+{100,90,80,70,60,50,40,30,20,10}+{0,1,2,3,4,5,6,7,8,9},COLUMN(B$21))),\"\"))","v":"0"},{"$f":"IF(OR(LEN($O140)=0),\"\",IFERROR(RIGHT(LARGE(COUNTIF(OFFSET($J140,-1,0,-1*$Q$3,5),{0,1,2,3,4,5,6,7,8,9})*1000+{100,90,80,70,60,50,40,30,20,10}+{0,1,2,3,4,5,6,7,8,9},COLUMN(C$21))),\"\"))","v":"5"},{"$f":"IF(OR(LEN($O140)=0),\"\",IFERROR(RIGHT(LARGE(COUNTIF(OFFSET($J140,-1,0,-1*$Q$3,5),{0,1,2,3,4,5,6,7,8,9})*1000+{100,90,80,70,60,50,40,30,20,10}+{0,1,2,3,4,5,6,7,8,9},COLUMN(D$21))),\"\"))","v":"4"},{"$f":"IF(OR(LEN($O140)=0),\"\",IFERROR(RIGHT(LARGE(COUNTIF(OFFSET($J140,-1,0,-1*$Q$3,5),{0,1,2,3,4,5,6,7,8,9})*1000+{100,90,80,70,60,50,40,30,20,10}+{0,1,2,3,4,5,6,7,8,9},COLUMN(E$21))),\"\"))","v":"6"},{"$f":"IF(OR(LEN($O140)=0),\"\",IFERROR(RIGHT(LARGE(COUNTIF(OFFSET($J140,-1,0,-1*$Q$3,5),{0,1,2,3,4,5,6,7,8,9})*1000+{100,90,80,70,60,50,40,30,20,10}+{0,1,2,3,4,5,6,7,8,9},COLUMN(F$21))),\"\"))","v":"8"},{"$f":"IF(OR(LEN($O140)=0),\"\",IFERROR(RIGHT(LARGE(COUNTIF(OFFSET($J140,-1,0,-1*$Q$3,5),{0,1,2,3,4,5,6,7,8,9})*1000+{100,90,80,70,60,50,40,30,20,10}+{0,1,2,3,4,5,6,7,8,9},COLUMN(G$21))),\"\"))","v":"3"},{"$f":"IF(OR(LEN($O140)=0),\"\",IFERROR(RIGHT(LARGE(COUNTIF(OFFSET($J140,-1,0,-1*$Q$3,5),{0,1,2,3,4,5,6,7,8,9})*1000+{100,90,80,70,60,50,40,30,20,10}+{0,1,2,3,4,5,6,7,8,9},COLUMN(H$21))),\"\"))","v":"7"},{"$f":"IF(OR(LEN($O140)=0),\"\",IFERROR(RIGHT(LARGE(COUNTIF(OFFSET($J140,-1,0,-1*$Q$3,5),{0,1,2,3,4,5,6,7,8,9})*1000+{100,90,80,70,60,50,40,30,20,10}+{0,1,2,3,4,5,6,7,8,9},COLUMN(I$21))),\"\"))","v":"9"},{"$f":"IF(OR(LEN($O140)=0),\"\",IFERROR(RIGHT(LARGE(COUNTIF(OFFSET($J140,-1,0,-1*$Q$3,5),{0,1,2,3,4,5,6,7,8,9})*1000+{100,90,80,70,60,50,40,30,20,10}+{0,1,2,3,4,5,6,7,8,9},COLUMN(J$21))),\"\"))","v":"1"},"2054","2","0","5","4","","","","","",""]
["20200515067","68770","6","8","7","7","0",null,null,"","","7","7","0","770",{"$f":"IF(OR(LEN($O141)=0),\"\",IFERROR(RIGHT(LARGE(COUNTIF(OFFSET($J141,-1,0,-1*$Q$3,5),{0,1,2,3,4,5,6,7,8,9})*1000+{100,90,80,70,60,50,40,30,20,10}+{0,1,2,3,4,5,6,7,8,9},COLUMN(A$21))),\"\"))","v":"2"},{"$f":"IF(OR(LEN($O141)=0),\"\",IFERROR(RIGHT(LARGE(COUNTIF(OFFSET($J141,-1,0,-1*$Q$3,5),{0,1,2,3,4,5,6,7,8,9})*1000+{100,90,80,70,60,50,40,30,20,10}+{0,1,2,3,4,5,6,7,8,9},COLUMN(B$21))),\"\"))","v":"0"},{"$f":"IF(OR(LEN($O141)=0),\"\",IFERROR(RIGHT(LARGE(COUNTIF(OFFSET($J141,-1,0,-1*$Q$3,5),{0,1,2,3,4,5,6,7,8,9})*1000+{100,90,80,70,60,50,40,30,20,10}+{0,1,2,3,4,5,6,7,8,9},COLUMN(C$21))),\"\"))","v":"5"},{"$f":"IF(OR(LEN($O141)=0),\"\",IFERROR(RIGHT(LARGE(COUNTIF(OFFSET($J141,-1,0,-1*$Q$3,5),{0,1,2,3,4,5,6,7,8,9})*1000+{100,90,80,70,60,50,40,30,20,10}+{0,1,2,3,4,5,6,7,8,9},COLUMN(D$21))),\"\"))","v":"4"},{"$f":"IF(OR(LEN($O141)=0),\"\",IFERROR(RIGHT(LARGE(COUNTIF(OFFSET($J141,-1,0,-1*$Q$3,5),{0,1,2,3,4,5,6,7,8,9})*1000+{100,90,80,70,60,50,40,30,20,10}+{0,1,2,3,4,5,6,7,8,9},COLUMN(E$21))),\"\"))","v":"6"},{"$f":"IF(OR(LEN($O141)=0),\"\",IFERROR(RIGHT(LARGE(COUNTIF(OFFSET($J141,-1,0,-1*$Q$3,5),{0,1,2,3,4,5,6,7,8,9})*1000+{100,90,80,70,60,50,40,30,20,10}+{0,1,2,3,4,5,6,7,8,9},COLUMN(F$21))),\"\"))","v":"8"},{"$f":"IF(OR(LEN($O141)=0),\"\",IFERROR(RIGHT(LARGE(COUNTIF(OFFSET($J141,-1,0,-1*$Q$3,5),{0,1,2,3,4,5,6,7,8,9})*1000+{100,90,80,70,60,50,40,30,20,10}+{0,1,2,3,4,5,6,7,8,9},COLUMN(G$21))),\"\"))","v":"3"},{"$f":"IF(OR(LEN($O141)=0),\"\",IFERROR(RIGHT(LARGE(COUNTIF(OFFSET($J141,-1,0,-1*$Q$3,5),{0,1,2,3,4,5,6,7,8,9})*1000+{100,90,80,70,60,50,40,30,20,10}+{0,1,2,3,4,5,6,7,8,9},COLUMN(H$21))),\"\"))","v":"7"},{"$f":"IF(OR(LEN($O141)=0),\"\",IFERROR(RIGHT(LARGE(COUNTIF(OFFSET($J141,-1,0,-1*$Q$3,5),{0,1,2,3,4,5,6,7,8,9})*1000+{100,90,80,70,60,50,40,30,20,10}+{0,1,2,3,4,5,6,7,8,9},COLUMN(I$21))),\"\"))","v":"1"},{"$f":"IF(OR(LEN($O141)=0),\"\",IFERROR(RIGHT(LARGE(COUNTIF(OFFSET($J141,-1,0,-1*$Q$3,5),{0,1,2,3,4,5,6,7,8,9})*1000+{100,90,80,70,60,50,40,30,20,10}+{0,1,2,3,4,5,6,7,8,9},COLUMN(J$21))),\"\"))","v":"9"},"2054","2","0","5","4","","","","","",""]
["20200515068","74520","7","4","5","2","0",null,null,"","","5","2","0","520",{"$f":"IF(OR(LEN($O142)=0),\"\",IFERROR(RIGHT(LARGE(COUNTIF(OFFSET($J142,-1,0,-1*$Q$3,5),{0,1,2,3,4,5,6,7,8,9})*1000+{100,90,80,70,60,50,40,30,20,10}+{0,1,2,3,4,5,6,7,8,9},COLUMN(A$21))),\"\"))","v":"2"},{"$f":"IF(OR(LEN($O142)=0),\"\",IFERROR(RIGHT(LARGE(COUNTIF(OFFSET($J142,-1,0,-1*$Q$3,5),{0,1,2,3,4,5,6,7,8,9})*1000+{100,90,80,70,60,50,40,30,20,10}+{0,1,2,3,4,5,6,7,8,9},COLUMN(B$21))),\"\"))","v":"0"},{"$f":"IF(OR(LEN($O142)=0),\"\",IFERROR(RIGHT(LARGE(COUNTIF(OFFSET($J142,-1,0,-1*$Q$3,5),{0,1,2,3,4,5,6,7,8,9})*1000+{100,90,80,70,60,50,40,30,20,10}+{0,1,2,3,4,5,6,7,8,9},COLUMN(C$21))),\"\"))","v":"4"},{"$f":"IF(OR(LEN($O142)=0),\"\",IFERROR(RIGHT(LARGE(COUNTIF(OFFSET($J142,-1,0,-1*$Q$3,5),{0,1,2,3,4,5,6,7,8,9})*1000+{100,90,80,70,60,50,40,30,20,10}+{0,1,2,3,4,5,6,7,8,9},COLUMN(D$21))),\"\"))","v":"5"},{"$f":"IF(OR(LEN($O142)=0),\"\",IFERROR(RIGHT(LARGE(COUNTIF(OFFSET($J142,-1,0,-1*$Q$3,5),{0,1,2,3,4,5,6,7,8,9})*1000+{100,90,80,70,60,50,40,30,20,10}+{0,1,2,3,4,5,6,7,8,9},COLUMN(E$21))),\"\"))","v":"6"},{"$f":"IF(OR(LEN($O142)=0),\"\",IFERROR(RIGHT(LARGE(COUNTIF(OFFSET($J142,-1,0,-1*$Q$3,5),{0,1,2,3,4,5,6,7,8,9})*1000+{100,90,80,70,60,50,40,30,20,10}+{0,1,2,3,4,5,6,7,8,9},COLUMN(F$21))),\"\"))","v":"7"},{"$f":"IF(OR(LEN($O142)=0),\"\",IFERROR(RIGHT(LARGE(COUNTIF(OFFSET($J142,-1,0,-1*$Q$3,5),{0,1,2,3,4,5,6,7,8,9})*1000+{100,90,80,70,60,50,40,30,20,10}+{0,1,2,3,4,5,6,7,8,9},COLUMN(G$21))),\"\"))","v":"3"},{"$f":"IF(OR(LEN($O142)=0),\"\",IFERROR(RIGHT(LARGE(COUNTIF(OFFSET($J142,-1,0,-1*$Q$3,5),{0,1,2,3,4,5,6,7,8,9})*1000+{100,90,80,70,60,50,40,30,20,10}+{0,1,2,3,4,5,6,7,8,9},COLUMN(H$21))),\"\"))","v":"8"},{"$f":"IF(OR(LEN($O142)=0),\"\",IFERROR(RIGHT(LARGE(COUNTIF(OFFSET($J142,-1,0,-1*$Q$3,5),{0,1,2,3,4,5,6,7,8,9})*1000+{100,90,80,70,60,50,40,30,20,10}+{0,1,2,3,4,5,6,7,8,9},COLUMN(I$21))),\"\"))","v":"1"},{"$f":"IF(OR(LEN($O142)=0),\"\",IFERROR(RIGHT(LARGE(COUNTIF(OFFSET($J142,-1,0,-1*$Q$3,5),{0,1,2,3,4,5,6,7,8,9})*1000+{100,90,80,70,60,50,40,30,20,10}+{0,1,2,3,4,5,6,7,8,9},COLUMN(J$21))),\"\"))","v":"9"},"2045","2","0","4","5","","","","","",""]
["20200515069","80349","8","0","3","4","9",null,null,"","","3","4","9","349",{"$f":"IF(OR(LEN($O143)=0),\"\",IFERROR(RIGHT(LARGE(COUNTIF(OFFSET($J143,-1,0,-1*$Q$3,5),{0,1,2,3,4,5,6,7,8,9})*1000+{100,90,80,70,60,50,40,30,20,10}+{0,1,2,3,4,5,6,7,8,9},COLUMN(A$21))),\"\"))","v":"0"},{"$f":"IF(OR(LEN($O143)=0),\"\",IFERROR(RIGHT(LARGE(COUNTIF(OFFSET($J143,-1,0,-1*$Q$3,5),{0,1,2,3,4,5,6,7,8,9})*1000+{100,90,80,70,60,50,40,30,20,10}+{0,1,2,3,4,5,6,7,8,9},COLUMN(B$21))),\"\"))","v":"2"},{"$f":"IF(OR(LEN($O143)=0),\"\",IFERROR(RIGHT(LARGE(COUNTIF(OFFSET($J143,-1,0,-1*$Q$3,5),{0,1,2,3,4,5,6,7,8,9})*1000+{100,90,80,70,60,50,40,30,20,10}+{0,1,2,3,4,5,6,7,8,9},COLUMN(C$21))),\"\"))","v":"5"},{"$f":"IF(OR(LEN($O143)=0),\"\",IFERROR(RIGHT(LARGE(COUNTIF(OFFSET($J143,-1,0,-1*$Q$3,5),{0,1,2,3,4,5,6,7,8,9})*1000+{100,90,80,70,60,50,40,30,20,10}+{0,1,2,3,4,5,6,7,8,9},COLUMN(D$21))),\"\"))","v":"4"},{"$f":"IF(OR(LEN($O143)=0),\"\",IFERROR(RIGHT(LARGE(COUNTIF(OFFSET($J143,-1,0,-1*$Q$3,5),{0,1,2,3,4,5,6,7,8,9})*1000+{100,90,80,70,60,50,40,30,20,10}+{0,1,2,3,4,5,6,7,8,9},COLUMN(E$21))),\"\"))","v":"6"},{"$f":"IF(OR(LEN($O143)=0),\"\",IFERROR(RIGHT(LARGE(COUNTIF(OFFSET($J143,-1,0,-1*$Q$3,5),{0,1,2,3,4,5,6,7,8,9})*1000+{100,90,80,70,60,50,40,30,20,10}+{0,1,2,3,4,5,6,7,8,9},COLUMN(F$21))),\"\"))","v":"7"},{"$f":"IF(OR(LEN($O143)=0),\"\",IFERROR(RIGHT(LARGE(COUNTIF(OFFSET($J143,-1,0,-1*$Q$3,5),{0,1,2,3,4,5,6,7,8,9})*1000+{100,90,80,70,60,50,40,30,20,10}+{0,1,2,3,4,5,6,7,8,9},COLUMN(G$21))),\"\"))","v":"3"},{"$f":"IF(OR(LEN($O143)=0),\"\",IFERROR(RIGHT(LARGE(COUNTIF(OFFSET($J143,-1,0,-1*$Q$3,5),{0,1,2,3,4,5,6,7,8,9})*1000+{100,90,80,70,60,50,40,30,20,10}+{0,1,2,3,4,5,6,7,8,9},COLUMN(H$21))),\"\"))","v":"8"},{"$f":"IF(OR(LEN($O143)=0),\"\",IFERROR(RIGHT(LARGE(COUNTIF(OFFSET($J143,-1,0,-1*$Q$3,5),{0,1,2,3,4,5,6,7,8,9})*1000+{100,90,80,70,60,50,40,30,20,10}+{0,1,2,3,4,5,6,7,8,9},COLUMN(I$21))),\"\"))","v":"1"},{"$f":"IF(OR(LEN($O143)=0),\"\",IFERROR(RIGHT(LARGE(COUNTIF(OFFSET($J143,-1,0,-1*$Q$3,5),{0,1,2,3,4,5,6,7,8,9})*1000+{100,90,80,70,60,50,40,30,20,10}+{0,1,2,3,4,5,6,7,8,9},COLUMN(J$21))),\"\"))","v":"9"},"0254","0","2","5","4","","","","","",""]
["20200515070","32413","3","2","4","1","3",null,null,"","","4","1","3","413",{"$f":"IF(OR(LEN($O144)=0),\"\",IFERROR(RIGHT(LARGE(COUNTIF(OFFSET($J144,-1,0,-1*$Q$3,5),{0,1,2,3,4,5,6,7,8,9})*1000+{100,90,80,70,60,50,40,30,20,10}+{0,1,2,3,4,5,6,7,8,9},COLUMN(A$21))),\"\"))","v":"0"},{"$f":"IF(OR(LEN($O144)=0),\"\",IFERROR(RIGHT(LARGE(COUNTIF(OFFSET($J144,-1,0,-1*$Q$3,5),{0,1,2,3,4,5,6,7,8,9})*1000+{100,90,80,70,60,50,40,30,20,10}+{0,1,2,3,4,5,6,7,8,9},COLUMN(B$21))),\"\"))","v":"2"},{"$f":"IF(OR(LEN($O144)=0),\"\",IFERROR(RIGHT(LARGE(COUNTIF(OFFSET($J144,-1,0,-1*$Q$3,5),{0,1,2,3,4,5,6,7,8,9})*1000+{100,90,80,70,60,50,40,30,20,10}+{0,1,2,3,4,5,6,7,8,9},COLUMN(C$21))),\"\"))","v":"5"},{"$f":"IF(OR(LEN($O144)=0),\"\",IFERROR(RIGHT(LARGE(COUNTIF(OFFSET($J144,-1,0,-1*$Q$3,5),{0,1,2,3,4,5,6,7,8,9})*1000+{100,90,80,70,60,50,40,30,20,10}+{0,1,2,3,4,5,6,7,8,9},COLUMN(D$21))),\"\"))","v":"4"},{"$f":"IF(OR(LEN($O144)=0),\"\",IFERROR(RIGHT(LARGE(COUNTIF(OFFSET($J144,-1,0,-1*$Q$3,5),{0,1,2,3,4,5,6,7,8,9})*1000+{100,90,80,70,60,50,40,30,20,10}+{0,1,2,3,4,5,6,7,8,9},COLUMN(E$21))),\"\"))","v":"3"},{"$f":"IF(OR(LEN($O144)=0),\"\",IFERROR(RIGHT(LARGE(COUNTIF(OFFSET($J144,-1,0,-1*$Q$3,5),{0,1,2,3,4,5,6,7,8,9})*1000+{100,90,80,70,60,50,40,30,20,10}+{0,1,2,3,4,5,6,7,8,9},COLUMN(F$21))),\"\"))","v":"7"},{"$f":"IF(OR(LEN($O144)=0),\"\",IFERROR(RIGHT(LARGE(COUNTIF(OFFSET($J144,-1,0,-1*$Q$3,5),{0,1,2,3,4,5,6,7,8,9})*1000+{100,90,80,70,60,50,40,30,20,10}+{0,1,2,3,4,5,6,7,8,9},COLUMN(G$21))),\"\"))","v":"6"},{"$f":"IF(OR(LEN($O144)=0),\"\",IFERROR(RIGHT(LARGE(COUNTIF(OFFSET($J144,-1,0,-1*$Q$3,5),{0,1,2,3,4,5,6,7,8,9})*1000+{100,90,80,70,60,50,40,30,20,10}+{0,1,2,3,4,5,6,7,8,9},COLUMN(H$21))),\"\"))","v":"8"},{"$f":"IF(OR(LEN($O144)=0),\"\",IFERROR(RIGHT(LARGE(COUNTIF(OFFSET($J144,-1,0,-1*$Q$3,5),{0,1,2,3,4,5,6,7,8,9})*1000+{100,90,80,70,60,50,40,30,20,10}+{0,1,2,3,4,5,6,7,8,9},COLUMN(I$21))),\"\"))","v":"9"},{"$f":"IF(OR(LEN($O144)=0),\"\",IFERROR(RIGHT(LARGE(COUNTIF(OFFSET($J144,-1,0,-1*$Q$3,5),{0,1,2,3,4,5,6,7,8,9})*1000+{100,90,80,70,60,50,40,30,20,10}+{0,1,2,3,4,5,6,7,8,9},COLUMN(J$21))),\"\"))","v":"1"},"0254","0","2","5","4","","","","","",""]
["20200515071","90306","9","0","3","0","6",null,null,"","","3","0","6","306",{"$f":"IF(OR(LEN($O145)=0),\"\",IFERROR(RIGHT(LARGE(COUNTIF(OFFSET($J145,-1,0,-1*$Q$3,5),{0,1,2,3,4,5,6,7,8,9})*1000+{100,90,80,70,60,50,40,30,20,10}+{0,1,2,3,4,5,6,7,8,9},COLUMN(A$21))),\"\"))","v":"0"},{"$f":"IF(OR(LEN($O145)=0),\"\",IFERROR(RIGHT(LARGE(COUNTIF(OFFSET($J145,-1,0,-1*$Q$3,5),{0,1,2,3,4,5,6,7,8,9})*1000+{100,90,80,70,60,50,40,30,20,10}+{0,1,2,3,4,5,6,7,8,9},COLUMN(B$21))),\"\"))","v":"2"},{"$f":"IF(OR(LEN($O145)=0),\"\",IFERROR(RIGHT(LARGE(COUNTIF(OFFSET($J145,-1,0,-1*$Q$3,5),{0,1,2,3,4,5,6,7,8,9})*1000+{100,90,80,70,60,50,40,30,20,10}+{0,1,2,3,4,5,6,7,8,9},COLUMN(C$21))),\"\"))","v":"4"},{"$f":"IF(OR(LEN($O145)=0),\"\",IFERROR(RIGHT(LARGE(COUNTIF(OFFSET($J145,-1,0,-1*$Q$3,5),{0,1,2,3,4,5,6,7,8,9})*1000+{100,90,80,70,60,50,40,30,20,10}+{0,1,2,3,4,5,6,7,8,9},COLUMN(D$21))),\"\"))","v":"5"},{"$f":"IF(OR(LEN($O145)=0),\"\",IFERROR(RIGHT(LARGE(COUNTIF(OFFSET($J145,-1,0,-1*$Q$3,5),{0,1,2,3,4,5,6,7,8,9})*1000+{100,90,80,70,60,50,40,30,20,10}+{0,1,2,3,4,5,6,7,8,9},COLUMN(E$21))),\"\"))","v":"3"},{"$f":"IF(OR(LEN($O145)=0),\"\",IFERROR(RIGHT(LARGE(COUNTIF(OFFSET($J145,-1,0,-1*$Q$3,5),{0,1,2,3,4,5,6,7,8,9})*1000+{100,90,80,70,60,50,40,30,20,10}+{0,1,2,3,4,5,6,7,8,9},COLUMN(F$21))),\"\"))","v":"7"},{"$f":"IF(OR(LEN($O145)=0),\"\",IFERROR(RIGHT(LARGE(COUNTIF(OFFSET($J145,-1,0,-1*$Q$3,5),{0,1,2,3,4,5,6,7,8,9})*1000+{100,90,80,70,60,50,40,30,20,10}+{0,1,2,3,4,5,6,7,8,9},COLUMN(G$21))),\"\"))","v":"6"},{"$f":"IF(OR(LEN($O145)=0),\"\",IFERROR(RIGHT(LARGE(COUNTIF(OFFSET($J145,-1,0,-1*$Q$3,5),{0,1,2,3,4,5,6,7,8,9})*1000+{100,90,80,70,60,50,40,30,20,10}+{0,1,2,3,4,5,6,7,8,9},COLUMN(H$21))),\"\"))","v":"8"},{"$f":"IF(OR(LEN($O145)=0),\"\",IFERROR(RIGHT(LARGE(COUNTIF(OFFSET($J145,-1,0,-1*$Q$3,5),{0,1,2,3,4,5,6,7,8,9})*1000+{100,90,80,70,60,50,40,30,20,10}+{0,1,2,3,4,5,6,7,8,9},COLUMN(I$21))),\"\"))","v":"1"},{"$f":"IF(OR(LEN($O145)=0),\"\",IFERROR(RIGHT(LARGE(COUNTIF(OFFSET($J145,-1,0,-1*$Q$3,5),{0,1,2,3,4,5,6,7,8,9})*1000+{100,90,80,70,60,50,40,30,20,10}+{0,1,2,3,4,5,6,7,8,9},COLUMN(J$21))),\"\"))","v":"9"},"0245","0","2","4","5","","","","","",""]
["20200515072","07681","0","7","6","8","1",null,null,"","","6","8","1","681",{"$f":"IF(OR(LEN($O146)=0),\"\",IFERROR(RIGHT(LARGE(COUNTIF(OFFSET($J146,-1,0,-1*$Q$3,5),{0,1,2,3,4,5,6,7,8,9})*1000+{100,90,80,70,60,50,40,30,20,10}+{0,1,2,3,4,5,6,7,8,9},COLUMN(A$21))),\"\"))","v":"0"},{"$f":"IF(OR(LEN($O146)=0),\"\",IFERROR(RIGHT(LARGE(COUNTIF(OFFSET($J146,-1,0,-1*$Q$3,5),{0,1,2,3,4,5,6,7,8,9})*1000+{100,90,80,70,60,50,40,30,20,10}+{0,1,2,3,4,5,6,7,8,9},COLUMN(B$21))),\"\"))","v":"2"},{"$f":"IF(OR(LEN($O146)=0),\"\",IFERROR(RIGHT(LARGE(COUNTIF(OFFSET($J146,-1,0,-1*$Q$3,5),{0,1,2,3,4,5,6,7,8,9})*1000+{100,90,80,70,60,50,40,30,20,10}+{0,1,2,3,4,5,6,7,8,9},COLUMN(C$21))),\"\"))","v":"3"},{"$f":"IF(OR(LEN($O146)=0),\"\",IFERROR(RIGHT(LARGE(COUNTIF(OFFSET($J146,-1,0,-1*$Q$3,5),{0,1,2,3,4,5,6,7,8,9})*1000+{100,90,80,70,60,50,40,30,20,10}+{0,1,2,3,4,5,6,7,8,9},COLUMN(D$21))),\"\"))","v":"4"},{"$f":"IF(OR(LEN($O146)=0),\"\",IFERROR(RIGHT(LARGE(COUNTIF(OFFSET($J146,-1,0,-1*$Q$3,5),{0,1,2,3,4,5,6,7,8,9})*1000+{100,90,80,70,60,50,40,30,20,10}+{0,1,2,3,4,5,6,7,8,9},COLUMN(E$21))),\"\"))","v":"5"},{"$f":"IF(OR(LEN($O146)=0),\"\",IFERROR(RIGHT(LARGE(COUNTIF(OFFSET($J146,-1,0,-1*$Q$3,5),{0,1,2,3,4,5,6,7,8,9})*1000+{100,90,80,70,60,50,40,30,20,10}+{0,1,2,3,4,5,6,7,8,9},COLUMN(F$21))),\"\"))","v":"6"},{"$f":"IF(OR(LEN($O146)=0),\"\",IFERROR(RIGHT(LARGE(COUNTIF(OFFSET($J146,-1,0,-1*$Q$3,5),{0,1,2,3,4,5,6,7,8,9})*1000+{100,90,80,70,60,50,40,30,20,10}+{0,1,2,3,4,5,6,7,8,9},COLUMN(G$21))),\"\"))","v":"7"},{"$f":"IF(OR(LEN($O146)=0),\"\",IFERROR(RIGHT(LARGE(COUNTIF(OFFSET($J146,-1,0,-1*$Q$3,5),{0,1,2,3,4,5,6,7,8,9})*1000+{100,90,80,70,60,50,40,30,20,10}+{0,1,2,3,4,5,6,7,8,9},COLUMN(H$21))),\"\"))","v":"8"},{"$f":"IF(OR(LEN($O146)=0),\"\",IFERROR(RIGHT(LARGE(COUNTIF(OFFSET($J146,-1,0,-1*$Q$3,5),{0,1,2,3,4,5,6,7,8,9})*1000+{100,90,80,70,60,50,40,30,20,10}+{0,1,2,3,4,5,6,7,8,9},COLUMN(I$21))),\"\"))","v":"1"},{"$f":"IF(OR(LEN($O146)=0),\"\",IFERROR(RIGHT(LARGE(COUNTIF(OFFSET($J146,-1,0,-1*$Q$3,5),{0,1,2,3,4,5,6,7,8,9})*1000+{100,90,80,70,60,50,40,30,20,10}+{0,1,2,3,4,5,6,7,8,9},COLUMN(J$21))),\"\"))","v":"9"},"0234","0","2","3","4","","","","","",""]
["20200515073","44276","4","4","2","7","6",null,null,"","","2","7","6","276",{"$f":"IF(OR(LEN($O147)=0),\"\",IFERROR(RIGHT(LARGE(COUNTIF(OFFSET($J147,-1,0,-1*$Q$3,5),{0,1,2,3,4,5,6,7,8,9})*1000+{100,90,80,70,60,50,40,30,20,10}+{0,1,2,3,4,5,6,7,8,9},COLUMN(A$21))),\"\"))","v":"0"},{"$f":"IF(OR(LEN($O147)=0),\"\",IFERROR(RIGHT(LARGE(COUNTIF(OFFSET($J147,-1,0,-1*$Q$3,5),{0,1,2,3,4,5,6,7,8,9})*1000+{100,90,80,70,60,50,40,30,20,10}+{0,1,2,3,4,5,6,7,8,9},COLUMN(B$21))),\"\"))","v":"2"},{"$f":"IF(OR(LEN($O147)=0),\"\",IFERROR(RIGHT(LARGE(COUNTIF(OFFSET($J147,-1,0,-1*$Q$3,5),{0,1,2,3,4,5,6,7,8,9})*1000+{100,90,80,70,60,50,40,30,20,10}+{0,1,2,3,4,5,6,7,8,9},COLUMN(C$21))),\"\"))","v":"4"},{"$f":"IF(OR(LEN($O147)=0),\"\",IFERROR(RIGHT(LARGE(COUNTIF(OFFSET($J147,-1,0,-1*$Q$3,5),{0,1,2,3,4,5,6,7,8,9})*1000+{100,90,80,70,60,50,40,30,20,10}+{0,1,2,3,4,5,6,7,8,9},COLUMN(D$21))),\"\"))","v":"3"},{"$f":"IF(OR(LEN($O147)=0),\"\",IFERROR(RIGHT(LARGE(COUNTIF(OFFSET($J147,-1,0,-1*$Q$3,5),{0,1,2,3,4,5,6,7,8,9})*1000+{100,90,80,70,60,50,40,30,20,10}+{0,1,2,3,4,5,6,7,8,9},COLUMN(E$21))),\"\"))","v":"5"},{"$f":"IF(OR(LEN($O147)=0),\"\",IFERROR(RIGHT(LARGE(COUNTIF(OFFSET($J147,-1,0,-1*$Q$3,5),{0,1,2,3,4,5,6,7,8,9})*1000+{100,90,80,70,60,50,40,30,20,10}+{0,1,2,3,4,5,6,7,8,9},COLUMN(F$21))),\"\"))","v":"6"},{"$f":"IF(OR(LEN($O147)=0),\"\",IFERROR(RIGHT(LARGE(COUNTIF(OFFSET($J147,-1,0,-1*$Q$3,5),{0,1,2,3,4,5,6,7,8,9})*1000+{100,90,80,70,60,50,40,30,20,10}+{0,1,2,3,4,5,6,7,8,9},COLUMN(G$21))),\"\"))","v":"8"},{"$f":"IF(OR(LEN($O147)=0),\"\",IFERROR(RIGHT(LARGE(COUNTIF(OFFSET($J147,-1,0,-1*$Q$3,5),{0,1,2,3,4,5,6,7,8,9})*1000+{100,90,80,70,60,50,40,30,20,10}+{0,1,2,3,4,5,6,7,8,9},COLUMN(H$21))),\"\"))","v":"7"},{"$f":"IF(OR(LEN($O147)=0),\"\",IFERROR(RIGHT(LARGE(COUNTIF(OFFSET($J147,-1,0,-1*$Q$3,5),{0,1,2,3,4,5,6,7,8,9})*1000+{100,90,80,70,60,50,40,30,20,10}+{0,1,2,3,4,5,6,7,8,9},COLUMN(I$21))),\"\"))","v":"1"},{"$f":"IF(OR(LEN($O147)=0),\"\",IFERROR(RIGHT(LARGE(COUNTIF(OFFSET($J147,-1,0,-1*$Q$3,5),{0,1,2,3,4,5,6,7,8,9})*1000+{100,90,80,70,60,50,40,30,20,10}+{0,1,2,3,4,5,6,7,8,9},COLUMN(J$21))),\"\"))","v":"9"},"0243","0","2","4","3","","","","","",""]
["20200515074","35522","3","5","5","2","2",null,null,"","","5","2","2","522",{"$f":"IF(OR(LEN($O148)=0),\"\",IFERROR(RIGHT(LARGE(COUNTIF(OFFSET($J148,-1,0,-1*$Q$3,5),{0,1,2,3,4,5,6,7,8,9})*1000+{100,90,80,70,60,50,40,30,20,10}+{0,1,2,3,4,5,6,7,8,9},COLUMN(A$21))),\"\"))","v":"0"},{"$f":"IF(OR(LEN($O148)=0),\"\",IFERROR(RIGHT(LARGE(COUNTIF(OFFSET($J148,-1,0,-1*$Q$3,5),{0,1,2,3,4,5,6,7,8,9})*1000+{100,90,80,70,60,50,40,30,20,10}+{0,1,2,3,4,5,6,7,8,9},COLUMN(B$21))),\"\"))","v":"2"},{"$f":"IF(OR(LEN($O148)=0),\"\",IFERROR(RIGHT(LARGE(COUNTIF(OFFSET($J148,-1,0,-1*$Q$3,5),{0,1,2,3,4,5,6,7,8,9})*1000+{100,90,80,70,60,50,40,30,20,10}+{0,1,2,3,4,5,6,7,8,9},COLUMN(C$21))),\"\"))","v":"4"},{"$f":"IF(OR(LEN($O148)=0),\"\",IFERROR(RIGHT(LARGE(COUNTIF(OFFSET($J148,-1,0,-1*$Q$3,5),{0,1,2,3,4,5,6,7,8,9})*1000+{100,90,80,70,60,50,40,30,20,10}+{0,1,2,3,4,5,6,7,8,9},COLUMN(D$21))),\"\"))","v":"3"},{"$f":"IF(OR(LEN($O148)=0),\"\",IFERROR(RIGHT(LARGE(COUNTIF(OFFSET($J148,-1,0,-1*$Q$3,5),{0,1,2,3,4,5,6,7,8,9})*1000+{100,90,80,70,60,50,40,30,20,10}+{0,1,2,3,4,5,6,7,8,9},COLUMN(E$21))),\"\"))","v":"5"},{"$f":"IF(OR(LEN($O148)=0),\"\",IFERROR(RIGHT(LARGE(COUNTIF(OFFSET($J148,-1,0,-1*$Q$3,5),{0,1,2,3,4,5,6,7,8,9})*1000+{100,90,80,70,60,50,40,30,20,10}+{0,1,2,3,4,5,6,7,8,9},COLUMN(F$21))),\"\"))","v":"6"},{"$f":"IF(OR(LEN($O148)=0),\"\",IFERROR(RIGHT(LARGE(COUNTIF(OFFSET($J148,-1,0,-1*$Q$3,5),{0,1,2,3,4,5,6,7,8,9})*1000+{100,90,80,70,60,50,40,30,20,10}+{0,1,2,3,4,5,6,7,8,9},COLUMN(G$21))),\"\"))","v":"7"},{"$f":"IF(OR(LEN($O148)=0),\"\",IFERROR(RIGHT(LARGE(COUNTIF(OFFSET($J148,-1,0,-1*$Q$3,5),{0,1,2,3,4,5,6,7,8,9})*1000+{100,90,80,70,60,50,40,30,20,10}+{0,1,2,3,4,5,6,7,8,9},COLUMN(H$21))),\"\"))","v":"8"},{"$f":"IF(OR(LEN($O148)=0),\"\",IFERROR(RIGHT(LARGE(COUNTIF(OFFSET($J148,-1,0,-1*$Q$3,5),{0,1,2,3,4,5,6,7,8,9})*1000+{100,90,80,70,60,50,40,30,20,10}+{0,1,2,3,4,5,6,7,8,9},COLUMN(I$21))),\"\"))","v":"1"},{"$f":"IF(OR(LEN($O148)=0),\"\",IFERROR(RIGHT(LARGE(COUNTIF(OFFSET($J148,-1,0,-1*$Q$3,5),{0,1,2,3,4,5,6,7,8,9})*1000+{100,90,80,70,60,50,40,30,20,10}+{0,1,2,3,4,5,6,7,8,9},COLUMN(J$21))),\"\"))","v":"9"},"0243","0","2","4","3","","","","","",""]
["20200515075","94366","9","4","3","6","6",null,null,"","","3","6","6","366",{"$f":"IF(OR(LEN($O149)=0),\"\",IFERROR(RIGHT(LARGE(COUNTIF(OFFSET($J149,-1,0,-1*$Q$3,5),{0,1,2,3,4,5,6,7,8,9})*1000+{100,90,80,70,60,50,40,30,20,10}+{0,1,2,3,4,5,6,7,8,9},COLUMN(A$21))),\"\"))","v":"0"},{"$f":"IF(OR(LEN($O149)=0),\"\",IFERROR(RIGHT(LARGE(COUNTIF(OFFSET($J149,-1,0,-1*$Q$3,5),{0,1,2,3,4,5,6,7,8,9})*1000+{100,90,80,70,60,50,40,30,20,10}+{0,1,2,3,4,5,6,7,8,9},COLUMN(B$21))),\"\"))","v":"2"},{"$f":"IF(OR(LEN($O149)=0),\"\",IFERROR(RIGHT(LARGE(COUNTIF(OFFSET($J149,-1,0,-1*$Q$3,5),{0,1,2,3,4,5,6,7,8,9})*1000+{100,90,80,70,60,50,40,30,20,10}+{0,1,2,3,4,5,6,7,8,9},COLUMN(C$21))),\"\"))","v":"4"},{"$f":"IF(OR(LEN($O149)=0),\"\",IFERROR(RIGHT(LARGE(COUNTIF(OFFSET($J149,-1,0,-1*$Q$3,5),{0,1,2,3,4,5,6,7,8,9})*1000+{100,90,80,70,60,50,40,30,20,10}+{0,1,2,3,4,5,6,7,8,9},COLUMN(D$21))),\"\"))","v":"5"},{"$f":"IF(OR(LEN($O149)=0),\"\",IFERROR(RIGHT(LARGE(COUNTIF(OFFSET($J149,-1,0,-1*$Q$3,5),{0,1,2,3,4,5,6,7,8,9})*1000+{100,90,80,70,60,50,40,30,20,10}+{0,1,2,3,4,5,6,7,8,9},COLUMN(E$21))),\"\"))","v":"3"},{"$f":"IF(OR(LEN($O149)=0),\"\",IFERROR(RIGHT(LARGE(COUNTIF(OFFSET($J149,-1,0,-1*$Q$3,5),{0,1,2,3,4,5,6,7,8,9})*1000+{100,90,80,70,60,50,40,30,20,10}+{0,1,2,3,4,5,6,7,8,9},COLUMN(F$21))),\"\"))","v":"6"},{"$f":"IF(OR(LEN($O149)=0),\"\",IFERROR(RIGHT(LARGE(COUNTIF(OFFSET($J149,-1,0,-1*$Q$3,5),{0,1,2,3,4,5,6,7,8,9})*1000+{100,90,80,70,60,50,40,30,20,10}+{0,1,2,3,4,5,6,7,8,9},COLUMN(G$21))),\"\"))","v":"7"},{"$f":"IF(OR(LEN($O149)=0),\"\",IFERROR(RIGHT(LARGE(COUNTIF(OFFSET($J149,-1,0,-1*$Q$3,5),{0,1,2,3,4,5,6,7,8,9})*1000+{100,90,80,70,60,50,40,30,20,10}+{0,1,2,3,4,5,6,7,8,9},COLUMN(H$21))),\"\"))","v":"8"},{"$f":"IF(OR(LEN($O149)=0),\"\",IFERROR(RIGHT(LARGE(COUNTIF(OFFSET($J149,-1,0,-1*$Q$3,5),{0,1,2,3,4,5,6,7,8,9})*1000+{100,90,80,70,60,50,40,30,20,10}+{0,1,2,3,4,5,6,7,8,9},COLUMN(I$21))),\"\"))","v":"1"},{"$f":"IF(OR(LEN($O149)=0),\"\",IFERROR(RIGHT(LARGE(COUNTIF(OFFSET($J149,-1,0,-1*$Q$3,5),{0,1,2,3,4,5,6,7,8,9})*1000+{100,90,80,70,60,50,40,30,20,10}+{0,1,2,3,4,5,6,7,8,9},COLUMN(J$21))),\"\"))","v":"9"},"0245","0","2","4","5","","","","","",""]
["20200515076","16916","1","6","9","1","6",null,null,"","","9","1","6","916",{"$f":"IF(OR(LEN($O150)=0),\"\",IFERROR(RIGHT(LARGE(COUNTIF(OFFSET($J150,-1,0,-1*$Q$3,5),{0,1,2,3,4,5,6,7,8,9})*1000+{100,90,80,70,60,50,40,30,20,10}+{0,1,2,3,4,5,6,7,8,9},COLUMN(A$21))),\"\"))","v":"0"},{"$f":"IF(OR(LEN($O150)=0),\"\",IFERROR(RIGHT(LARGE(COUNTIF(OFFSET($J150,-1,0,-1*$Q$3,5),{0,1,2,3,4,5,6,7,8,9})*1000+{100,90,80,70,60,50,40,30,20,10}+{0,1,2,3,4,5,6,7,8,9},COLUMN(B$21))),\"\"))","v":"2"},{"$f":"IF(OR(LEN($O150)=0),\"\",IFERROR(RIGHT(LARGE(COUNTIF(OFFSET($J150,-1,0,-1*$Q$3,5),{0,1,2,3,4,5,6,7,8,9})*1000+{100,90,80,70,60,50,40,30,20,10}+{0,1,2,3,4,5,6,7,8,9},COLUMN(C$21))),\"\"))","v":"3"},{"$f":"IF(OR(LEN($O150)=0),\"\",IFERROR(RIGHT(LARGE(COUNTIF(OFFSET($J150,-1,0,-1*$Q$3,5),{0,1,2,3,4,5,6,7,8,9})*1000+{100,90,80,70,60,50,40,30,20,10}+{0,1,2,3,4,5,6,7,8,9},COLUMN(D$21))),\"\"))","v":"6"},{"$f":"IF(OR(LEN($O150)=0),\"\",IFERROR(RIGHT(LARGE(COUNTIF(OFFSET($J150,-1,0,-1*$Q$3,5),{0,1,2,3,4,5,6,7,8,9})*1000+{100,90,80,70,60,50,40,30,20,10}+{0,1,2,3,4,5,6,7,8,9},COLUMN(E$21))),\"\"))","v":"4"},{"$f":"IF(OR(LEN($O150)=0),\"\",IFERROR(RIGHT(LARGE(COUNTIF(OFFSET($J150,-1,0,-1*$Q$3,5),{0,1,2,3,4,5,6,7,8,9})*1000+{100,90,80,70,60,50,40,30,20,10}+{0,1,2,3,4,5,6,7,8,9},COLUMN(F$21))),\"\"))","v":"5"},{"$f":"IF(OR(LEN($O150)=0),\"\",IFERROR(RIGHT(LARGE(COUNTIF(OFFSET($J150,-1,0,-1*$Q$3,5),{0,1,2,3,4,5,6,7,8,9})*1000+{100,90,80,70,60,50,40,30,20,10}+{0,1,2,3,4,5,6,7,8,9},COLUMN(G$21))),\"\"))","v":"8"},{"$f":"IF(OR(LEN($O150)=0),\"\",IFERROR(RIGHT(LARGE(COUNTIF(OFFSET($J150,-1,0,-1*$Q$3,5),{0,1,2,3,4,5,6,7,8,9})*1000+{100,90,80,70,60,50,40,30,20,10}+{0,1,2,3,4,5,6,7,8,9},COLUMN(H$21))),\"\"))","v":"7"},{"$f":"IF(OR(LEN($O150)=0),\"\",IFERROR(RIGHT(LARGE(COUNTIF(OFFSET($J150,-1,0,-1*$Q$3,5),{0,1,2,3,4,5,6,7,8,9})*1000+{100,90,80,70,60,50,40,30,20,10}+{0,1,2,3,4,5,6,7,8,9},COLUMN(I$21))),\"\"))","v":"1"},{"$f":"IF(OR(LEN($O150)=0),\"\",IFERROR(RIGHT(LARGE(COUNTIF(OFFSET($J150,-1,0,-1*$Q$3,5),{0,1,2,3,4,5,6,7,8,9})*1000+{100,90,80,70,60,50,40,30,20,10}+{0,1,2,3,4,5,6,7,8,9},COLUMN(J$21))),\"\"))","v":"9"},"0236","0","2","3","6","","","","","",""]
["20200515077","86080","8","6","0","8","0",null,null,"","","0","8","0","080",{"$f":"IF(OR(LEN($O151)=0),\"\",IFERROR(RIGHT(LARGE(COUNTIF(OFFSET($J151,-1,0,-1*$Q$3,5),{0,1,2,3,4,5,6,7,8,9})*1000+{100,90,80,70,60,50,40,30,20,10}+{0,1,2,3,4,5,6,7,8,9},COLUMN(A$21))),\"\"))","v":"0"},{"$f":"IF(OR(LEN($O151)=0),\"\",IFERROR(RIGHT(LARGE(COUNTIF(OFFSET($J151,-1,0,-1*$Q$3,5),{0,1,2,3,4,5,6,7,8,9})*1000+{100,90,80,70,60,50,40,30,20,10}+{0,1,2,3,4,5,6,7,8,9},COLUMN(B$21))),\"\"))","v":"2"},{"$f":"IF(OR(LEN($O151)=0),\"\",IFERROR(RIGHT(LARGE(COUNTIF(OFFSET($J151,-1,0,-1*$Q$3,5),{0,1,2,3,4,5,6,7,8,9})*1000+{100,90,80,70,60,50,40,30,20,10}+{0,1,2,3,4,5,6,7,8,9},COLUMN(C$21))),\"\"))","v":"6"},{"$f":"IF(OR(LEN($O151)=0),\"\",IFERROR(RIGHT(LARGE(COUNTIF(OFFSET($J151,-1,0,-1*$Q$3,5),{0,1,2,3,4,5,6,7,8,9})*1000+{100,90,80,70,60,50,40,30,20,10}+{0,1,2,3,4,5,6,7,8,9},COLUMN(D$21))),\"\"))","v":"3"},{"$f":"IF(OR(LEN($O151)=0),\"\",IFERROR(RIGHT(LARGE(COUNTIF(OFFSET($J151,-1,0,-1*$Q$3,5),{0,1,2,3,4,5,6,7,8,9})*1000+{100,90,80,70,60,50,40,30,20,10}+{0,1,2,3,4,5,6,7,8,9},COLUMN(E$21))),\"\"))","v":"4"},{"$f":"IF(OR(LEN($O151)=0),\"\",IFERROR(RIGHT(LARGE(COUNTIF(OFFSET($J151,-1,0,-1*$Q$3,5),{0,1,2,3,4,5,6,7,8,9})*1000+{100,90,80,70,60,50,40,30,20,10}+{0,1,2,3,4,5,6,7,8,9},COLUMN(F$21))),\"\"))","v":"5"},{"$f":"IF(OR(LEN($O151)=0),\"\",IFERROR(RIGHT(LARGE(COUNTIF(OFFSET($J151,-1,0,-1*$Q$3,5),{0,1,2,3,4,5,6,7,8,9})*1000+{100,90,80,70,60,50,40,30,20,10}+{0,1,2,3,4,5,6,7,8,9},COLUMN(G$21))),\"\"))","v":"8"},{"$f":"IF(OR(LEN($O151)=0),\"\",IFERROR(RIGHT(LARGE(COUNTIF(OFFSET($J151,-1,0,-1*$Q$3,5),{0,1,2,3,4,5,6,7,8,9})*1000+{100,90,80,70,60,50,40,30,20,10}+{0,1,2,3,4,5,6,7,8,9},COLUMN(H$21))),\"\"))","v":"1"},{"$f":"IF(OR(LEN($O151)=0),\"\",IFERROR(RIGHT(LARGE(COUNTIF(OFFSET($J151,-1,0,-1*$Q$3,5),{0,1,2,3,4,5,6,7,8,9})*1000+{100,90,80,70,60,50,40,30,20,10}+{0,1,2,3,4,5,6,7,8,9},COLUMN(I$21))),\"\"))","v":"7"},{"$f":"IF(OR(LEN($O151)=0),\"\",IFERROR(RIGHT(LARGE(COUNTIF(OFFSET($J151,-1,0,-1*$Q$3,5),{0,1,2,3,4,5,6,7,8,9})*1000+{100,90,80,70,60,50,40,30,20,10}+{0,1,2,3,4,5,6,7,8,9},COLUMN(J$21))),\"\"))","v":"9"},"0263","0","2","6","3","","","","","",""]
["20200515078","87181","8","7","1","8","1",null,null,"","","1","8","1","181",{"$f":"IF(OR(LEN($O152)=0),\"\",IFERROR(RIGHT(LARGE(COUNTIF(OFFSET($J152,-1,0,-1*$Q$3,5),{0,1,2,3,4,5,6,7,8,9})*1000+{100,90,80,70,60,50,40,30,20,10}+{0,1,2,3,4,5,6,7,8,9},COLUMN(A$21))),\"\"))","v":"0"},{"$f":"IF(OR(LEN($O152)=0),\"\",IFERROR(RIGHT(LARGE(COUNTIF(OFFSET($J152,-1,0,-1*$Q$3,5),{0,1,2,3,4,5,6,7,8,9})*1000+{100,90,80,70,60,50,40,30,20,10}+{0,1,2,3,4,5,6,7,8,9},COLUMN(B$21))),\"\"))","v":"2"},{"$f":"IF(OR(LEN($O152)=0),\"\",IFERROR(RIGHT(LARGE(COUNTIF(OFFSET($J152,-1,0,-1*$Q$3,5),{0,1,2,3,4,5,6,7,8,9})*1000+{100,90,80,70,60,50,40,30,20,10}+{0,1,2,3,4,5,6,7,8,9},COLUMN(C$21))),\"\"))","v":"6"},{"$f":"IF(OR(LEN($O152)=0),\"\",IFERROR(RIGHT(LARGE(COUNTIF(OFFSET($J152,-1,0,-1*$Q$3,5),{0,1,2,3,4,5,6,7,8,9})*1000+{100,90,80,70,60,50,40,30,20,10}+{0,1,2,3,4,5,6,7,8,9},COLUMN(D$21))),\"\"))","v":"3"},{"$f":"IF(OR(LEN($O152)=0),\"\",IFERROR(RIGHT(LARGE(COUNTIF(OFFSET($J152,-1,0,-1*$Q$3,5),{0,1,2,3,4,5,6,7,8,9})*1000+{100,90,80,70,60,50,40,30,20,10}+{0,1,2,3,4,5,6,7,8,9},COLUMN(E$21))),\"\"))","v":"4"},{"$f":"IF(OR(LEN($O152)=0),\"\",IFERROR(RIGHT(LARGE(COUNTIF(OFFSET($J152,-1,0,-1*$Q$3,5),{0,1,2,3,4,5,6,7,8,9})*1000+{100,90,80,70,60,50,40,30,20,10}+{0,1,2,3,4,5,6,7,8,9},COLUMN(F$21))),\"\"))","v":"5"},{"$f":"IF(OR(LEN($O152)=0),\"\",IFERROR(RIGHT(LARGE(COUNTIF(OFFSET($J152,-1,0,-1*$Q$3,5),{0,1,2,3,4,5,6,7,8,9})*1000+{100,90,80,70,60,50,40,30,20,10}+{0,1,2,3,4,5,6,7,8,9},COLUMN(G$21))),\"\"))","v":"8"},{"$f":"IF(OR(LEN($O152)=0),\"\",IFERROR(RIGHT(LARGE(COUNTIF(OFFSET($J152,-1,0,-1*$Q$3,5),{0,1,2,3,4,5,6,7,8,9})*1000+{100,90,80,70,60,50,40,30,20,10}+{0,1,2,3,4,5,6,7,8,9},COLUMN(H$21))),\"\"))","v":"1"},{"$f":"IF(OR(LEN($O152)=0),\"\",IFERROR(RIGHT(LARGE(COUNTIF(OFFSET($J152,-1,0,-1*$Q$3,5),{0,1,2,3,4,5,6,7,8,9})*1000+{100,90,80,70,60,50,40,30,20,10}+{0,1,2,3,4,5,6,7,8,9},COLUMN(I$21))),\"\"))","v":"7"},{"$f":"IF(OR(LEN($O152)=0),\"\",IFERROR(RIGHT(LARGE(COUNTIF(OFFSET($J152,-1,0,-1*$Q$3,5),{0,1,2,3,4,5,6,7,8,9})*1000+{100,90,80,70,60,50,40,30,20,10}+{0,1,2,3,4,5,6,7,8,9},COLUMN(J$21))),\"\"))","v":"9"},"0263","0","2","6","3","","","","","",""]
["20200515079","74102","7","4","1","0","2",null,null,"","","1","0","2","102",{"$f":"IF(OR(LEN($O153)=0),\"\",IFERROR(RIGHT(LARGE(COUNTIF(OFFSET($J153,-1,0,-1*$Q$3,5),{0,1,2,3,4,5,6,7,8,9})*1000+{100,90,80,70,60,50,40,30,20,10}+{0,1,2,3,4,5,6,7,8,9},COLUMN(A$21))),\"\"))","v":"0"},{"$f":"IF(OR(LEN($O153)=0),\"\",IFERROR(RIGHT(LARGE(COUNTIF(OFFSET($J153,-1,0,-1*$Q$3,5),{0,1,2,3,4,5,6,7,8,9})*1000+{100,90,80,70,60,50,40,30,20,10}+{0,1,2,3,4,5,6,7,8,9},COLUMN(B$21))),\"\"))","v":"2"},{"$f":"IF(OR(LEN($O153)=0),\"\",IFERROR(RIGHT(LARGE(COUNTIF(OFFSET($J153,-1,0,-1*$Q$3,5),{0,1,2,3,4,5,6,7,8,9})*1000+{100,90,80,70,60,50,40,30,20,10}+{0,1,2,3,4,5,6,7,8,9},COLUMN(C$21))),\"\"))","v":"6"},{"$f":"IF(OR(LEN($O153)=0),\"\",IFERROR(RIGHT(LARGE(COUNTIF(OFFSET($J153,-1,0,-1*$Q$3,5),{0,1,2,3,4,5,6,7,8,9})*1000+{100,90,80,70,60,50,40,30,20,10}+{0,1,2,3,4,5,6,7,8,9},COLUMN(D$21))),\"\"))","v":"3"},{"$f":"IF(OR(LEN($O153)=0),\"\",IFERROR(RIGHT(LARGE(COUNTIF(OFFSET($J153,-1,0,-1*$Q$3,5),{0,1,2,3,4,5,6,7,8,9})*1000+{100,90,80,70,60,50,40,30,20,10}+{0,1,2,3,4,5,6,7,8,9},COLUMN(E$21))),\"\"))","v":"5"},{"$f":"IF(OR(LEN($O153)=0),\"\",IFERROR(RIGHT(LARGE(COUNTIF(OFFSET($J153,-1,0,-1*$Q$3,5),{0,1,2,3,4,5,6,7,8,9})*1000+{100,90,80,70,60,50,40,30,20,10}+{0,1,2,3,4,5,6,7,8,9},COLUMN(F$21))),\"\"))","v":"8"},{"$f":"IF(OR(LEN($O153)=0),\"\",IFERROR(RIGHT(LARGE(COUNTIF(OFFSET($J153,-1,0,-1*$Q$3,5),{0,1,2,3,4,5,6,7,8,9})*1000+{100,90,80,70,60,50,40,30,20,10}+{0,1,2,3,4,5,6,7,8,9},COLUMN(G$21))),\"\"))","v":"1"},{"$f":"IF(OR(LEN($O153)=0),\"\",IFERROR(RIGHT(LARGE(COUNTIF(OFFSET($J153,-1,0,-1*$Q$3,5),{0,1,2,3,4,5,6,7,8,9})*1000+{100,90,80,70,60,50,40,30,20,10}+{0,1,2,3,4,5,6,7,8,9},COLUMN(H$21))),\"\"))","v":"4"},{"$f":"IF(OR(LEN($O153)=0),\"\",IFERROR(RIGHT(LARGE(COUNTIF(OFFSET($J153,-1,0,-1*$Q$3,5),{0,1,2,3,4,5,6,7,8,9})*1000+{100,90,80,70,60,50,40,30,20,10}+{0,1,2,3,4,5,6,7,8,9},COLUMN(I$21))),\"\"))","v":"9"},{"$f":"IF(OR(LEN($O153)=0),\"\",IFERROR(RIGHT(LARGE(COUNTIF(OFFSET($J153,-1,0,-1*$Q$3,5),{0,1,2,3,4,5,6,7,8,9})*1000+{100,90,80,70,60,50,40,30,20,10}+{0,1,2,3,4,5,6,7,8,9},COLUMN(J$21))),\"\"))","v":"7"},"0263","0","2","6","3","","","","","",""]
["20200515080","86568","8","6","5","6","8",null,null,"","","5","6","8","568",{"$f":"IF(OR(LEN($O154)=0),\"\",IFERROR(RIGHT(LARGE(COUNTIF(OFFSET($J154,-1,0,-1*$Q$3,5),{0,1,2,3,4,5,6,7,8,9})*1000+{100,90,80,70,60,50,40,30,20,10}+{0,1,2,3,4,5,6,7,8,9},COLUMN(A$21))),\"\"))","v":"0"},{"$f":"IF(OR(LEN($O154)=0),\"\",IFERROR(RIGHT(LARGE(COUNTIF(OFFSET($J154,-1,0,-1*$Q$3,5),{0,1,2,3,4,5,6,7,8,9})*1000+{100,90,80,70,60,50,40,30,20,10}+{0,1,2,3,4,5,6,7,8,9},COLUMN(B$21))),\"\"))","v":"2"},{"$f":"IF(OR(LEN($O154)=0),\"\",IFERROR(RIGHT(LARGE(COUNTIF(OFFSET($J154,-1,0,-1*$Q$3,5),{0,1,2,3,4,5,6,7,8,9})*1000+{100,90,80,70,60,50,40,30,20,10}+{0,1,2,3,4,5,6,7,8,9},COLUMN(C$21))),\"\"))","v":"6"},{"$f":"IF(OR(LEN($O154)=0),\"\",IFERROR(RIGHT(LARGE(COUNTIF(OFFSET($J154,-1,0,-1*$Q$3,5),{0,1,2,3,4,5,6,7,8,9})*1000+{100,90,80,70,60,50,40,30,20,10}+{0,1,2,3,4,5,6,7,8,9},COLUMN(D$21))),\"\"))","v":"1"},{"$f":"IF(OR(LEN($O154)=0),\"\",IFERROR(RIGHT(LARGE(COUNTIF(OFFSET($J154,-1,0,-1*$Q$3,5),{0,1,2,3,4,5,6,7,8,9})*1000+{100,90,80,70,60,50,40,30,20,10}+{0,1,2,3,4,5,6,7,8,9},COLUMN(E$21))),\"\"))","v":"5"},{"$f":"IF(OR(LEN($O154)=0),\"\",IFERROR(RIGHT(LARGE(COUNTIF(OFFSET($J154,-1,0,-1*$Q$3,5),{0,1,2,3,4,5,6,7,8,9})*1000+{100,90,80,70,60,50,40,30,20,10}+{0,1,2,3,4,5,6,7,8,9},COLUMN(F$21))),\"\"))","v":"3"},{"$f":"IF(OR(LEN($O154)=0),\"\",IFERROR(RIGHT(LARGE(COUNTIF(OFFSET($J154,-1,0,-1*$Q$3,5),{0,1,2,3,4,5,6,7,8,9})*1000+{100,90,80,70,60,50,40,30,20,10}+{0,1,2,3,4,5,6,7,8,9},COLUMN(G$21))),\"\"))","v":"4"},{"$f":"IF(OR(LEN($O154)=0),\"\",IFERROR(RIGHT(LARGE(COUNTIF(OFFSET($J154,-1,0,-1*$Q$3,5),{0,1,2,3,4,5,6,7,8,9})*1000+{100,90,80,70,60,50,40,30,20,10}+{0,1,2,3,4,5,6,7,8,9},COLUMN(H$21))),\"\"))","v":"8"},{"$f":"IF(OR(LEN($O154)=0),\"\",IFERROR(RIGHT(LARGE(COUNTIF(OFFSET($J154,-1,0,-1*$Q$3,5),{0,1,2,3,4,5,6,7,8,9})*1000+{100,90,80,70,60,50,40,30,20,10}+{0,1,2,3,4,5,6,7,8,9},COLUMN(I$21))),\"\"))","v":"9"},{"$f":"IF(OR(LEN($O154)=0),\"\",IFERROR(RIGHT(LARGE(COUNTIF(OFFSET($J154,-1,0,-1*$Q$3,5),{0,1,2,3,4,5,6,7,8,9})*1000+{100,90,80,70,60,50,40,30,20,10}+{0,1,2,3,4,5,6,7,8,9},COLUMN(J$21))),\"\"))","v":"7"},"0261","0","2","6","1","","","","","",""]
["20200515081","85652","8","5","6","5","2",null,null,"","","6","5","2","652",{"$f":"IF(OR(LEN($O155)=0),\"\",IFERROR(RIGHT(LARGE(COUNTIF(OFFSET($J155,-1,0,-1*$Q$3,5),{0,1,2,3,4,5,6,7,8,9})*1000+{100,90,80,70,60,50,40,30,20,10}+{0,1,2,3,4,5,6,7,8,9},COLUMN(A$21))),\"\"))","v":"0"},{"$f":"IF(OR(LEN($O155)=0),\"\",IFERROR(RIGHT(LARGE(COUNTIF(OFFSET($J155,-1,0,-1*$Q$3,5),{0,1,2,3,4,5,6,7,8,9})*1000+{100,90,80,70,60,50,40,30,20,10}+{0,1,2,3,4,5,6,7,8,9},COLUMN(B$21))),\"\"))","v":"2"},{"$f":"IF(OR(LEN($O155)=0),\"\",IFERROR(RIGHT(LARGE(COUNTIF(OFFSET($J155,-1,0,-1*$Q$3,5),{0,1,2,3,4,5,6,7,8,9})*1000+{100,90,80,70,60,50,40,30,20,10}+{0,1,2,3,4,5,6,7,8,9},COLUMN(C$21))),\"\"))","v":"6"},{"$f":"IF(OR(LEN($O155)=0),\"\",IFERROR(RIGHT(LARGE(COUNTIF(OFFSET($J155,-1,0,-1*$Q$3,5),{0,1,2,3,4,5,6,7,8,9})*1000+{100,90,80,70,60,50,40,30,20,10}+{0,1,2,3,4,5,6,7,8,9},COLUMN(D$21))),\"\"))","v":"5"},{"$f":"IF(OR(LEN($O155)=0),\"\",IFERROR(RIGHT(LARGE(COUNTIF(OFFSET($J155,-1,0,-1*$Q$3,5),{0,1,2,3,4,5,6,7,8,9})*1000+{100,90,80,70,60,50,40,30,20,10}+{0,1,2,3,4,5,6,7,8,9},COLUMN(E$21))),\"\"))","v":"1"},{"$f":"IF(OR(LEN($O155)=0),\"\",IFERROR(RIGHT(LARGE(COUNTIF(OFFSET($J155,-1,0,-1*$Q$3,5),{0,1,2,3,4,5,6,7,8,9})*1000+{100,90,80,70,60,50,40,30,20,10}+{0,1,2,3,4,5,6,7,8,9},COLUMN(F$21))),\"\"))","v":"8"},{"$f":"IF(OR(LEN($O155)=0),\"\",IFERROR(RIGHT(LARGE(COUNTIF(OFFSET($J155,-1,0,-1*$Q$3,5),{0,1,2,3,4,5,6,7,8,9})*1000+{100,90,80,70,60,50,40,30,20,10}+{0,1,2,3,4,5,6,7,8,9},COLUMN(G$21))),\"\"))","v":"3"},{"$f":"IF(OR(LEN($O155)=0),\"\",IFERROR(RIGHT(LARGE(COUNTIF(OFFSET($J155,-1,0,-1*$Q$3,5),{0,1,2,3,4,5,6,7,8,9})*1000+{100,90,80,70,60,50,40,30,20,10}+{0,1,2,3,4,5,6,7,8,9},COLUMN(H$21))),\"\"))","v":"4"},{"$f":"IF(OR(LEN($O155)=0),\"\",IFERROR(RIGHT(LARGE(COUNTIF(OFFSET($J155,-1,0,-1*$Q$3,5),{0,1,2,3,4,5,6,7,8,9})*1000+{100,90,80,70,60,50,40,30,20,10}+{0,1,2,3,4,5,6,7,8,9},COLUMN(I$21))),\"\"))","v":"9"},{"$f":"IF(OR(LEN($O155)=0),\"\",IFERROR(RIGHT(LARGE(COUNTIF(OFFSET($J155,-1,0,-1*$Q$3,5),{0,1,2,3,4,5,6,7,8,9})*1000+{100,90,80,70,60,50,40,30,20,10}+{0,1,2,3,4,5,6,7,8,9},COLUMN(J$21))),\"\"))","v":"7"},"0265","0","2","6","5","","","","","",""]
["20200515082","88933","8","8","9","3","3",null,null,"","","9","3","3","933",{"$f":"IF(OR(LEN($O156)=0),\"\",IFERROR(RIGHT(LARGE(COUNTIF(OFFSET($J156,-1,0,-1*$Q$3,5),{0,1,2,3,4,5,6,7,8,9})*1000+{100,90,80,70,60,50,40,30,20,10}+{0,1,2,3,4,5,6,7,8,9},COLUMN(A$21))),\"\"))","v":"0"},{"$f":"IF(OR(LEN($O156)=0),\"\",IFERROR(RIGHT(LARGE(COUNTIF(OFFSET($J156,-1,0,-1*$Q$3,5),{0,1,2,3,4,5,6,7,8,9})*1000+{100,90,80,70,60,50,40,30,20,10}+{0,1,2,3,4,5,6,7,8,9},COLUMN(B$21))),\"\"))","v":"2"},{"$f":"IF(OR(LEN($O156)=0),\"\",IFERROR(RIGHT(LARGE(COUNTIF(OFFSET($J156,-1,0,-1*$Q$3,5),{0,1,2,3,4,5,6,7,8,9})*1000+{100,90,80,70,60,50,40,30,20,10}+{0,1,2,3,4,5,6,7,8,9},COLUMN(C$21))),\"\"))","v":"6"},{"$f":"IF(OR(LEN($O156)=0),\"\",IFERROR(RIGHT(LARGE(COUNTIF(OFFSET($J156,-1,0,-1*$Q$3,5),{0,1,2,3,4,5,6,7,8,9})*1000+{100,90,80,70,60,50,40,30,20,10}+{0,1,2,3,4,5,6,7,8,9},COLUMN(D$21))),\"\"))","v":"5"},{"$f":"IF(OR(LEN($O156)=0),\"\",IFERROR(RIGHT(LARGE(COUNTIF(OFFSET($J156,-1,0,-1*$Q$3,5),{0,1,2,3,4,5,6,7,8,9})*1000+{100,90,80,70,60,50,40,30,20,10}+{0,1,2,3,4,5,6,7,8,9},COLUMN(E$21))),\"\"))","v":"1"},{"$f":"IF(OR(LEN($O156)=0),\"\",IFERROR(RIGHT(LARGE(COUNTIF(OFFSET($J156,-1,0,-1*$Q$3,5),{0,1,2,3,4,5,6,7,8,9})*1000+{100,90,80,70,60,50,40,30,20,10}+{0,1,2,3,4,5,6,7,8,9},COLUMN(F$21))),\"\"))","v":"8"},{"$f":"IF(OR(LEN($O156)=0),\"\",IFERROR(RIGHT(LARGE(COUNTIF(OFFSET($J156,-1,0,-1*$Q$3,5),{0,1,2,3,4,5,6,7,8,9})*1000+{100,90,80,70,60,50,40,30,20,10}+{0,1,2,3,4,5,6,7,8,9},COLUMN(G$21))),\"\"))","v":"3"},{"$f":"IF(OR(LEN($O156)=0),\"\",IFERROR(RIGHT(LARGE(COUNTIF(OFFSET($J156,-1,0,-1*$Q$3,5),{0,1,2,3,4,5,6,7,8,9})*1000+{100,90,80,70,60,50,40,30,20,10}+{0,1,2,3,4,5,6,7,8,9},COLUMN(H$21))),\"\"))","v":"4"},{"$f":"IF(OR(LEN($O156)=0),\"\",IFERROR(RIGHT(LARGE(COUNTIF(OFFSET($J156,-1,0,-1*$Q$3,5),{0,1,2,3,4,5,6,7,8,9})*1000+{100,90,80,70,60,50,40,30,20,10}+{0,1,2,3,4,5,6,7,8,9},COLUMN(I$21))),\"\"))","v":"9"},{"$f":"IF(OR(LEN($O156)=0),\"\",IFERROR(RIGHT(LARGE(COUNTIF(OFFSET($J156,-1,0,-1*$Q$3,5),{0,1,2,3,4,5,6,7,8,9})*1000+{100,90,80,70,60,50,40,30,20,10}+{0,1,2,3,4,5,6,7,8,9},COLUMN(J$21))),\"\"))","v":"7"},"0265","0","2","6","5","","","","","",""]
["20200515083","06809","0","6","8","0","9",null,null,"","","8","0","9","809",{"$f":"IF(OR(LEN($O157)=0),\"\",IFERROR(RIGHT(LARGE(COUNTIF(OFFSET($J157,-1,0,-1*$Q$3,5),{0,1,2,3,4,5,6,7,8,9})*1000+{100,90,80,70,60,50,40,30,20,10}+{0,1,2,3,4,5,6,7,8,9},COLUMN(A$21))),\"\"))","v":"0"},{"$f":"IF(OR(LEN($O157)=0),\"\",IFERROR(RIGHT(LARGE(COUNTIF(OFFSET($J157,-1,0,-1*$Q$3,5),{0,1,2,3,4,5,6,7,8,9})*1000+{100,90,80,70,60,50,40,30,20,10}+{0,1,2,3,4,5,6,7,8,9},COLUMN(B$21))),\"\"))","v":"2"},{"$f":"IF(OR(LEN($O157)=0),\"\",IFERROR(RIGHT(LARGE(COUNTIF(OFFSET($J157,-1,0,-1*$Q$3,5),{0,1,2,3,4,5,6,7,8,9})*1000+{100,90,80,70,60,50,40,30,20,10}+{0,1,2,3,4,5,6,7,8,9},COLUMN(C$21))),\"\"))","v":"6"},{"$f":"IF(OR(LEN($O157)=0),\"\",IFERROR(RIGHT(LARGE(COUNTIF(OFFSET($J157,-1,0,-1*$Q$3,5),{0,1,2,3,4,5,6,7,8,9})*1000+{100,90,80,70,60,50,40,30,20,10}+{0,1,2,3,4,5,6,7,8,9},COLUMN(D$21))),\"\"))","v":"5"},{"$f":"IF(OR(LEN($O157)=0),\"\",IFERROR(RIGHT(LARGE(COUNTIF(OFFSET($J157,-1,0,-1*$Q$3,5),{0,1,2,3,4,5,6,7,8,9})*1000+{100,90,80,70,60,50,40,30,20,10}+{0,1,2,3,4,5,6,7,8,9},COLUMN(E$21))),\"\"))","v":"3"},{"$f":"IF(OR(LEN($O157)=0),\"\",IFERROR(RIGHT(LARGE(COUNTIF(OFFSET($J157,-1,0,-1*$Q$3,5),{0,1,2,3,4,5,6,7,8,9})*1000+{100,90,80,70,60,50,40,30,20,10}+{0,1,2,3,4,5,6,7,8,9},COLUMN(F$21))),\"\"))","v":"1"},{"$f":"IF(OR(LEN($O157)=0),\"\",IFERROR(RIGHT(LARGE(COUNTIF(OFFSET($J157,-1,0,-1*$Q$3,5),{0,1,2,3,4,5,6,7,8,9})*1000+{100,90,80,70,60,50,40,30,20,10}+{0,1,2,3,4,5,6,7,8,9},COLUMN(G$21))),\"\"))","v":"8"},{"$f":"IF(OR(LEN($O157)=0),\"\",IFERROR(RIGHT(LARGE(COUNTIF(OFFSET($J157,-1,0,-1*$Q$3,5),{0,1,2,3,4,5,6,7,8,9})*1000+{100,90,80,70,60,50,40,30,20,10}+{0,1,2,3,4,5,6,7,8,9},COLUMN(H$21))),\"\"))","v":"4"},{"$f":"IF(OR(LEN($O157)=0),\"\",IFERROR(RIGHT(LARGE(COUNTIF(OFFSET($J157,-1,0,-1*$Q$3,5),{0,1,2,3,4,5,6,7,8,9})*1000+{100,90,80,70,60,50,40,30,20,10}+{0,1,2,3,4,5,6,7,8,9},COLUMN(I$21))),\"\"))","v":"9"},{"$f":"IF(OR(LEN($O157)=0),\"\",IFERROR(RIGHT(LARGE(COUNTIF(OFFSET($J157,-1,0,-1*$Q$3,5),{0,1,2,3,4,5,6,7,8,9})*1000+{100,90,80,70,60,50,40,30,20,10}+{0,1,2,3,4,5,6,7,8,9},COLUMN(J$21))),\"\"))","v":"7"},"0265","0","2","6","5","","","","","",""]
["20200515084","01158","0","1","1","5","8",null,null,"","","1","5","8","158",{"$f":"IF(OR(LEN($O158)=0),\"\",IFERROR(RIGHT(LARGE(COUNTIF(OFFSET($J158,-1,0,-1*$Q$3,5),{0,1,2,3,4,5,6,7,8,9})*1000+{100,90,80,70,60,50,40,30,20,10}+{0,1,2,3,4,5,6,7,8,9},COLUMN(A$21))),\"\"))","v":"0"},{"$f":"IF(OR(LEN($O158)=0),\"\",IFERROR(RIGHT(LARGE(COUNTIF(OFFSET($J158,-1,0,-1*$Q$3,5),{0,1,2,3,4,5,6,7,8,9})*1000+{100,90,80,70,60,50,40,30,20,10}+{0,1,2,3,4,5,6,7,8,9},COLUMN(B$21))),\"\"))","v":"2"},{"$f":"IF(OR(LEN($O158)=0),\"\",IFERROR(RIGHT(LARGE(COUNTIF(OFFSET($J158,-1,0,-1*$Q$3,5),{0,1,2,3,4,5,6,7,8,9})*1000+{100,90,80,70,60,50,40,30,20,10}+{0,1,2,3,4,5,6,7,8,9},COLUMN(C$21))),\"\"))","v":"6"},{"$f":"IF(OR(LEN($O158)=0),\"\",IFERROR(RIGHT(LARGE(COUNTIF(OFFSET($J158,-1,0,-1*$Q$3,5),{0,1,2,3,4,5,6,7,8,9})*1000+{100,90,80,70,60,50,40,30,20,10}+{0,1,2,3,4,5,6,7,8,9},COLUMN(D$21))),\"\"))","v":"5"},{"$f":"IF(OR(LEN($O158)=0),\"\",IFERROR(RIGHT(LARGE(COUNTIF(OFFSET($J158,-1,0,-1*$Q$3,5),{0,1,2,3,4,5,6,7,8,9})*1000+{100,90,80,70,60,50,40,30,20,10}+{0,1,2,3,4,5,6,7,8,9},COLUMN(E$21))),\"\"))","v":"1"},{"$f":"IF(OR(LEN($O158)=0),\"\",IFERROR(RIGHT(LARGE(COUNTIF(OFFSET($J158,-1,0,-1*$Q$3,5),{0,1,2,3,4,5,6,7,8,9})*1000+{100,90,80,70,60,50,40,30,20,10}+{0,1,2,3,4,5,6,7,8,9},COLUMN(F$21))),\"\"))","v":"3"},{"$f":"IF(OR(LEN($O158)=0),\"\",IFERROR(RIGHT(LARGE(COUNTIF(OFFSET($J158,-1,0,-1*$Q$3,5),{0,1,2,3,4,5,6,7,8,9})*1000+{100,90,80,70,60,50,40,30,20,10}+{0,1,2,3,4,5,6,7,8,9},COLUMN(G$21))),\"\"))","v":"8"},{"$f":"IF(OR(LEN($O158)=0),\"\",IFERROR(RIGHT(LARGE(COUNTIF(OFFSET($J158,-1,0,-1*$Q$3,5),{0,1,2,3,4,5,6,7,8,9})*1000+{100,90,80,70,60,50,40,30,20,10}+{0,1,2,3,4,5,6,7,8,9},COLUMN(H$21))),\"\"))","v":"9"},{"$f":"IF(OR(LEN($O158)=0),\"\",IFERROR(RIGHT(LARGE(COUNTIF(OFFSET($J158,-1,0,-1*$Q$3,5),{0,1,2,3,4,5,6,7,8,9})*1000+{100,90,80,70,60,50,40,30,20,10}+{0,1,2,3,4,5,6,7,8,9},COLUMN(I$21))),\"\"))","v":"4"},{"$f":"IF(OR(LEN($O158)=0),\"\",IFERROR(RIGHT(LARGE(COUNTIF(OFFSET($J158,-1,0,-1*$Q$3,5),{0,1,2,3,4,5,6,7,8,9})*1000+{100,90,80,70,60,50,40,30,20,10}+{0,1,2,3,4,5,6,7,8,9},COLUMN(J$21))),\"\"))","v":"7"},"0265",{"$f":"IF(P$4=1,P158,\"\")","v":"0"},"2","6","5","","","","","",""]
["20200515085","43086","4","3","0","8","6",null,null,"","","0","8","6","086",{"$f":"IF(OR(LEN($O159)=0),\"\",IFERROR(RIGHT(LARGE(COUNTIF(OFFSET($J159,-1,0,-1*$Q$3,5),{0,1,2,3,4,5,6,7,8,9})*1000+{100,90,80,70,60,50,40,30,20,10}+{0,1,2,3,4,5,6,7,8,9},COLUMN(A$21))),\"\"))","v":"0"},{"$f":"IF(OR(LEN($O159)=0),\"\",IFERROR(RIGHT(LARGE(COUNTIF(OFFSET($J159,-1,0,-1*$Q$3,5),{0,1,2,3,4,5,6,7,8,9})*1000+{100,90,80,70,60,50,40,30,20,10}+{0,1,2,3,4,5,6,7,8,9},COLUMN(B$21))),\"\"))","v":"6"},{"$f":"IF(OR(LEN($O159)=0),\"\",IFERROR(RIGHT(LARGE(COUNTIF(OFFSET($J159,-1,0,-1*$Q$3,5),{0,1,2,3,4,5,6,7,8,9})*1000+{100,90,80,70,60,50,40,30,20,10}+{0,1,2,3,4,5,6,7,8,9},COLUMN(C$21))),\"\"))","v":"2"},{"$f":"IF(OR(LEN($O159)=0),\"\",IFERROR(RIGHT(LARGE(COUNTIF(OFFSET($J159,-1,0,-1*$Q$3,5),{0,1,2,3,4,5,6,7,8,9})*1000+{100,90,80,70,60,50,40,30,20,10}+{0,1,2,3,4,5,6,7,8,9},COLUMN(D$21))),\"\"))","v":"5"},{"$f":"IF(OR(LEN($O159)=0),\"\",IFERROR(RIGHT(LARGE(COUNTIF(OFFSET($J159,-1,0,-1*$Q$3,5),{0,1,2,3,4,5,6,7,8,9})*1000+{100,90,80,70,60,50,40,30,20,10}+{0,1,2,3,4,5,6,7,8,9},COLUMN(E$21))),\"\"))","v":"1"},{"$f":"IF(OR(LEN($O159)=0),\"\",IFERROR(RIGHT(LARGE(COUNTIF(OFFSET($J159,-1,0,-1*$Q$3,5),{0,1,2,3,4,5,6,7,8,9})*1000+{100,90,80,70,60,50,40,30,20,10}+{0,1,2,3,4,5,6,7,8,9},COLUMN(F$21))),\"\"))","v":"3"},{"$f":"IF(OR(LEN($O159)=0),\"\",IFERROR(RIGHT(LARGE(COUNTIF(OFFSET($J159,-1,0,-1*$Q$3,5),{0,1,2,3,4,5,6,7,8,9})*1000+{100,90,80,70,60,50,40,30,20,10}+{0,1,2,3,4,5,6,7,8,9},COLUMN(G$21))),\"\"))","v":"8"},{"$f":"IF(OR(LEN($O159)=0),\"\",IFERROR(RIGHT(LARGE(COUNTIF(OFFSET($J159,-1,0,-1*$Q$3,5),{0,1,2,3,4,5,6,7,8,9})*1000+{100,90,80,70,60,50,40,30,20,10}+{0,1,2,3,4,5,6,7,8,9},COLUMN(H$21))),\"\"))","v":"9"},{"$f":"IF(OR(LEN($O159)=0),\"\",IFERROR(RIGHT(LARGE(COUNTIF(OFFSET($J159,-1,0,-1*$Q$3,5),{0,1,2,3,4,5,6,7,8,9})*1000+{100,90,80,70,60,50,40,30,20,10}+{0,1,2,3,4,5,6,7,8,9},COLUMN(I$21))),\"\"))","v":"4"},{"$f":"IF(OR(LEN($O159)=0),\"\",IFERROR(RIGHT(LARGE(COUNTIF(OFFSET($J159,-1,0,-1*$Q$3,5),{0,1,2,3,4,5,6,7,8,9})*1000+{100,90,80,70,60,50,40,30,20,10}+{0,1,2,3,4,5,6,7,8,9},COLUMN(J$21))),\"\"))","v":"7"},"0625","0","6","2","5","","","","","",""]
["20200515086","57941","5","7","9","4","1",null,null,"","","9","4","1","941",{"$f":"IF(OR(LEN($O160)=0),\"\",IFERROR(RIGHT(LARGE(COUNTIF(OFFSET($J160,-1,0,-1*$Q$3,5),{0,1,2,3,4,5,6,7,8,9})*1000+{100,90,80,70,60,50,40,30,20,10}+{0,1,2,3,4,5,6,7,8,9},COLUMN(A$21))),\"\"))","v":"0"},{"$f":"IF(OR(LEN($O160)=0),\"\",IFERROR(RIGHT(LARGE(COUNTIF(OFFSET($J160,-1,0,-1*$Q$3,5),{0,1,2,3,4,5,6,7,8,9})*1000+{100,90,80,70,60,50,40,30,20,10}+{0,1,2,3,4,5,6,7,8,9},COLUMN(B$21))),\"\"))","v":"6"},{"$f":"IF(OR(LEN($O160)=0),\"\",IFERROR(RIGHT(LARGE(COUNTIF(OFFSET($J160,-1,0,-1*$Q$3,5),{0,1,2,3,4,5,6,7,8,9})*1000+{100,90,80,70,60,50,40,30,20,10}+{0,1,2,3,4,5,6,7,8,9},COLUMN(C$21))),\"\"))","v":"5"},{"$f":"IF(OR(LEN($O160)=0),\"\",IFERROR(RIGHT(LARGE(COUNTIF(OFFSET($J160,-1,0,-1*$Q$3,5),{0,1,2,3,4,5,6,7,8,9})*1000+{100,90,80,70,60,50,40,30,20,10}+{0,1,2,3,4,5,6,7,8,9},COLUMN(D$21))),\"\"))","v":"2"},{"$f":"IF(OR(LEN($O160)=0),\"\",IFERROR(RIGHT(LARGE(COUNTIF(OFFSET($J160,-1,0,-1*$Q$3,5),{0,1,2,3,4,5,6,7,8,9})*1000+{100,90,80,70,60,50,40,30,20,10}+{0,1,2,3,4,5,6,7,8,9},COLUMN(E$21))),\"\"))","v":"1"},{"$f":"IF(OR(LEN($O160)=0),\"\",IFERROR(RIGHT(LARGE(COUNTIF(OFFSET($J160,-1,0,-1*$Q$3,5),{0,1,2,3,4,5,6,7,8,9})*1000+{100,90,80,70,60,50,40,30,20,10}+{0,1,2,3,4,5,6,7,8,9},COLUMN(F$21))),\"\"))","v":"8"},{"$f":"IF(OR(LEN($O160)=0),\"\",IFERROR(RIGHT(LARGE(COUNTIF(OFFSET($J160,-1,0,-1*$Q$3,5),{0,1,2,3,4,5,6,7,8,9})*1000+{100,90,80,70,60,50,40,30,20,10}+{0,1,2,3,4,5,6,7,8,9},COLUMN(G$21))),\"\"))","v":"3"},{"$f":"IF(OR(LEN($O160)=0),\"\",IFERROR(RIGHT(LARGE(COUNTIF(OFFSET($J160,-1,0,-1*$Q$3,5),{0,1,2,3,4,5,6,7,8,9})*1000+{100,90,80,70,60,50,40,30,20,10}+{0,1,2,3,4,5,6,7,8,9},COLUMN(H$21))),\"\"))","v":"9"},{"$f":"IF(OR(LEN($O160)=0),\"\",IFERROR(RIGHT(LARGE(COUNTIF(OFFSET($J160,-1,0,-1*$Q$3,5),{0,1,2,3,4,5,6,7,8,9})*1000+{100,90,80,70,60,50,40,30,20,10}+{0,1,2,3,4,5,6,7,8,9},COLUMN(I$21))),\"\"))","v":"7"},{"$f":"IF(OR(LEN($O160)=0),\"\",IFERROR(RIGHT(LARGE(COUNTIF(OFFSET($J160,-1,0,-1*$Q$3,5),{0,1,2,3,4,5,6,7,8,9})*1000+{100,90,80,70,60,50,40,30,20,10}+{0,1,2,3,4,5,6,7,8,9},COLUMN(J$21))),\"\"))","v":"4"},"0652","0","6","5","2","","","","","",""]
["20200515087","46237","4","6","2","3","7",null,null,"","","2","3","7","237",{"$f":"IF(OR(LEN($O161)=0),\"\",IFERROR(RIGHT(LARGE(COUNTIF(OFFSET($J161,-1,0,-1*$Q$3,5),{0,1,2,3,4,5,6,7,8,9})*1000+{100,90,80,70,60,50,40,30,20,10}+{0,1,2,3,4,5,6,7,8,9},COLUMN(A$21))),\"\"))","v":"0"},{"$f":"IF(OR(LEN($O161)=0),\"\",IFERROR(RIGHT(LARGE(COUNTIF(OFFSET($J161,-1,0,-1*$Q$3,5),{0,1,2,3,4,5,6,7,8,9})*1000+{100,90,80,70,60,50,40,30,20,10}+{0,1,2,3,4,5,6,7,8,9},COLUMN(B$21))),\"\"))","v":"6"},{"$f":"IF(OR(LEN($O161)=0),\"\",IFERROR(RIGHT(LARGE(COUNTIF(OFFSET($J161,-1,0,-1*$Q$3,5),{0,1,2,3,4,5,6,7,8,9})*1000+{100,90,80,70,60,50,40,30,20,10}+{0,1,2,3,4,5,6,7,8,9},COLUMN(C$21))),\"\"))","v":"5"},{"$f":"IF(OR(LEN($O161)=0),\"\",IFERROR(RIGHT(LARGE(COUNTIF(OFFSET($J161,-1,0,-1*$Q$3,5),{0,1,2,3,4,5,6,7,8,9})*1000+{100,90,80,70,60,50,40,30,20,10}+{0,1,2,3,4,5,6,7,8,9},COLUMN(D$21))),\"\"))","v":"1"},{"$f":"IF(OR(LEN($O161)=0),\"\",IFERROR(RIGHT(LARGE(COUNTIF(OFFSET($J161,-1,0,-1*$Q$3,5),{0,1,2,3,4,5,6,7,8,9})*1000+{100,90,80,70,60,50,40,30,20,10}+{0,1,2,3,4,5,6,7,8,9},COLUMN(E$21))),\"\"))","v":"2"},{"$f":"IF(OR(LEN($O161)=0),\"\",IFERROR(RIGHT(LARGE(COUNTIF(OFFSET($J161,-1,0,-1*$Q$3,5),{0,1,2,3,4,5,6,7,8,9})*1000+{100,90,80,70,60,50,40,30,20,10}+{0,1,2,3,4,5,6,7,8,9},COLUMN(F$21))),\"\"))","v":"3"},{"$f":"IF(OR(LEN($O161)=0),\"\",IFERROR(RIGHT(LARGE(COUNTIF(OFFSET($J161,-1,0,-1*$Q$3,5),{0,1,2,3,4,5,6,7,8,9})*1000+{100,90,80,70,60,50,40,30,20,10}+{0,1,2,3,4,5,6,7,8,9},COLUMN(G$21))),\"\"))","v":"8"},{"$f":"IF(OR(LEN($O161)=0),\"\",IFERROR(RIGHT(LARGE(COUNTIF(OFFSET($J161,-1,0,-1*$Q$3,5),{0,1,2,3,4,5,6,7,8,9})*1000+{100,90,80,70,60,50,40,30,20,10}+{0,1,2,3,4,5,6,7,8,9},COLUMN(H$21))),\"\"))","v":"9"},{"$f":"IF(OR(LEN($O161)=0),\"\",IFERROR(RIGHT(LARGE(COUNTIF(OFFSET($J161,-1,0,-1*$Q$3,5),{0,1,2,3,4,5,6,7,8,9})*1000+{100,90,80,70,60,50,40,30,20,10}+{0,1,2,3,4,5,6,7,8,9},COLUMN(I$21))),\"\"))","v":"7"},{"$f":"IF(OR(LEN($O161)=0),\"\",IFERROR(RIGHT(LARGE(COUNTIF(OFFSET($J161,-1,0,-1*$Q$3,5),{0,1,2,3,4,5,6,7,8,9})*1000+{100,90,80,70,60,50,40,30,20,10}+{0,1,2,3,4,5,6,7,8,9},COLUMN(J$21))),\"\"))","v":"4"},"0651","0","6","5","1","","","","","",""]
["20200515088","59961","5","9","9","6","1",null,null,"","","9","6","1","961",{"$f":"IF(OR(LEN($O162)=0),\"\",IFERROR(RIGHT(LARGE(COUNTIF(OFFSET($J162,-1,0,-1*$Q$3,5),{0,1,2,3,4,5,6,7,8,9})*1000+{100,90,80,70,60,50,40,30,20,10}+{0,1,2,3,4,5,6,7,8,9},COLUMN(A$21))),\"\"))","v":"0"},{"$f":"IF(OR(LEN($O162)=0),\"\",IFERROR(RIGHT(LARGE(COUNTIF(OFFSET($J162,-1,0,-1*$Q$3,5),{0,1,2,3,4,5,6,7,8,9})*1000+{100,90,80,70,60,50,40,30,20,10}+{0,1,2,3,4,5,6,7,8,9},COLUMN(B$21))),\"\"))","v":"6"},{"$f":"IF(OR(LEN($O162)=0),\"\",IFERROR(RIGHT(LARGE(COUNTIF(OFFSET($J162,-1,0,-1*$Q$3,5),{0,1,2,3,4,5,6,7,8,9})*1000+{100,90,80,70,60,50,40,30,20,10}+{0,1,2,3,4,5,6,7,8,9},COLUMN(C$21))),\"\"))","v":"5"},{"$f":"IF(OR(LEN($O162)=0),\"\",IFERROR(RIGHT(LARGE(COUNTIF(OFFSET($J162,-1,0,-1*$Q$3,5),{0,1,2,3,4,5,6,7,8,9})*1000+{100,90,80,70,60,50,40,30,20,10}+{0,1,2,3,4,5,6,7,8,9},COLUMN(D$21))),\"\"))","v":"1"},{"$f":"IF(OR(LEN($O162)=0),\"\",IFERROR(RIGHT(LARGE(COUNTIF(OFFSET($J162,-1,0,-1*$Q$3,5),{0,1,2,3,4,5,6,7,8,9})*1000+{100,90,80,70,60,50,40,30,20,10}+{0,1,2,3,4,5,6,7,8,9},COLUMN(E$21))),\"\"))","v":"2"},{"$f":"IF(OR(LEN($O162)=0),\"\",IFERROR(RIGHT(LARGE(COUNTIF(OFFSET($J162,-1,0,-1*$Q$3,5),{0,1,2,3,4,5,6,7,8,9})*1000+{100,90,80,70,60,50,40,30,20,10}+{0,1,2,3,4,5,6,7,8,9},COLUMN(F$21))),\"\"))","v":"3"},{"$f":"IF(OR(LEN($O162)=0),\"\",IFERROR(RIGHT(LARGE(COUNTIF(OFFSET($J162,-1,0,-1*$Q$3,5),{0,1,2,3,4,5,6,7,8,9})*1000+{100,90,80,70,60,50,40,30,20,10}+{0,1,2,3,4,5,6,7,8,9},COLUMN(G$21))),\"\"))","v":"8"},{"$f":"IF(OR(LEN($O162)=0),\"\",IFERROR(RIGHT(LARGE(COUNTIF(OFFSET($J162,-1,0,-1*$Q$3,5),{0,1,2,3,4,5,6,7,8,9})*1000+{100,90,80,70,60,50,40,30,20,10}+{0,1,2,3,4,5,6,7,8,9},COLUMN(H$21))),\"\"))","v":"9"},{"$f":"IF(OR(LEN($O162)=0),\"\",IFERROR(RIGHT(LARGE(COUNTIF(OFFSET($J162,-1,0,-1*$Q$3,5),{0,1,2,3,4,5,6,7,8,9})*1000+{100,90,80,70,60,50,40,30,20,10}+{0,1,2,3,4,5,6,7,8,9},COLUMN(I$21))),\"\"))","v":"7"},{"$f":"IF(OR(LEN($O162)=0),\"\",IFERROR(RIGHT(LARGE(COUNTIF(OFFSET($J162,-1,0,-1*$Q$3,5),{0,1,2,3,4,5,6,7,8,9})*1000+{100,90,80,70,60,50,40,30,20,10}+{0,1,2,3,4,5,6,7,8,9},COLUMN(J$21))),\"\"))","v":"4"},"0651","0","6","5","1","","","","","",""]
["20200515089","76216","7","6","2","1","6",null,null,"","","2","1","6","216",{"$f":"IF(OR(LEN($O163)=0),\"\",IFERROR(RIGHT(LARGE(COUNTIF(OFFSET($J163,-1,0,-1*$Q$3,5),{0,1,2,3,4,5,6,7,8,9})*1000+{100,90,80,70,60,50,40,30,20,10}+{0,1,2,3,4,5,6,7,8,9},COLUMN(A$21))),\"\"))","v":"0"},{"$f":"IF(OR(LEN($O163)=0),\"\",IFERROR(RIGHT(LARGE(COUNTIF(OFFSET($J163,-1,0,-1*$Q$3,5),{0,1,2,3,4,5,6,7,8,9})*1000+{100,90,80,70,60,50,40,30,20,10}+{0,1,2,3,4,5,6,7,8,9},COLUMN(B$21))),\"\"))","v":"6"},{"$f":"IF(OR(LEN($O163)=0),\"\",IFERROR(RIGHT(LARGE(COUNTIF(OFFSET($J163,-1,0,-1*$Q$3,5),{0,1,2,3,4,5,6,7,8,9})*1000+{100,90,80,70,60,50,40,30,20,10}+{0,1,2,3,4,5,6,7,8,9},COLUMN(C$21))),\"\"))","v":"1"},{"$f":"IF(OR(LEN($O163)=0),\"\",IFERROR(RIGHT(LARGE(COUNTIF(OFFSET($J163,-1,0,-1*$Q$3,5),{0,1,2,3,4,5,6,7,8,9})*1000+{100,90,80,70,60,50,40,30,20,10}+{0,1,2,3,4,5,6,7,8,9},COLUMN(D$21))),\"\"))","v":"5"},{"$f":"IF(OR(LEN($O163)=0),\"\",IFERROR(RIGHT(LARGE(COUNTIF(OFFSET($J163,-1,0,-1*$Q$3,5),{0,1,2,3,4,5,6,7,8,9})*1000+{100,90,80,70,60,50,40,30,20,10}+{0,1,2,3,4,5,6,7,8,9},COLUMN(E$21))),\"\"))","v":"3"},{"$f":"IF(OR(LEN($O163)=0),\"\",IFERROR(RIGHT(LARGE(COUNTIF(OFFSET($J163,-1,0,-1*$Q$3,5),{0,1,2,3,4,5,6,7,8,9})*1000+{100,90,80,70,60,50,40,30,20,10}+{0,1,2,3,4,5,6,7,8,9},COLUMN(F$21))),\"\"))","v":"2"},{"$f":"IF(OR(LEN($O163)=0),\"\",IFERROR(RIGHT(LARGE(COUNTIF(OFFSET($J163,-1,0,-1*$Q$3,5),{0,1,2,3,4,5,6,7,8,9})*1000+{100,90,80,70,60,50,40,30,20,10}+{0,1,2,3,4,5,6,7,8,9},COLUMN(G$21))),\"\"))","v":"8"},{"$f":"IF(OR(LEN($O163)=0),\"\",IFERROR(RIGHT(LARGE(COUNTIF(OFFSET($J163,-1,0,-1*$Q$3,5),{0,1,2,3,4,5,6,7,8,9})*1000+{100,90,80,70,60,50,40,30,20,10}+{0,1,2,3,4,5,6,7,8,9},COLUMN(H$21))),\"\"))","v":"9"},{"$f":"IF(OR(LEN($O163)=0),\"\",IFERROR(RIGHT(LARGE(COUNTIF(OFFSET($J163,-1,0,-1*$Q$3,5),{0,1,2,3,4,5,6,7,8,9})*1000+{100,90,80,70,60,50,40,30,20,10}+{0,1,2,3,4,5,6,7,8,9},COLUMN(I$21))),\"\"))","v":"7"},{"$f":"IF(OR(LEN($O163)=0),\"\",IFERROR(RIGHT(LARGE(COUNTIF(OFFSET($J163,-1,0,-1*$Q$3,5),{0,1,2,3,4,5,6,7,8,9})*1000+{100,90,80,70,60,50,40,30,20,10}+{0,1,2,3,4,5,6,7,8,9},COLUMN(J$21))),\"\"))","v":"4"},"0615","0","6","1","5","","","","","",""]
["20200515090","00288","0","0","2","8","8",null,null,"","","2","8","8","288",{"$f":"IF(OR(LEN($O164)=0),\"\",IFERROR(RIGHT(LARGE(COUNTIF(OFFSET($J164,-1,0,-1*$Q$3,5),{0,1,2,3,4,5,6,7,8,9})*1000+{100,90,80,70,60,50,40,30,20,10}+{0,1,2,3,4,5,6,7,8,9},COLUMN(A$21))),\"\"))","v":"0"},{"$f":"IF(OR(LEN($O164)=0),\"\",IFERROR(RIGHT(LARGE(COUNTIF(OFFSET($J164,-1,0,-1*$Q$3,5),{0,1,2,3,4,5,6,7,8,9})*1000+{100,90,80,70,60,50,40,30,20,10}+{0,1,2,3,4,5,6,7,8,9},COLUMN(B$21))),\"\"))","v":"6"},{"$f":"IF(OR(LEN($O164)=0),\"\",IFERROR(RIGHT(LARGE(COUNTIF(OFFSET($J164,-1,0,-1*$Q$3,5),{0,1,2,3,4,5,6,7,8,9})*1000+{100,90,80,70,60,50,40,30,20,10}+{0,1,2,3,4,5,6,7,8,9},COLUMN(C$21))),\"\"))","v":"1"},{"$f":"IF(OR(LEN($O164)=0),\"\",IFERROR(RIGHT(LARGE(COUNTIF(OFFSET($J164,-1,0,-1*$Q$3,5),{0,1,2,3,4,5,6,7,8,9})*1000+{100,90,80,70,60,50,40,30,20,10}+{0,1,2,3,4,5,6,7,8,9},COLUMN(D$21))),\"\"))","v":"5"},{"$f":"IF(OR(LEN($O164)=0),\"\",IFERROR(RIGHT(LARGE(COUNTIF(OFFSET($J164,-1,0,-1*$Q$3,5),{0,1,2,3,4,5,6,7,8,9})*1000+{100,90,80,70,60,50,40,30,20,10}+{0,1,2,3,4,5,6,7,8,9},COLUMN(E$21))),\"\"))","v":"2"},{"$f":"IF(OR(LEN($O164)=0),\"\",IFERROR(RIGHT(LARGE(COUNTIF(OFFSET($J164,-1,0,-1*$Q$3,5),{0,1,2,3,4,5,6,7,8,9})*1000+{100,90,80,70,60,50,40,30,20,10}+{0,1,2,3,4,5,6,7,8,9},COLUMN(F$21))),\"\"))","v":"3"},{"$f":"IF(OR(LEN($O164)=0),\"\",IFERROR(RIGHT(LARGE(COUNTIF(OFFSET($J164,-1,0,-1*$Q$3,5),{0,1,2,3,4,5,6,7,8,9})*1000+{100,90,80,70,60,50,40,30,20,10}+{0,1,2,3,4,5,6,7,8,9},COLUMN(G$21))),\"\"))","v":"8"},{"$f":"IF(OR(LEN($O164)=0),\"\",IFERROR(RIGHT(LARGE(COUNTIF(OFFSET($J164,-1,0,-1*$Q$3,5),{0,1,2,3,4,5,6,7,8,9})*1000+{100,90,80,70,60,50,40,30,20,10}+{0,1,2,3,4,5,6,7,8,9},COLUMN(H$21))),\"\"))","v":"9"},{"$f":"IF(OR(LEN($O164)=0),\"\",IFERROR(RIGHT(LARGE(COUNTIF(OFFSET($J164,-1,0,-1*$Q$3,5),{0,1,2,3,4,5,6,7,8,9})*1000+{100,90,80,70,60,50,40,30,20,10}+{0,1,2,3,4,5,6,7,8,9},COLUMN(I$21))),\"\"))","v":"7"},{"$f":"IF(OR(LEN($O164)=0),\"\",IFERROR(RIGHT(LARGE(COUNTIF(OFFSET($J164,-1,0,-1*$Q$3,5),{0,1,2,3,4,5,6,7,8,9})*1000+{100,90,80,70,60,50,40,30,20,10}+{0,1,2,3,4,5,6,7,8,9},COLUMN(J$21))),\"\"))","v":"4"},"0615","0","6","1","5","","","","","",""]
["20200515091","06571","0","6","5","7","1",null,null,"","","5","7","1","571",{"$f":"IF(OR(LEN($O165)=0),\"\",IFERROR(RIGHT(LARGE(COUNTIF(OFFSET($J165,-1,0,-1*$Q$3,5),{0,1,2,3,4,5,6,7,8,9})*1000+{100,90,80,70,60,50,40,30,20,10}+{0,1,2,3,4,5,6,7,8,9},COLUMN(A$21))),\"\"))","v":"0"},{"$f":"IF(OR(LEN($O165)=0),\"\",IFERROR(RIGHT(LARGE(COUNTIF(OFFSET($J165,-1,0,-1*$Q$3,5),{0,1,2,3,4,5,6,7,8,9})*1000+{100,90,80,70,60,50,40,30,20,10}+{0,1,2,3,4,5,6,7,8,9},COLUMN(B$21))),\"\"))","v":"6"},{"$f":"IF(OR(LEN($O165)=0),\"\",IFERROR(RIGHT(LARGE(COUNTIF(OFFSET($J165,-1,0,-1*$Q$3,5),{0,1,2,3,4,5,6,7,8,9})*1000+{100,90,80,70,60,50,40,30,20,10}+{0,1,2,3,4,5,6,7,8,9},COLUMN(C$21))),\"\"))","v":"1"},{"$f":"IF(OR(LEN($O165)=0),\"\",IFERROR(RIGHT(LARGE(COUNTIF(OFFSET($J165,-1,0,-1*$Q$3,5),{0,1,2,3,4,5,6,7,8,9})*1000+{100,90,80,70,60,50,40,30,20,10}+{0,1,2,3,4,5,6,7,8,9},COLUMN(D$21))),\"\"))","v":"2"},{"$f":"IF(OR(LEN($O165)=0),\"\",IFERROR(RIGHT(LARGE(COUNTIF(OFFSET($J165,-1,0,-1*$Q$3,5),{0,1,2,3,4,5,6,7,8,9})*1000+{100,90,80,70,60,50,40,30,20,10}+{0,1,2,3,4,5,6,7,8,9},COLUMN(E$21))),\"\"))","v":"5"},{"$f":"IF(OR(LEN($O165)=0),\"\",IFERROR(RIGHT(LARGE(COUNTIF(OFFSET($J165,-1,0,-1*$Q$3,5),{0,1,2,3,4,5,6,7,8,9})*1000+{100,90,80,70,60,50,40,30,20,10}+{0,1,2,3,4,5,6,7,8,9},COLUMN(F$21))),\"\"))","v":"8"},{"$f":"IF(OR(LEN($O165)=0),\"\",IFERROR(RIGHT(LARGE(COUNTIF(OFFSET($J165,-1,0,-1*$Q$3,5),{0,1,2,3,4,5,6,7,8,9})*1000+{100,90,80,70,60,50,40,30,20,10}+{0,1,2,3,4,5,6,7,8,9},COLUMN(G$21))),\"\"))","v":"3"},{"$f":"IF(OR(LEN($O165)=0),\"\",IFERROR(RIGHT(LARGE(COUNTIF(OFFSET($J165,-1,0,-1*$Q$3,5),{0,1,2,3,4,5,6,7,8,9})*1000+{100,90,80,70,60,50,40,30,20,10}+{0,1,2,3,4,5,6,7,8,9},COLUMN(H$21))),\"\"))","v":"9"},{"$f":"IF(OR(LEN($O165)=0),\"\",IFERROR(RIGHT(LARGE(COUNTIF(OFFSET($J165,-1,0,-1*$Q$3,5),{0,1,2,3,4,5,6,7,8,9})*1000+{100,90,80,70,60,50,40,30,20,10}+{0,1,2,3,4,5,6,7,8,9},COLUMN(I$21))),\"\"))","v":"7"},{"$f":"IF(OR(LEN($O165)=0),\"\",IFERROR(RIGHT(LARGE(COUNTIF(OFFSET($J165,-1,0,-1*$Q$3,5),{0,1,2,3,4,5,6,7,8,9})*1000+{100,90,80,70,60,50,40,30,20,10}+{0,1,2,3,4,5,6,7,8,9},COLUMN(J$21))),\"\"))","v":"4"},"0612","0","6","1","2","","","","","",""]
["20200515092","06742","0","6","7","4","2",null,null,"","","7","4","2","742",{"$f":"IF(OR(LEN($O166)=0),\"\",IFERROR(RIGHT(LARGE(COUNTIF(OFFSET($J166,-1,0,-1*$Q$3,5),{0,1,2,3,4,5,6,7,8,9})*1000+{100,90,80,70,60,50,40,30,20,10}+{0,1,2,3,4,5,6,7,8,9},COLUMN(A$21))),\"\"))","v":"0"},{"$f":"IF(OR(LEN($O166)=0),\"\",IFERROR(RIGHT(LARGE(COUNTIF(OFFSET($J166,-1,0,-1*$Q$3,5),{0,1,2,3,4,5,6,7,8,9})*1000+{100,90,80,70,60,50,40,30,20,10}+{0,1,2,3,4,5,6,7,8,9},COLUMN(B$21))),\"\"))","v":"6"},{"$f":"IF(OR(LEN($O166)=0),\"\",IFERROR(RIGHT(LARGE(COUNTIF(OFFSET($J166,-1,0,-1*$Q$3,5),{0,1,2,3,4,5,6,7,8,9})*1000+{100,90,80,70,60,50,40,30,20,10}+{0,1,2,3,4,5,6,7,8,9},COLUMN(C$21))),\"\"))","v":"1"},{"$f":"IF(OR(LEN($O166)=0),\"\",IFERROR(RIGHT(LARGE(COUNTIF(OFFSET($J166,-1,0,-1*$Q$3,5),{0,1,2,3,4,5,6,7,8,9})*1000+{100,90,80,70,60,50,40,30,20,10}+{0,1,2,3,4,5,6,7,8,9},COLUMN(D$21))),\"\"))","v":"5"},{"$f":"IF(OR(LEN($O166)=0),\"\",IFERROR(RIGHT(LARGE(COUNTIF(OFFSET($J166,-1,0,-1*$Q$3,5),{0,1,2,3,4,5,6,7,8,9})*1000+{100,90,80,70,60,50,40,30,20,10}+{0,1,2,3,4,5,6,7,8,9},COLUMN(E$21))),\"\"))","v":"2"},{"$f":"IF(OR(LEN($O166)=0),\"\",IFERROR(RIGHT(LARGE(COUNTIF(OFFSET($J166,-1,0,-1*$Q$3,5),{0,1,2,3,4,5,6,7,8,9})*1000+{100,90,80,70,60,50,40,30,20,10}+{0,1,2,3,4,5,6,7,8,9},COLUMN(F$21))),\"\"))","v":"8"},{"$f":"IF(OR(LEN($O166)=0),\"\",IFERROR(RIGHT(LARGE(COUNTIF(OFFSET($J166,-1,0,-1*$Q$3,5),{0,1,2,3,4,5,6,7,8,9})*1000+{100,90,80,70,60,50,40,30,20,10}+{0,1,2,3,4,5,6,7,8,9},COLUMN(G$21))),\"\"))","v":"3"},{"$f":"IF(OR(LEN($O166)=0),\"\",IFERROR(RIGHT(LARGE(COUNTIF(OFFSET($J166,-1,0,-1*$Q$3,5),{0,1,2,3,4,5,6,7,8,9})*1000+{100,90,80,70,60,50,40,30,20,10}+{0,1,2,3,4,5,6,7,8,9},COLUMN(H$21))),\"\"))","v":"9"},{"$f":"IF(OR(LEN($O166)=0),\"\",IFERROR(RIGHT(LARGE(COUNTIF(OFFSET($J166,-1,0,-1*$Q$3,5),{0,1,2,3,4,5,6,7,8,9})*1000+{100,90,80,70,60,50,40,30,20,10}+{0,1,2,3,4,5,6,7,8,9},COLUMN(I$21))),\"\"))","v":"7"},{"$f":"IF(OR(LEN($O166)=0),\"\",IFERROR(RIGHT(LARGE(COUNTIF(OFFSET($J166,-1,0,-1*$Q$3,5),{0,1,2,3,4,5,6,7,8,9})*1000+{100,90,80,70,60,50,40,30,20,10}+{0,1,2,3,4,5,6,7,8,9},COLUMN(J$21))),\"\"))","v":"4"},"0615","0","6","1","5","","","","","",""]
["20200515093","09717","0","9","7","1","7",null,null,"","","7","1","7","717",{"$f":"IF(OR(LEN($O167)=0),\"\",IFERROR(RIGHT(LARGE(COUNTIF(OFFSET($J167,-1,0,-1*$Q$3,5),{0,1,2,3,4,5,6,7,8,9})*1000+{100,90,80,70,60,50,40,30,20,10}+{0,1,2,3,4,5,6,7,8,9},COLUMN(A$21))),\"\"))","v":"0"},{"$f":"IF(OR(LEN($O167)=0),\"\",IFERROR(RIGHT(LARGE(COUNTIF(OFFSET($J167,-1,0,-1*$Q$3,5),{0,1,2,3,4,5,6,7,8,9})*1000+{100,90,80,70,60,50,40,30,20,10}+{0,1,2,3,4,5,6,7,8,9},COLUMN(B$21))),\"\"))","v":"6"},{"$f":"IF(OR(LEN($O167)=0),\"\",IFERROR(RIGHT(LARGE(COUNTIF(OFFSET($J167,-1,0,-1*$Q$3,5),{0,1,2,3,4,5,6,7,8,9})*1000+{100,90,80,70,60,50,40,30,20,10}+{0,1,2,3,4,5,6,7,8,9},COLUMN(C$21))),\"\"))","v":"2"},{"$f":"IF(OR(LEN($O167)=0),\"\",IFERROR(RIGHT(LARGE(COUNTIF(OFFSET($J167,-1,0,-1*$Q$3,5),{0,1,2,3,4,5,6,7,8,9})*1000+{100,90,80,70,60,50,40,30,20,10}+{0,1,2,3,4,5,6,7,8,9},COLUMN(D$21))),\"\"))","v":"1"},{"$f":"IF(OR(LEN($O167)=0),\"\",IFERROR(RIGHT(LARGE(COUNTIF(OFFSET($J167,-1,0,-1*$Q$3,5),{0,1,2,3,4,5,6,7,8,9})*1000+{100,90,80,70,60,50,40,30,20,10}+{0,1,2,3,4,5,6,7,8,9},COLUMN(E$21))),\"\"))","v":"5"},{"$f":"IF(OR(LEN($O167)=0),\"\",IFERROR(RIGHT(LARGE(COUNTIF(OFFSET($J167,-1,0,-1*$Q$3,5),{0,1,2,3,4,5,6,7,8,9})*1000+{100,90,80,70,60,50,40,30,20,10}+{0,1,2,3,4,5,6,7,8,9},COLUMN(F$21))),\"\"))","v":"8"},{"$f":"IF(OR(LEN($O167)=0),\"\",IFERROR(RIGHT(LARGE(COUNTIF(OFFSET($J167,-1,0,-1*$Q$3,5),{0,1,2,3,4,5,6,7,8,9})*1000+{100,90,80,70,60,50,40,30,20,10}+{0,1,2,3,4,5,6,7,8,9},COLUMN(G$21))),\"\"))","v":"3"},{"$f":"IF(OR(LEN($O167)=0),\"\",IFERROR(RIGHT(LARGE(COUNTIF(OFFSET($J167,-1,0,-1*$Q$3,5),{0,1,2,3,4,5,6,7,8,9})*1000+{100,90,80,70,60,50,40,30,20,10}+{0,1,2,3,4,5,6,7,8,9},COLUMN(H$21))),\"\"))","v":"9"},{"$f":"IF(OR(LEN($O167)=0),\"\",IFERROR(RIGHT(LARGE(COUNTIF(OFFSET($J167,-1,0,-1*$Q$3,5),{0,1,2,3,4,5,6,7,8,9})*1000+{100,90,80,70,60,50,40,30,20,10}+{0,1,2,3,4,5,6,7,8,9},COLUMN(I$21))),\"\"))","v":"7"},{"$f":"IF(OR(LEN($O167)=0),\"\",IFERROR(RIGHT(LARGE(COUNTIF(OFFSET($J167,-1,0,-1*$Q$3,5),{0,1,2,3,4,5,6,7,8,9})*1000+{100,90,80,70,60,50,40,30,20,10}+{0,1,2,3,4,5,6,7,8,9},COLUMN(J$21))),\"\"))","v":"4"},"0621","0","6","2","1","","","","","",""]
["20200515094","98238","9","8","2","3","8",null,null,"","","2","3","8","238",{"$f":"IF(OR(LEN($O168)=0),\"\",IFERROR(RIGHT(LARGE(COUNTIF(OFFSET($J168,-1,0,-1*$Q$3,5),{0,1,2,3,4,5,6,7,8,9})*1000+{100,90,80,70,60,50,40,30,20,10}+{0,1,2,3,4,5,6,7,8,9},COLUMN(A$21))),\"\"))","v":"0"},{"$f":"IF(OR(LEN($O168)=0),\"\",IFERROR(RIGHT(LARGE(COUNTIF(OFFSET($J168,-1,0,-1*$Q$3,5),{0,1,2,3,4,5,6,7,8,9})*1000+{100,90,80,70,60,50,40,30,20,10}+{0,1,2,3,4,5,6,7,8,9},COLUMN(B$21))),\"\"))","v":"6"},{"$f":"IF(OR(LEN($O168)=0),\"\",IFERROR(RIGHT(LARGE(COUNTIF(OFFSET($J168,-1,0,-1*$Q$3,5),{0,1,2,3,4,5,6,7,8,9})*1000+{100,90,80,70,60,50,40,30,20,10}+{0,1,2,3,4,5,6,7,8,9},COLUMN(C$21))),\"\"))","v":"1"},{"$f":"IF(OR(LEN($O168)=0),\"\",IFERROR(RIGHT(LARGE(COUNTIF(OFFSET($J168,-1,0,-1*$Q$3,5),{0,1,2,3,4,5,6,7,8,9})*1000+{100,90,80,70,60,50,40,30,20,10}+{0,1,2,3,4,5,6,7,8,9},COLUMN(D$21))),\"\"))","v":"2"},{"$f":"IF(OR(LEN($O168)=0),\"\",IFERROR(RIGHT(LARGE(COUNTIF(OFFSET($J168,-1,0,-1*$Q$3,5),{0,1,2,3,4,5,6,7,8,9})*1000+{100,90,80,70,60,50,40,30,20,10}+{0,1,2,3,4,5,6,7,8,9},COLUMN(E$21))),\"\"))","v":"5"},{"$f":"IF(OR(LEN($O168)=0),\"\",IFERROR(RIGHT(LARGE(COUNTIF(OFFSET($J168,-1,0,-1*$Q$3,5),{0,1,2,3,4,5,6,7,8,9})*1000+{100,90,80,70,60,50,40,30,20,10}+{0,1,2,3,4,5,6,7,8,9},COLUMN(F$21))),\"\"))","v":"8"},{"$f":"IF(OR(LEN($O168)=0),\"\",IFERROR(RIGHT(LARGE(COUNTIF(OFFSET($J168,-1,0,-1*$Q$3,5),{0,1,2,3,4,5,6,7,8,9})*1000+{100,90,80,70,60,50,40,30,20,10}+{0,1,2,3,4,5,6,7,8,9},COLUMN(G$21))),\"\"))","v":"3"},{"$f":"IF(OR(LEN($O168)=0),\"\",IFERROR(RIGHT(LARGE(COUNTIF(OFFSET($J168,-1,0,-1*$Q$3,5),{0,1,2,3,4,5,6,7,8,9})*1000+{100,90,80,70,60,50,40,30,20,10}+{0,1,2,3,4,5,6,7,8,9},COLUMN(H$21))),\"\"))","v":"7"},{"$f":"IF(OR(LEN($O168)=0),\"\",IFERROR(RIGHT(LARGE(COUNTIF(OFFSET($J168,-1,0,-1*$Q$3,5),{0,1,2,3,4,5,6,7,8,9})*1000+{100,90,80,70,60,50,40,30,20,10}+{0,1,2,3,4,5,6,7,8,9},COLUMN(I$21))),\"\"))","v":"9"},{"$f":"IF(OR(LEN($O168)=0),\"\",IFERROR(RIGHT(LARGE(COUNTIF(OFFSET($J168,-1,0,-1*$Q$3,5),{0,1,2,3,4,5,6,7,8,9})*1000+{100,90,80,70,60,50,40,30,20,10}+{0,1,2,3,4,5,6,7,8,9},COLUMN(J$21))),\"\"))","v":"4"},"0612","0","6","1","2","","","","","",""]
["20200515095","59424","5","9","4","2","4",null,null,"","","4","2","4","424",{"$f":"IF(OR(LEN($O169)=0),\"\",IFERROR(RIGHT(LARGE(COUNTIF(OFFSET($J169,-1,0,-1*$Q$3,5),{0,1,2,3,4,5,6,7,8,9})*1000+{100,90,80,70,60,50,40,30,20,10}+{0,1,2,3,4,5,6,7,8,9},COLUMN(A$21))),\"\"))","v":"0"},{"$f":"IF(OR(LEN($O169)=0),\"\",IFERROR(RIGHT(LARGE(COUNTIF(OFFSET($J169,-1,0,-1*$Q$3,5),{0,1,2,3,4,5,6,7,8,9})*1000+{100,90,80,70,60,50,40,30,20,10}+{0,1,2,3,4,5,6,7,8,9},COLUMN(B$21))),\"\"))","v":"6"},{"$f":"IF(OR(LEN($O169)=0),\"\",IFERROR(RIGHT(LARGE(COUNTIF(OFFSET($J169,-1,0,-1*$Q$3,5),{0,1,2,3,4,5,6,7,8,9})*1000+{100,90,80,70,60,50,40,30,20,10}+{0,1,2,3,4,5,6,7,8,9},COLUMN(C$21))),\"\"))","v":"2"},{"$f":"IF(OR(LEN($O169)=0),\"\",IFERROR(RIGHT(LARGE(COUNTIF(OFFSET($J169,-1,0,-1*$Q$3,5),{0,1,2,3,4,5,6,7,8,9})*1000+{100,90,80,70,60,50,40,30,20,10}+{0,1,2,3,4,5,6,7,8,9},COLUMN(D$21))),\"\"))","v":"1"},{"$f":"IF(OR(LEN($O169)=0),\"\",IFERROR(RIGHT(LARGE(COUNTIF(OFFSET($J169,-1,0,-1*$Q$3,5),{0,1,2,3,4,5,6,7,8,9})*1000+{100,90,80,70,60,50,40,30,20,10}+{0,1,2,3,4,5,6,7,8,9},COLUMN(E$21))),\"\"))","v":"5"},{"$f":"IF(OR(LEN($O169)=0),\"\",IFERROR(RIGHT(LARGE(COUNTIF(OFFSET($J169,-1,0,-1*$Q$3,5),{0,1,2,3,4,5,6,7,8,9})*1000+{100,90,80,70,60,50,40,30,20,10}+{0,1,2,3,4,5,6,7,8,9},COLUMN(F$21))),\"\"))","v":"8"},{"$f":"IF(OR(LEN($O169)=0),\"\",IFERROR(RIGHT(LARGE(COUNTIF(OFFSET($J169,-1,0,-1*$Q$3,5),{0,1,2,3,4,5,6,7,8,9})*1000+{100,90,80,70,60,50,40,30,20,10}+{0,1,2,3,4,5,6,7,8,9},COLUMN(G$21))),\"\"))","v":"3"},{"$f":"IF(OR(LEN($O169)=0),\"\",IFERROR(RIGHT(LARGE(COUNTIF(OFFSET($J169,-1,0,-1*$Q$3,5),{0,1,2,3,4,5,6,7,8,9})*1000+{100,90,80,70,60,50,40,30,20,10}+{0,1,2,3,4,5,6,7,8,9},COLUMN(H$21))),\"\"))","v":"7"},{"$f":"IF(OR(LEN($O169)=0),\"\",IFERROR(RIGHT(LARGE(COUNTIF(OFFSET($J169,-1,0,-1*$Q$3,5),{0,1,2,3,4,5,6,7,8,9})*1000+{100,90,80,70,60,50,40,30,20,10}+{0,1,2,3,4,5,6,7,8,9},COLUMN(I$21))),\"\"))","v":"9"},{"$f":"IF(OR(LEN($O169)=0),\"\",IFERROR(RIGHT(LARGE(COUNTIF(OFFSET($J169,-1,0,-1*$Q$3,5),{0,1,2,3,4,5,6,7,8,9})*1000+{100,90,80,70,60,50,40,30,20,10}+{0,1,2,3,4,5,6,7,8,9},COLUMN(J$21))),\"\"))","v":"4"},"0621","0","6","2","1","","","","","",""]
["20200515096","22976","2","2","9","7","6",null,null,{"$f":"IF(J$3=0,\"\",C170)","v":""},{"$f":"IF(K$3=0,\"\",D170)","v":""},{"$f":"IF(L$3=0,\"\",E170)","v":"9"},{"$f":"IF(M$3=0,\"\",F170)","v":"7"},{"$f":"IF(N$3=0,\"\",G170)","v":"6"},"976",{"$f":"IF(OR(LEN($O170)=0),\"\",IFERROR(RIGHT(LARGE(COUNTIF(OFFSET($J170,-1,0,-1*$Q$3,5),{0,1,2,3,4,5,6,7,8,9})*1000+{100,90,80,70,60,50,40,30,20,10}+{0,1,2,3,4,5,6,7,8,9},COLUMN(A$21))),\"\"))","v":"0"},{"$f":"IF(OR(LEN($O170)=0),\"\",IFERROR(RIGHT(LARGE(COUNTIF(OFFSET($J170,-1,0,-1*$Q$3,5),{0,1,2,3,4,5,6,7,8,9})*1000+{100,90,80,70,60,50,40,30,20,10}+{0,1,2,3,4,5,6,7,8,9},COLUMN(B$21))),\"\"))","v":"6"},{"$f":"IF(OR(LEN($O170)=0),\"\",IFERROR(RIGHT(LARGE(COUNTIF(OFFSET($J170,-1,0,-1*$Q$3,5),{0,1,2,3,4,5,6,7,8,9})*1000+{100,90,80,70,60,50,40,30,20,10}+{0,1,2,3,4,5,6,7,8,9},COLUMN(C$21))),\"\"))","v":"2"},{"$f":"IF(OR(LEN($O170)=0),\"\",IFERROR(RIGHT(LARGE(COUNTIF(OFFSET($J170,-1,0,-1*$Q$3,5),{0,1,2,3,4,5,6,7,8,9})*1000+{100,90,80,70,60,50,40,30,20,10}+{0,1,2,3,4,5,6,7,8,9},COLUMN(D$21))),\"\"))","v":"1"},{"$f":"IF(OR(LEN($O170)=0),\"\",IFERROR(RIGHT(LARGE(COUNTIF(OFFSET($J170,-1,0,-1*$Q$3,5),{0,1,2,3,4,5,6,7,8,9})*1000+{100,90,80,70,60,50,40,30,20,10}+{0,1,2,3,4,5,6,7,8,9},COLUMN(E$21))),\"\"))","v":"5"},{"$f":"IF(OR(LEN($O170)=0),\"\",IFERROR(RIGHT(LARGE(COUNTIF(OFFSET($J170,-1,0,-1*$Q$3,5),{0,1,2,3,4,5,6,7,8,9})*1000+{100,90,80,70,60,50,40,30,20,10}+{0,1,2,3,4,5,6,7,8,9},COLUMN(F$21))),\"\"))","v":"8"},{"$f":"IF(OR(LEN($O170)=0),\"\",IFERROR(RIGHT(LARGE(COUNTIF(OFFSET($J170,-1,0,-1*$Q$3,5),{0,1,2,3,4,5,6,7,8,9})*1000+{100,90,80,70,60,50,40,30,20,10}+{0,1,2,3,4,5,6,7,8,9},COLUMN(G$21))),\"\"))","v":"3"},{"$f":"IF(OR(LEN($O170)=0),\"\",IFERROR(RIGHT(LARGE(COUNTIF(OFFSET($J170,-1,0,-1*$Q$3,5),{0,1,2,3,4,5,6,7,8,9})*1000+{100,90,80,70,60,50,40,30,20,10}+{0,1,2,3,4,5,6,7,8,9},COLUMN(H$21))),\"\"))","v":"7"},{"$f":"IF(OR(LEN($O170)=0),\"\",IFERROR(RIGHT(LARGE(COUNTIF(OFFSET($J170,-1,0,-1*$Q$3,5),{0,1,2,3,4,5,6,7,8,9})*1000+{100,90,80,70,60,50,40,30,20,10}+{0,1,2,3,4,5,6,7,8,9},COLUMN(I$21))),\"\"))","v":"4"},{"$f":"IF(OR(LEN($O170)=0),\"\",IFERROR(RIGHT(LARGE(COUNTIF(OFFSET($J170,-1,0,-1*$Q$3,5),{0,1,2,3,4,5,6,7,8,9})*1000+{100,90,80,70,60,50,40,30,20,10}+{0,1,2,3,4,5,6,7,8,9},COLUMN(J$21))),\"\"))","v":"9"},"0621","0","6","2","1","","","","","",""]
["20200515097","97330","9","7","3","3","0",null,null,"","","3","3","0","330",{"$f":"IF(OR(LEN($O171)=0),\"\",IFERROR(RIGHT(LARGE(COUNTIF(OFFSET($J171,-1,0,-1*$Q$3,5),{0,1,2,3,4,5,6,7,8,9})*1000+{100,90,80,70,60,50,40,30,20,10}+{0,1,2,3,4,5,6,7,8,9},COLUMN(A$21))),\"\"))","v":"0"},{"$f":"IF(OR(LEN($O171)=0),\"\",IFERROR(RIGHT(LARGE(COUNTIF(OFFSET($J171,-1,0,-1*$Q$3,5),{0,1,2,3,4,5,6,7,8,9})*1000+{100,90,80,70,60,50,40,30,20,10}+{0,1,2,3,4,5,6,7,8,9},COLUMN(B$21))),\"\"))","v":"6"},{"$f":"IF(OR(LEN($O171)=0),\"\",IFERROR(RIGHT(LARGE(COUNTIF(OFFSET($J171,-1,0,-1*$Q$3,5),{0,1,2,3,4,5,6,7,8,9})*1000+{100,90,80,70,60,50,40,30,20,10}+{0,1,2,3,4,5,6,7,8,9},COLUMN(C$21))),\"\"))","v":"2"},{"$f":"IF(OR(LEN($O171)=0),\"\",IFERROR(RIGHT(LARGE(COUNTIF(OFFSET($J171,-1,0,-1*$Q$3,5),{0,1,2,3,4,5,6,7,8,9})*1000+{100,90,80,70,60,50,40,30,20,10}+{0,1,2,3,4,5,6,7,8,9},COLUMN(D$21))),\"\"))","v":"1"},{"$f":"IF(OR(LEN($O171)=0),\"\",IFERROR(RIGHT(LARGE(COUNTIF(OFFSET($J171,-1,0,-1*$Q$3,5),{0,1,2,3,4,5,6,7,8,9})*1000+{100,90,80,70,60,50,40,30,20,10}+{0,1,2,3,4,5,6,7,8,9},COLUMN(E$21))),\"\"))","v":"5"},{"$f":"IF(OR(LEN($O171)=0),\"\",IFERROR(RIGHT(LARGE(COUNTIF(OFFSET($J171,-1,0,-1*$Q$3,5),{0,1,2,3,4,5,6,7,8,9})*1000+{100,90,80,70,60,50,40,30,20,10}+{0,1,2,3,4,5,6,7,8,9},COLUMN(F$21))),\"\"))","v":"8"},{"$f":"IF(OR(LEN($O171)=0),\"\",IFERROR(RIGHT(LARGE(COUNTIF(OFFSET($J171,-1,0,-1*$Q$3,5),{0,1,2,3,4,5,6,7,8,9})*1000+{100,90,80,70,60,50,40,30,20,10}+{0,1,2,3,4,5,6,7,8,9},COLUMN(G$21))),\"\"))","v":"7"},{"$f":"IF(OR(LEN($O171)=0),\"\",IFERROR(RIGHT(LARGE(COUNTIF(OFFSET($J171,-1,0,-1*$Q$3,5),{0,1,2,3,4,5,6,7,8,9})*1000+{100,90,80,70,60,50,40,30,20,10}+{0,1,2,3,4,5,6,7,8,9},COLUMN(H$21))),\"\"))","v":"3"},{"$f":"IF(OR(LEN($O171)=0),\"\",IFERROR(RIGHT(LARGE(COUNTIF(OFFSET($J171,-1,0,-1*$Q$3,5),{0,1,2,3,4,5,6,7,8,9})*1000+{100,90,80,70,60,50,40,30,20,10}+{0,1,2,3,4,5,6,7,8,9},COLUMN(I$21))),\"\"))","v":"9"},{"$f":"IF(OR(LEN($O171)=0),\"\",IFERROR(RIGHT(LARGE(COUNTIF(OFFSET($J171,-1,0,-1*$Q$3,5),{0,1,2,3,4,5,6,7,8,9})*1000+{100,90,80,70,60,50,40,30,20,10}+{0,1,2,3,4,5,6,7,8,9},COLUMN(J$21))),\"\"))","v":"4"},{"$f":"AA171&AB171&AC171&AD171&AE171&AF171&AG171&AH171&AI171&AJ171","v":"0621"},"0","6","2","1","",{"$f":"IF(U$4=1,U171,\"\")","v":""},{"$f":"IF(V$4=1,V171,\"\")","v":""},{"$f":"IF(W$4=1,W171,\"\")","v":""},{"$f":"IF(X$4=1,X171,\"\")","v":""},{"$f":"IF(Y$4=1,Y171,\"\")","v":""}]
["20200515098","15215","1","5","2","1","5",null,null,"","","2","1","5","215",{"$f":"IF(OR(LEN($O172)=0),\"\",IFERROR(RIGHT(LARGE(COUNTIF(OFFSET($J172,-1,0,-1*$Q$3,5),{0,1,2,3,4,5,6,7,8,9})*1000+{100,90,80,70,60,50,40,30,20,10}+{0,1,2,3,4,5,6,7,8,9},COLUMN(A$21))),\"\"))","v":"0"},{"$f":"IF(OR(LEN($O172)=0),\"\",IFERROR(RIGHT(LARGE(COUNTIF(OFFSET($J172,-1,0,-1*$Q$3,5),{0,1,2,3,4,5,6,7,8,9})*1000+{100,90,80,70,60,50,40,30,20,10}+{0,1,2,3,4,5,6,7,8,9},COLUMN(B$21))),\"\"))","v":"6"},{"$f":"IF(OR(LEN($O172)=0),\"\",IFERROR(RIGHT(LARGE(COUNTIF(OFFSET($J172,-1,0,-1*$Q$3,5),{0,1,2,3,4,5,6,7,8,9})*1000+{100,90,80,70,60,50,40,30,20,10}+{0,1,2,3,4,5,6,7,8,9},COLUMN(C$21))),\"\"))","v":"1"},{"$f":"IF(OR(LEN($O172)=0),\"\",IFERROR(RIGHT(LARGE(COUNTIF(OFFSET($J172,-1,0,-1*$Q$3,5),{0,1,2,3,4,5,6,7,8,9})*1000+{100,90,80,70,60,50,40,30,20,10}+{0,1,2,3,4,5,6,7,8,9},COLUMN(D$21))),\"\"))","v":"2"},{"$f":"IF(OR(LEN($O172)=0),\"\",IFERROR(RIGHT(LARGE(COUNTIF(OFFSET($J172,-1,0,-1*$Q$3,5),{0,1,2,3,4,5,6,7,8,9})*1000+{100,90,80,70,60,50,40,30,20,10}+{0,1,2,3,4,5,6,7,8,9},COLUMN(E$21))),\"\"))","v":"8"},{"$f":"IF(OR(LEN($O172)=0),\"\",IFERROR(RIGHT(LARGE(COUNTIF(OFFSET($J172,-1,0,-1*$Q$3,5),{0,1,2,3,4,5,6,7,8,9})*1000+{100,90,80,70,60,50,40,30,20,10}+{0,1,2,3,4,5,6,7,8,9},COLUMN(F$21))),\"\"))","v":"3"},{"$f":"IF(OR(LEN($O172)=0),\"\",IFERROR(RIGHT(LARGE(COUNTIF(OFFSET($J172,-1,0,-1*$Q$3,5),{0,1,2,3,4,5,6,7,8,9})*1000+{100,90,80,70,60,50,40,30,20,10}+{0,1,2,3,4,5,6,7,8,9},COLUMN(G$21))),\"\"))","v":"5"},{"$f":"IF(OR(LEN($O172)=0),\"\",IFERROR(RIGHT(LARGE(COUNTIF(OFFSET($J172,-1,0,-1*$Q$3,5),{0,1,2,3,4,5,6,7,8,9})*1000+{100,90,80,70,60,50,40,30,20,10}+{0,1,2,3,4,5,6,7,8,9},COLUMN(H$21))),\"\"))","v":"7"},{"$f":"IF(OR(LEN($O172)=0),\"\",IFERROR(RIGHT(LARGE(COUNTIF(OFFSET($J172,-1,0,-1*$Q$3,5),{0,1,2,3,4,5,6,7,8,9})*1000+{100,90,80,70,60,50,40,30,20,10}+{0,1,2,3,4,5,6,7,8,9},COLUMN(I$21))),\"\"))","v":"9"},{"$f":"IF(OR(LEN($O172)=0),\"\",IFERROR(RIGHT(LARGE(COUNTIF(OFFSET($J172,-1,0,-1*$Q$3,5),{0,1,2,3,4,5,6,7,8,9})*1000+{100,90,80,70,60,50,40,30,20,10}+{0,1,2,3,4,5,6,7,8,9},COLUMN(J$21))),\"\"))","v":"4"},"0612","0","6","1","2","","","","","",""]
["20200515099","25887","2","5","8","8","7",null,null,"","","8","8","7","887",{"$f":"IF(OR(LEN($O173)=0),\"\",IFERROR(RIGHT(LARGE(COUNTIF(OFFSET($J173,-1,0,-1*$Q$3,5),{0,1,2,3,4,5,6,7,8,9})*1000+{100,90,80,70,60,50,40,30,20,10}+{0,1,2,3,4,5,6,7,8,9},COLUMN(A$21))),\"\"))","v":"0"},{"$f":"IF(OR(LEN($O173)=0),\"\",IFERROR(RIGHT(LARGE(COUNTIF(OFFSET($J173,-1,0,-1*$Q$3,5),{0,1,2,3,4,5,6,7,8,9})*1000+{100,90,80,70,60,50,40,30,20,10}+{0,1,2,3,4,5,6,7,8,9},COLUMN(B$21))),\"\"))","v":"6"},{"$f":"IF(OR(LEN($O173)=0),\"\",IFERROR(RIGHT(LARGE(COUNTIF(OFFSET($J173,-1,0,-1*$Q$3,5),{0,1,2,3,4,5,6,7,8,9})*1000+{100,90,80,70,60,50,40,30,20,10}+{0,1,2,3,4,5,6,7,8,9},COLUMN(C$21))),\"\"))","v":"2"},{"$f":"IF(OR(LEN($O173)=0),\"\",IFERROR(RIGHT(LARGE(COUNTIF(OFFSET($J173,-1,0,-1*$Q$3,5),{0,1,2,3,4,5,6,7,8,9})*1000+{100,90,80,70,60,50,40,30,20,10}+{0,1,2,3,4,5,6,7,8,9},COLUMN(D$21))),\"\"))","v":"1"},{"$f":"IF(OR(LEN($O173)=0),\"\",IFERROR(RIGHT(LARGE(COUNTIF(OFFSET($J173,-1,0,-1*$Q$3,5),{0,1,2,3,4,5,6,7,8,9})*1000+{100,90,80,70,60,50,40,30,20,10}+{0,1,2,3,4,5,6,7,8,9},COLUMN(E$21))),\"\"))","v":"5"},{"$f":"IF(OR(LEN($O173)=0),\"\",IFERROR(RIGHT(LARGE(COUNTIF(OFFSET($J173,-1,0,-1*$Q$3,5),{0,1,2,3,4,5,6,7,8,9})*1000+{100,90,80,70,60,50,40,30,20,10}+{0,1,2,3,4,5,6,7,8,9},COLUMN(F$21))),\"\"))","v":"8"},{"$f":"IF(OR(LEN($O173)=0),\"\",IFERROR(RIGHT(LARGE(COUNTIF(OFFSET($J173,-1,0,-1*$Q$3,5),{0,1,2,3,4,5,6,7,8,9})*1000+{100,90,80,70,60,50,40,30,20,10}+{0,1,2,3,4,5,6,7,8,9},COLUMN(G$21))),\"\"))","v":"3"},{"$f":"IF(OR(LEN($O173)=0),\"\",IFERROR(RIGHT(LARGE(COUNTIF(OFFSET($J173,-1,0,-1*$Q$3,5),{0,1,2,3,4,5,6,7,8,9})*1000+{100,90,80,70,60,50,40,30,20,10}+{0,1,2,3,4,5,6,7,8,9},COLUMN(H$21))),\"\"))","v":"7"},{"$f":"IF(OR(LEN($O173)=0),\"\",IFERROR(RIGHT(LARGE(COUNTIF(OFFSET($J173,-1,0,-1*$Q$3,5),{0,1,2,3,4,5,6,7,8,9})*1000+{100,90,80,70,60,50,40,30,20,10}+{0,1,2,3,4,5,6,7,8,9},COLUMN(I$21))),\"\"))","v":"9"},{"$f":"IF(OR(LEN($O173)=0),\"\",IFERROR(RIGHT(LARGE(COUNTIF(OFFSET($J173,-1,0,-1*$Q$3,5),{0,1,2,3,4,5,6,7,8,9})*1000+{100,90,80,70,60,50,40,30,20,10}+{0,1,2,3,4,5,6,7,8,9},COLUMN(J$21))),\"\"))","v":"4"},"0621","0","6","2","1","","","","","",""]
["20200515100","88750","8","8","7","5","0",null,null,"","","7","5","0","750",{"$f":"IF(OR(LEN($O174)=0),\"\",IFERROR(RIGHT(LARGE(COUNTIF(OFFSET($J174,-1,0,-1*$Q$3,5),{0,1,2,3,4,5,6,7,8,9})*1000+{100,90,80,70,60,50,40,30,20,10}+{0,1,2,3,4,5,6,7,8,9},COLUMN(A$21))),\"\"))","v":"6"},{"$f":"IF(OR(LEN($O174)=0),\"\",IFERROR(RIGHT(LARGE(COUNTIF(OFFSET($J174,-1,0,-1*$Q$3,5),{0,1,2,3,4,5,6,7,8,9})*1000+{100,90,80,70,60,50,40,30,20,10}+{0,1,2,3,4,5,6,7,8,9},COLUMN(B$21))),\"\"))","v":"0"},{"$f":"IF(OR(LEN($O174)=0),\"\",IFERROR(RIGHT(LARGE(COUNTIF(OFFSET($J174,-1,0,-1*$Q$3,5),{0,1,2,3,4,5,6,7,8,9})*1000+{100,90,80,70,60,50,40,30,20,10}+{0,1,2,3,4,5,6,7,8,9},COLUMN(C$21))),\"\"))","v":"2"},{"$f":"IF(OR(LEN($O174)=0),\"\",IFERROR(RIGHT(LARGE(COUNTIF(OFFSET($J174,-1,0,-1*$Q$3,5),{0,1,2,3,4,5,6,7,8,9})*1000+{100,90,80,70,60,50,40,30,20,10}+{0,1,2,3,4,5,6,7,8,9},COLUMN(D$21))),\"\"))","v":"8"},{"$f":"IF(OR(LEN($O174)=0),\"\",IFERROR(RIGHT(LARGE(COUNTIF(OFFSET($J174,-1,0,-1*$Q$3,5),{0,1,2,3,4,5,6,7,8,9})*1000+{100,90,80,70,60,50,40,30,20,10}+{0,1,2,3,4,5,6,7,8,9},COLUMN(E$21))),\"\"))","v":"1"},{"$f":"IF(OR(LEN($O174)=0),\"\",IFERROR(RIGHT(LARGE(COUNTIF(OFFSET($J174,-1,0,-1*$Q$3,5),{0,1,2,3,4,5,6,7,8,9})*1000+{100,90,80,70,60,50,40,30,20,10}+{0,1,2,3,4,5,6,7,8,9},COLUMN(F$21))),\"\"))","v":"7"},{"$f":"IF(OR(LEN($O174)=0),\"\",IFERROR(RIGHT(LARGE(COUNTIF(OFFSET($J174,-1,0,-1*$Q$3,5),{0,1,2,3,4,5,6,7,8,9})*1000+{100,90,80,70,60,50,40,30,20,10}+{0,1,2,3,4,5,6,7,8,9},COLUMN(G$21))),\"\"))","v":"3"},{"$f":"IF(OR(LEN($O174)=0),\"\",IFERROR(RIGHT(LARGE(COUNTIF(OFFSET($J174,-1,0,-1*$Q$3,5),{0,1,2,3,4,5,6,7,8,9})*1000+{100,90,80,70,60,50,40,30,20,10}+{0,1,2,3,4,5,6,7,8,9},COLUMN(H$21))),\"\"))","v":"5"},{"$f":"IF(OR(LEN($O174)=0),\"\",IFERROR(RIGHT(LARGE(COUNTIF(OFFSET($J174,-1,0,-1*$Q$3,5),{0,1,2,3,4,5,6,7,8,9})*1000+{100,90,80,70,60,50,40,30,20,10}+{0,1,2,3,4,5,6,7,8,9},COLUMN(I$21))),\"\"))","v":"9"},{"$f":"IF(OR(LEN($O174)=0),\"\",IFERROR(RIGHT(LARGE(COUNTIF(OFFSET($J174,-1,0,-1*$Q$3,5),{0,1,2,3,4,5,6,7,8,9})*1000+{100,90,80,70,60,50,40,30,20,10}+{0,1,2,3,4,5,6,7,8,9},COLUMN(J$21))),\"\"))","v":"4"},"6028","6","0","2","8","","","","","",""]
["20200515101","02902","0","2","9","0","2",null,null,"","","9","0","2","902",{"$f":"IF(OR(LEN($O175)=0),\"\",IFERROR(RIGHT(LARGE(COUNTIF(OFFSET($J175,-1,0,-1*$Q$3,5),{0,1,2,3,4,5,6,7,8,9})*1000+{100,90,80,70,60,50,40,30,20,10}+{0,1,2,3,4,5,6,7,8,9},COLUMN(A$21))),\"\"))","v":"0"},{"$f":"IF(OR(LEN($O175)=0),\"\",IFERROR(RIGHT(LARGE(COUNTIF(OFFSET($J175,-1,0,-1*$Q$3,5),{0,1,2,3,4,5,6,7,8,9})*1000+{100,90,80,70,60,50,40,30,20,10}+{0,1,2,3,4,5,6,7,8,9},COLUMN(B$21))),\"\"))","v":"6"},{"$f":"IF(OR(LEN($O175)=0),\"\",IFERROR(RIGHT(LARGE(COUNTIF(OFFSET($J175,-1,0,-1*$Q$3,5),{0,1,2,3,4,5,6,7,8,9})*1000+{100,90,80,70,60,50,40,30,20,10}+{0,1,2,3,4,5,6,7,8,9},COLUMN(C$21))),\"\"))","v":"2"},{"$f":"IF(OR(LEN($O175)=0),\"\",IFERROR(RIGHT(LARGE(COUNTIF(OFFSET($J175,-1,0,-1*$Q$3,5),{0,1,2,3,4,5,6,7,8,9})*1000+{100,90,80,70,60,50,40,30,20,10}+{0,1,2,3,4,5,6,7,8,9},COLUMN(D$21))),\"\"))","v":"1"},{"$f":"IF(OR(LEN($O175)=0),\"\",IFERROR(RIGHT(LARGE(COUNTIF(OFFSET($J175,-1,0,-1*$Q$3,5),{0,1,2,3,4,5,6,7,8,9})*1000+{100,90,80,70,60,50,40,30,20,10}+{0,1,2,3,4,5,6,7,8,9},COLUMN(E$21))),\"\"))","v":"7"},{"$f":"IF(OR(LEN($O175)=0),\"\",IFERROR(RIGHT(LARGE(COUNTIF(OFFSET($J175,-1,0,-1*$Q$3,5),{0,1,2,3,4,5,6,7,8,9})*1000+{100,90,80,70,60,50,40,30,20,10}+{0,1,2,3,4,5,6,7,8,9},COLUMN(F$21))),\"\"))","v":"8"},{"$f":"IF(OR(LEN($O175)=0),\"\",IFERROR(RIGHT(LARGE(COUNTIF(OFFSET($J175,-1,0,-1*$Q$3,5),{0,1,2,3,4,5,6,7,8,9})*1000+{100,90,80,70,60,50,40,30,20,10}+{0,1,2,3,4,5,6,7,8,9},COLUMN(G$21))),\"\"))","v":"5"},{"$f":"IF(OR(LEN($O175)=0),\"\",IFERROR(RIGHT(LARGE(COUNTIF(OFFSET($J175,-1,0,-1*$Q$3,5),{0,1,2,3,4,5,6,7,8,9})*1000+{100,90,80,70,60,50,40,30,20,10}+{0,1,2,3,4,5,6,7,8,9},COLUMN(H$21))),\"\"))","v":"3"},{"$f":"IF(OR(LEN($O175)=0),\"\",IFERROR(RIGHT(LARGE(COUNTIF(OFFSET($J175,-1,0,-1*$Q$3,5),{0,1,2,3,4,5,6,7,8,9})*1000+{100,90,80,70,60,50,40,30,20,10}+{0,1,2,3,4,5,6,7,8,9},COLUMN(I$21))),\"\"))","v":"9"},{"$f":"IF(OR(LEN($O175)=0),\"\",IFERROR(RIGHT(LARGE(COUNTIF(OFFSET($J175,-1,0,-1*$Q$3,5),{0,1,2,3,4,5,6,7,8,9})*1000+{100,90,80,70,60,50,40,30,20,10}+{0,1,2,3,4,5,6,7,8,9},COLUMN(J$21))),\"\"))","v":"4"},"0621","0","6","2","1","","","","","",""]
["20200515102","81992","8","1","9","9","2",null,null,"","","9","9","2","992",{"$f":"IF(OR(LEN($O176)=0),\"\",IFERROR(RIGHT(LARGE(COUNTIF(OFFSET($J176,-1,0,-1*$Q$3,5),{0,1,2,3,4,5,6,7,8,9})*1000+{100,90,80,70,60,50,40,30,20,10}+{0,1,2,3,4,5,6,7,8,9},COLUMN(A$21))),\"\"))","v":"0"},{"$f":"IF(OR(LEN($O176)=0),\"\",IFERROR(RIGHT(LARGE(COUNTIF(OFFSET($J176,-1,0,-1*$Q$3,5),{0,1,2,3,4,5,6,7,8,9})*1000+{100,90,80,70,60,50,40,30,20,10}+{0,1,2,3,4,5,6,7,8,9},COLUMN(B$21))),\"\"))","v":"2"},{"$f":"IF(OR(LEN($O176)=0),\"\",IFERROR(RIGHT(LARGE(COUNTIF(OFFSET($J176,-1,0,-1*$Q$3,5),{0,1,2,3,4,5,6,7,8,9})*1000+{100,90,80,70,60,50,40,30,20,10}+{0,1,2,3,4,5,6,7,8,9},COLUMN(C$21))),\"\"))","v":"6"},{"$f":"IF(OR(LEN($O176)=0),\"\",IFERROR(RIGHT(LARGE(COUNTIF(OFFSET($J176,-1,0,-1*$Q$3,5),{0,1,2,3,4,5,6,7,8,9})*1000+{100,90,80,70,60,50,40,30,20,10}+{0,1,2,3,4,5,6,7,8,9},COLUMN(D$21))),\"\"))","v":"1"},{"$f":"IF(OR(LEN($O176)=0),\"\",IFERROR(RIGHT(LARGE(COUNTIF(OFFSET($J176,-1,0,-1*$Q$3,5),{0,1,2,3,4,5,6,7,8,9})*1000+{100,90,80,70,60,50,40,30,20,10}+{0,1,2,3,4,5,6,7,8,9},COLUMN(E$21))),\"\"))","v":"8"},{"$f":"IF(OR(LEN($O176)=0),\"\",IFERROR(RIGHT(LARGE(COUNTIF(OFFSET($J176,-1,0,-1*$Q$3,5),{0,1,2,3,4,5,6,7,8,9})*1000+{100,90,80,70,60,50,40,30,20,10}+{0,1,2,3,4,5,6,7,8,9},COLUMN(F$21))),\"\"))","v":"5"},{"$f":"IF(OR(LEN($O176)=0),\"\",IFERROR(RIGHT(LARGE(COUNTIF(OFFSET($J176,-1,0,-1*$Q$3,5),{0,1,2,3,4,5,6,7,8,9})*1000+{100,90,80,70,60,50,40,30,20,10}+{0,1,2,3,4,5,6,7,8,9},COLUMN(G$21))),\"\"))","v":"7"},{"$f":"IF(OR(LEN($O176)=0),\"\",IFERROR(RIGHT(LARGE(COUNTIF(OFFSET($J176,-1,0,-1*$Q$3,5),{0,1,2,3,4,5,6,7,8,9})*1000+{100,90,80,70,60,50,40,30,20,10}+{0,1,2,3,4,5,6,7,8,9},COLUMN(H$21))),\"\"))","v":"3"},{"$f":"IF(OR(LEN($O176)=0),\"\",IFERROR(RIGHT(LARGE(COUNTIF(OFFSET($J176,-1,0,-1*$Q$3,5),{0,1,2,3,4,5,6,7,8,9})*1000+{100,90,80,70,60,50,40,30,20,10}+{0,1,2,3,4,5,6,7,8,9},COLUMN(I$21))),\"\"))","v":"9"},{"$f":"IF(OR(LEN($O176)=0),\"\",IFERROR(RIGHT(LARGE(COUNTIF(OFFSET($J176,-1,0,-1*$Q$3,5),{0,1,2,3,4,5,6,7,8,9})*1000+{100,90,80,70,60,50,40,30,20,10}+{0,1,2,3,4,5,6,7,8,9},COLUMN(J$21))),\"\"))","v":"4"},"0261","0","2","6","1","","","","","",""]
["20200515103","39145","3","9","1","4","5",null,null,"","","1","4","5","145",{"$f":"IF(OR(LEN($O177)=0),\"\",IFERROR(RIGHT(LARGE(COUNTIF(OFFSET($J177,-1,0,-1*$Q$3,5),{0,1,2,3,4,5,6,7,8,9})*1000+{100,90,80,70,60,50,40,30,20,10}+{0,1,2,3,4,5,6,7,8,9},COLUMN(A$21))),\"\"))","v":"0"},{"$f":"IF(OR(LEN($O177)=0),\"\",IFERROR(RIGHT(LARGE(COUNTIF(OFFSET($J177,-1,0,-1*$Q$3,5),{0,1,2,3,4,5,6,7,8,9})*1000+{100,90,80,70,60,50,40,30,20,10}+{0,1,2,3,4,5,6,7,8,9},COLUMN(B$21))),\"\"))","v":"2"},{"$f":"IF(OR(LEN($O177)=0),\"\",IFERROR(RIGHT(LARGE(COUNTIF(OFFSET($J177,-1,0,-1*$Q$3,5),{0,1,2,3,4,5,6,7,8,9})*1000+{100,90,80,70,60,50,40,30,20,10}+{0,1,2,3,4,5,6,7,8,9},COLUMN(C$21))),\"\"))","v":"6"},{"$f":"IF(OR(LEN($O177)=0),\"\",IFERROR(RIGHT(LARGE(COUNTIF(OFFSET($J177,-1,0,-1*$Q$3,5),{0,1,2,3,4,5,6,7,8,9})*1000+{100,90,80,70,60,50,40,30,20,10}+{0,1,2,3,4,5,6,7,8,9},COLUMN(D$21))),\"\"))","v":"8"},{"$f":"IF(OR(LEN($O177)=0),\"\",IFERROR(RIGHT(LARGE(COUNTIF(OFFSET($J177,-1,0,-1*$Q$3,5),{0,1,2,3,4,5,6,7,8,9})*1000+{100,90,80,70,60,50,40,30,20,10}+{0,1,2,3,4,5,6,7,8,9},COLUMN(E$21))),\"\"))","v":"1"},{"$f":"IF(OR(LEN($O177)=0),\"\",IFERROR(RIGHT(LARGE(COUNTIF(OFFSET($J177,-1,0,-1*$Q$3,5),{0,1,2,3,4,5,6,7,8,9})*1000+{100,90,80,70,60,50,40,30,20,10}+{0,1,2,3,4,5,6,7,8,9},COLUMN(F$21))),\"\"))","v":"9"},{"$f":"IF(OR(LEN($O177)=0),\"\",IFERROR(RIGHT(LARGE(COUNTIF(OFFSET($J177,-1,0,-1*$Q$3,5),{0,1,2,3,4,5,6,7,8,9})*1000+{100,90,80,70,60,50,40,30,20,10}+{0,1,2,3,4,5,6,7,8,9},COLUMN(G$21))),\"\"))","v":"5"},{"$f":"IF(OR(LEN($O177)=0),\"\",IFERROR(RIGHT(LARGE(COUNTIF(OFFSET($J177,-1,0,-1*$Q$3,5),{0,1,2,3,4,5,6,7,8,9})*1000+{100,90,80,70,60,50,40,30,20,10}+{0,1,2,3,4,5,6,7,8,9},COLUMN(H$21))),\"\"))","v":"7"},{"$f":"IF(OR(LEN($O177)=0),\"\",IFERROR(RIGHT(LARGE(COUNTIF(OFFSET($J177,-1,0,-1*$Q$3,5),{0,1,2,3,4,5,6,7,8,9})*1000+{100,90,80,70,60,50,40,30,20,10}+{0,1,2,3,4,5,6,7,8,9},COLUMN(I$21))),\"\"))","v":"3"},{"$f":"IF(OR(LEN($O177)=0),\"\",IFERROR(RIGHT(LARGE(COUNTIF(OFFSET($J177,-1,0,-1*$Q$3,5),{0,1,2,3,4,5,6,7,8,9})*1000+{100,90,80,70,60,50,40,30,20,10}+{0,1,2,3,4,5,6,7,8,9},COLUMN(J$21))),\"\"))","v":"4"},"0268","0","2","6","8","","","","","",""]
["20200515104","79022","7","9","0","2","2",null,null,"","","0","2","2","022",{"$f":"IF(OR(LEN($O178)=0),\"\",IFERROR(RIGHT(LARGE(COUNTIF(OFFSET($J178,-1,0,-1*$Q$3,5),{0,1,2,3,4,5,6,7,8,9})*1000+{100,90,80,70,60,50,40,30,20,10}+{0,1,2,3,4,5,6,7,8,9},COLUMN(A$21))),\"\"))","v":"0"},{"$f":"IF(OR(LEN($O178)=0),\"\",IFERROR(RIGHT(LARGE(COUNTIF(OFFSET($J178,-1,0,-1*$Q$3,5),{0,1,2,3,4,5,6,7,8,9})*1000+{100,90,80,70,60,50,40,30,20,10}+{0,1,2,3,4,5,6,7,8,9},COLUMN(B$21))),\"\"))","v":"2"},{"$f":"IF(OR(LEN($O178)=0),\"\",IFERROR(RIGHT(LARGE(COUNTIF(OFFSET($J178,-1,0,-1*$Q$3,5),{0,1,2,3,4,5,6,7,8,9})*1000+{100,90,80,70,60,50,40,30,20,10}+{0,1,2,3,4,5,6,7,8,9},COLUMN(C$21))),\"\"))","v":"1"},{"$f":"IF(OR(LEN($O178)=0),\"\",IFERROR(RIGHT(LARGE(COUNTIF(OFFSET($J178,-1,0,-1*$Q$3,5),{0,1,2,3,4,5,6,7,8,9})*1000+{100,90,80,70,60,50,40,30,20,10}+{0,1,2,3,4,5,6,7,8,9},COLUMN(D$21))),\"\"))","v":"6"},{"$f":"IF(OR(LEN($O178)=0),\"\",IFERROR(RIGHT(LARGE(COUNTIF(OFFSET($J178,-1,0,-1*$Q$3,5),{0,1,2,3,4,5,6,7,8,9})*1000+{100,90,80,70,60,50,40,30,20,10}+{0,1,2,3,4,5,6,7,8,9},COLUMN(E$21))),\"\"))","v":"8"},{"$f":"IF(OR(LEN($O178)=0),\"\",IFERROR(RIGHT(LARGE(COUNTIF(OFFSET($J178,-1,0,-1*$Q$3,5),{0,1,2,3,4,5,6,7,8,9})*1000+{100,90,80,70,60,50,40,30,20,10}+{0,1,2,3,4,5,6,7,8,9},COLUMN(F$21))),\"\"))","v":"9"},{"$f":"IF(OR(LEN($O178)=0),\"\",IFERROR(RIGHT(LARGE(COUNTIF(OFFSET($J178,-1,0,-1*$Q$3,5),{0,1,2,3,4,5,6,7,8,9})*1000+{100,90,80,70,60,50,40,30,20,10}+{0,1,2,3,4,5,6,7,8,9},COLUMN(G$21))),\"\"))","v":"5"},{"$f":"IF(OR(LEN($O178)=0),\"\",IFERROR(RIGHT(LARGE(COUNTIF(OFFSET($J178,-1,0,-1*$Q$3,5),{0,1,2,3,4,5,6,7,8,9})*1000+{100,90,80,70,60,50,40,30,20,10}+{0,1,2,3,4,5,6,7,8,9},COLUMN(H$21))),\"\"))","v":"7"},{"$f":"IF(OR(LEN($O178)=0),\"\",IFERROR(RIGHT(LARGE(COUNTIF(OFFSET($J178,-1,0,-1*$Q$3,5),{0,1,2,3,4,5,6,7,8,9})*1000+{100,90,80,70,60,50,40,30,20,10}+{0,1,2,3,4,5,6,7,8,9},COLUMN(I$21))),\"\"))","v":"3"},{"$f":"IF(OR(LEN($O178)=0),\"\",IFERROR(RIGHT(LARGE(COUNTIF(OFFSET($J178,-1,0,-1*$Q$3,5),{0,1,2,3,4,5,6,7,8,9})*1000+{100,90,80,70,60,50,40,30,20,10}+{0,1,2,3,4,5,6,7,8,9},COLUMN(J$21))),\"\"))","v":"4"},"0216","0","2","1","6","","","","","",""]
["20200515105","75252","7","5","2","5","2",null,null,"","","2","5","2","252",{"$f":"IF(OR(LEN($O179)=0),\"\",IFERROR(RIGHT(LARGE(COUNTIF(OFFSET($J179,-1,0,-1*$Q$3,5),{0,1,2,3,4,5,6,7,8,9})*1000+{100,90,80,70,60,50,40,30,20,10}+{0,1,2,3,4,5,6,7,8,9},COLUMN(A$21))),\"\"))","v":"0"},{"$f":"IF(OR(LEN($O179)=0),\"\",IFERROR(RIGHT(LARGE(COUNTIF(OFFSET($J179,-1,0,-1*$Q$3,5),{0,1,2,3,4,5,6,7,8,9})*1000+{100,90,80,70,60,50,40,30,20,10}+{0,1,2,3,4,5,6,7,8,9},COLUMN(B$21))),\"\"))","v":"2"},{"$f":"IF(OR(LEN($O179)=0),\"\",IFERROR(RIGHT(LARGE(COUNTIF(OFFSET($J179,-1,0,-1*$Q$3,5),{0,1,2,3,4,5,6,7,8,9})*1000+{100,90,80,70,60,50,40,30,20,10}+{0,1,2,3,4,5,6,7,8,9},COLUMN(C$21))),\"\"))","v":"1"},{"$f":"IF(OR(LEN($O179)=0),\"\",IFERROR(RIGHT(LARGE(COUNTIF(OFFSET($J179,-1,0,-1*$Q$3,5),{0,1,2,3,4,5,6,7,8,9})*1000+{100,90,80,70,60,50,40,30,20,10}+{0,1,2,3,4,5,6,7,8,9},COLUMN(D$21))),\"\"))","v":"6"},{"$f":"IF(OR(LEN($O179)=0),\"\",IFERROR(RIGHT(LARGE(COUNTIF(OFFSET($J179,-1,0,-1*$Q$3,5),{0,1,2,3,4,5,6,7,8,9})*1000+{100,90,80,70,60,50,40,30,20,10}+{0,1,2,3,4,5,6,7,8,9},COLUMN(E$21))),\"\"))","v":"8"},{"$f":"IF(OR(LEN($O179)=0),\"\",IFERROR(RIGHT(LARGE(COUNTIF(OFFSET($J179,-1,0,-1*$Q$3,5),{0,1,2,3,4,5,6,7,8,9})*1000+{100,90,80,70,60,50,40,30,20,10}+{0,1,2,3,4,5,6,7,8,9},COLUMN(F$21))),\"\"))","v":"9"},{"$f":"IF(OR(LEN($O179)=0),\"\",IFERROR(RIGHT(LARGE(COUNTIF(OFFSET($J179,-1,0,-1*$Q$3,5),{0,1,2,3,4,5,6,7,8,9})*1000+{100,90,80,70,60,50,40,30,20,10}+{0,1,2,3,4,5,6,7,8,9},COLUMN(G$21))),\"\"))","v":"5"},{"$f":"IF(OR(LEN($O179)=0),\"\",IFERROR(RIGHT(LARGE(COUNTIF(OFFSET($J179,-1,0,-1*$Q$3,5),{0,1,2,3,4,5,6,7,8,9})*1000+{100,90,80,70,60,50,40,30,20,10}+{0,1,2,3,4,5,6,7,8,9},COLUMN(H$21))),\"\"))","v":"7"},{"$f":"IF(OR(LEN($O179)=0),\"\",IFERROR(RIGHT(LARGE(COUNTIF(OFFSET($J179,-1,0,-1*$Q$3,5),{0,1,2,3,4,5,6,7,8,9})*1000+{100,90,80,70,60,50,40,30,20,10}+{0,1,2,3,4,5,6,7,8,9},COLUMN(I$21))),\"\"))","v":"3"},{"$f":"IF(OR(LEN($O179)=0),\"\",IFERROR(RIGHT(LARGE(COUNTIF(OFFSET($J179,-1,0,-1*$Q$3,5),{0,1,2,3,4,5,6,7,8,9})*1000+{100,90,80,70,60,50,40,30,20,10}+{0,1,2,3,4,5,6,7,8,9},COLUMN(J$21))),\"\"))","v":"4"},"0216","0","2","1","6","","","","","",""]
["20200515106","70724","7","0","7","2","4",null,null,"","","7","2","4","724",{"$f":"IF(OR(LEN($O180)=0),\"\",IFERROR(RIGHT(LARGE(COUNTIF(OFFSET($J180,-1,0,-1*$Q$3,5),{0,1,2,3,4,5,6,7,8,9})*1000+{100,90,80,70,60,50,40,30,20,10}+{0,1,2,3,4,5,6,7,8,9},COLUMN(A$21))),\"\"))","v":"2"},{"$f":"IF(OR(LEN($O180)=0),\"\",IFERROR(RIGHT(LARGE(COUNTIF(OFFSET($J180,-1,0,-1*$Q$3,5),{0,1,2,3,4,5,6,7,8,9})*1000+{100,90,80,70,60,50,40,30,20,10}+{0,1,2,3,4,5,6,7,8,9},COLUMN(B$21))),\"\"))","v":"0"},{"$f":"IF(OR(LEN($O180)=0),\"\",IFERROR(RIGHT(LARGE(COUNTIF(OFFSET($J180,-1,0,-1*$Q$3,5),{0,1,2,3,4,5,6,7,8,9})*1000+{100,90,80,70,60,50,40,30,20,10}+{0,1,2,3,4,5,6,7,8,9},COLUMN(C$21))),\"\"))","v":"1"},{"$f":"IF(OR(LEN($O180)=0),\"\",IFERROR(RIGHT(LARGE(COUNTIF(OFFSET($J180,-1,0,-1*$Q$3,5),{0,1,2,3,4,5,6,7,8,9})*1000+{100,90,80,70,60,50,40,30,20,10}+{0,1,2,3,4,5,6,7,8,9},COLUMN(D$21))),\"\"))","v":"5"},{"$f":"IF(OR(LEN($O180)=0),\"\",IFERROR(RIGHT(LARGE(COUNTIF(OFFSET($J180,-1,0,-1*$Q$3,5),{0,1,2,3,4,5,6,7,8,9})*1000+{100,90,80,70,60,50,40,30,20,10}+{0,1,2,3,4,5,6,7,8,9},COLUMN(E$21))),\"\"))","v":"6"},{"$f":"IF(OR(LEN($O180)=0),\"\",IFERROR(RIGHT(LARGE(COUNTIF(OFFSET($J180,-1,0,-1*$Q$3,5),{0,1,2,3,4,5,6,7,8,9})*1000+{100,90,80,70,60,50,40,30,20,10}+{0,1,2,3,4,5,6,7,8,9},COLUMN(F$21))),\"\"))","v":"9"},{"$f":"IF(OR(LEN($O180)=0),\"\",IFERROR(RIGHT(LARGE(COUNTIF(OFFSET($J180,-1,0,-1*$Q$3,5),{0,1,2,3,4,5,6,7,8,9})*1000+{100,90,80,70,60,50,40,30,20,10}+{0,1,2,3,4,5,6,7,8,9},COLUMN(G$21))),\"\"))","v":"8"},{"$f":"IF(OR(LEN($O180)=0),\"\",IFERROR(RIGHT(LARGE(COUNTIF(OFFSET($J180,-1,0,-1*$Q$3,5),{0,1,2,3,4,5,6,7,8,9})*1000+{100,90,80,70,60,50,40,30,20,10}+{0,1,2,3,4,5,6,7,8,9},COLUMN(H$21))),\"\"))","v":"7"},{"$f":"IF(OR(LEN($O180)=0),\"\",IFERROR(RIGHT(LARGE(COUNTIF(OFFSET($J180,-1,0,-1*$Q$3,5),{0,1,2,3,4,5,6,7,8,9})*1000+{100,90,80,70,60,50,40,30,20,10}+{0,1,2,3,4,5,6,7,8,9},COLUMN(I$21))),\"\"))","v":"3"},{"$f":"IF(OR(LEN($O180)=0),\"\",IFERROR(RIGHT(LARGE(COUNTIF(OFFSET($J180,-1,0,-1*$Q$3,5),{0,1,2,3,4,5,6,7,8,9})*1000+{100,90,80,70,60,50,40,30,20,10}+{0,1,2,3,4,5,6,7,8,9},COLUMN(J$21))),\"\"))","v":"4"},"2015","2","0","1","5","","","","","",""]
["20200515107","43238","4","3","2","3","8",null,null,"","","2","3","8","238",{"$f":"IF(OR(LEN($O181)=0),\"\",IFERROR(RIGHT(LARGE(COUNTIF(OFFSET($J181,-1,0,-1*$Q$3,5),{0,1,2,3,4,5,6,7,8,9})*1000+{100,90,80,70,60,50,40,30,20,10}+{0,1,2,3,4,5,6,7,8,9},COLUMN(A$21))),\"\"))","v":"2"},{"$f":"IF(OR(LEN($O181)=0),\"\",IFERROR(RIGHT(LARGE(COUNTIF(OFFSET($J181,-1,0,-1*$Q$3,5),{0,1,2,3,4,5,6,7,8,9})*1000+{100,90,80,70,60,50,40,30,20,10}+{0,1,2,3,4,5,6,7,8,9},COLUMN(B$21))),\"\"))","v":"0"},{"$f":"IF(OR(LEN($O181)=0),\"\",IFERROR(RIGHT(LARGE(COUNTIF(OFFSET($J181,-1,0,-1*$Q$3,5),{0,1,2,3,4,5,6,7,8,9})*1000+{100,90,80,70,60,50,40,30,20,10}+{0,1,2,3,4,5,6,7,8,9},COLUMN(C$21))),\"\"))","v":"1"},{"$f":"IF(OR(LEN($O181)=0),\"\",IFERROR(RIGHT(LARGE(COUNTIF(OFFSET($J181,-1,0,-1*$Q$3,5),{0,1,2,3,4,5,6,7,8,9})*1000+{100,90,80,70,60,50,40,30,20,10}+{0,1,2,3,4,5,6,7,8,9},COLUMN(D$21))),\"\"))","v":"6"},{"$f":"IF(OR(LEN($O181)=0),\"\",IFERROR(RIGHT(LARGE(COUNTIF(OFFSET($J181,-1,0,-1*$Q$3,5),{0,1,2,3,4,5,6,7,8,9})*1000+{100,90,80,70,60,50,40,30,20,10}+{0,1,2,3,4,5,6,7,8,9},COLUMN(E$21))),\"\"))","v":"9"},{"$f":"IF(OR(LEN($O181)=0),\"\",IFERROR(RIGHT(LARGE(COUNTIF(OFFSET($J181,-1,0,-1*$Q$3,5),{0,1,2,3,4,5,6,7,8,9})*1000+{100,90,80,70,60,50,40,30,20,10}+{0,1,2,3,4,5,6,7,8,9},COLUMN(F$21))),\"\"))","v":"5"},{"$f":"IF(OR(LEN($O181)=0),\"\",IFERROR(RIGHT(LARGE(COUNTIF(OFFSET($J181,-1,0,-1*$Q$3,5),{0,1,2,3,4,5,6,7,8,9})*1000+{100,90,80,70,60,50,40,30,20,10}+{0,1,2,3,4,5,6,7,8,9},COLUMN(G$21))),\"\"))","v":"7"},{"$f":"IF(OR(LEN($O181)=0),\"\",IFERROR(RIGHT(LARGE(COUNTIF(OFFSET($J181,-1,0,-1*$Q$3,5),{0,1,2,3,4,5,6,7,8,9})*1000+{100,90,80,70,60,50,40,30,20,10}+{0,1,2,3,4,5,6,7,8,9},COLUMN(H$21))),\"\"))","v":"8"},{"$f":"IF(OR(LEN($O181)=0),\"\",IFERROR(RIGHT(LARGE(COUNTIF(OFFSET($J181,-1,0,-1*$Q$3,5),{0,1,2,3,4,5,6,7,8,9})*1000+{100,90,80,70,60,50,40,30,20,10}+{0,1,2,3,4,5,6,7,8,9},COLUMN(I$21))),\"\"))","v":"3"},{"$f":"IF(OR(LEN($O181)=0),\"\",IFERROR(RIGHT(LARGE(COUNTIF(OFFSET($J181,-1,0,-1*$Q$3,5),{0,1,2,3,4,5,6,7,8,9})*1000+{100,90,80,70,60,50,40,30,20,10}+{0,1,2,3,4,5,6,7,8,9},COLUMN(J$21))),\"\"))","v":"4"},"2016","2","0","1","6","","","","","",""]
["20200515108","97125","9","7","1","2","5",null,null,"","","1","2","5","125",{"$f":"IF(OR(LEN($O182)=0),\"\",IFERROR(RIGHT(LARGE(COUNTIF(OFFSET($J182,-1,0,-1*$Q$3,5),{0,1,2,3,4,5,6,7,8,9})*1000+{100,90,80,70,60,50,40,30,20,10}+{0,1,2,3,4,5,6,7,8,9},COLUMN(A$21))),\"\"))","v":"2"},{"$f":"IF(OR(LEN($O182)=0),\"\",IFERROR(RIGHT(LARGE(COUNTIF(OFFSET($J182,-1,0,-1*$Q$3,5),{0,1,2,3,4,5,6,7,8,9})*1000+{100,90,80,70,60,50,40,30,20,10}+{0,1,2,3,4,5,6,7,8,9},COLUMN(B$21))),\"\"))","v":"0"},{"$f":"IF(OR(LEN($O182)=0),\"\",IFERROR(RIGHT(LARGE(COUNTIF(OFFSET($J182,-1,0,-1*$Q$3,5),{0,1,2,3,4,5,6,7,8,9})*1000+{100,90,80,70,60,50,40,30,20,10}+{0,1,2,3,4,5,6,7,8,9},COLUMN(C$21))),\"\"))","v":"1"},{"$f":"IF(OR(LEN($O182)=0),\"\",IFERROR(RIGHT(LARGE(COUNTIF(OFFSET($J182,-1,0,-1*$Q$3,5),{0,1,2,3,4,5,6,7,8,9})*1000+{100,90,80,70,60,50,40,30,20,10}+{0,1,2,3,4,5,6,7,8,9},COLUMN(D$21))),\"\"))","v":"6"},{"$f":"IF(OR(LEN($O182)=0),\"\",IFERROR(RIGHT(LARGE(COUNTIF(OFFSET($J182,-1,0,-1*$Q$3,5),{0,1,2,3,4,5,6,7,8,9})*1000+{100,90,80,70,60,50,40,30,20,10}+{0,1,2,3,4,5,6,7,8,9},COLUMN(E$21))),\"\"))","v":"8"},{"$f":"IF(OR(LEN($O182)=0),\"\",IFERROR(RIGHT(LARGE(COUNTIF(OFFSET($J182,-1,0,-1*$Q$3,5),{0,1,2,3,4,5,6,7,8,9})*1000+{100,90,80,70,60,50,40,30,20,10}+{0,1,2,3,4,5,6,7,8,9},COLUMN(F$21))),\"\"))","v":"9"},{"$f":"IF(OR(LEN($O182)=0),\"\",IFERROR(RIGHT(LARGE(COUNTIF(OFFSET($J182,-1,0,-1*$Q$3,5),{0,1,2,3,4,5,6,7,8,9})*1000+{100,90,80,70,60,50,40,30,20,10}+{0,1,2,3,4,5,6,7,8,9},COLUMN(G$21))),\"\"))","v":"7"},{"$f":"IF(OR(LEN($O182)=0),\"\",IFERROR(RIGHT(LARGE(COUNTIF(OFFSET($J182,-1,0,-1*$Q$3,5),{0,1,2,3,4,5,6,7,8,9})*1000+{100,90,80,70,60,50,40,30,20,10}+{0,1,2,3,4,5,6,7,8,9},COLUMN(H$21))),\"\"))","v":"5"},{"$f":"IF(OR(LEN($O182)=0),\"\",IFERROR(RIGHT(LARGE(COUNTIF(OFFSET($J182,-1,0,-1*$Q$3,5),{0,1,2,3,4,5,6,7,8,9})*1000+{100,90,80,70,60,50,40,30,20,10}+{0,1,2,3,4,5,6,7,8,9},COLUMN(I$21))),\"\"))","v":"3"},{"$f":"IF(OR(LEN($O182)=0),\"\",IFERROR(RIGHT(LARGE(COUNTIF(OFFSET($J182,-1,0,-1*$Q$3,5),{0,1,2,3,4,5,6,7,8,9})*1000+{100,90,80,70,60,50,40,30,20,10}+{0,1,2,3,4,5,6,7,8,9},COLUMN(J$21))),\"\"))","v":"4"},"2016","2","0","1","6","","","","","",""]
["20200515109","13723","1","3","7","2","3",null,null,"","","7","2","3","723",{"$f":"IF(OR(LEN($O183)=0),\"\",IFERROR(RIGHT(LARGE(COUNTIF(OFFSET($J183,-1,0,-1*$Q$3,5),{0,1,2,3,4,5,6,7,8,9})*1000+{100,90,80,70,60,50,40,30,20,10}+{0,1,2,3,4,5,6,7,8,9},COLUMN(A$21))),\"\"))","v":"2"},{"$f":"IF(OR(LEN($O183)=0),\"\",IFERROR(RIGHT(LARGE(COUNTIF(OFFSET($J183,-1,0,-1*$Q$3,5),{0,1,2,3,4,5,6,7,8,9})*1000+{100,90,80,70,60,50,40,30,20,10}+{0,1,2,3,4,5,6,7,8,9},COLUMN(B$21))),\"\"))","v":"0"},{"$f":"IF(OR(LEN($O183)=0),\"\",IFERROR(RIGHT(LARGE(COUNTIF(OFFSET($J183,-1,0,-1*$Q$3,5),{0,1,2,3,4,5,6,7,8,9})*1000+{100,90,80,70,60,50,40,30,20,10}+{0,1,2,3,4,5,6,7,8,9},COLUMN(C$21))),\"\"))","v":"1"},{"$f":"IF(OR(LEN($O183)=0),\"\",IFERROR(RIGHT(LARGE(COUNTIF(OFFSET($J183,-1,0,-1*$Q$3,5),{0,1,2,3,4,5,6,7,8,9})*1000+{100,90,80,70,60,50,40,30,20,10}+{0,1,2,3,4,5,6,7,8,9},COLUMN(D$21))),\"\"))","v":"8"},{"$f":"IF(OR(LEN($O183)=0),\"\",IFERROR(RIGHT(LARGE(COUNTIF(OFFSET($J183,-1,0,-1*$Q$3,5),{0,1,2,3,4,5,6,7,8,9})*1000+{100,90,80,70,60,50,40,30,20,10}+{0,1,2,3,4,5,6,7,8,9},COLUMN(E$21))),\"\"))","v":"9"},{"$f":"IF(OR(LEN($O183)=0),\"\",IFERROR(RIGHT(LARGE(COUNTIF(OFFSET($J183,-1,0,-1*$Q$3,5),{0,1,2,3,4,5,6,7,8,9})*1000+{100,90,80,70,60,50,40,30,20,10}+{0,1,2,3,4,5,6,7,8,9},COLUMN(F$21))),\"\"))","v":"6"},{"$f":"IF(OR(LEN($O183)=0),\"\",IFERROR(RIGHT(LARGE(COUNTIF(OFFSET($J183,-1,0,-1*$Q$3,5),{0,1,2,3,4,5,6,7,8,9})*1000+{100,90,80,70,60,50,40,30,20,10}+{0,1,2,3,4,5,6,7,8,9},COLUMN(G$21))),\"\"))","v":"7"},{"$f":"IF(OR(LEN($O183)=0),\"\",IFERROR(RIGHT(LARGE(COUNTIF(OFFSET($J183,-1,0,-1*$Q$3,5),{0,1,2,3,4,5,6,7,8,9})*1000+{100,90,80,70,60,50,40,30,20,10}+{0,1,2,3,4,5,6,7,8,9},COLUMN(H$21))),\"\"))","v":"5"},{"$f":"IF(OR(LEN($O183)=0),\"\",IFERROR(RIGHT(LARGE(COUNTIF(OFFSET($J183,-1,0,-1*$Q$3,5),{0,1,2,3,4,5,6,7,8,9})*1000+{100,90,80,70,60,50,40,30,20,10}+{0,1,2,3,4,5,6,7,8,9},COLUMN(I$21))),\"\"))","v":"3"},{"$f":"IF(OR(LEN($O183)=0),\"\",IFERROR(RIGHT(LARGE(COUNTIF(OFFSET($J183,-1,0,-1*$Q$3,5),{0,1,2,3,4,5,6,7,8,9})*1000+{100,90,80,70,60,50,40,30,20,10}+{0,1,2,3,4,5,6,7,8,9},COLUMN(J$21))),\"\"))","v":"4"},"2018","2","0","1","8","","","","","",""]
["20200515110","64605","6","4","6","0","5",null,null,"","","6","0","5","605",{"$f":"IF(OR(LEN($O184)=0),\"\",IFERROR(RIGHT(LARGE(COUNTIF(OFFSET($J184,-1,0,-1*$Q$3,5),{0,1,2,3,4,5,6,7,8,9})*1000+{100,90,80,70,60,50,40,30,20,10}+{0,1,2,3,4,5,6,7,8,9},COLUMN(A$21))),\"\"))","v":"2"},{"$f":"IF(OR(LEN($O184)=0),\"\",IFERROR(RIGHT(LARGE(COUNTIF(OFFSET($J184,-1,0,-1*$Q$3,5),{0,1,2,3,4,5,6,7,8,9})*1000+{100,90,80,70,60,50,40,30,20,10}+{0,1,2,3,4,5,6,7,8,9},COLUMN(B$21))),\"\"))","v":"0"},{"$f":"IF(OR(LEN($O184)=0),\"\",IFERROR(RIGHT(LARGE(COUNTIF(OFFSET($J184,-1,0,-1*$Q$3,5),{0,1,2,3,4,5,6,7,8,9})*1000+{100,90,80,70,60,50,40,30,20,10}+{0,1,2,3,4,5,6,7,8,9},COLUMN(C$21))),\"\"))","v":"1"},{"$f":"IF(OR(LEN($O184)=0),\"\",IFERROR(RIGHT(LARGE(COUNTIF(OFFSET($J184,-1,0,-1*$Q$3,5),{0,1,2,3,4,5,6,7,8,9})*1000+{100,90,80,70,60,50,40,30,20,10}+{0,1,2,3,4,5,6,7,8,9},COLUMN(D$21))),\"\"))","v":"8"},{"$f":"IF(OR(LEN($O184)=0),\"\",IFERROR(RIGHT(LARGE(COUNTIF(OFFSET($J184,-1,0,-1*$Q$3,5),{0,1,2,3,4,5,6,7,8,9})*1000+{100,90,80,70,60,50,40,30,20,10}+{0,1,2,3,4,5,6,7,8,9},COLUMN(E$21))),\"\"))","v":"6"},{"$f":"IF(OR(LEN($O184)=0),\"\",IFERROR(RIGHT(LARGE(COUNTIF(OFFSET($J184,-1,0,-1*$Q$3,5),{0,1,2,3,4,5,6,7,8,9})*1000+{100,90,80,70,60,50,40,30,20,10}+{0,1,2,3,4,5,6,7,8,9},COLUMN(F$21))),\"\"))","v":"7"},{"$f":"IF(OR(LEN($O184)=0),\"\",IFERROR(RIGHT(LARGE(COUNTIF(OFFSET($J184,-1,0,-1*$Q$3,5),{0,1,2,3,4,5,6,7,8,9})*1000+{100,90,80,70,60,50,40,30,20,10}+{0,1,2,3,4,5,6,7,8,9},COLUMN(G$21))),\"\"))","v":"9"},{"$f":"IF(OR(LEN($O184)=0),\"\",IFERROR(RIGHT(LARGE(COUNTIF(OFFSET($J184,-1,0,-1*$Q$3,5),{0,1,2,3,4,5,6,7,8,9})*1000+{100,90,80,70,60,50,40,30,20,10}+{0,1,2,3,4,5,6,7,8,9},COLUMN(H$21))),\"\"))","v":"3"},{"$f":"IF(OR(LEN($O184)=0),\"\",IFERROR(RIGHT(LARGE(COUNTIF(OFFSET($J184,-1,0,-1*$Q$3,5),{0,1,2,3,4,5,6,7,8,9})*1000+{100,90,80,70,60,50,40,30,20,10}+{0,1,2,3,4,5,6,7,8,9},COLUMN(I$21))),\"\"))","v":"5"},{"$f":"IF(OR(LEN($O184)=0),\"\",IFERROR(RIGHT(LARGE(COUNTIF(OFFSET($J184,-1,0,-1*$Q$3,5),{0,1,2,3,4,5,6,7,8,9})*1000+{100,90,80,70,60,50,40,30,20,10}+{0,1,2,3,4,5,6,7,8,9},COLUMN(J$21))),\"\"))","v":"4"},"2018","2","0","1","8","","","","","",""]
["20200515111","27745","2","7","7","4","5",null,null,"","","7","4","5","745",{"$f":"IF(OR(LEN($O185)=0),\"\",IFERROR(RIGHT(LARGE(COUNTIF(OFFSET($J185,-1,0,-1*$Q$3,5),{0,1,2,3,4,5,6,7,8,9})*1000+{100,90,80,70,60,50,40,30,20,10}+{0,1,2,3,4,5,6,7,8,9},COLUMN(A$21))),\"\"))","v":"2"},{"$f":"IF(OR(LEN($O185)=0),\"\",IFERROR(RIGHT(LARGE(COUNTIF(OFFSET($J185,-1,0,-1*$Q$3,5),{0,1,2,3,4,5,6,7,8,9})*1000+{100,90,80,70,60,50,40,30,20,10}+{0,1,2,3,4,5,6,7,8,9},COLUMN(B$21))),\"\"))","v":"0"},{"$f":"IF(OR(LEN($O185)=0),\"\",IFERROR(RIGHT(LARGE(COUNTIF(OFFSET($J185,-1,0,-1*$Q$3,5),{0,1,2,3,4,5,6,7,8,9})*1000+{100,90,80,70,60,50,40,30,20,10}+{0,1,2,3,4,5,6,7,8,9},COLUMN(C$21))),\"\"))","v":"1"},{"$f":"IF(OR(LEN($O185)=0),\"\",IFERROR(RIGHT(LARGE(COUNTIF(OFFSET($J185,-1,0,-1*$Q$3,5),{0,1,2,3,4,5,6,7,8,9})*1000+{100,90,80,70,60,50,40,30,20,10}+{0,1,2,3,4,5,6,7,8,9},COLUMN(D$21))),\"\"))","v":"6"},{"$f":"IF(OR(LEN($O185)=0),\"\",IFERROR(RIGHT(LARGE(COUNTIF(OFFSET($J185,-1,0,-1*$Q$3,5),{0,1,2,3,4,5,6,7,8,9})*1000+{100,90,80,70,60,50,40,30,20,10}+{0,1,2,3,4,5,6,7,8,9},COLUMN(E$21))),\"\"))","v":"8"},{"$f":"IF(OR(LEN($O185)=0),\"\",IFERROR(RIGHT(LARGE(COUNTIF(OFFSET($J185,-1,0,-1*$Q$3,5),{0,1,2,3,4,5,6,7,8,9})*1000+{100,90,80,70,60,50,40,30,20,10}+{0,1,2,3,4,5,6,7,8,9},COLUMN(F$21))),\"\"))","v":"7"},{"$f":"IF(OR(LEN($O185)=0),\"\",IFERROR(RIGHT(LARGE(COUNTIF(OFFSET($J185,-1,0,-1*$Q$3,5),{0,1,2,3,4,5,6,7,8,9})*1000+{100,90,80,70,60,50,40,30,20,10}+{0,1,2,3,4,5,6,7,8,9},COLUMN(G$21))),\"\"))","v":"5"},{"$f":"IF(OR(LEN($O185)=0),\"\",IFERROR(RIGHT(LARGE(COUNTIF(OFFSET($J185,-1,0,-1*$Q$3,5),{0,1,2,3,4,5,6,7,8,9})*1000+{100,90,80,70,60,50,40,30,20,10}+{0,1,2,3,4,5,6,7,8,9},COLUMN(H$21))),\"\"))","v":"3"},{"$f":"IF(OR(LEN($O185)=0),\"\",IFERROR(RIGHT(LARGE(COUNTIF(OFFSET($J185,-1,0,-1*$Q$3,5),{0,1,2,3,4,5,6,7,8,9})*1000+{100,90,80,70,60,50,40,30,20,10}+{0,1,2,3,4,5,6,7,8,9},COLUMN(I$21))),\"\"))","v":"9"},{"$f":"IF(OR(LEN($O185)=0),\"\",IFERROR(RIGHT(LARGE(COUNTIF(OFFSET($J185,-1,0,-1*$Q$3,5),{0,1,2,3,4,5,6,7,8,9})*1000+{100,90,80,70,60,50,40,30,20,10}+{0,1,2,3,4,5,6,7,8,9},COLUMN(J$21))),\"\"))","v":"4"},"2016","2","0","1","6","","","","","",""]
["20200515112","90982","9","0","9","8","2",null,null,"","","9","8","2","982",{"$f":"IF(OR(LEN($O186)=0),\"\",IFERROR(RIGHT(LARGE(COUNTIF(OFFSET($J186,-1,0,-1*$Q$3,5),{0,1,2,3,4,5,6,7,8,9})*1000+{100,90,80,70,60,50,40,30,20,10}+{0,1,2,3,4,5,6,7,8,9},COLUMN(A$21))),\"\"))","v":"2"},{"$f":"IF(OR(LEN($O186)=0),\"\",IFERROR(RIGHT(LARGE(COUNTIF(OFFSET($J186,-1,0,-1*$Q$3,5),{0,1,2,3,4,5,6,7,8,9})*1000+{100,90,80,70,60,50,40,30,20,10}+{0,1,2,3,4,5,6,7,8,9},COLUMN(B$21))),\"\"))","v":"0"},{"$f":"IF(OR(LEN($O186)=0),\"\",IFERROR(RIGHT(LARGE(COUNTIF(OFFSET($J186,-1,0,-1*$Q$3,5),{0,1,2,3,4,5,6,7,8,9})*1000+{100,90,80,70,60,50,40,30,20,10}+{0,1,2,3,4,5,6,7,8,9},COLUMN(C$21))),\"\"))","v":"1"},{"$f":"IF(OR(LEN($O186)=0),\"\",IFERROR(RIGHT(LARGE(COUNTIF(OFFSET($J186,-1,0,-1*$Q$3,5),{0,1,2,3,4,5,6,7,8,9})*1000+{100,90,80,70,60,50,40,30,20,10}+{0,1,2,3,4,5,6,7,8,9},COLUMN(D$21))),\"\"))","v":"7"},{"$f":"IF(OR(LEN($O186)=0),\"\",IFERROR(RIGHT(LARGE(COUNTIF(OFFSET($J186,-1,0,-1*$Q$3,5),{0,1,2,3,4,5,6,7,8,9})*1000+{100,90,80,70,60,50,40,30,20,10}+{0,1,2,3,4,5,6,7,8,9},COLUMN(E$21))),\"\"))","v":"8"},{"$f":"IF(OR(LEN($O186)=0),\"\",IFERROR(RIGHT(LARGE(COUNTIF(OFFSET($J186,-1,0,-1*$Q$3,5),{0,1,2,3,4,5,6,7,8,9})*1000+{100,90,80,70,60,50,40,30,20,10}+{0,1,2,3,4,5,6,7,8,9},COLUMN(F$21))),\"\"))","v":"5"},{"$f":"IF(OR(LEN($O186)=0),\"\",IFERROR(RIGHT(LARGE(COUNTIF(OFFSET($J186,-1,0,-1*$Q$3,5),{0,1,2,3,4,5,6,7,8,9})*1000+{100,90,80,70,60,50,40,30,20,10}+{0,1,2,3,4,5,6,7,8,9},COLUMN(G$21))),\"\"))","v":"6"},{"$f":"IF(OR(LEN($O186)=0),\"\",IFERROR(RIGHT(LARGE(COUNTIF(OFFSET($J186,-1,0,-1*$Q$3,5),{0,1,2,3,4,5,6,7,8,9})*1000+{100,90,80,70,60,50,40,30,20,10}+{0,1,2,3,4,5,6,7,8,9},COLUMN(H$21))),\"\"))","v":"3"},{"$f":"IF(OR(LEN($O186)=0),\"\",IFERROR(RIGHT(LARGE(COUNTIF(OFFSET($J186,-1,0,-1*$Q$3,5),{0,1,2,3,4,5,6,7,8,9})*1000+{100,90,80,70,60,50,40,30,20,10}+{0,1,2,3,4,5,6,7,8,9},COLUMN(I$21))),\"\"))","v":"9"},{"$f":"IF(OR(LEN($O186)=0),\"\",IFERROR(RIGHT(LARGE(COUNTIF(OFFSET($J186,-1,0,-1*$Q$3,5),{0,1,2,3,4,5,6,7,8,9})*1000+{100,90,80,70,60,50,40,30,20,10}+{0,1,2,3,4,5,6,7,8,9},COLUMN(J$21))),\"\"))","v":"4"},"2017","2","0","1","7","","","","","",""]
["20200515113","39918","3","9","9","1","8",null,null,"","","9","1","8","918",{"$f":"IF(OR(LEN($O187)=0),\"\",IFERROR(RIGHT(LARGE(COUNTIF(OFFSET($J187,-1,0,-1*$Q$3,5),{0,1,2,3,4,5,6,7,8,9})*1000+{100,90,80,70,60,50,40,30,20,10}+{0,1,2,3,4,5,6,7,8,9},COLUMN(A$21))),\"\"))","v":"2"},{"$f":"IF(OR(LEN($O187)=0),\"\",IFERROR(RIGHT(LARGE(COUNTIF(OFFSET($J187,-1,0,-1*$Q$3,5),{0,1,2,3,4,5,6,7,8,9})*1000+{100,90,80,70,60,50,40,30,20,10}+{0,1,2,3,4,5,6,7,8,9},COLUMN(B$21))),\"\"))","v":"0"},{"$f":"IF(OR(LEN($O187)=0),\"\",IFERROR(RIGHT(LARGE(COUNTIF(OFFSET($J187,-1,0,-1*$Q$3,5),{0,1,2,3,4,5,6,7,8,9})*1000+{100,90,80,70,60,50,40,30,20,10}+{0,1,2,3,4,5,6,7,8,9},COLUMN(C$21))),\"\"))","v":"1"},{"$f":"IF(OR(LEN($O187)=0),\"\",IFERROR(RIGHT(LARGE(COUNTIF(OFFSET($J187,-1,0,-1*$Q$3,5),{0,1,2,3,4,5,6,7,8,9})*1000+{100,90,80,70,60,50,40,30,20,10}+{0,1,2,3,4,5,6,7,8,9},COLUMN(D$21))),\"\"))","v":"8"},{"$f":"IF(OR(LEN($O187)=0),\"\",IFERROR(RIGHT(LARGE(COUNTIF(OFFSET($J187,-1,0,-1*$Q$3,5),{0,1,2,3,4,5,6,7,8,9})*1000+{100,90,80,70,60,50,40,30,20,10}+{0,1,2,3,4,5,6,7,8,9},COLUMN(E$21))),\"\"))","v":"7"},{"$f":"IF(OR(LEN($O187)=0),\"\",IFERROR(RIGHT(LARGE(COUNTIF(OFFSET($J187,-1,0,-1*$Q$3,5),{0,1,2,3,4,5,6,7,8,9})*1000+{100,90,80,70,60,50,40,30,20,10}+{0,1,2,3,4,5,6,7,8,9},COLUMN(F$21))),\"\"))","v":"5"},{"$f":"IF(OR(LEN($O187)=0),\"\",IFERROR(RIGHT(LARGE(COUNTIF(OFFSET($J187,-1,0,-1*$Q$3,5),{0,1,2,3,4,5,6,7,8,9})*1000+{100,90,80,70,60,50,40,30,20,10}+{0,1,2,3,4,5,6,7,8,9},COLUMN(G$21))),\"\"))","v":"6"},{"$f":"IF(OR(LEN($O187)=0),\"\",IFERROR(RIGHT(LARGE(COUNTIF(OFFSET($J187,-1,0,-1*$Q$3,5),{0,1,2,3,4,5,6,7,8,9})*1000+{100,90,80,70,60,50,40,30,20,10}+{0,1,2,3,4,5,6,7,8,9},COLUMN(H$21))),\"\"))","v":"3"},{"$f":"IF(OR(LEN($O187)=0),\"\",IFERROR(RIGHT(LARGE(COUNTIF(OFFSET($J187,-1,0,-1*$Q$3,5),{0,1,2,3,4,5,6,7,8,9})*1000+{100,90,80,70,60,50,40,30,20,10}+{0,1,2,3,4,5,6,7,8,9},COLUMN(I$21))),\"\"))","v":"9"},{"$f":"IF(OR(LEN($O187)=0),\"\",IFERROR(RIGHT(LARGE(COUNTIF(OFFSET($J187,-1,0,-1*$Q$3,5),{0,1,2,3,4,5,6,7,8,9})*1000+{100,90,80,70,60,50,40,30,20,10}+{0,1,2,3,4,5,6,7,8,9},COLUMN(J$21))),\"\"))","v":"4"},"2018","2","0","1","8","","","","","",""]
["20200515114","95213","9","5","2","1","3",null,null,"","","2","1","3","213",{"$f":"IF(OR(LEN($O188)=0),\"\",IFERROR(RIGHT(LARGE(COUNTIF(OFFSET($J188,-1,0,-1*$Q$3,5),{0,1,2,3,4,5,6,7,8,9})*1000+{100,90,80,70,60,50,40,30,20,10}+{0,1,2,3,4,5,6,7,8,9},COLUMN(A$21))),\"\"))","v":"2"},{"$f":"IF(OR(LEN($O188)=0),\"\",IFERROR(RIGHT(LARGE(COUNTIF(OFFSET($J188,-1,0,-1*$Q$3,5),{0,1,2,3,4,5,6,7,8,9})*1000+{100,90,80,70,60,50,40,30,20,10}+{0,1,2,3,4,5,6,7,8,9},COLUMN(B$21))),\"\"))","v":"0"},{"$f":"IF(OR(LEN($O188)=0),\"\",IFERROR(RIGHT(LARGE(COUNTIF(OFFSET($J188,-1,0,-1*$Q$3,5),{0,1,2,3,4,5,6,7,8,9})*1000+{100,90,80,70,60,50,40,30,20,10}+{0,1,2,3,4,5,6,7,8,9},COLUMN(C$21))),\"\"))","v":"1"},{"$f":"IF(OR(LEN($O188)=0),\"\",IFERROR(RIGHT(LARGE(COUNTIF(OFFSET($J188,-1,0,-1*$Q$3,5),{0,1,2,3,4,5,6,7,8,9})*1000+{100,90,80,70,60,50,40,30,20,10}+{0,1,2,3,4,5,6,7,8,9},COLUMN(D$21))),\"\"))","v":"8"},{"$f":"IF(OR(LEN($O188)=0),\"\",IFERROR(RIGHT(LARGE(COUNTIF(OFFSET($J188,-1,0,-1*$Q$3,5),{0,1,2,3,4,5,6,7,8,9})*1000+{100,90,80,70,60,50,40,30,20,10}+{0,1,2,3,4,5,6,7,8,9},COLUMN(E$21))),\"\"))","v":"7"},{"$f":"IF(OR(LEN($O188)=0),\"\",IFERROR(RIGHT(LARGE(COUNTIF(OFFSET($J188,-1,0,-1*$Q$3,5),{0,1,2,3,4,5,6,7,8,9})*1000+{100,90,80,70,60,50,40,30,20,10}+{0,1,2,3,4,5,6,7,8,9},COLUMN(F$21))),\"\"))","v":"5"},{"$f":"IF(OR(LEN($O188)=0),\"\",IFERROR(RIGHT(LARGE(COUNTIF(OFFSET($J188,-1,0,-1*$Q$3,5),{0,1,2,3,4,5,6,7,8,9})*1000+{100,90,80,70,60,50,40,30,20,10}+{0,1,2,3,4,5,6,7,8,9},COLUMN(G$21))),\"\"))","v":"6"},{"$f":"IF(OR(LEN($O188)=0),\"\",IFERROR(RIGHT(LARGE(COUNTIF(OFFSET($J188,-1,0,-1*$Q$3,5),{0,1,2,3,4,5,6,7,8,9})*1000+{100,90,80,70,60,50,40,30,20,10}+{0,1,2,3,4,5,6,7,8,9},COLUMN(H$21))),\"\"))","v":"3"},{"$f":"IF(OR(LEN($O188)=0),\"\",IFERROR(RIGHT(LARGE(COUNTIF(OFFSET($J188,-1,0,-1*$Q$3,5),{0,1,2,3,4,5,6,7,8,9})*1000+{100,90,80,70,60,50,40,30,20,10}+{0,1,2,3,4,5,6,7,8,9},COLUMN(I$21))),\"\"))","v":"9"},{"$f":"IF(OR(LEN($O188)=0),\"\",IFERROR(RIGHT(LARGE(COUNTIF(OFFSET($J188,-1,0,-1*$Q$3,5),{0,1,2,3,4,5,6,7,8,9})*1000+{100,90,80,70,60,50,40,30,20,10}+{0,1,2,3,4,5,6,7,8,9},COLUMN(J$21))),\"\"))","v":"4"},"2018","2","0","1","8","","","","","",""]
["20200515115","93518","9","3","5","1","8",null,null,"","","5","1","8","518",{"$f":"IF(OR(LEN($O189)=0),\"\",IFERROR(RIGHT(LARGE(COUNTIF(OFFSET($J189,-1,0,-1*$Q$3,5),{0,1,2,3,4,5,6,7,8,9})*1000+{100,90,80,70,60,50,40,30,20,10}+{0,1,2,3,4,5,6,7,8,9},COLUMN(A$21))),\"\"))","v":"2"},{"$f":"IF(OR(LEN($O189)=0),\"\",IFERROR(RIGHT(LARGE(COUNTIF(OFFSET($J189,-1,0,-1*$Q$3,5),{0,1,2,3,4,5,6,7,8,9})*1000+{100,90,80,70,60,50,40,30,20,10}+{0,1,2,3,4,5,6,7,8,9},COLUMN(B$21))),\"\"))","v":"1"},{"$f":"IF(OR(LEN($O189)=0),\"\",IFERROR(RIGHT(LARGE(COUNTIF(OFFSET($J189,-1,0,-1*$Q$3,5),{0,1,2,3,4,5,6,7,8,9})*1000+{100,90,80,70,60,50,40,30,20,10}+{0,1,2,3,4,5,6,7,8,9},COLUMN(C$21))),\"\"))","v":"8"},{"$f":"IF(OR(LEN($O189)=0),\"\",IFERROR(RIGHT(LARGE(COUNTIF(OFFSET($J189,-1,0,-1*$Q$3,5),{0,1,2,3,4,5,6,7,8,9})*1000+{100,90,80,70,60,50,40,30,20,10}+{0,1,2,3,4,5,6,7,8,9},COLUMN(D$21))),\"\"))","v":"0"},{"$f":"IF(OR(LEN($O189)=0),\"\",IFERROR(RIGHT(LARGE(COUNTIF(OFFSET($J189,-1,0,-1*$Q$3,5),{0,1,2,3,4,5,6,7,8,9})*1000+{100,90,80,70,60,50,40,30,20,10}+{0,1,2,3,4,5,6,7,8,9},COLUMN(E$21))),\"\"))","v":"7"},{"$f":"IF(OR(LEN($O189)=0),\"\",IFERROR(RIGHT(LARGE(COUNTIF(OFFSET($J189,-1,0,-1*$Q$3,5),{0,1,2,3,4,5,6,7,8,9})*1000+{100,90,80,70,60,50,40,30,20,10}+{0,1,2,3,4,5,6,7,8,9},COLUMN(F$21))),\"\"))","v":"3"},{"$f":"IF(OR(LEN($O189)=0),\"\",IFERROR(RIGHT(LARGE(COUNTIF(OFFSET($J189,-1,0,-1*$Q$3,5),{0,1,2,3,4,5,6,7,8,9})*1000+{100,90,80,70,60,50,40,30,20,10}+{0,1,2,3,4,5,6,7,8,9},COLUMN(G$21))),\"\"))","v":"5"},{"$f":"IF(OR(LEN($O189)=0),\"\",IFERROR(RIGHT(LARGE(COUNTIF(OFFSET($J189,-1,0,-1*$Q$3,5),{0,1,2,3,4,5,6,7,8,9})*1000+{100,90,80,70,60,50,40,30,20,10}+{0,1,2,3,4,5,6,7,8,9},COLUMN(H$21))),\"\"))","v":"6"},{"$f":"IF(OR(LEN($O189)=0),\"\",IFERROR(RIGHT(LARGE(COUNTIF(OFFSET($J189,-1,0,-1*$Q$3,5),{0,1,2,3,4,5,6,7,8,9})*1000+{100,90,80,70,60,50,40,30,20,10}+{0,1,2,3,4,5,6,7,8,9},COLUMN(I$21))),\"\"))","v":"9"},{"$f":"IF(OR(LEN($O189)=0),\"\",IFERROR(RIGHT(LARGE(COUNTIF(OFFSET($J189,-1,0,-1*$Q$3,5),{0,1,2,3,4,5,6,7,8,9})*1000+{100,90,80,70,60,50,40,30,20,10}+{0,1,2,3,4,5,6,7,8,9},COLUMN(J$21))),\"\"))","v":"4"},"2180","2","1","8","0","","","","","",""]
["20200515116","72058","7","2","0","5","8",null,null,"","","0","5","8","058",{"$f":"IF(OR(LEN($O190)=0),\"\",IFERROR(RIGHT(LARGE(COUNTIF(OFFSET($J190,-1,0,-1*$Q$3,5),{0,1,2,3,4,5,6,7,8,9})*1000+{100,90,80,70,60,50,40,30,20,10}+{0,1,2,3,4,5,6,7,8,9},COLUMN(A$21))),\"\"))","v":"2"},{"$f":"IF(OR(LEN($O190)=0),\"\",IFERROR(RIGHT(LARGE(COUNTIF(OFFSET($J190,-1,0,-1*$Q$3,5),{0,1,2,3,4,5,6,7,8,9})*1000+{100,90,80,70,60,50,40,30,20,10}+{0,1,2,3,4,5,6,7,8,9},COLUMN(B$21))),\"\"))","v":"1"},{"$f":"IF(OR(LEN($O190)=0),\"\",IFERROR(RIGHT(LARGE(COUNTIF(OFFSET($J190,-1,0,-1*$Q$3,5),{0,1,2,3,4,5,6,7,8,9})*1000+{100,90,80,70,60,50,40,30,20,10}+{0,1,2,3,4,5,6,7,8,9},COLUMN(C$21))),\"\"))","v":"8"},{"$f":"IF(OR(LEN($O190)=0),\"\",IFERROR(RIGHT(LARGE(COUNTIF(OFFSET($J190,-1,0,-1*$Q$3,5),{0,1,2,3,4,5,6,7,8,9})*1000+{100,90,80,70,60,50,40,30,20,10}+{0,1,2,3,4,5,6,7,8,9},COLUMN(D$21))),\"\"))","v":"7"},{"$f":"IF(OR(LEN($O190)=0),\"\",IFERROR(RIGHT(LARGE(COUNTIF(OFFSET($J190,-1,0,-1*$Q$3,5),{0,1,2,3,4,5,6,7,8,9})*1000+{100,90,80,70,60,50,40,30,20,10}+{0,1,2,3,4,5,6,7,8,9},COLUMN(E$21))),\"\"))","v":"5"},{"$f":"IF(OR(LEN($O190)=0),\"\",IFERROR(RIGHT(LARGE(COUNTIF(OFFSET($J190,-1,0,-1*$Q$3,5),{0,1,2,3,4,5,6,7,8,9})*1000+{100,90,80,70,60,50,40,30,20,10}+{0,1,2,3,4,5,6,7,8,9},COLUMN(F$21))),\"\"))","v":"0"},{"$f":"IF(OR(LEN($O190)=0),\"\",IFERROR(RIGHT(LARGE(COUNTIF(OFFSET($J190,-1,0,-1*$Q$3,5),{0,1,2,3,4,5,6,7,8,9})*1000+{100,90,80,70,60,50,40,30,20,10}+{0,1,2,3,4,5,6,7,8,9},COLUMN(G$21))),\"\"))","v":"3"},{"$f":"IF(OR(LEN($O190)=0),\"\",IFERROR(RIGHT(LARGE(COUNTIF(OFFSET($J190,-1,0,-1*$Q$3,5),{0,1,2,3,4,5,6,7,8,9})*1000+{100,90,80,70,60,50,40,30,20,10}+{0,1,2,3,4,5,6,7,8,9},COLUMN(H$21))),\"\"))","v":"6"},{"$f":"IF(OR(LEN($O190)=0),\"\",IFERROR(RIGHT(LARGE(COUNTIF(OFFSET($J190,-1,0,-1*$Q$3,5),{0,1,2,3,4,5,6,7,8,9})*1000+{100,90,80,70,60,50,40,30,20,10}+{0,1,2,3,4,5,6,7,8,9},COLUMN(I$21))),\"\"))","v":"9"},{"$f":"IF(OR(LEN($O190)=0),\"\",IFERROR(RIGHT(LARGE(COUNTIF(OFFSET($J190,-1,0,-1*$Q$3,5),{0,1,2,3,4,5,6,7,8,9})*1000+{100,90,80,70,60,50,40,30,20,10}+{0,1,2,3,4,5,6,7,8,9},COLUMN(J$21))),\"\"))","v":"4"},"2187","2","1","8","7","","","","","",""]
["20200515117","86135","8","6","1","3","5",null,null,"","","1","3","5","135",{"$f":"IF(OR(LEN($O191)=0),\"\",IFERROR(RIGHT(LARGE(COUNTIF(OFFSET($J191,-1,0,-1*$Q$3,5),{0,1,2,3,4,5,6,7,8,9})*1000+{100,90,80,70,60,50,40,30,20,10}+{0,1,2,3,4,5,6,7,8,9},COLUMN(A$21))),\"\"))","v":"2"},{"$f":"IF(OR(LEN($O191)=0),\"\",IFERROR(RIGHT(LARGE(COUNTIF(OFFSET($J191,-1,0,-1*$Q$3,5),{0,1,2,3,4,5,6,7,8,9})*1000+{100,90,80,70,60,50,40,30,20,10}+{0,1,2,3,4,5,6,7,8,9},COLUMN(B$21))),\"\"))","v":"1"},{"$f":"IF(OR(LEN($O191)=0),\"\",IFERROR(RIGHT(LARGE(COUNTIF(OFFSET($J191,-1,0,-1*$Q$3,5),{0,1,2,3,4,5,6,7,8,9})*1000+{100,90,80,70,60,50,40,30,20,10}+{0,1,2,3,4,5,6,7,8,9},COLUMN(C$21))),\"\"))","v":"8"},{"$f":"IF(OR(LEN($O191)=0),\"\",IFERROR(RIGHT(LARGE(COUNTIF(OFFSET($J191,-1,0,-1*$Q$3,5),{0,1,2,3,4,5,6,7,8,9})*1000+{100,90,80,70,60,50,40,30,20,10}+{0,1,2,3,4,5,6,7,8,9},COLUMN(D$21))),\"\"))","v":"5"},{"$f":"IF(OR(LEN($O191)=0),\"\",IFERROR(RIGHT(LARGE(COUNTIF(OFFSET($J191,-1,0,-1*$Q$3,5),{0,1,2,3,4,5,6,7,8,9})*1000+{100,90,80,70,60,50,40,30,20,10}+{0,1,2,3,4,5,6,7,8,9},COLUMN(E$21))),\"\"))","v":"0"},{"$f":"IF(OR(LEN($O191)=0),\"\",IFERROR(RIGHT(LARGE(COUNTIF(OFFSET($J191,-1,0,-1*$Q$3,5),{0,1,2,3,4,5,6,7,8,9})*1000+{100,90,80,70,60,50,40,30,20,10}+{0,1,2,3,4,5,6,7,8,9},COLUMN(F$21))),\"\"))","v":"7"},{"$f":"IF(OR(LEN($O191)=0),\"\",IFERROR(RIGHT(LARGE(COUNTIF(OFFSET($J191,-1,0,-1*$Q$3,5),{0,1,2,3,4,5,6,7,8,9})*1000+{100,90,80,70,60,50,40,30,20,10}+{0,1,2,3,4,5,6,7,8,9},COLUMN(G$21))),\"\"))","v":"3"},{"$f":"IF(OR(LEN($O191)=0),\"\",IFERROR(RIGHT(LARGE(COUNTIF(OFFSET($J191,-1,0,-1*$Q$3,5),{0,1,2,3,4,5,6,7,8,9})*1000+{100,90,80,70,60,50,40,30,20,10}+{0,1,2,3,4,5,6,7,8,9},COLUMN(H$21))),\"\"))","v":"6"},{"$f":"IF(OR(LEN($O191)=0),\"\",IFERROR(RIGHT(LARGE(COUNTIF(OFFSET($J191,-1,0,-1*$Q$3,5),{0,1,2,3,4,5,6,7,8,9})*1000+{100,90,80,70,60,50,40,30,20,10}+{0,1,2,3,4,5,6,7,8,9},COLUMN(I$21))),\"\"))","v":"9"},{"$f":"IF(OR(LEN($O191)=0),\"\",IFERROR(RIGHT(LARGE(COUNTIF(OFFSET($J191,-1,0,-1*$Q$3,5),{0,1,2,3,4,5,6,7,8,9})*1000+{100,90,80,70,60,50,40,30,20,10}+{0,1,2,3,4,5,6,7,8,9},COLUMN(J$21))),\"\"))","v":"4"},"2185","2","1","8","5","","","","","",""]
["20200515118","76239","7","6","2","3","9",null,null,"","","2","3","9","239",{"$f":"IF(OR(LEN($O192)=0),\"\",IFERROR(RIGHT(LARGE(COUNTIF(OFFSET($J192,-1,0,-1*$Q$3,5),{0,1,2,3,4,5,6,7,8,9})*1000+{100,90,80,70,60,50,40,30,20,10}+{0,1,2,3,4,5,6,7,8,9},COLUMN(A$21))),\"\"))","v":"2"},{"$f":"IF(OR(LEN($O192)=0),\"\",IFERROR(RIGHT(LARGE(COUNTIF(OFFSET($J192,-1,0,-1*$Q$3,5),{0,1,2,3,4,5,6,7,8,9})*1000+{100,90,80,70,60,50,40,30,20,10}+{0,1,2,3,4,5,6,7,8,9},COLUMN(B$21))),\"\"))","v":"1"},{"$f":"IF(OR(LEN($O192)=0),\"\",IFERROR(RIGHT(LARGE(COUNTIF(OFFSET($J192,-1,0,-1*$Q$3,5),{0,1,2,3,4,5,6,7,8,9})*1000+{100,90,80,70,60,50,40,30,20,10}+{0,1,2,3,4,5,6,7,8,9},COLUMN(C$21))),\"\"))","v":"8"},{"$f":"IF(OR(LEN($O192)=0),\"\",IFERROR(RIGHT(LARGE(COUNTIF(OFFSET($J192,-1,0,-1*$Q$3,5),{0,1,2,3,4,5,6,7,8,9})*1000+{100,90,80,70,60,50,40,30,20,10}+{0,1,2,3,4,5,6,7,8,9},COLUMN(D$21))),\"\"))","v":"5"},{"$f":"IF(OR(LEN($O192)=0),\"\",IFERROR(RIGHT(LARGE(COUNTIF(OFFSET($J192,-1,0,-1*$Q$3,5),{0,1,2,3,4,5,6,7,8,9})*1000+{100,90,80,70,60,50,40,30,20,10}+{0,1,2,3,4,5,6,7,8,9},COLUMN(E$21))),\"\"))","v":"3"},{"$f":"IF(OR(LEN($O192)=0),\"\",IFERROR(RIGHT(LARGE(COUNTIF(OFFSET($J192,-1,0,-1*$Q$3,5),{0,1,2,3,4,5,6,7,8,9})*1000+{100,90,80,70,60,50,40,30,20,10}+{0,1,2,3,4,5,6,7,8,9},COLUMN(F$21))),\"\"))","v":"0"},{"$f":"IF(OR(LEN($O192)=0),\"\",IFERROR(RIGHT(LARGE(COUNTIF(OFFSET($J192,-1,0,-1*$Q$3,5),{0,1,2,3,4,5,6,7,8,9})*1000+{100,90,80,70,60,50,40,30,20,10}+{0,1,2,3,4,5,6,7,8,9},COLUMN(G$21))),\"\"))","v":"6"},{"$f":"IF(OR(LEN($O192)=0),\"\",IFERROR(RIGHT(LARGE(COUNTIF(OFFSET($J192,-1,0,-1*$Q$3,5),{0,1,2,3,4,5,6,7,8,9})*1000+{100,90,80,70,60,50,40,30,20,10}+{0,1,2,3,4,5,6,7,8,9},COLUMN(H$21))),\"\"))","v":"7"},{"$f":"IF(OR(LEN($O192)=0),\"\",IFERROR(RIGHT(LARGE(COUNTIF(OFFSET($J192,-1,0,-1*$Q$3,5),{0,1,2,3,4,5,6,7,8,9})*1000+{100,90,80,70,60,50,40,30,20,10}+{0,1,2,3,4,5,6,7,8,9},COLUMN(I$21))),\"\"))","v":"9"},{"$f":"IF(OR(LEN($O192)=0),\"\",IFERROR(RIGHT(LARGE(COUNTIF(OFFSET($J192,-1,0,-1*$Q$3,5),{0,1,2,3,4,5,6,7,8,9})*1000+{100,90,80,70,60,50,40,30,20,10}+{0,1,2,3,4,5,6,7,8,9},COLUMN(J$21))),\"\"))","v":"4"},"2185","2","1","8","5","","","","","",""]
["20200515119","77610","7","7","6","1","0",null,null,"","","6","1","0","610",{"$f":"IF(OR(LEN($O193)=0),\"\",IFERROR(RIGHT(LARGE(COUNTIF(OFFSET($J193,-1,0,-1*$Q$3,5),{0,1,2,3,4,5,6,7,8,9})*1000+{100,90,80,70,60,50,40,30,20,10}+{0,1,2,3,4,5,6,7,8,9},COLUMN(A$21))),\"\"))","v":"2"},{"$f":"IF(OR(LEN($O193)=0),\"\",IFERROR(RIGHT(LARGE(COUNTIF(OFFSET($J193,-1,0,-1*$Q$3,5),{0,1,2,3,4,5,6,7,8,9})*1000+{100,90,80,70,60,50,40,30,20,10}+{0,1,2,3,4,5,6,7,8,9},COLUMN(B$21))),\"\"))","v":"1"},{"$f":"IF(OR(LEN($O193)=0),\"\",IFERROR(RIGHT(LARGE(COUNTIF(OFFSET($J193,-1,0,-1*$Q$3,5),{0,1,2,3,4,5,6,7,8,9})*1000+{100,90,80,70,60,50,40,30,20,10}+{0,1,2,3,4,5,6,7,8,9},COLUMN(C$21))),\"\"))","v":"8"},{"$f":"IF(OR(LEN($O193)=0),\"\",IFERROR(RIGHT(LARGE(COUNTIF(OFFSET($J193,-1,0,-1*$Q$3,5),{0,1,2,3,4,5,6,7,8,9})*1000+{100,90,80,70,60,50,40,30,20,10}+{0,1,2,3,4,5,6,7,8,9},COLUMN(D$21))),\"\"))","v":"3"},{"$f":"IF(OR(LEN($O193)=0),\"\",IFERROR(RIGHT(LARGE(COUNTIF(OFFSET($J193,-1,0,-1*$Q$3,5),{0,1,2,3,4,5,6,7,8,9})*1000+{100,90,80,70,60,50,40,30,20,10}+{0,1,2,3,4,5,6,7,8,9},COLUMN(E$21))),\"\"))","v":"5"},{"$f":"IF(OR(LEN($O193)=0),\"\",IFERROR(RIGHT(LARGE(COUNTIF(OFFSET($J193,-1,0,-1*$Q$3,5),{0,1,2,3,4,5,6,7,8,9})*1000+{100,90,80,70,60,50,40,30,20,10}+{0,1,2,3,4,5,6,7,8,9},COLUMN(F$21))),\"\"))","v":"6"},{"$f":"IF(OR(LEN($O193)=0),\"\",IFERROR(RIGHT(LARGE(COUNTIF(OFFSET($J193,-1,0,-1*$Q$3,5),{0,1,2,3,4,5,6,7,8,9})*1000+{100,90,80,70,60,50,40,30,20,10}+{0,1,2,3,4,5,6,7,8,9},COLUMN(G$21))),\"\"))","v":"9"},{"$f":"IF(OR(LEN($O193)=0),\"\",IFERROR(RIGHT(LARGE(COUNTIF(OFFSET($J193,-1,0,-1*$Q$3,5),{0,1,2,3,4,5,6,7,8,9})*1000+{100,90,80,70,60,50,40,30,20,10}+{0,1,2,3,4,5,6,7,8,9},COLUMN(H$21))),\"\"))","v":"0"},{"$f":"IF(OR(LEN($O193)=0),\"\",IFERROR(RIGHT(LARGE(COUNTIF(OFFSET($J193,-1,0,-1*$Q$3,5),{0,1,2,3,4,5,6,7,8,9})*1000+{100,90,80,70,60,50,40,30,20,10}+{0,1,2,3,4,5,6,7,8,9},COLUMN(I$21))),\"\"))","v":"7"},{"$f":"IF(OR(LEN($O193)=0),\"\",IFERROR(RIGHT(LARGE(COUNTIF(OFFSET($J193,-1,0,-1*$Q$3,5),{0,1,2,3,4,5,6,7,8,9})*1000+{100,90,80,70,60,50,40,30,20,10}+{0,1,2,3,4,5,6,7,8,9},COLUMN(J$21))),\"\"))","v":"4"},"2183","2","1","8","3","","","","","",""]
["20200515120","11642","1","1","6","4","2",null,null,"","","6","4","2","642",{"$f":"IF(OR(LEN($O194)=0),\"\",IFERROR(RIGHT(LARGE(COUNTIF(OFFSET($J194,-1,0,-1*$Q$3,5),{0,1,2,3,4,5,6,7,8,9})*1000+{100,90,80,70,60,50,40,30,20,10}+{0,1,2,3,4,5,6,7,8,9},COLUMN(A$21))),\"\"))","v":"2"},{"$f":"IF(OR(LEN($O194)=0),\"\",IFERROR(RIGHT(LARGE(COUNTIF(OFFSET($J194,-1,0,-1*$Q$3,5),{0,1,2,3,4,5,6,7,8,9})*1000+{100,90,80,70,60,50,40,30,20,10}+{0,1,2,3,4,5,6,7,8,9},COLUMN(B$21))),\"\"))","v":"1"},{"$f":"IF(OR(LEN($O194)=0),\"\",IFERROR(RIGHT(LARGE(COUNTIF(OFFSET($J194,-1,0,-1*$Q$3,5),{0,1,2,3,4,5,6,7,8,9})*1000+{100,90,80,70,60,50,40,30,20,10}+{0,1,2,3,4,5,6,7,8,9},COLUMN(C$21))),\"\"))","v":"8"},{"$f":"IF(OR(LEN($O194)=0),\"\",IFERROR(RIGHT(LARGE(COUNTIF(OFFSET($J194,-1,0,-1*$Q$3,5),{0,1,2,3,4,5,6,7,8,9})*1000+{100,90,80,70,60,50,40,30,20,10}+{0,1,2,3,4,5,6,7,8,9},COLUMN(D$21))),\"\"))","v":"5"},{"$f":"IF(OR(LEN($O194)=0),\"\",IFERROR(RIGHT(LARGE(COUNTIF(OFFSET($J194,-1,0,-1*$Q$3,5),{0,1,2,3,4,5,6,7,8,9})*1000+{100,90,80,70,60,50,40,30,20,10}+{0,1,2,3,4,5,6,7,8,9},COLUMN(E$21))),\"\"))","v":"3"},{"$f":"IF(OR(LEN($O194)=0),\"\",IFERROR(RIGHT(LARGE(COUNTIF(OFFSET($J194,-1,0,-1*$Q$3,5),{0,1,2,3,4,5,6,7,8,9})*1000+{100,90,80,70,60,50,40,30,20,10}+{0,1,2,3,4,5,6,7,8,9},COLUMN(F$21))),\"\"))","v":"6"},{"$f":"IF(OR(LEN($O194)=0),\"\",IFERROR(RIGHT(LARGE(COUNTIF(OFFSET($J194,-1,0,-1*$Q$3,5),{0,1,2,3,4,5,6,7,8,9})*1000+{100,90,80,70,60,50,40,30,20,10}+{0,1,2,3,4,5,6,7,8,9},COLUMN(G$21))),\"\"))","v":"0"},{"$f":"IF(OR(LEN($O194)=0),\"\",IFERROR(RIGHT(LARGE(COUNTIF(OFFSET($J194,-1,0,-1*$Q$3,5),{0,1,2,3,4,5,6,7,8,9})*1000+{100,90,80,70,60,50,40,30,20,10}+{0,1,2,3,4,5,6,7,8,9},COLUMN(H$21))),\"\"))","v":"7"},{"$f":"IF(OR(LEN($O194)=0),\"\",IFERROR(RIGHT(LARGE(COUNTIF(OFFSET($J194,-1,0,-1*$Q$3,5),{0,1,2,3,4,5,6,7,8,9})*1000+{100,90,80,70,60,50,40,30,20,10}+{0,1,2,3,4,5,6,7,8,9},COLUMN(I$21))),\"\"))","v":"9"},{"$f":"IF(OR(LEN($O194)=0),\"\",IFERROR(RIGHT(LARGE(COUNTIF(OFFSET($J194,-1,0,-1*$Q$3,5),{0,1,2,3,4,5,6,7,8,9})*1000+{100,90,80,70,60,50,40,30,20,10}+{0,1,2,3,4,5,6,7,8,9},COLUMN(J$21))),\"\"))","v":"4"},"2185","2","1","8","5","","","","","",""]
["20200515121","38811","3","8","8","1","1",null,null,"","","8","1","1","811",{"$f":"IF(OR(LEN($O195)=0),\"\",IFERROR(RIGHT(LARGE(COUNTIF(OFFSET($J195,-1,0,-1*$Q$3,5),{0,1,2,3,4,5,6,7,8,9})*1000+{100,90,80,70,60,50,40,30,20,10}+{0,1,2,3,4,5,6,7,8,9},COLUMN(A$21))),\"\"))","v":"2"},{"$f":"IF(OR(LEN($O195)=0),\"\",IFERROR(RIGHT(LARGE(COUNTIF(OFFSET($J195,-1,0,-1*$Q$3,5),{0,1,2,3,4,5,6,7,8,9})*1000+{100,90,80,70,60,50,40,30,20,10}+{0,1,2,3,4,5,6,7,8,9},COLUMN(B$21))),\"\"))","v":"1"},{"$f":"IF(OR(LEN($O195)=0),\"\",IFERROR(RIGHT(LARGE(COUNTIF(OFFSET($J195,-1,0,-1*$Q$3,5),{0,1,2,3,4,5,6,7,8,9})*1000+{100,90,80,70,60,50,40,30,20,10}+{0,1,2,3,4,5,6,7,8,9},COLUMN(C$21))),\"\"))","v":"8"},{"$f":"IF(OR(LEN($O195)=0),\"\",IFERROR(RIGHT(LARGE(COUNTIF(OFFSET($J195,-1,0,-1*$Q$3,5),{0,1,2,3,4,5,6,7,8,9})*1000+{100,90,80,70,60,50,40,30,20,10}+{0,1,2,3,4,5,6,7,8,9},COLUMN(D$21))),\"\"))","v":"5"},{"$f":"IF(OR(LEN($O195)=0),\"\",IFERROR(RIGHT(LARGE(COUNTIF(OFFSET($J195,-1,0,-1*$Q$3,5),{0,1,2,3,4,5,6,7,8,9})*1000+{100,90,80,70,60,50,40,30,20,10}+{0,1,2,3,4,5,6,7,8,9},COLUMN(E$21))),\"\"))","v":"6"},{"$f":"IF(OR(LEN($O195)=0),\"\",IFERROR(RIGHT(LARGE(COUNTIF(OFFSET($J195,-1,0,-1*$Q$3,5),{0,1,2,3,4,5,6,7,8,9})*1000+{100,90,80,70,60,50,40,30,20,10}+{0,1,2,3,4,5,6,7,8,9},COLUMN(F$21))),\"\"))","v":"0"},{"$f":"IF(OR(LEN($O195)=0),\"\",IFERROR(RIGHT(LARGE(COUNTIF(OFFSET($J195,-1,0,-1*$Q$3,5),{0,1,2,3,4,5,6,7,8,9})*1000+{100,90,80,70,60,50,40,30,20,10}+{0,1,2,3,4,5,6,7,8,9},COLUMN(G$21))),\"\"))","v":"3"},{"$f":"IF(OR(LEN($O195)=0),\"\",IFERROR(RIGHT(LARGE(COUNTIF(OFFSET($J195,-1,0,-1*$Q$3,5),{0,1,2,3,4,5,6,7,8,9})*1000+{100,90,80,70,60,50,40,30,20,10}+{0,1,2,3,4,5,6,7,8,9},COLUMN(H$21))),\"\"))","v":"7"},{"$f":"IF(OR(LEN($O195)=0),\"\",IFERROR(RIGHT(LARGE(COUNTIF(OFFSET($J195,-1,0,-1*$Q$3,5),{0,1,2,3,4,5,6,7,8,9})*1000+{100,90,80,70,60,50,40,30,20,10}+{0,1,2,3,4,5,6,7,8,9},COLUMN(I$21))),\"\"))","v":"9"},{"$f":"IF(OR(LEN($O195)=0),\"\",IFERROR(RIGHT(LARGE(COUNTIF(OFFSET($J195,-1,0,-1*$Q$3,5),{0,1,2,3,4,5,6,7,8,9})*1000+{100,90,80,70,60,50,40,30,20,10}+{0,1,2,3,4,5,6,7,8,9},COLUMN(J$21))),\"\"))","v":"4"},"2185","2","1","8","5","","","","","",""]
["20200515122","68098","6","8","0","9","8",null,null,"","","0","9","8","098",{"$f":"IF(OR(LEN($O196)=0),\"\",IFERROR(RIGHT(LARGE(COUNTIF(OFFSET($J196,-1,0,-1*$Q$3,5),{0,1,2,3,4,5,6,7,8,9})*1000+{100,90,80,70,60,50,40,30,20,10}+{0,1,2,3,4,5,6,7,8,9},COLUMN(A$21))),\"\"))","v":"2"},{"$f":"IF(OR(LEN($O196)=0),\"\",IFERROR(RIGHT(LARGE(COUNTIF(OFFSET($J196,-1,0,-1*$Q$3,5),{0,1,2,3,4,5,6,7,8,9})*1000+{100,90,80,70,60,50,40,30,20,10}+{0,1,2,3,4,5,6,7,8,9},COLUMN(B$21))),\"\"))","v":"1"},{"$f":"IF(OR(LEN($O196)=0),\"\",IFERROR(RIGHT(LARGE(COUNTIF(OFFSET($J196,-1,0,-1*$Q$3,5),{0,1,2,3,4,5,6,7,8,9})*1000+{100,90,80,70,60,50,40,30,20,10}+{0,1,2,3,4,5,6,7,8,9},COLUMN(C$21))),\"\"))","v":"8"},{"$f":"IF(OR(LEN($O196)=0),\"\",IFERROR(RIGHT(LARGE(COUNTIF(OFFSET($J196,-1,0,-1*$Q$3,5),{0,1,2,3,4,5,6,7,8,9})*1000+{100,90,80,70,60,50,40,30,20,10}+{0,1,2,3,4,5,6,7,8,9},COLUMN(D$21))),\"\"))","v":"5"},{"$f":"IF(OR(LEN($O196)=0),\"\",IFERROR(RIGHT(LARGE(COUNTIF(OFFSET($J196,-1,0,-1*$Q$3,5),{0,1,2,3,4,5,6,7,8,9})*1000+{100,90,80,70,60,50,40,30,20,10}+{0,1,2,3,4,5,6,7,8,9},COLUMN(E$21))),\"\"))","v":"6"},{"$f":"IF(OR(LEN($O196)=0),\"\",IFERROR(RIGHT(LARGE(COUNTIF(OFFSET($J196,-1,0,-1*$Q$3,5),{0,1,2,3,4,5,6,7,8,9})*1000+{100,90,80,70,60,50,40,30,20,10}+{0,1,2,3,4,5,6,7,8,9},COLUMN(F$21))),\"\"))","v":"0"},{"$f":"IF(OR(LEN($O196)=0),\"\",IFERROR(RIGHT(LARGE(COUNTIF(OFFSET($J196,-1,0,-1*$Q$3,5),{0,1,2,3,4,5,6,7,8,9})*1000+{100,90,80,70,60,50,40,30,20,10}+{0,1,2,3,4,5,6,7,8,9},COLUMN(G$21))),\"\"))","v":"3"},{"$f":"IF(OR(LEN($O196)=0),\"\",IFERROR(RIGHT(LARGE(COUNTIF(OFFSET($J196,-1,0,-1*$Q$3,5),{0,1,2,3,4,5,6,7,8,9})*1000+{100,90,80,70,60,50,40,30,20,10}+{0,1,2,3,4,5,6,7,8,9},COLUMN(H$21))),\"\"))","v":"7"},{"$f":"IF(OR(LEN($O196)=0),\"\",IFERROR(RIGHT(LARGE(COUNTIF(OFFSET($J196,-1,0,-1*$Q$3,5),{0,1,2,3,4,5,6,7,8,9})*1000+{100,90,80,70,60,50,40,30,20,10}+{0,1,2,3,4,5,6,7,8,9},COLUMN(I$21))),\"\"))","v":"9"},{"$f":"IF(OR(LEN($O196)=0),\"\",IFERROR(RIGHT(LARGE(COUNTIF(OFFSET($J196,-1,0,-1*$Q$3,5),{0,1,2,3,4,5,6,7,8,9})*1000+{100,90,80,70,60,50,40,30,20,10}+{0,1,2,3,4,5,6,7,8,9},COLUMN(J$21))),\"\"))","v":"4"},"2185","2","1","8","5","","","","","",""]
["20200515123","03856","0","3","8","5","6",null,null,"","","8","5","6","856",{"$f":"IF(OR(LEN($O197)=0),\"\",IFERROR(RIGHT(LARGE(COUNTIF(OFFSET($J197,-1,0,-1*$Q$3,5),{0,1,2,3,4,5,6,7,8,9})*1000+{100,90,80,70,60,50,40,30,20,10}+{0,1,2,3,4,5,6,7,8,9},COLUMN(A$21))),\"\"))","v":"2"},{"$f":"IF(OR(LEN($O197)=0),\"\",IFERROR(RIGHT(LARGE(COUNTIF(OFFSET($J197,-1,0,-1*$Q$3,5),{0,1,2,3,4,5,6,7,8,9})*1000+{100,90,80,70,60,50,40,30,20,10}+{0,1,2,3,4,5,6,7,8,9},COLUMN(B$21))),\"\"))","v":"1"},{"$f":"IF(OR(LEN($O197)=0),\"\",IFERROR(RIGHT(LARGE(COUNTIF(OFFSET($J197,-1,0,-1*$Q$3,5),{0,1,2,3,4,5,6,7,8,9})*1000+{100,90,80,70,60,50,40,30,20,10}+{0,1,2,3,4,5,6,7,8,9},COLUMN(C$21))),\"\"))","v":"8"},{"$f":"IF(OR(LEN($O197)=0),\"\",IFERROR(RIGHT(LARGE(COUNTIF(OFFSET($J197,-1,0,-1*$Q$3,5),{0,1,2,3,4,5,6,7,8,9})*1000+{100,90,80,70,60,50,40,30,20,10}+{0,1,2,3,4,5,6,7,8,9},COLUMN(D$21))),\"\"))","v":"5"},{"$f":"IF(OR(LEN($O197)=0),\"\",IFERROR(RIGHT(LARGE(COUNTIF(OFFSET($J197,-1,0,-1*$Q$3,5),{0,1,2,3,4,5,6,7,8,9})*1000+{100,90,80,70,60,50,40,30,20,10}+{0,1,2,3,4,5,6,7,8,9},COLUMN(E$21))),\"\"))","v":"0"},{"$f":"IF(OR(LEN($O197)=0),\"\",IFERROR(RIGHT(LARGE(COUNTIF(OFFSET($J197,-1,0,-1*$Q$3,5),{0,1,2,3,4,5,6,7,8,9})*1000+{100,90,80,70,60,50,40,30,20,10}+{0,1,2,3,4,5,6,7,8,9},COLUMN(F$21))),\"\"))","v":"6"},{"$f":"IF(OR(LEN($O197)=0),\"\",IFERROR(RIGHT(LARGE(COUNTIF(OFFSET($J197,-1,0,-1*$Q$3,5),{0,1,2,3,4,5,6,7,8,9})*1000+{100,90,80,70,60,50,40,30,20,10}+{0,1,2,3,4,5,6,7,8,9},COLUMN(G$21))),\"\"))","v":"9"},{"$f":"IF(OR(LEN($O197)=0),\"\",IFERROR(RIGHT(LARGE(COUNTIF(OFFSET($J197,-1,0,-1*$Q$3,5),{0,1,2,3,4,5,6,7,8,9})*1000+{100,90,80,70,60,50,40,30,20,10}+{0,1,2,3,4,5,6,7,8,9},COLUMN(H$21))),\"\"))","v":"3"},{"$f":"IF(OR(LEN($O197)=0),\"\",IFERROR(RIGHT(LARGE(COUNTIF(OFFSET($J197,-1,0,-1*$Q$3,5),{0,1,2,3,4,5,6,7,8,9})*1000+{100,90,80,70,60,50,40,30,20,10}+{0,1,2,3,4,5,6,7,8,9},COLUMN(I$21))),\"\"))","v":"7"},{"$f":"IF(OR(LEN($O197)=0),\"\",IFERROR(RIGHT(LARGE(COUNTIF(OFFSET($J197,-1,0,-1*$Q$3,5),{0,1,2,3,4,5,6,7,8,9})*1000+{100,90,80,70,60,50,40,30,20,10}+{0,1,2,3,4,5,6,7,8,9},COLUMN(J$21))),\"\"))","v":"4"},"2185","2","1","8","5","","","","","",""]
["20200515124","90224","9","0","2","2","4",null,null,"","","2","2","4","224",{"$f":"IF(OR(LEN($O198)=0),\"\",IFERROR(RIGHT(LARGE(COUNTIF(OFFSET($J198,-1,0,-1*$Q$3,5),{0,1,2,3,4,5,6,7,8,9})*1000+{100,90,80,70,60,50,40,30,20,10}+{0,1,2,3,4,5,6,7,8,9},COLUMN(A$21))),\"\"))","v":"2"},{"$f":"IF(OR(LEN($O198)=0),\"\",IFERROR(RIGHT(LARGE(COUNTIF(OFFSET($J198,-1,0,-1*$Q$3,5),{0,1,2,3,4,5,6,7,8,9})*1000+{100,90,80,70,60,50,40,30,20,10}+{0,1,2,3,4,5,6,7,8,9},COLUMN(B$21))),\"\"))","v":"1"},{"$f":"IF(OR(LEN($O198)=0),\"\",IFERROR(RIGHT(LARGE(COUNTIF(OFFSET($J198,-1,0,-1*$Q$3,5),{0,1,2,3,4,5,6,7,8,9})*1000+{100,90,80,70,60,50,40,30,20,10}+{0,1,2,3,4,5,6,7,8,9},COLUMN(C$21))),\"\"))","v":"8"},{"$f":"IF(OR(LEN($O198)=0),\"\",IFERROR(RIGHT(LARGE(COUNTIF(OFFSET($J198,-1,0,-1*$Q$3,5),{0,1,2,3,4,5,6,7,8,9})*1000+{100,90,80,70,60,50,40,30,20,10}+{0,1,2,3,4,5,6,7,8,9},COLUMN(D$21))),\"\"))","v":"5"},{"$f":"IF(OR(LEN($O198)=0),\"\",IFERROR(RIGHT(LARGE(COUNTIF(OFFSET($J198,-1,0,-1*$Q$3,5),{0,1,2,3,4,5,6,7,8,9})*1000+{100,90,80,70,60,50,40,30,20,10}+{0,1,2,3,4,5,6,7,8,9},COLUMN(E$21))),\"\"))","v":"0"},{"$f":"IF(OR(LEN($O198)=0),\"\",IFERROR(RIGHT(LARGE(COUNTIF(OFFSET($J198,-1,0,-1*$Q$3,5),{0,1,2,3,4,5,6,7,8,9})*1000+{100,90,80,70,60,50,40,30,20,10}+{0,1,2,3,4,5,6,7,8,9},COLUMN(F$21))),\"\"))","v":"6"},{"$f":"IF(OR(LEN($O198)=0),\"\",IFERROR(RIGHT(LARGE(COUNTIF(OFFSET($J198,-1,0,-1*$Q$3,5),{0,1,2,3,4,5,6,7,8,9})*1000+{100,90,80,70,60,50,40,30,20,10}+{0,1,2,3,4,5,6,7,8,9},COLUMN(G$21))),\"\"))","v":"9"},{"$f":"IF(OR(LEN($O198)=0),\"\",IFERROR(RIGHT(LARGE(COUNTIF(OFFSET($J198,-1,0,-1*$Q$3,5),{0,1,2,3,4,5,6,7,8,9})*1000+{100,90,80,70,60,50,40,30,20,10}+{0,1,2,3,4,5,6,7,8,9},COLUMN(H$21))),\"\"))","v":"3"},{"$f":"IF(OR(LEN($O198)=0),\"\",IFERROR(RIGHT(LARGE(COUNTIF(OFFSET($J198,-1,0,-1*$Q$3,5),{0,1,2,3,4,5,6,7,8,9})*1000+{100,90,80,70,60,50,40,30,20,10}+{0,1,2,3,4,5,6,7,8,9},COLUMN(I$21))),\"\"))","v":"7"},{"$f":"IF(OR(LEN($O198)=0),\"\",IFERROR(RIGHT(LARGE(COUNTIF(OFFSET($J198,-1,0,-1*$Q$3,5),{0,1,2,3,4,5,6,7,8,9})*1000+{100,90,80,70,60,50,40,30,20,10}+{0,1,2,3,4,5,6,7,8,9},COLUMN(J$21))),\"\"))","v":"4"},"2185","2","1","8","5","","","","","",""]
["20200515125","16816","1","6","8","1","6",null,null,"","","8","1","6",{"$f":"J199&K199&L199&M199&N199","v":"816"},{"$f":"IF(OR(LEN($O199)=0),\"\",IFERROR(RIGHT(LARGE(COUNTIF(OFFSET($J199,-1,0,-1*$Q$3,5),{0,1,2,3,4,5,6,7,8,9})*1000+{100,90,80,70,60,50,40,30,20,10}+{0,1,2,3,4,5,6,7,8,9},COLUMN(A$21))),\"\"))","v":"2"},{"$f":"IF(OR(LEN($O199)=0),\"\",IFERROR(RIGHT(LARGE(COUNTIF(OFFSET($J199,-1,0,-1*$Q$3,5),{0,1,2,3,4,5,6,7,8,9})*1000+{100,90,80,70,60,50,40,30,20,10}+{0,1,2,3,4,5,6,7,8,9},COLUMN(B$21))),\"\"))","v":"1"},{"$f":"IF(OR(LEN($O199)=0),\"\",IFERROR(RIGHT(LARGE(COUNTIF(OFFSET($J199,-1,0,-1*$Q$3,5),{0,1,2,3,4,5,6,7,8,9})*1000+{100,90,80,70,60,50,40,30,20,10}+{0,1,2,3,4,5,6,7,8,9},COLUMN(C$21))),\"\"))","v":"8"},{"$f":"IF(OR(LEN($O199)=0),\"\",IFERROR(RIGHT(LARGE(COUNTIF(OFFSET($J199,-1,0,-1*$Q$3,5),{0,1,2,3,4,5,6,7,8,9})*1000+{100,90,80,70,60,50,40,30,20,10}+{0,1,2,3,4,5,6,7,8,9},COLUMN(D$21))),\"\"))","v":"5"},{"$f":"IF(OR(LEN($O199)=0),\"\",IFERROR(RIGHT(LARGE(COUNTIF(OFFSET($J199,-1,0,-1*$Q$3,5),{0,1,2,3,4,5,6,7,8,9})*1000+{100,90,80,70,60,50,40,30,20,10}+{0,1,2,3,4,5,6,7,8,9},COLUMN(E$21))),\"\"))","v":"0"},{"$f":"IF(OR(LEN($O199)=0),\"\",IFERROR(RIGHT(LARGE(COUNTIF(OFFSET($J199,-1,0,-1*$Q$3,5),{0,1,2,3,4,5,6,7,8,9})*1000+{100,90,80,70,60,50,40,30,20,10}+{0,1,2,3,4,5,6,7,8,9},COLUMN(F$21))),\"\"))","v":"6"},{"$f":"IF(OR(LEN($O199)=0),\"\",IFERROR(RIGHT(LARGE(COUNTIF(OFFSET($J199,-1,0,-1*$Q$3,5),{0,1,2,3,4,5,6,7,8,9})*1000+{100,90,80,70,60,50,40,30,20,10}+{0,1,2,3,4,5,6,7,8,9},COLUMN(G$21))),\"\"))","v":"9"},{"$f":"IF(OR(LEN($O199)=0),\"\",IFERROR(RIGHT(LARGE(COUNTIF(OFFSET($J199,-1,0,-1*$Q$3,5),{0,1,2,3,4,5,6,7,8,9})*1000+{100,90,80,70,60,50,40,30,20,10}+{0,1,2,3,4,5,6,7,8,9},COLUMN(H$21))),\"\"))","v":"3"},{"$f":"IF(OR(LEN($O199)=0),\"\",IFERROR(RIGHT(LARGE(COUNTIF(OFFSET($J199,-1,0,-1*$Q$3,5),{0,1,2,3,4,5,6,7,8,9})*1000+{100,90,80,70,60,50,40,30,20,10}+{0,1,2,3,4,5,6,7,8,9},COLUMN(I$21))),\"\"))","v":"7"},{"$f":"IF(OR(LEN($O199)=0),\"\",IFERROR(RIGHT(LARGE(COUNTIF(OFFSET($J199,-1,0,-1*$Q$3,5),{0,1,2,3,4,5,6,7,8,9})*1000+{100,90,80,70,60,50,40,30,20,10}+{0,1,2,3,4,5,6,7,8,9},COLUMN(J$21))),\"\"))","v":"4"},"2185","2","1","8","5","","","","","",""]
["20200515126","52736","5","2","7","3","6",null,null,"","","7","3","6","736",{"$f":"IF(OR(LEN($O200)=0),\"\",IFERROR(RIGHT(LARGE(COUNTIF(OFFSET($J200,-1,0,-1*$Q$3,5),{0,1,2,3,4,5,6,7,8,9})*1000+{100,90,80,70,60,50,40,30,20,10}+{0,1,2,3,4,5,6,7,8,9},COLUMN(A$21))),\"\"))","v":"2"},{"$f":"IF(OR(LEN($O200)=0),\"\",IFERROR(RIGHT(LARGE(COUNTIF(OFFSET($J200,-1,0,-1*$Q$3,5),{0,1,2,3,4,5,6,7,8,9})*1000+{100,90,80,70,60,50,40,30,20,10}+{0,1,2,3,4,5,6,7,8,9},COLUMN(B$21))),\"\"))","v":"1"},{"$f":"IF(OR(LEN($O200)=0),\"\",IFERROR(RIGHT(LARGE(COUNTIF(OFFSET($J200,-1,0,-1*$Q$3,5),{0,1,2,3,4,5,6,7,8,9})*1000+{100,90,80,70,60,50,40,30,20,10}+{0,1,2,3,4,5,6,7,8,9},COLUMN(C$21))),\"\"))","v":"8"},{"$f":"IF(OR(LEN($O200)=0),\"\",IFERROR(RIGHT(LARGE(COUNTIF(OFFSET($J200,-1,0,-1*$Q$3,5),{0,1,2,3,4,5,6,7,8,9})*1000+{100,90,80,70,60,50,40,30,20,10}+{0,1,2,3,4,5,6,7,8,9},COLUMN(D$21))),\"\"))","v":"5"},{"$f":"IF(OR(LEN($O200)=0),\"\",IFERROR(RIGHT(LARGE(COUNTIF(OFFSET($J200,-1,0,-1*$Q$3,5),{0,1,2,3,4,5,6,7,8,9})*1000+{100,90,80,70,60,50,40,30,20,10}+{0,1,2,3,4,5,6,7,8,9},COLUMN(E$21))),\"\"))","v":"0"},{"$f":"IF(OR(LEN($O200)=0),\"\",IFERROR(RIGHT(LARGE(COUNTIF(OFFSET($J200,-1,0,-1*$Q$3,5),{0,1,2,3,4,5,6,7,8,9})*1000+{100,90,80,70,60,50,40,30,20,10}+{0,1,2,3,4,5,6,7,8,9},COLUMN(F$21))),\"\"))","v":"9"},{"$f":"IF(OR(LEN($O200)=0),\"\",IFERROR(RIGHT(LARGE(COUNTIF(OFFSET($J200,-1,0,-1*$Q$3,5),{0,1,2,3,4,5,6,7,8,9})*1000+{100,90,80,70,60,50,40,30,20,10}+{0,1,2,3,4,5,6,7,8,9},COLUMN(G$21))),\"\"))","v":"6"},{"$f":"IF(OR(LEN($O200)=0),\"\",IFERROR(RIGHT(LARGE(COUNTIF(OFFSET($J200,-1,0,-1*$Q$3,5),{0,1,2,3,4,5,6,7,8,9})*1000+{100,90,80,70,60,50,40,30,20,10}+{0,1,2,3,4,5,6,7,8,9},COLUMN(H$21))),\"\"))","v":"3"},{"$f":"IF(OR(LEN($O200)=0),\"\",IFERROR(RIGHT(LARGE(COUNTIF(OFFSET($J200,-1,0,-1*$Q$3,5),{0,1,2,3,4,5,6,7,8,9})*1000+{100,90,80,70,60,50,40,30,20,10}+{0,1,2,3,4,5,6,7,8,9},COLUMN(I$21))),\"\"))","v":"7"},{"$f":"IF(OR(LEN($O200)=0),\"\",IFERROR(RIGHT(LARGE(COUNTIF(OFFSET($J200,-1,0,-1*$Q$3,5),{0,1,2,3,4,5,6,7,8,9})*1000+{100,90,80,70,60,50,40,30,20,10}+{0,1,2,3,4,5,6,7,8,9},COLUMN(J$21))),\"\"))","v":"4"},"2185","2","1","8","5","","","","","",""]
["20200515127","79441","7","9","4","4","1",null,null,"","","4","4","1","441",{"$f":"IF(OR(LEN($O201)=0),\"\",IFERROR(RIGHT(LARGE(COUNTIF(OFFSET($J201,-1,0,-1*$Q$3,5),{0,1,2,3,4,5,6,7,8,9})*1000+{100,90,80,70,60,50,40,30,20,10}+{0,1,2,3,4,5,6,7,8,9},COLUMN(A$21))),\"\"))","v":"2"},{"$f":"IF(OR(LEN($O201)=0),\"\",IFERROR(RIGHT(LARGE(COUNTIF(OFFSET($J201,-1,0,-1*$Q$3,5),{0,1,2,3,4,5,6,7,8,9})*1000+{100,90,80,70,60,50,40,30,20,10}+{0,1,2,3,4,5,6,7,8,9},COLUMN(B$21))),\"\"))","v":"1"},{"$f":"IF(OR(LEN($O201)=0),\"\",IFERROR(RIGHT(LARGE(COUNTIF(OFFSET($J201,-1,0,-1*$Q$3,5),{0,1,2,3,4,5,6,7,8,9})*1000+{100,90,80,70,60,50,40,30,20,10}+{0,1,2,3,4,5,6,7,8,9},COLUMN(C$21))),\"\"))","v":"8"},{"$f":"IF(OR(LEN($O201)=0),\"\",IFERROR(RIGHT(LARGE(COUNTIF(OFFSET($J201,-1,0,-1*$Q$3,5),{0,1,2,3,4,5,6,7,8,9})*1000+{100,90,80,70,60,50,40,30,20,10}+{0,1,2,3,4,5,6,7,8,9},COLUMN(D$21))),\"\"))","v":"5"},{"$f":"IF(OR(LEN($O201)=0),\"\",IFERROR(RIGHT(LARGE(COUNTIF(OFFSET($J201,-1,0,-1*$Q$3,5),{0,1,2,3,4,5,6,7,8,9})*1000+{100,90,80,70,60,50,40,30,20,10}+{0,1,2,3,4,5,6,7,8,9},COLUMN(E$21))),\"\"))","v":"0"},{"$f":"IF(OR(LEN($O201)=0),\"\",IFERROR(RIGHT(LARGE(COUNTIF(OFFSET($J201,-1,0,-1*$Q$3,5),{0,1,2,3,4,5,6,7,8,9})*1000+{100,90,80,70,60,50,40,30,20,10}+{0,1,2,3,4,5,6,7,8,9},COLUMN(F$21))),\"\"))","v":"3"},{"$f":"IF(OR(LEN($O201)=0),\"\",IFERROR(RIGHT(LARGE(COUNTIF(OFFSET($J201,-1,0,-1*$Q$3,5),{0,1,2,3,4,5,6,7,8,9})*1000+{100,90,80,70,60,50,40,30,20,10}+{0,1,2,3,4,5,6,7,8,9},COLUMN(G$21))),\"\"))","v":"6"},{"$f":"IF(OR(LEN($O201)=0),\"\",IFERROR(RIGHT(LARGE(COUNTIF(OFFSET($J201,-1,0,-1*$Q$3,5),{0,1,2,3,4,5,6,7,8,9})*1000+{100,90,80,70,60,50,40,30,20,10}+{0,1,2,3,4,5,6,7,8,9},COLUMN(H$21))),\"\"))","v":"7"},{"$f":"IF(OR(LEN($O201)=0),\"\",IFERROR(RIGHT(LARGE(COUNTIF(OFFSET($J201,-1,0,-1*$Q$3,5),{0,1,2,3,4,5,6,7,8,9})*1000+{100,90,80,70,60,50,40,30,20,10}+{0,1,2,3,4,5,6,7,8,9},COLUMN(I$21))),\"\"))","v":"9"},{"$f":"IF(OR(LEN($O201)=0),\"\",IFERROR(RIGHT(LARGE(COUNTIF(OFFSET($J201,-1,0,-1*$Q$3,5),{0,1,2,3,4,5,6,7,8,9})*1000+{100,90,80,70,60,50,40,30,20,10}+{0,1,2,3,4,5,6,7,8,9},COLUMN(J$21))),\"\"))","v":"4"},"2185","2","1","8","5","","","","","",""]
["20200515128","61214","6","1","2","1","4",null,null,"","","2","1","4","214",{"$f":"IF(OR(LEN($O202)=0),\"\",IFERROR(RIGHT(LARGE(COUNTIF(OFFSET($J202,-1,0,-1*$Q$3,5),{0,1,2,3,4,5,6,7,8,9})*1000+{100,90,80,70,60,50,40,30,20,10}+{0,1,2,3,4,5,6,7,8,9},COLUMN(A$21))),\"\"))","v":"2"},{"$f":"IF(OR(LEN($O202)=0),\"\",IFERROR(RIGHT(LARGE(COUNTIF(OFFSET($J202,-1,0,-1*$Q$3,5),{0,1,2,3,4,5,6,7,8,9})*1000+{100,90,80,70,60,50,40,30,20,10}+{0,1,2,3,4,5,6,7,8,9},COLUMN(B$21))),\"\"))","v":"1"},{"$f":"IF(OR(LEN($O202)=0),\"\",IFERROR(RIGHT(LARGE(COUNTIF(OFFSET($J202,-1,0,-1*$Q$3,5),{0,1,2,3,4,5,6,7,8,9})*1000+{100,90,80,70,60,50,40,30,20,10}+{0,1,2,3,4,5,6,7,8,9},COLUMN(C$21))),\"\"))","v":"8"},{"$f":"IF(OR(LEN($O202)=0),\"\",IFERROR(RIGHT(LARGE(COUNTIF(OFFSET($J202,-1,0,-1*$Q$3,5),{0,1,2,3,4,5,6,7,8,9})*1000+{100,90,80,70,60,50,40,30,20,10}+{0,1,2,3,4,5,6,7,8,9},COLUMN(D$21))),\"\"))","v":"5"},{"$f":"IF(OR(LEN($O202)=0),\"\",IFERROR(RIGHT(LARGE(COUNTIF(OFFSET($J202,-1,0,-1*$Q$3,5),{0,1,2,3,4,5,6,7,8,9})*1000+{100,90,80,70,60,50,40,30,20,10}+{0,1,2,3,4,5,6,7,8,9},COLUMN(E$21))),\"\"))","v":"3"},{"$f":"IF(OR(LEN($O202)=0),\"\",IFERROR(RIGHT(LARGE(COUNTIF(OFFSET($J202,-1,0,-1*$Q$3,5),{0,1,2,3,4,5,6,7,8,9})*1000+{100,90,80,70,60,50,40,30,20,10}+{0,1,2,3,4,5,6,7,8,9},COLUMN(F$21))),\"\"))","v":"6"},{"$f":"IF(OR(LEN($O202)=0),\"\",IFERROR(RIGHT(LARGE(COUNTIF(OFFSET($J202,-1,0,-1*$Q$3,5),{0,1,2,3,4,5,6,7,8,9})*1000+{100,90,80,70,60,50,40,30,20,10}+{0,1,2,3,4,5,6,7,8,9},COLUMN(G$21))),\"\"))","v":"7"},{"$f":"IF(OR(LEN($O202)=0),\"\",IFERROR(RIGHT(LARGE(COUNTIF(OFFSET($J202,-1,0,-1*$Q$3,5),{0,1,2,3,4,5,6,7,8,9})*1000+{100,90,80,70,60,50,40,30,20,10}+{0,1,2,3,4,5,6,7,8,9},COLUMN(H$21))),\"\"))","v":"9"},{"$f":"IF(OR(LEN($O202)=0),\"\",IFERROR(RIGHT(LARGE(COUNTIF(OFFSET($J202,-1,0,-1*$Q$3,5),{0,1,2,3,4,5,6,7,8,9})*1000+{100,90,80,70,60,50,40,30,20,10}+{0,1,2,3,4,5,6,7,8,9},COLUMN(I$21))),\"\"))","v":"0"},{"$f":"IF(OR(LEN($O202)=0),\"\",IFERROR(RIGHT(LARGE(COUNTIF(OFFSET($J202,-1,0,-1*$Q$3,5),{0,1,2,3,4,5,6,7,8,9})*1000+{100,90,80,70,60,50,40,30,20,10}+{0,1,2,3,4,5,6,7,8,9},COLUMN(J$21))),\"\"))","v":"4"},"2185","2","1","8","5","","","","","",""]
["20200515129","97264","9","7","2","6","4",null,null,"","","2","6","4","264",{"$f":"IF(OR(LEN($O203)=0),\"\",IFERROR(RIGHT(LARGE(COUNTIF(OFFSET($J203,-1,0,-1*$Q$3,5),{0,1,2,3,4,5,6,7,8,9})*1000+{100,90,80,70,60,50,40,30,20,10}+{0,1,2,3,4,5,6,7,8,9},COLUMN(A$21))),\"\"))","v":"2"},{"$f":"IF(OR(LEN($O203)=0),\"\",IFERROR(RIGHT(LARGE(COUNTIF(OFFSET($J203,-1,0,-1*$Q$3,5),{0,1,2,3,4,5,6,7,8,9})*1000+{100,90,80,70,60,50,40,30,20,10}+{0,1,2,3,4,5,6,7,8,9},COLUMN(B$21))),\"\"))","v":"1"},{"$f":"IF(OR(LEN($O203)=0),\"\",IFERROR(RIGHT(LARGE(COUNTIF(OFFSET($J203,-1,0,-1*$Q$3,5),{0,1,2,3,4,5,6,7,8,9})*1000+{100,90,80,70,60,50,40,30,20,10}+{0,1,2,3,4,5,6,7,8,9},COLUMN(C$21))),\"\"))","v":"8"},{"$f":"IF(OR(LEN($O203)=0),\"\",IFERROR(RIGHT(LARGE(COUNTIF(OFFSET($J203,-1,0,-1*$Q$3,5),{0,1,2,3,4,5,6,7,8,9})*1000+{100,90,80,70,60,50,40,30,20,10}+{0,1,2,3,4,5,6,7,8,9},COLUMN(D$21))),\"\"))","v":"5"},{"$f":"IF(OR(LEN($O203)=0),\"\",IFERROR(RIGHT(LARGE(COUNTIF(OFFSET($J203,-1,0,-1*$Q$3,5),{0,1,2,3,4,5,6,7,8,9})*1000+{100,90,80,70,60,50,40,30,20,10}+{0,1,2,3,4,5,6,7,8,9},COLUMN(E$21))),\"\"))","v":"3"},{"$f":"IF(OR(LEN($O203)=0),\"\",IFERROR(RIGHT(LARGE(COUNTIF(OFFSET($J203,-1,0,-1*$Q$3,5),{0,1,2,3,4,5,6,7,8,9})*1000+{100,90,80,70,60,50,40,30,20,10}+{0,1,2,3,4,5,6,7,8,9},COLUMN(F$21))),\"\"))","v":"4"},{"$f":"IF(OR(LEN($O203)=0),\"\",IFERROR(RIGHT(LARGE(COUNTIF(OFFSET($J203,-1,0,-1*$Q$3,5),{0,1,2,3,4,5,6,7,8,9})*1000+{100,90,80,70,60,50,40,30,20,10}+{0,1,2,3,4,5,6,7,8,9},COLUMN(G$21))),\"\"))","v":"6"},{"$f":"IF(OR(LEN($O203)=0),\"\",IFERROR(RIGHT(LARGE(COUNTIF(OFFSET($J203,-1,0,-1*$Q$3,5),{0,1,2,3,4,5,6,7,8,9})*1000+{100,90,80,70,60,50,40,30,20,10}+{0,1,2,3,4,5,6,7,8,9},COLUMN(H$21))),\"\"))","v":"7"},{"$f":"IF(OR(LEN($O203)=0),\"\",IFERROR(RIGHT(LARGE(COUNTIF(OFFSET($J203,-1,0,-1*$Q$3,5),{0,1,2,3,4,5,6,7,8,9})*1000+{100,90,80,70,60,50,40,30,20,10}+{0,1,2,3,4,5,6,7,8,9},COLUMN(I$21))),\"\"))","v":"9"},{"$f":"IF(OR(LEN($O203)=0),\"\",IFERROR(RIGHT(LARGE(COUNTIF(OFFSET($J203,-1,0,-1*$Q$3,5),{0,1,2,3,4,5,6,7,8,9})*1000+{100,90,80,70,60,50,40,30,20,10}+{0,1,2,3,4,5,6,7,8,9},COLUMN(J$21))),\"\"))","v":"0"},"2185","2","1","8","5","","","","","",""]
["20200515130","71411","7","1","4","1","1",null,null,"","","4","1","1","411",{"$f":"IF(OR(LEN($O204)=0),\"\",IFERROR(RIGHT(LARGE(COUNTIF(OFFSET($J204,-1,0,-1*$Q$3,5),{0,1,2,3,4,5,6,7,8,9})*1000+{100,90,80,70,60,50,40,30,20,10}+{0,1,2,3,4,5,6,7,8,9},COLUMN(A$21))),\"\"))","v":"2"},{"$f":"IF(OR(LEN($O204)=0),\"\",IFERROR(RIGHT(LARGE(COUNTIF(OFFSET($J204,-1,0,-1*$Q$3,5),{0,1,2,3,4,5,6,7,8,9})*1000+{100,90,80,70,60,50,40,30,20,10}+{0,1,2,3,4,5,6,7,8,9},COLUMN(B$21))),\"\"))","v":"1"},{"$f":"IF(OR(LEN($O204)=0),\"\",IFERROR(RIGHT(LARGE(COUNTIF(OFFSET($J204,-1,0,-1*$Q$3,5),{0,1,2,3,4,5,6,7,8,9})*1000+{100,90,80,70,60,50,40,30,20,10}+{0,1,2,3,4,5,6,7,8,9},COLUMN(C$21))),\"\"))","v":"8"},{"$f":"IF(OR(LEN($O204)=0),\"\",IFERROR(RIGHT(LARGE(COUNTIF(OFFSET($J204,-1,0,-1*$Q$3,5),{0,1,2,3,4,5,6,7,8,9})*1000+{100,90,80,70,60,50,40,30,20,10}+{0,1,2,3,4,5,6,7,8,9},COLUMN(D$21))),\"\"))","v":"5"},{"$f":"IF(OR(LEN($O204)=0),\"\",IFERROR(RIGHT(LARGE(COUNTIF(OFFSET($J204,-1,0,-1*$Q$3,5),{0,1,2,3,4,5,6,7,8,9})*1000+{100,90,80,70,60,50,40,30,20,10}+{0,1,2,3,4,5,6,7,8,9},COLUMN(E$21))),\"\"))","v":"4"},{"$f":"IF(OR(LEN($O204)=0),\"\",IFERROR(RIGHT(LARGE(COUNTIF(OFFSET($J204,-1,0,-1*$Q$3,5),{0,1,2,3,4,5,6,7,8,9})*1000+{100,90,80,70,60,50,40,30,20,10}+{0,1,2,3,4,5,6,7,8,9},COLUMN(F$21))),\"\"))","v":"6"},{"$f":"IF(OR(LEN($O204)=0),\"\",IFERROR(RIGHT(LARGE(COUNTIF(OFFSET($J204,-1,0,-1*$Q$3,5),{0,1,2,3,4,5,6,7,8,9})*1000+{100,90,80,70,60,50,40,30,20,10}+{0,1,2,3,4,5,6,7,8,9},COLUMN(G$21))),\"\"))","v":"3"},{"$f":"IF(OR(LEN($O204)=0),\"\",IFERROR(RIGHT(LARGE(COUNTIF(OFFSET($J204,-1,0,-1*$Q$3,5),{0,1,2,3,4,5,6,7,8,9})*1000+{100,90,80,70,60,50,40,30,20,10}+{0,1,2,3,4,5,6,7,8,9},COLUMN(H$21))),\"\"))","v":"7"},{"$f":"IF(OR(LEN($O204)=0),\"\",IFERROR(RIGHT(LARGE(COUNTIF(OFFSET($J204,-1,0,-1*$Q$3,5),{0,1,2,3,4,5,6,7,8,9})*1000+{100,90,80,70,60,50,40,30,20,10}+{0,1,2,3,4,5,6,7,8,9},COLUMN(I$21))),\"\"))","v":"9"},{"$f":"IF(OR(LEN($O204)=0),\"\",IFERROR(RIGHT(LARGE(COUNTIF(OFFSET($J204,-1,0,-1*$Q$3,5),{0,1,2,3,4,5,6,7,8,9})*1000+{100,90,80,70,60,50,40,30,20,10}+{0,1,2,3,4,5,6,7,8,9},COLUMN(J$21))),\"\"))","v":"0"},"2185","2","1","8","5","","","","","",""]
["20200515131","84023","8","4","0","2","3",null,null,"","","0","2","3","023",{"$f":"IF(OR(LEN($O205)=0),\"\",IFERROR(RIGHT(LARGE(COUNTIF(OFFSET($J205,-1,0,-1*$Q$3,5),{0,1,2,3,4,5,6,7,8,9})*1000+{100,90,80,70,60,50,40,30,20,10}+{0,1,2,3,4,5,6,7,8,9},COLUMN(A$21))),\"\"))","v":"2"},{"$f":"IF(OR(LEN($O205)=0),\"\",IFERROR(RIGHT(LARGE(COUNTIF(OFFSET($J205,-1,0,-1*$Q$3,5),{0,1,2,3,4,5,6,7,8,9})*1000+{100,90,80,70,60,50,40,30,20,10}+{0,1,2,3,4,5,6,7,8,9},COLUMN(B$21))),\"\"))","v":"1"},{"$f":"IF(OR(LEN($O205)=0),\"\",IFERROR(RIGHT(LARGE(COUNTIF(OFFSET($J205,-1,0,-1*$Q$3,5),{0,1,2,3,4,5,6,7,8,9})*1000+{100,90,80,70,60,50,40,30,20,10}+{0,1,2,3,4,5,6,7,8,9},COLUMN(C$21))),\"\"))","v":"8"},{"$f":"IF(OR(LEN($O205)=0),\"\",IFERROR(RIGHT(LARGE(COUNTIF(OFFSET($J205,-1,0,-1*$Q$3,5),{0,1,2,3,4,5,6,7,8,9})*1000+{100,90,80,70,60,50,40,30,20,10}+{0,1,2,3,4,5,6,7,8,9},COLUMN(D$21))),\"\"))","v":"4"},{"$f":"IF(OR(LEN($O205)=0),\"\",IFERROR(RIGHT(LARGE(COUNTIF(OFFSET($J205,-1,0,-1*$Q$3,5),{0,1,2,3,4,5,6,7,8,9})*1000+{100,90,80,70,60,50,40,30,20,10}+{0,1,2,3,4,5,6,7,8,9},COLUMN(E$21))),\"\"))","v":"5"},{"$f":"IF(OR(LEN($O205)=0),\"\",IFERROR(RIGHT(LARGE(COUNTIF(OFFSET($J205,-1,0,-1*$Q$3,5),{0,1,2,3,4,5,6,7,8,9})*1000+{100,90,80,70,60,50,40,30,20,10}+{0,1,2,3,4,5,6,7,8,9},COLUMN(F$21))),\"\"))","v":"3"},{"$f":"IF(OR(LEN($O205)=0),\"\",IFERROR(RIGHT(LARGE(COUNTIF(OFFSET($J205,-1,0,-1*$Q$3,5),{0,1,2,3,4,5,6,7,8,9})*1000+{100,90,80,70,60,50,40,30,20,10}+{0,1,2,3,4,5,6,7,8,9},COLUMN(G$21))),\"\"))","v":"6"},{"$f":"IF(OR(LEN($O205)=0),\"\",IFERROR(RIGHT(LARGE(COUNTIF(OFFSET($J205,-1,0,-1*$Q$3,5),{0,1,2,3,4,5,6,7,8,9})*1000+{100,90,80,70,60,50,40,30,20,10}+{0,1,2,3,4,5,6,7,8,9},COLUMN(H$21))),\"\"))","v":"7"},{"$f":"IF(OR(LEN($O205)=0),\"\",IFERROR(RIGHT(LARGE(COUNTIF(OFFSET($J205,-1,0,-1*$Q$3,5),{0,1,2,3,4,5,6,7,8,9})*1000+{100,90,80,70,60,50,40,30,20,10}+{0,1,2,3,4,5,6,7,8,9},COLUMN(I$21))),\"\"))","v":"9"},{"$f":"IF(OR(LEN($O205)=0),\"\",IFERROR(RIGHT(LARGE(COUNTIF(OFFSET($J205,-1,0,-1*$Q$3,5),{0,1,2,3,4,5,6,7,8,9})*1000+{100,90,80,70,60,50,40,30,20,10}+{0,1,2,3,4,5,6,7,8,9},COLUMN(J$21))),\"\"))","v":"0"},"2184","2","1","8","4","","","","","",""]
[null,null,null,null,null,null,null,null,null,null,null,null,null,null,null,{"$f":"IF(OR(LEN($O206)=1),\"\",IFERROR(RIGHT(LARGE(COUNTIF(OFFSET($J206,-1,0,-1*$Q$3,5),{0,1,2,3,4,5,6,7,8,9})*1000+{100,90,80,70,60,50,40,30,20,10}+{0,1,2,3,4,5,6,7,8,9},COLUMN(A$21))),\"\"))","v":"2"},{"$f":"IF(OR(LEN($O206)=1),\"\",IFERROR(RIGHT(LARGE(COUNTIF(OFFSET($J206,-1,0,-1*$Q$3,5),{0,1,2,3,4,5,6,7,8,9})*1000+{100,90,80,70,60,50,40,30,20,10}+{0,1,2,3,4,5,6,7,8,9},COLUMN(B$21))),\"\"))","v":"1"},{"$f":"IF(OR(LEN($O206)=1),\"\",IFERROR(RIGHT(LARGE(COUNTIF(OFFSET($J206,-1,0,-1*$Q$3,5),{0,1,2,3,4,5,6,7,8,9})*1000+{100,90,80,70,60,50,40,30,20,10}+{0,1,2,3,4,5,6,7,8,9},COLUMN(C$21))),\"\"))","v":"8"},{"$f":"IF(OR(LEN($O206)=1),\"\",IFERROR(RIGHT(LARGE(COUNTIF(OFFSET($J206,-1,0,-1*$Q$3,5),{0,1,2,3,4,5,6,7,8,9})*1000+{100,90,80,70,60,50,40,30,20,10}+{0,1,2,3,4,5,6,7,8,9},COLUMN(D$21))),\"\"))","v":"4"},{"$f":"IF(OR(LEN($O206)=1),\"\",IFERROR(RIGHT(LARGE(COUNTIF(OFFSET($J206,-1,0,-1*$Q$3,5),{0,1,2,3,4,5,6,7,8,9})*1000+{100,90,80,70,60,50,40,30,20,10}+{0,1,2,3,4,5,6,7,8,9},COLUMN(E$21))),\"\"))","v":"3"},{"$f":"IF(OR(LEN($O206)=1),\"\",IFERROR(RIGHT(LARGE(COUNTIF(OFFSET($J206,-1,0,-1*$Q$3,5),{0,1,2,3,4,5,6,7,8,9})*1000+{100,90,80,70,60,50,40,30,20,10}+{0,1,2,3,4,5,6,7,8,9},COLUMN(F$21))),\"\"))","v":"5"},{"$f":"IF(OR(LEN($O206)=1),\"\",IFERROR(RIGHT(LARGE(COUNTIF(OFFSET($J206,-1,0,-1*$Q$3,5),{0,1,2,3,4,5,6,7,8,9})*1000+{100,90,80,70,60,50,40,30,20,10}+{0,1,2,3,4,5,6,7,8,9},COLUMN(G$21))),\"\"))","v":"7"},{"$f":"IF(OR(LEN($O206)=1),\"\",IFERROR(RIGHT(LARGE(COUNTIF(OFFSET($J206,-1,0,-1*$Q$3,5),{0,1,2,3,4,5,6,7,8,9})*1000+{100,90,80,70,60,50,40,30,20,10}+{0,1,2,3,4,5,6,7,8,9},COLUMN(H$21))),\"\"))","v":"9"},{"$f":"IF(OR(LEN($O206)=1),\"\",IFERROR(RIGHT(LARGE(COUNTIF(OFFSET($J206,-1,0,-1*$Q$3,5),{0,1,2,3,4,5,6,7,8,9})*1000+{100,90,80,70,60,50,40,30,20,10}+{0,1,2,3,4,5,6,7,8,9},COLUMN(I$21))),\"\"))","v":"0"},{"$f":"IF(OR(LEN($O206)=1),\"\",IFERROR(RIGHT(LARGE(COUNTIF(OFFSET($J206,-1,0,-1*$Q$3,5),{0,1,2,3,4,5,6,7,8,9})*1000+{100,90,80,70,60,50,40,30,20,10}+{0,1,2,3,4,5,6,7,8,9},COLUMN(J$21))),\"\"))","v":"6"},{"$f":"AA206&AB206&AC206&AD206&AE206&AF206&AG206&AH206&AI206&AJ206","v":"2184"},{"$f":"IF(P$4=1,P206,\"\")","v":"2"},{"$f":"IF(Q$4=1,Q206,\"\")","v":"1"},{"$f":"IF(R$4=1,R206,\"\")","v":"8"},{"$f":"IF(S$4=1,S206,\"\")","v":"4"},{"$f":"IF(T$4=1,T206,\"\")","v":""},{"$f":"IF(U$4=1,U206,\"\")","v":""},{"$f":"IF(V$4=1,V206,\"\")","v":""},{"$f":"IF(W$4=1,W206,\"\")","v":""},{"$f":"IF(X$4=1,X206,\"\")","v":""},{"$f":"IF(Y$4=1,Y206,\"\")","v":""}]
[null,null,null,null,null,null,null,null,null,null,null,null,null,null,null,{"$f":"IF(OR(LEN($O207)=0),\"\",IFERROR(RIGHT(LARGE(COUNTIF(OFFSET($J207,-1,0,-1*$Q$3,5),{0,1,2,3,4,5,6,7,8,9})*1000+{100,90,80,70,60,50,40,30,20,10}+{0,1,2,3,4,5,6,7,8,9},COLUMN(A$21))),\"\"))","v":""},{"$f":"IF(OR(LEN($O207)=0),\"\",IFERROR(RIGHT(LARGE(COUNTIF(OFFSET($J207,-1,0,-1*$Q$3,5),{0,1,2,3,4,5,6,7,8,9})*1000+{100,90,80,70,60,50,40,30,20,10}+{0,1,2,3,4,5,6,7,8,9},COLUMN(B$21))),\"\"))","v":""},{"$f":"IF(OR(LEN($O207)=0),\"\",IFERROR(RIGHT(LARGE(COUNTIF(OFFSET($J207,-1,0,-1*$Q$3,5),{0,1,2,3,4,5,6,7,8,9})*1000+{100,90,80,70,60,50,40,30,20,10}+{0,1,2,3,4,5,6,7,8,9},COLUMN(C$21))),\"\"))","v":""},{"$f":"IF(OR(LEN($O207)=0),\"\",IFERROR(RIGHT(LARGE(COUNTIF(OFFSET($J207,-1,0,-1*$Q$3,5),{0,1,2,3,4,5,6,7,8,9})*1000+{100,90,80,70,60,50,40,30,20,10}+{0,1,2,3,4,5,6,7,8,9},COLUMN(D$21))),\"\"))","v":""},{"$f":"IF(OR(LEN($O207)=0),\"\",IFERROR(RIGHT(LARGE(COUNTIF(OFFSET($J207,-1,0,-1*$Q$3,5),{0,1,2,3,4,5,6,7,8,9})*1000+{100,90,80,70,60,50,40,30,20,10}+{0,1,2,3,4,5,6,7,8,9},COLUMN(E$21))),\"\"))","v":""},{"$f":"IF(OR(LEN($O207)=0),\"\",IFERROR(RIGHT(LARGE(COUNTIF(OFFSET($J207,-1,0,-1*$Q$3,5),{0,1,2,3,4,5,6,7,8,9})*1000+{100,90,80,70,60,50,40,30,20,10}+{0,1,2,3,4,5,6,7,8,9},COLUMN(F$21))),\"\"))","v":""},{"$f":"IF(OR(LEN($O207)=0),\"\",IFERROR(RIGHT(LARGE(COUNTIF(OFFSET($J207,-1,0,-1*$Q$3,5),{0,1,2,3,4,5,6,7,8,9})*1000+{100,90,80,70,60,50,40,30,20,10}+{0,1,2,3,4,5,6,7,8,9},COLUMN(G$21))),\"\"))","v":""},{"$f":"IF(OR(LEN($O207)=0),\"\",IFERROR(RIGHT(LARGE(COUNTIF(OFFSET($J207,-1,0,-1*$Q$3,5),{0,1,2,3,4,5,6,7,8,9})*1000+{100,90,80,70,60,50,40,30,20,10}+{0,1,2,3,4,5,6,7,8,9},COLUMN(H$21))),\"\"))","v":""},{"$f":"IF(OR(LEN($O207)=0),\"\",IFERROR(RIGHT(LARGE(COUNTIF(OFFSET($J207,-1,0,-1*$Q$3,5),{0,1,2,3,4,5,6,7,8,9})*1000+{100,90,80,70,60,50,40,30,20,10}+{0,1,2,3,4,5,6,7,8,9},COLUMN(I$21))),\"\"))","v":""},{"$f":"IF(OR(LEN($O207)=0),\"\",IFERROR(RIGHT(LARGE(COUNTIF(OFFSET($J207,-1,0,-1*$Q$3,5),{0,1,2,3,4,5,6,7,8,9})*1000+{100,90,80,70,60,50,40,30,20,10}+{0,1,2,3,4,5,6,7,8,9},COLUMN(J$21))),\"\"))","v":""},{"$f":"AA207&AB207&AC207&AD207&AE207&AF207&AG207&AH207&AI207&AJ207","v":""},{"$f":"IF(P$4=1,P207,\"\")","v":""},null,null,null,{"$f":"IF(T$4=1,T207,\"\")","v":""},"",{"$f":"IF(V$4=1,V207,\"\")","v":""},{"$f":"IF(W$4=1,W207,\"\")","v":""},{"$f":"IF(X$4=1,X207,\"\")","v":""},{"$f":"IF(Y$4=1,Y207,\"\")","v":""}]

{"sheet":"Sheet2","index":1,"n_rows":111,"n_cols":18,"rows_kept":111,"cut":false,"hidden":false,"merged":[[1,14,2,14],[4,7,4,17],[0,2,0,6],[2,2,2,6],[1,8,2,8],[1,9,2,10],[107,2,107,6],[108,2,108,6],[109,2,109,6],[110,2,110,6],[1,11,2,11],[106,2,106,6],[3,8,3,13],[1,12,2,13]]}
[]
[null,null,null,null,null,null,null,null,"展示期数",100,null,"统计期数",50]
["当前彩种",{"$f":"INDEX(Sheet1!H6:H12,Sheet1!B3)","v":"河内五分彩"}]
["最新开奖","开奖号码",null,null,null,null,null,null,"提示：展示和统计加起来不超过200"]
[{"$f":"Sheet1!A205&\"\"","v":"20200515131"},{"$f":"Sheet1!B205&\"\"","v":"84023"},false,false,true,true,true,"胆码排序"]
["开奖期","选择开奖号","万","千","百","十","个",true,true,true,true,false,false,false,false,false,false,"合并"]
[{"$f":"IF(101-ROW(A1)>$J$2,\"\",Sheet1!A106)","v":"20200515027"},{"$f":"IF(101-ROW(A1)>$J$2,\"\",Sheet1!O106&\"\")","v":"285"},{"$f":"IF(101-ROW(A1)>$J$2,\"\",Sheet1!C106)","v":"2"},{"$f":"IF(101-ROW(B1)>$J$2,\"\",Sheet1!D106)","v":"3"},{"$f":"IF(101-ROW(C1)>$J$2,\"\",Sheet1!E106)","v":"2"},{"$f":"IF(101-ROW(D1)>$J$2,\"\",Sheet1!F106)","v":"8"},{"$f":"IF(101-ROW(E1)>$J$2,\"\",Sheet1!G106)","v":"5"},{"$f":"IF(101-ROW(A1)>$J$2,\"\",Sheet1!P106)","v":"4"},{"$f":"IF(101-ROW(B1)>$J$2,\"\",Sheet1!Q106)","v":"6"},{"$f":"IF(101-ROW(C1)>$J$2,\"\",Sheet1!R106)","v":"0"},{"$f":"IF(101-ROW(D1)>$J$2,\"\",Sheet1!S106)","v":"3"},{"$f":"IF(101-ROW(E1)>$J$2,\"\",Sheet1!T106)","v":"7"},{"$f":"IF(101-ROW(F1)>$J$2,\"\",Sheet1!U106)","v":"8"},{"$f":"IF(101-ROW(G1)>$J$2,\"\",Sheet1!V106)","v":"5"},{"$f":"IF(101-ROW(H1)>$J$2,\"\",Sheet1!W106)","v":"2"},{"$f":"IF(101-ROW(I1)>$J$2,\"\",Sheet1!X106)","v":"1"},{"$f":"IF(101-ROW(J1)>$J$2,\"\",Sheet1!Y106)","v":"9"},{"$f":"IF(101-ROW(K1)>$J$2,\"\",Sheet1!Z106)","v":"4603"}]
[{"$f":"IF(101-ROW(A2)>$J$2,\"\",Sheet1!A107)","v":"20200515028"},{"$f":"IF(101-ROW(A2)>$J$2,\"\",Sheet1!O107&\"\")","v":"342"},{"$f":"IF(101-ROW(A2)>$J$2,\"\",Sheet1!C107)","v":"4"},{"$f":"IF(101-ROW(B2)>$J$2,\"\",Sheet1!D107)","v":"9"},{"$f":"IF(101-ROW(C2)>$J$2,\"\",Sheet1!E107)","v":"3"},{"$f":"IF(101-ROW(D2)>$J$2,\"\",Sheet1!F107)","v":"4"},{"$f":"IF(101-ROW(E2)>$J$2,\"\",Sheet1!G107)","v":"2"},{"$f":"IF(101-ROW(A2)>$J$2,\"\",Sheet1!P107)","v":"4"},{"$f":"IF(101-ROW(B2)>$J$2,\"\",Sheet1!Q107)","v":"6"},{"$f":"IF(101-ROW(C2)>$J$2,\"\",Sheet1!R107)","v":"8"},{"$f":"IF(101-ROW(D2)>$J$2,\"\",Sheet1!S107)","v":"3"},{"$f":"IF(101-ROW(E2)>$J$2,\"\",Sheet1!T107)","v":"7"},{"$f":"IF(101-ROW(F2)>$J$2,\"\",Sheet1!U107)","v":"0"},{"$f":"IF(101-ROW(G2)>$J$2,\"\",Sheet1!V107)","v":"5"},{"$f":"IF(101-ROW(H2)>$J$2,\"\",Sheet1!W107)","v":"2"},{"$f":"IF(101-ROW(I2)>$J$2,\"\",Sheet1!X107)","v":"1"},{"$f":"IF(101-ROW(J2)>$J$2,\"\",Sheet1!Y107)","v":"9"},{"$f":"IF(101-ROW(K2)>$J$2,\"\",Sheet1!Z107)","v":"4683"}]
[{"$f":"IF(101-ROW(A3)>$J$2,\"\",Sheet1!A108)","v":"20200515029"},{"$f":"IF(101-ROW(A3)>$J$2,\"\",Sheet1!O108&\"\")","v":"428"},{"$f":"IF(101-ROW(A3)>$J$2,\"\",Sheet1!C108)","v":"6"},{"$f":"IF(101-ROW(B3)>$J$2,\"\",Sheet1!D108)","v":"1"},{"$f":"IF(101-ROW(C3)>$J$2,\"\",Sheet1!E108)","v":"4"},{"$f":"IF(101-ROW(D3)>$J$2,\"\",Sheet1!F108)","v":"2"},{"$f":"IF(101-ROW(E3)>$J$2,\"\",Sheet1!G108)","v":"8"},{"$f":"IF(101-ROW(A3)>$J$2,\"\",Sheet1!P108)","v":"4"},{"$f":"IF(101-ROW(B3)>$J$2,\"\",Sheet1!Q108)","v":"6"},{"$f":"IF(101-ROW(C3)>$J$2,\"\",Sheet1!R108)","v":"3"},{"$f":"IF(101-ROW(D3)>$J$2,\"\",Sheet1!S108)","v":"7"},{"$f":"IF(101-ROW(E3)>$J$2,\"\",Sheet1!T108)","v":"8"},{"$f":"IF(101-ROW(F3)>$J$2,\"\",Sheet1!U108)","v":"0"},{"$f":"IF(101-ROW(G3)>$J$2,\"\",Sheet1!V108)","v":"2"},{"$f":"IF(101-ROW(H3)>$J$2,\"\",Sheet1!W108)","v":"5"},{"$f":"IF(101-ROW(I3)>$J$2,\"\",Sheet1!X108)","v":"1"},{"$f":"IF(101-ROW(J3)>$J$2,\"\",Sheet1!Y108)","v":"9"},{"$f":"IF(101-ROW(K3)>$J$2,\"\",Sheet1!Z108)","v":"4637"}]
[{"$f":"IF(101-ROW(A4)>$J$2,\"\",Sheet1!A109)","v":"20200515030"},{"$f":"IF(101-ROW(A4)>$J$2,\"\",Sheet1!O109&\"\")","v":"429"},{"$f":"IF(101-ROW(A4)>$J$2,\"\",Sheet1!C109)","v":"4"},{"$f":"IF(101-ROW(B4)>$J$2,\"\",Sheet1!D109)","v":"7"},{"$f":"IF(101-ROW(C4)>$J$2,\"\",Sheet1!E109)","v":"4"},{"$f":"IF(101-ROW(D4)>$J$2,\"\",Sheet1!F109)","v":"2"},{"$f":"IF(101-ROW(E4)>$J$2,\"\",Sheet1!G109)","v":"9"},{"$f":"IF(101-ROW(A4)>$J$2,\"\",Sheet1!P109)","v":"4"},{"$f":"IF(101-ROW(B4)>$J$2,\"\",Sheet1!Q109)","v":"6"},{"$f":"IF(101-ROW(C4)>$J$2,\"\",Sheet1!R109)","v":"8"},{"$f":"IF(101-ROW(D4)>$J$2,\"\",Sheet1!S109)","v":"2"},{"$f":"IF(101-ROW(E4)>$J$2,\"\",Sheet1!T109)","v":"3"},{"$f":"IF(101-ROW(F4)>$J$2,\"\",Sheet1!U109)","v":"0"},{"$f":"IF(101-ROW(G4)>$J$2,\"\",Sheet1!V109)","v":"7"},{"$f":"IF(101-ROW(H4)>$J$2,\"\",Sheet1!W109)","v":"5"},{"$f":"IF(101-ROW(I4)>$J$2,\"\",Sheet1!X109)","v":"1"},{"$f":"IF(101-ROW(J4)>$J$2,\"\",Sheet1!Y109)","v":"9"},{"$f":"IF(101-ROW(K4)>$J$2,\"\",Sheet1!Z109)","v":"4682"}]
[{"$f":"IF(101-ROW(A5)>$J$2,\"\",Sheet1!A110)","v":"20200515031"},{"$f":"IF(101-ROW(A5)>$J$2,\"\",Sheet1!O110&\"\")","v":"482"},{"$f":"IF(101-ROW(A5)>$J$2,\"\",Sheet1!C110)","v":"2"},{"$f":"IF(101-ROW(B5)>$J$2,\"\",Sheet1!D110)","v":"1"},{"$f":"IF(101-ROW(C5)>$J$2,\"\",Sheet1!E110)","v":"4"},{"$f":"IF(101-ROW(D5)>$J$2,\"\",Sheet1!F110)","v":"8"},{"$f":"IF(101-ROW(E5)>$J$2,\"\",Sheet1!G110)","v":"2"},{"$f":"IF(101-ROW(A5)>$J$2,\"\",Sheet1!P110)","v":"4"},{"$f":"IF(101-ROW(B5)>$J$2,\"\",Sheet1!Q110)","v":"2"},{"$f":"IF(101-ROW(C5)>$J$2,\"\",Sheet1!R110)","v":"6"},{"$f":"IF(101-ROW(D5)>$J$2,\"\",Sheet1!S110)","v":"8"},{"$f":"IF(101-ROW(E5)>$J$2,\"\",Sheet1!T110)","v":"3"},{"$f":"IF(101-ROW(F5)>$J$2,\"\",Sheet1!U110)","v":"7"},{"$f":"IF(101-ROW(G5)>$J$2,\"\",Sheet1!V110)","v":"0"},{"$f":"IF(101-ROW(H5)>$J$2,\"\",Sheet1!W110)","v":"5"},{"$f":"IF(101-ROW(I5)>$J$2,\"\",Sheet1!X110)","v":"1"},{"$f":"IF(101-ROW(J5)>$J$2,\"\",Sheet1!Y110)","v":"9"},{"$f":"IF(101-ROW(K5)>$J$2,\"\",Sheet1!Z110)","v":"4268"}]
[{"$f":"IF(101-ROW(A6)>$J$2,\"\",Sheet1!A111)","v":"20200515032"},{"$f":"IF(101-ROW(A6)>$J$2,\"\",Sheet1!O111&\"\")","v":"215"},{"$f":"IF(101-ROW(A6)>$J$2,\"\",Sheet1!C111)","v":"6"},{"$f":"IF(101-ROW(B6)>$J$2,\"\",Sheet1!D111)","v":"0"},{"$f":"IF(101-ROW(C6)>$J$2,\"\",Sheet1!E111)","v":"2"},{"$f":"IF(101-ROW(D6)>$J$2,\"\",Sheet1!F111)","v":"1"},{"$f":"IF(101-ROW(E6)>$J$2,\"\",Sheet1!G111)","v":"5"},{"$f":"IF(101-ROW(A6)>$J$2,\"\",Sheet1!P111)","v":"4"},{"$f":"IF(101-ROW(B6)>$J$2,\"\",Sheet1!Q111)","v":"2"},{"$f":"IF(101-ROW(C6)>$J$2,\"\",Sheet1!R111)","v":"8"},{"$f":"IF(101-ROW(D6)>$J$2,\"\",Sheet1!S111)","v":"6"},{"$f":"IF(101-ROW(E6)>$J$2,\"\",Sheet1!T111)","v":"3"},{"$f":"IF(101-ROW(F6)>$J$2,\"\",Sheet1!U111)","v":"5"},{"$f":"IF(101-ROW(G6)>$J$2,\"\",Sheet1!V111)","v":"7"},{"$f":"IF(101-ROW(H6)>$J$2,\"\",Sheet1!W111)","v":"0"},{"$f":"IF(101-ROW(I6)>$J$2,\"\",Sheet1!X111)","v":"1"},{"$f":"IF(101-ROW(J6)>$J$2,\"\",Sheet1!Y111)","v":"9"},{"$f":"IF(101-ROW(K6)>$J$2,\"\",Sheet1!Z111)","v":"4286"}]
[{"$f":"IF(101-ROW(A7)>$J$2,\"\",Sheet1!A112)","v":"20200515033"},{"$f":"IF(101-ROW(A7)>$J$2,\"\",Sheet1!O112&\"\")","v":"892"},{"$f":"IF(101-ROW(A7)>$J$2,\"\",Sheet1!C112)","v":"1"},{"$f":"IF(101-ROW(B7)>$J$2,\"\",Sheet1!D112)","v":"0"},{"$f":"IF(101-ROW(C7)>$J$2,\"\",Sheet1!E112)","v":"8"},{"$f":"IF(101-ROW(D7)>$J$2,\"\",Sheet1!F112)","v":"9"},{"$f":"IF(101-ROW(E7)>$J$2,\"\",Sheet1!G112)","v":"2"},{"$f":"IF(101-ROW(A7)>$J$2,\"\",Sheet1!P112)","v":"4"},{"$f":"IF(101-ROW(B7)>$J$2,\"\",Sheet1!Q112)","v":"2"},{"$f":"IF(101-ROW(C7)>$J$2,\"\",Sheet1!R112)","v":"8"},{"$f":"IF(101-ROW(D7)>$J$2,\"\",Sheet1!S112)","v":"3"},{"$f":"IF(101-ROW(E7)>$J$2,\"\",Sheet1!T112)","v":"6"},{"$f":"IF(101-ROW(F7)>$J$2,\"\",Sheet1!U112)","v":"5"},{"$f":"IF(101-ROW(G7)>$J$2,\"\",Sheet1!V112)","v":"7"},{"$f":"IF(101-ROW(H7)>$J$2,\"\",Sheet1!W112)","v":"0"},{"$f":"IF(101-ROW(I7)>$J$2,\"\",Sheet1!X112)","v":"1"},{"$f":"IF(101-ROW(J7)>$J$2,\"\",Sheet1!Y112)","v":"9"},{"$f":"IF(101-ROW(K7)>$J$2,\"\",Sheet1!Z112)","v":"4283"}]
[{"$f":"IF(101-ROW(A8)>$J$2,\"\",Sheet1!A113)","v":"20200515034"},{"$f":"IF(101-ROW(A8)>$J$2,\"\",Sheet1!O113&\"\")","v":"532"},{"$f":"IF(101-ROW(A8)>$J$2,\"\",Sheet1!C113)","v":"7"},{"$f":"IF(101-ROW(B8)>$J$2,\"\",Sheet1!D113)","v":"9"},{"$f":"IF(101-ROW(C8)>$J$2,\"\",Sheet1!E113)","v":"5"},{"$f":"IF(101-ROW(D8)>$J$2,\"\",Sheet1!F113)","v":"3"},{"$f":"IF(101-ROW(E8)>$J$2,\"\",Sheet1!G113)","v":"2"},{"$f":"IF(101-ROW(A8)>$J$2,\"\",Sheet1!P113)","v":"4"},{"$f":"IF(101-ROW(B8)>$J$2,\"\",Sheet1!Q113)","v":"2"},{"$f":"IF(101-ROW(C8)>$J$2,\"\",Sheet1!R113)","v":"8"},{"$f":"IF(101-ROW(D8)>$J$2,\"\",Sheet1!S113)","v":"3"},{"$f":"IF(101-ROW(E8)>$J$2,\"\",Sheet1!T113)","v":"6"},{"$f":"IF(101-ROW(F8)>$J$2,\"\",Sheet1!U113)","v":"5"},{"$f":"IF(101-ROW(G8)>$J$2,\"\",Sheet1!V113)","v":"7"},{"$f":"IF(101-ROW(H8)>$J$2,\"\",Sheet1!W113)","v":"0"},{"$f":"IF(101-ROW(I8)>$J$2,\"\",Sheet1!X113)","v":"1"},{"$f":"IF(101-ROW(J8)>$J$2,\"\",Sheet1!Y113)","v":"9"},{"$f":"IF(101-ROW(K8)>$J$2,\"\",Sheet1!Z113)","v":"4283"}]
[{"$f":"IF(101-ROW(A9)>$J$2,\"\",Sheet1!A114)","v":"20200515035"},{"$f":"IF(101-ROW(A9)>$J$2,\"\",Sheet1!O114&\"\")","v":"110"},{"$f":"IF(101-ROW(A9)>$J$2,\"\",Sheet1!C114)","v":"4"},{"$f":"IF(101-ROW(B9)>$J$2,\"\",Sheet1!D114)","v":"8"},{"$f":"IF(101-ROW(C9)>$J$2,\"\",Sheet1!E114)","v":"1"},{"$f":"IF(101-ROW(D9)>$J$2,\"\",Sheet1!F114)","v":"1"},{"$f":"IF(101-ROW(E9)>$J$2,\"\",Sheet1!G114)","v":"0"},{"$f":"IF(101-ROW(A9)>$J$2,\"\",Sheet1!P114)","v":"4"},{"$f":"IF(101-ROW(B9)>$J$2,\"\",Sheet1!Q114)","v":"2"},{"$f":"IF(101-ROW(C9)>$J$2,\"\",Sheet1!R114)","v":"8"},{"$f":"IF(101-ROW(D9)>$J$2,\"\",Sheet1!S114)","v":"3"},{"$f":"IF(101-ROW(E9)>$J$2,\"\",Sheet1!T114)","v":"6"},{"$f":"IF(101-ROW(F9)>$J$2,\"\",Sheet1!U114)","v":"5"},{"$f":"IF(101-ROW(G9)>$J$2,\"\",Sheet1!V114)","v":"0"},{"$f":"IF(101-ROW(H9)>$J$2,\"\",Sheet1!W114)","v":"1"},{"$f":"IF(101-ROW(I9)>$J$2,\"\",Sheet1!X114)","v":"7"},{"$f":"IF(101-ROW(J9)>$J$2,\"\",Sheet1!Y114)","v":"9"},{"$f":"IF(101-ROW(K9)>$J$2,\"\",Sheet1!Z114)","v":"4283"}]
[{"$f":"IF(101-ROW(A10)>$J$2,\"\",Sheet1!A115)","v":"20200515036"},{"$f":"IF(101-ROW(A10)>$J$2,\"\",Sheet1!O115&\"\")","v":"770"},{"$f":"IF(101-ROW(A10)>$J$2,\"\",Sheet1!C115)","v":"2"},{"$f":"IF(101-ROW(B10)>$J$2,\"\",Sheet1!D115)","v":"6"},{"$f":"IF(101-ROW(C10)>$J$2,\"\",Sheet1!E115)","v":"7"},{"$f":"IF(101-ROW(D10)>$J$2,\"\",Sheet1!F115)","v":"7"},{"$f":"IF(101-ROW(E10)>$J$2,\"\",Sheet1!G115)","v":"0"},{"$f":"IF(101-ROW(A10)>$J$2,\"\",Sheet1!P115)","v":"4"},{"$f":"IF(101-ROW(B10)>$J$2,\"\",Sheet1!Q115)","v":"2"},{"$f":"IF(101-ROW(C10)>$J$2,\"\",Sheet1!R115)","v":"8"},{"$f":"IF(101-ROW(D10)>$J$2,\"\",Sheet1!S115)","v":"3"},{"$f":"IF(101-ROW(E10)>$J$2,\"\",Sheet1!T115)","v":"6"},{"$f":"IF(101-ROW(F10)>$J$2,\"\",Sheet1!U115)","v":"1"},{"$f":"IF(101-ROW(G10)>$J$2,\"\",Sheet1!V115)","v":"5"},{"$f":"IF(101-ROW(H10)>$J$2,\"\",Sheet1!W115)","v":"7"},{"$f":"IF(101-ROW(I10)>$J$2,\"\",Sheet1!X115)","v":"0"},{"$f":"IF(101-ROW(J10)>$J$2,\"\",Sheet1!Y115)","v":"9"},{"$f":"IF(101-ROW(K10)>$J$2,\"\",Sheet1!Z115)","v":"4283"}]
[{"$f":"IF(101-ROW(A11)>$J$2,\"\",Sheet1!A116)","v":"20200515037"},{"$f":"IF(101-ROW(A11)>$J$2,\"\",Sheet1!O116&\"\")","v":"351"},{"$f":"IF(101-ROW(A11)>$J$2,\"\",Sheet1!C116)","v":"0"},{"$f":"IF(101-ROW(B11)>$J$2,\"\",Sheet1!D116)","v":"0"},{"$f":"IF(101-ROW(C11)>$J$2,\"\",Sheet1!E116)","v":"3"},{"$f":"IF(101-ROW(D11)>$J$2,\"\",Sheet1!F116)","v":"5"},{"$f":"IF(101-ROW(E11)>$J$2,\"\",Sheet1!G116)","v":"1"},{"$f":"IF(101-ROW(A11)>$J$2,\"\",Sheet1!P116)","v":"4"},{"$f":"IF(101-ROW(B11)>$J$2,\"\",Sheet1!Q116)","v":"2"},{"$f":"IF(101-ROW(C11)>$J$2,\"\",Sheet1!R116)","v":"8"},{"$f":"IF(101-ROW(D11)>$J$2,\"\",Sheet1!S116)","v":"3"},{"$f":"IF(101-ROW(E11)>$J$2,\"\",Sheet1!T116)","v":"6"},{"$f":"IF(101-ROW(F11)>$J$2,\"\",Sheet1!U116)","v":"1"},{"$f":"IF(101-ROW(G11)>$J$2,\"\",Sheet1!V116)","v":"5"},{"$f":"IF(101-ROW(H11)>$J$2,\"\",Sheet1!W116)","v":"7"},{"$f":"IF(101-ROW(I11)>$J$2,\"\",Sheet1!X116)","v":"0"},{"$f":"IF(101-ROW(J11)>$J$2,\"\",Sheet1!Y116)","v":"9"},{"$f":"IF(101-ROW(K11)>$J$2,\"\",Sheet1!Z116)","v":"4283"}]
[{"$f":"IF(101-ROW(A12)>$J$2,\"\",Sheet1!A117)","v":"20200515038"},{"$f":"IF(101-ROW(A12)>$J$2,\"\",Sheet1!O117&\"\")","v":"996"},{"$f":"IF(101-ROW(A12)>$J$2,\"\",Sheet1!C117)","v":"3"},{"$f":"IF(101-ROW(B12)>$J$2,\"\",Sheet1!D117)","v":"9"},{"$f":"IF(101-ROW(C12)>$J$2,\"\",Sheet1!E117)","v":"9"},{"$f":"IF(101-ROW(D12)>$J$2,\"\",Sheet1!F117)","v":"9"},{"$f":"IF(101-ROW(E12)>$J$2,\"\",Sheet1!G117)","v":"6"},{"$f":"IF(101-ROW(A12)>$J$2,\"\",Sheet1!P117)","v":"4"},{"$f":"IF(101-ROW(B12)>$J$2,\"\",Sheet1!Q117)","v":"2"},{"$f":"IF(101-ROW(C12)>$J$2,\"\",Sheet1!R117)","v":"3"},{"$f":"IF(101-ROW(D12)>$J$2,\"\",Sheet1!S117)","v":"8"},{"$f":"IF(101-ROW(E12)>$J$2,\"\",Sheet1!T117)","v":"5"},{"$f":"IF(101-ROW(F12)>$J$2,\"\",Sheet1!U117)","v":"6"},{"$f":"IF(101-ROW(G12)>$J$2,\"\",Sheet1!V117)","v":"7"},{"$f":"IF(101-ROW(H12)>$J$2,\"\",Sheet1!W117)","v":"1"},{"$f":"IF(101-ROW(I12)>$J$2,\"\",Sheet1!X117)","v":"0"},{"$f":"IF(101-ROW(J12)>$J$2,\"\",Sheet1!Y117)","v":"9"},{"$f":"IF(101-ROW(K12)>$J$2,\"\",Sheet1!Z117)","v":"4238"}]
[{"$f":"IF(101-ROW(A13)>$J$2,\"\",Sheet1!A118)","v":"20200515039"},{"$f":"IF(101-ROW(A13)>$J$2,\"\",Sheet1!O118&\"\")","v":"386"},{"$f":"IF(101-ROW(A13)>$J$2,\"\",Sheet1!C118)","v":"9"},{"$f":"IF(101-ROW(B13)>$J$2,\"\",Sheet1!D118)","v":"9"},{"$f":"IF(101-ROW(C13)>$J$2,\"\",Sheet1!E118)","v":"3"},{"$f":"IF(101-ROW(D13)>$J$2,\"\",Sheet1!F118)","v":"8"},{"$f":"IF(101-ROW(E13)>$J$2,\"\",Sheet1!G118)","v":"6"},{"$f":"IF(101-ROW(A13)>$J$2,\"\",Sheet1!P118)","v":"4"},{"$f":"IF(101-ROW(B13)>$J$2,\"\",Sheet1!Q118)","v":"2"},{"$f":"IF(101-ROW(C13)>$J$2,\"\",Sheet1!R118)","v":"3"},{"$f":"IF(101-ROW(D13)>$J$2,\"\",Sheet1!S118)","v":"8"},{"$f":"IF(101-ROW(E13)>$J$2,\"\",Sheet1!T118)","v":"6"},{"$f":"IF(101-ROW(F13)>$J$2,\"\",Sheet1!U118)","v":"5"},{"$f":"IF(101-ROW(G13)>$J$2,\"\",Sheet1!V118)","v":"7"},{"$f":"IF(101-ROW(H13)>$J$2,\"\",Sheet1!W118)","v":"1"},{"$f":"IF(101-ROW(I13)>$J$2,\"\",Sheet1!X118)","v":"0"},{"$f":"IF(101-ROW(J13)>$J$2,\"\",Sheet1!Y118)","v":"9"},{"$f":"IF(101-ROW(K13)>$J$2,\"\",Sheet1!Z118)","v":"4238"}]
[{"$f":"IF(101-ROW(A14)>$J$2,\"\",Sheet1!A119)","v":"20200515040"},{"$f":"IF(101-ROW(A14)>$J$2,\"\",Sheet1!O119&\"\")","v":"426"},{"$f":"IF(101-ROW(A14)>$J$2,\"\",Sheet1!C119)","v":"8"},{"$f":"IF(101-ROW(B14)>$J$2,\"\",Sheet1!D119)","v":"1"},{"$f":"IF(101-ROW(C14)>$J$2,\"\",Sheet1!E119)","v":"4"},{"$f":"IF(101-ROW(D14)>$J$2,\"\",Sheet1!F119)","v":"2"},{"$f":"IF(101-ROW(E14)>$J$2,\"\",Sheet1!G119)","v":"6"},{"$f":"IF(101-ROW(A14)>$J$2,\"\",Sheet1!P119)","v":"4"},{"$f":"IF(101-ROW(B14)>$J$2,\"\",Sheet1!Q119)","v":"2"},{"$f":"IF(101-ROW(C14)>$J$2,\"\",Sheet1!R119)","v":"8"},{"$f":"IF(101-ROW(D14)>$J$2,\"\",Sheet1!S119)","v":"3"},{"$f":"IF(101-ROW(E14)>$J$2,\"\",Sheet1!T119)","v":"6"},{"$f":"IF(101-ROW(F14)>$J$2,\"\",Sheet1!U119)","v":"7"},{"$f":"IF(101-ROW(G14)>$J$2,\"\",Sheet1!V119)","v":"5"},{"$f":"IF(101-ROW(H14)>$J$2,\"\",Sheet1!W119)","v":"1"},{"$f":"IF(101-ROW(I14)>$J$2,\"\",Sheet1!X119)","v":"0"},{"$f":"IF(101-ROW(J14)>$J$2,\"\",Sheet1!Y119)","v":"9"},{"$f":"IF(101-ROW(K14)>$J$2,\"\",Sheet1!Z119)","v":"4283"}]
[{"$f":"IF(101-ROW(A15)>$J$2,\"\",Sheet1!A120)","v":"20200515041"},{"$f":"IF(101-ROW(A15)>$J$2,\"\",Sheet1!O120&\"\")","v":"300"},{"$f":"IF(101-ROW(A15)>$J$2,\"\",Sheet1!C120)","v":"4"},{"$f":"IF(101-ROW(B15)>$J$2,\"\",Sheet1!D120)","v":"7"},{"$f":"IF(101-ROW(C15)>$J$2,\"\",Sheet1!E120)","v":"3"},{"$f":"IF(101-ROW(D15)>$J$2,\"\",Sheet1!F120)","v":"0"},{"$f":"IF(101-ROW(E15)>$J$2,\"\",Sheet1!G120)","v":"0"},{"$f":"IF(101-ROW(A15)>$J$2,\"\",Sheet1!P120)","v":"4"},{"$f":"IF(101-ROW(B15)>$J$2,\"\",Sheet1!Q120)","v":"2"},{"$f":"IF(101-ROW(C15)>$J$2,\"\",Sheet1!R120)","v":"6"},{"$f":"IF(101-ROW(D15)>$J$2,\"\",Sheet1!S120)","v":"3"},{"$f":"IF(101-ROW(E15)>$J$2,\"\",Sheet1!T120)","v":"8"},{"$f":"IF(101-ROW(F15)>$J$2,\"\",Sheet1!U120)","v":"7"},{"$f":"IF(101-ROW(G15)>$J$2,\"\",Sheet1!V120)","v":"5"},{"$f":"IF(101-ROW(H15)>$J$2,\"\",Sheet1!W120)","v":"1"},{"$f":"IF(101-ROW(I15)>$J$2,\"\",Sheet1!X120)","v":"0"},{"$f":"IF(101-ROW(J15)>$J$2,\"\",Sheet1!Y120)","v":"9"},{"$f":"IF(101-ROW(K15)>$J$2,\"\",Sheet1!Z120)","v":"4263"}]
[{"$f":"IF(101-ROW(A16)>$J$2,\"\",Sheet1!A121)","v":"20200515042"},{"$f":"IF(101-ROW(A16)>$J$2,\"\",Sheet1!O121&\"\")","v":"526"},{"$f":"IF(101-ROW(A16)>$J$2,\"\",Sheet1!C121)","v":"9"},{"$f":"IF(101-ROW(B16)>$J$2,\"\",Sheet1!D121)","v":"4"},{"$f":"IF(101-ROW(C16)>$J$2,\"\",Sheet1!E121)","v":"5"},{"$f":"IF(101-ROW(D16)>$J$2,\"\",Sheet1!F121)","v":"2"},{"$f":"IF(101-ROW(E16)>$J$2,\"\",Sheet1!G121)","v":"6"},{"$f":"IF(101-ROW(A16)>$J$2,\"\",Sheet1!P121)","v":"4"},{"$f":"IF(101-ROW(B16)>$J$2,\"\",Sheet1!Q121)","v":"2"},{"$f":"IF(101-ROW(C16)>$J$2,\"\",Sheet1!R121)","v":"3"},{"$f":"IF(101-ROW(D16)>$J$2,\"\",Sheet1!S121)","v":"8"},{"$f":"IF(101-ROW(E16)>$J$2,\"\",Sheet1!T121)","v":"6"},{"$f":"IF(101-ROW(F16)>$J$2,\"\",Sheet1!U121)","v":"7"},{"$f":"IF(101-ROW(G16)>$J$2,\"\",Sheet1!V121)","v":"5"},{"$f":"IF(101-ROW(H16)>$J$2,\"\",Sheet1!W121)","v":"0"},{"$f":"IF(101-ROW(I16)>$J$2,\"\",Sheet1!X121)","v":"1"},{"$f":"IF(101-ROW(J16)>$J$2,\"\",Sheet1!Y121)","v":"9"},{"$f":"IF(101-ROW(K16)>$J$2,\"\",Sheet1!Z121)","v":"4238"}]
[{"$f":"IF(101-ROW(A17)>$J$2,\"\",Sheet1!A122)","v":"20200515043"},{"$f":"IF(101-ROW(A17)>$J$2,\"\",Sheet1!O122&\"\")","v":"041"},{"$f":"IF(101-ROW(A17)>$J$2,\"\",Sheet1!C122)","v":"8"},{"$f":"IF(101-ROW(B17)>$J$2,\"\",Sheet1!D122)","v":"4"},{"$f":"IF(101-ROW(C17)>$J$2,\"\",Sheet1!E122)","v":"0"},{"$f":"IF(101-ROW(D17)>$J$2,\"\",Sheet1!F122)","v":"4"},{"$f":"IF(101-ROW(E17)>$J$2,\"\",Sheet1!G122)","v":"1"},{"$f":"IF(101-ROW(A17)>$J$2,\"\",Sheet1!P122)","v":"2"},{"$f":"IF(101-ROW(B17)>$J$2,\"\",Sheet1!Q122)","v":"4"},{"$f":"IF(101-ROW(C17)>$J$2,\"\",Sheet1!R122)","v":"3"},{"$f":"IF(101-ROW(D17)>$J$2,\"\",Sheet1!S122)","v":"8"},{"$f":"IF(101-ROW(E17)>$J$2,\"\",Sheet1!T122)","v":"6"},{"$f":"IF(101-ROW(F17)>$J$2,\"\",Sheet1!U122)","v":"7"},{"$f":"IF(101-ROW(G17)>$J$2,\"\",Sheet1!V122)","v":"5"},{"$f":"IF(101-ROW(H17)>$J$2,\"\",Sheet1!W122)","v":"0"},{"$f":"IF(101-ROW(I17)>$J$2,\"\",Sheet1!X122)","v":"1"},{"$f":"IF(101-ROW(J17)>$J$2,\"\",Sheet1!Y122)","v":"9"},{"$f":"IF(101-ROW(K17)>$J$2,\"\",Sheet1!Z122)","v":"2438"}]
[{"$f":"IF(101-ROW(A18)>$J$2,\"\",Sheet1!A123)","v":"20200515044"},{"$f":"IF(101-ROW(A18)>$J$2,\"\",Sheet1!O123&\"\")","v":"005"},{"$f":"IF(101-ROW(A18)>$J$2,\"\",Sheet1!C123)","v":"1"},{"$f":"IF(101-ROW(B18)>$J$2,\"\",Sheet1!D123)","v":"2"},{"$f":"IF(101-ROW(C18)>$J$2,\"\",Sheet1!E123)","v":"0"},{"$f":"IF(101-ROW(D18)>$J$2,\"\",Sheet1!F123)","v":"0"},{"$f":"IF(101-ROW(E18)>$J$2,\"\",Sheet1!G123)","v":"5"},{"$f":"IF(101-ROW(A18)>$J$2,\"\",Sheet1!P123)","v":"2"},{"$f":"IF(101-ROW(B18)>$J$2,\"\",Sheet1!Q123)","v":"4"},{"$f":"IF(101-ROW(C18)>$J$2,\"\",Sheet1!R123)","v":"3"},{"$f":"IF(101-ROW(D18)>$J$2,\"\",Sheet1!S123)","v":"8"},{"$f":"IF(101-ROW(E18)>$J$2,\"\",Sheet1!T123)","v":"6"},{"$f":"IF(101-ROW(F18)>$J$2,\"\",Sheet1!U123)","v":"0"},{"$f":"IF(101-ROW(G18)>$J$2,\"\",Sheet1!V123)","v":"5"},{"$f":"IF(101-ROW(H18)>$J$2,\"\",Sheet1!W123)","v":"7"},{"$f":"IF(101-ROW(I18)>$J$2,\"\",Sheet1!X123)","v":"1"},{"$f":"IF(101-ROW(J18)>$J$2,\"\",Sheet1!Y123)","v":"9"},{"$f":"IF(101-ROW(K18)>$J$2,\"\",Sheet1!Z123)","v":"2438"}]
[{"$f":"IF(101-ROW(A19)>$J$2,\"\",Sheet1!A124)","v":"20200515045"},{"$f":"IF(101-ROW(A19)>$J$2,\"\",Sheet1!O124&\"\")","v":"835"},{"$f":"IF(101-ROW(A19)>$J$2,\"\",Sheet1!C124)","v":"5"},{"$f":"IF(101-ROW(B19)>$J$2,\"\",Sheet1!D124)","v":"9"},{"$f":"IF(101-ROW(C19)>$J$2,\"\",Sheet1!E124)","v":"8"},{"$f":"IF(101-ROW(D19)>$J$2,\"\",Sheet1!F124)","v":"3"},{"$f":"IF(101-ROW(E19)>$J$2,\"\",Sheet1!G124)","v":"5"},{"$f":"IF(101-ROW(A19)>$J$2,\"\",Sheet1!P124)","v":"4"},{"$f":"IF(101-ROW(B19)>$J$2,\"\",Sheet1!Q124)","v":"2"},{"$f":"IF(101-ROW(C19)>$J$2,\"\",Sheet1!R124)","v":"3"},{"$f":"IF(101-ROW(D19)>$J$2,\"\",Sheet1!S124)","v":"8"},{"$f":"IF(101-ROW(E19)>$J$2,\"\",Sheet1!T124)","v":"6"},{"$f":"IF(101-ROW(F19)>$J$2,\"\",Sheet1!U124)","v":"0"},{"$f":"IF(101-ROW(G19)>$J$2,\"\",Sheet1!V124)","v":"5"},{"$f":"IF(101-ROW(H19)>$J$2,\"\",Sheet1!W124)","v":"7"},{"$f":"IF(101-ROW(I19)>$J$2,\"\",Sheet1!X124)","v":"1"},{"$f":"IF(101-ROW(J19)>$J$2,\"\",Sheet1!Y124)","v":"9"},{"$f":"IF(101-ROW(K19)>$J$2,\"\",Sheet1!Z124)","v":"4238"}]
[{"$f":"IF(101-ROW(A20)>$J$2,\"\",Sheet1!A125)","v":"20200515046"},{"$f":"IF(101-ROW(A20)>$J$2,\"\",Sheet1!O125&\"\")","v":"767"},{"$f":"IF(101-ROW(A20)>$J$2,\"\",Sheet1!C125)","v":"5"},{"$f":"IF(101-ROW(B20)>$J$2,\"\",Sheet1!D125)","v":"0"},{"$f":"IF(101-ROW(C20)>$J$2,\"\",Sheet1!E125)","v":"7"},{"$f":"IF(101-ROW(D20)>$J$2,\"\",Sheet1!F125)","v":"6"},{"$f":"IF(101-ROW(E20)>$J$2,\"\",Sheet1!G125)","v":"7"},{"$f":"IF(101-ROW(A20)>$J$2,\"\",Sheet1!P125)","v":"4"},{"$f":"IF(101-ROW(B20)>$J$2,\"\",Sheet1!Q125)","v":"2"},{"$f":"IF(101-ROW(C20)>$J$2,\"\",Sheet1!R125)","v":"3"},{"$f":"IF(101-ROW(D20)>$J$2,\"\",Sheet1!S125)","v":"8"},{"$f":"IF(101-ROW(E20)>$J$2,\"\",Sheet1!T125)","v":"6"},{"$f":"IF(101-ROW(F20)>$J$2,\"\",Sheet1!U125)","v":"0"},{"$f":"IF(101-ROW(G20)>$J$2,\"\",Sheet1!V125)","v":"5"},{"$f":"IF(101-ROW(H20)>$J$2,\"\",Sheet1!W125)","v":"7"},{"$f":"IF(101-ROW(I20)>$J$2,\"\",Sheet1!X125)","v":"1"},{"$f":"IF(101-ROW(J20)>$J$2,\"\",Sheet1!Y125)","v":"9"},{"$f":"IF(101-ROW(K20)>$J$2,\"\",Sheet1!Z125)","v":"4238"}]
[{"$f":"IF(101-ROW(A21)>$J$2,\"\",Sheet1!A126)","v":"20200515047"},{"$f":"IF(101-ROW(A21)>$J$2,\"\",Sheet1!O126&\"\")","v":"214"},{"$f":"IF(101-ROW(A21)>$J$2,\"\",Sheet1!C126)","v":"0"},{"$f":"IF(101-ROW(B21)>$J$2,\"\",Sheet1!D126)","v":"2"},{"$f":"IF(101-ROW(C21)>$J$2,\"\",Sheet1!E126)","v":"2"},{"$f":"IF(101-ROW(D21)>$J$2,\"\",Sheet1!F126)","v":"1"},{"$f":"IF(101-ROW(E21)>$J$2,\"\",Sheet1!G126)","v":"4"},{"$f":"IF(101-ROW(A21)>$J$2,\"\",Sheet1!P126)","v":"4"},{"$f":"IF(101-ROW(B21)>$J$2,\"\",Sheet1!Q126)","v":"2"},{"$f":"IF(101-ROW(C21)>$J$2,\"\",Sheet1!R126)","v":"3"},{"$f":"IF(101-ROW(D21)>$J$2,\"\",Sheet1!S126)","v":"8"},{"$f":"IF(101-ROW(E21)>$J$2,\"\",Sheet1!T126)","v":"7"},{"$f":"IF(101-ROW(F21)>$J$2,\"\",Sheet1!U126)","v":"0"},{"$f":"IF(101-ROW(G21)>$J$2,\"\",Sheet1!V126)","v":"5"},{"$f":"IF(101-ROW(H21)>$J$2,\"\",Sheet1!W126)","v":"6"},{"$f":"IF(101-ROW(I21)>$J$2,\"\",Sheet1!X126)","v":"1"},{"$f":"IF(101-ROW(J21)>$J$2,\"\",Sheet1!Y126)","v":"9"},{"$f":"IF(101-ROW(K21)>$J$2,\"\",Sheet1!Z126)","v":"4238"}]
[{"$f":"IF(101-ROW(A22)>$J$2,\"\",Sheet1!A127)","v":"20200515048"},{"$f":"IF(101-ROW(A22)>$J$2,\"\",Sheet1!O127&\"\")","v":"652"},{"$f":"IF(101-ROW(A22)>$J$2,\"\",Sheet1!C127)","v":"5"},{"$f":"IF(101-ROW(B22)>$J$2,\"\",Sheet1!D127)","v":"0"},{"$f":"IF(101-ROW(C22)>$J$2,\"\",Sheet1!E127)","v":"6"},{"$f":"IF(101-ROW(D22)>$J$2,\"\",Sheet1!F127)","v":"5"},{"$f":"IF(101-ROW(E22)>$J$2,\"\",Sheet1!G127)","v":"2"},{"$f":"IF(101-ROW(A22)>$J$2,\"\",Sheet1!P127)","v":"4"},{"$f":"IF(101-ROW(B22)>$J$2,\"\",Sheet1!Q127)","v":"2"},{"$f":"IF(101-ROW(C22)>$J$2,\"\",Sheet1!R127)","v":"8"},{"$f":"IF(101-ROW(D22)>$J$2,\"\",Sheet1!S127)","v":"3"},{"$f":"IF(101-ROW(E22)>$J$2,\"\",Sheet1!T127)","v":"7"},{"$f":"IF(101-ROW(F22)>$J$2,\"\",Sheet1!U127)","v":"0"},{"$f":"IF(101-ROW(G22)>$J$2,\"\",Sheet1!V127)","v":"6"},{"$f":"IF(101-ROW(H22)>$J$2,\"\",Sheet1!W127)","v":"5"},{"$f":"IF(101-ROW(I22)>$J$2,\"\",Sheet1!X127)","v":"1"},{"$f":"IF(101-ROW(J22)>$J$2,\"\",Sheet1!Y127)","v":"9"},{"$f":"IF(101-ROW(K22)>$J$2,\"\",Sheet1!Z127)","v":"4283"}]
[{"$f":"IF(101-ROW(A23)>$J$2,\"\",Sheet1!A128)","v":"20200515049"},{"$f":"IF(101-ROW(A23)>$J$2,\"\",Sheet1!O128&\"\")","v":"378"},{"$f":"IF(101-ROW(A23)>$J$2,\"\",Sheet1!C128)","v":"2"},{"$f":"IF(101-ROW(B23)>$J$2,\"\",Sheet1!D128)","v":"8"},{"$f":"IF(101-ROW(C23)>$J$2,\"\",Sheet1!E128)","v":"3"},{"$f":"IF(101-ROW(D23)>$J$2,\"\",Sheet1!F128)","v":"7"},{"$f":"IF(101-ROW(E23)>$J$2,\"\",Sheet1!G128)","v":"8"},{"$f":"IF(101-ROW(A23)>$J$2,\"\",Sheet1!P128)","v":"2"},{"$f":"IF(101-ROW(B23)>$J$2,\"\",Sheet1!Q128)","v":"4"},{"$f":"IF(101-ROW(C23)>$J$2,\"\",Sheet1!R128)","v":"8"},{"$f":"IF(101-ROW(D23)>$J$2,\"\",Sheet1!S128)","v":"3"},{"$f":"IF(101-ROW(E23)>$J$2,\"\",Sheet1!T128)","v":"6"},{"$f":"IF(101-ROW(F23)>$J$2,\"\",Sheet1!U128)","v":"0"},{"$f":"IF(101-ROW(G23)>$J$2,\"\",Sheet1!V128)","v":"5"},{"$f":"IF(101-ROW(H23)>$J$2,\"\",Sheet1!W128)","v":"7"},{"$f":"IF(101-ROW(I23)>$J$2,\"\",Sheet1!X128)","v":"1"},{"$f":"IF(101-ROW(J23)>$J$2,\"\",Sheet1!Y128)","v":"9"},{"$f":"IF(101-ROW(K23)>$J$2,\"\",Sheet1!Z128)","v":"2483"}]
[{"$f":"IF(101-ROW(A24)>$J$2,\"\",Sheet1!A129)","v":"20200515050"},{"$f":"IF(101-ROW(A24)>$J$2,\"\",Sheet1!O129&\"\")","v":"864"},{"$f":"IF(101-ROW(A24)>$J$2,\"\",Sheet1!C129)","v":"1"},{"$f":"IF(101-ROW(B24)>$J$2,\"\",Sheet1!D129)","v":"8"},{"$f":"IF(101-ROW(C24)>$J$2,\"\",Sheet1!E129)","v":"8"},{"$f":"IF(101-ROW(D24)>$J$2,\"\",Sheet1!F129)","v":"6"},{"$f":"IF(101-ROW(E24)>$J$2,\"\",Sheet1!G129)","v":"4"},{"$f":"IF(101-ROW(A24)>$J$2,\"\",Sheet1!P129)","v":"2"},{"$f":"IF(101-ROW(B24)>$J$2,\"\",Sheet1!Q129)","v":"4"},{"$f":"IF(101-ROW(C24)>$J$2,\"\",Sheet1!R129)","v":"8"},{"$f":"IF(101-ROW(D24)>$J$2,\"\",Sheet1!S129)","v":"3"},{"$f":"IF(101-ROW(E24)>$J$2,\"\",Sheet1!T129)","v":"6"},{"$f":"IF(101-ROW(F24)>$J$2,\"\",Sheet1!U129)","v":"7"},{"$f":"IF(101-ROW(G24)>$J$2,\"\",Sheet1!V129)","v":"0"},{"$f":"IF(101-ROW(H24)>$J$2,\"\",Sheet1!W129)","v":"5"},{"$f":"IF(101-ROW(I24)>$J$2,\"\",Sheet1!X129)","v":"1"},{"$f":"IF(101-ROW(J24)>$J$2,\"\",Sheet1!Y129)","v":"9"},{"$f":"IF(101-ROW(K24)>$J$2,\"\",Sheet1!Z129)","v":"2483"}]
[{"$f":"IF(101-ROW(A25)>$J$2,\"\",Sheet1!A130)","v":"20200515051"},{"$f":"IF(101-ROW(A25)>$J$2,\"\",Sheet1!O130&\"\")","v":"235"},{"$f":"IF(101-ROW(A25)>$J$2,\"\",Sheet1!C130)","v":"2"},{"$f":"IF(101-ROW(B25)>$J$2,\"\",Sheet1!D130)","v":"2"},{"$f":"IF(101-ROW(C25)>$J$2,\"\",Sheet1!E130)","v":"2"},{"$f":"IF(101-ROW(D25)>$J$2,\"\",Sheet1!F130)","v":"3"},{"$f":"IF(101-ROW(E25)>$J$2,\"\",Sheet1!G130)","v":"5"},{"$f":"IF(101-ROW(A25)>$J$2,\"\",Sheet1!P130)","v":"2"},{"$f":"IF(101-ROW(B25)>$J$2,\"\",Sheet1!Q130)","v":"4"},{"$f":"IF(101-ROW(C25)>$J$2,\"\",Sheet1!R130)","v":"8"},{"$f":"IF(101-ROW(D25)>$J$2,\"\",Sheet1!S130)","v":"6"},{"$f":"IF(101-ROW(E25)>$J$2,\"\",Sheet1!T130)","v":"3"},{"$f":"IF(101-ROW(F25)>$J$2,\"\",Sheet1!U130)","v":"7"},{"$f":"IF(101-ROW(G25)>$J$2,\"\",Sheet1!V130)","v":"0"},{"$f":"IF(101-ROW(H25)>$J$2,\"\",Sheet1!W130)","v":"5"},{"$f":"IF(101-ROW(I25)>$J$2,\"\",Sheet1!X130)","v":"1"},{"$f":"IF(101-ROW(J25)>$J$2,\"\",Sheet1!Y130)","v":"9"},{"$f":"IF(101-ROW(K25)>$J$2,\"\",Sheet1!Z130)","v":"2486"}]
[{"$f":"IF(101-ROW(A26)>$J$2,\"\",Sheet1!A131)","v":"20200515052"},{"$f":"IF(101-ROW(A26)>$J$2,\"\",Sheet1!O131&\"\")","v":"453"},{"$f":"IF(101-ROW(A26)>$J$2,\"\",Sheet1!C131)","v":"4"},{"$f":"IF(101-ROW(B26)>$J$2,\"\",Sheet1!D131)","v":"3"},{"$f":"IF(101-ROW(C26)>$J$2,\"\",Sheet1!E131)","v":"4"},{"$f":"IF(101-ROW(D26)>$J$2,\"\",Sheet1!F131)","v":"5"},{"$f":"IF(101-ROW(E26)>$J$2,\"\",Sheet1!G131)","v":"3"},{"$f":"IF(101-ROW(A26)>$J$2,\"\",Sheet1!P131)","v":"2"},{"$f":"IF(101-ROW(B26)>$J$2,\"\",Sheet1!Q131)","v":"4"},{"$f":"IF(101-ROW(C26)>$J$2,\"\",Sheet1!R131)","v":"8"},{"$f":"IF(101-ROW(D26)>$J$2,\"\",Sheet1!S131)","v":"3"},{"$f":"IF(101-ROW(E26)>$J$2,\"\",Sheet1!T131)","v":"6"},{"$f":"IF(101-ROW(F26)>$J$2,\"\",Sheet1!U131)","v":"0"},{"$f":"IF(101-ROW(G26)>$J$2,\"\",Sheet1!V131)","v":"5"},{"$f":"IF(101-ROW(H26)>$J$2,\"\",Sheet1!W131)","v":"7"},{"$f":"IF(101-ROW(I26)>$J$2,\"\",Sheet1!X131)","v":"1"},{"$f":"IF(101-ROW(J26)>$J$2,\"\",Sheet1!Y131)","v":"9"},{"$f":"IF(101-ROW(K26)>$J$2,\"\",Sheet1!Z131)","v":"2483"}]
[{"$f":"IF(101-ROW(A27)>$J$2,\"\",Sheet1!A132)","v":"20200515053"},{"$f":"IF(101-ROW(A27)>$J$2,\"\",Sheet1!O132&\"\")","v":"655"},{"$f":"IF(101-ROW(A27)>$J$2,\"\",Sheet1!C132)","v":"9"},{"$f":"IF(101-ROW(B27)>$J$2,\"\",Sheet1!D132)","v":"6"},{"$f":"IF(101-ROW(C27)>$J$2,\"\",Sheet1!E132)","v":"6"},{"$f":"IF(101-ROW(D27)>$J$2,\"\",Sheet1!F132)","v":"5"},{"$f":"IF(101-ROW(E27)>$J$2,\"\",Sheet1!G132)","v":"5"},{"$f":"IF(101-ROW(A27)>$J$2,\"\",Sheet1!P132)","v":"2"},{"$f":"IF(101-ROW(B27)>$J$2,\"\",Sheet1!Q132)","v":"4"},{"$f":"IF(101-ROW(C27)>$J$2,\"\",Sheet1!R132)","v":"3"},{"$f":"IF(101-ROW(D27)>$J$2,\"\",Sheet1!S132)","v":"8"},{"$f":"IF(101-ROW(E27)>$J$2,\"\",Sheet1!T132)","v":"5"},{"$f":"IF(101-ROW(F27)>$J$2,\"\",Sheet1!U132)","v":"6"},{"$f":"IF(101-ROW(G27)>$J$2,\"\",Sheet1!V132)","v":"7"},{"$f":"IF(101-ROW(H27)>$J$2,\"\",Sheet1!W132)","v":"0"},{"$f":"IF(101-ROW(I27)>$J$2,\"\",Sheet1!X132)","v":"1"},{"$f":"IF(101-ROW(J27)>$J$2,\"\",Sheet1!Y132)","v":"9"},{"$f":"IF(101-ROW(K27)>$J$2,\"\",Sheet1!Z132)","v":"2438"}]
[{"$f":"IF(101-ROW(A28)>$J$2,\"\",Sheet1!A133)","v":"20200515054"},{"$f":"IF(101-ROW(A28)>$J$2,\"\",Sheet1!O133&\"\")","v":"079"},{"$f":"IF(101-ROW(A28)>$J$2,\"\",Sheet1!C133)","v":"2"},{"$f":"IF(101-ROW(B28)>$J$2,\"\",Sheet1!D133)","v":"6"},{"$f":"IF(101-ROW(C28)>$J$2,\"\",Sheet1!E133)","v":"0"},{"$f":"IF(101-ROW(D28)>$J$2,\"\",Sheet1!F133)","v":"7"},{"$f":"IF(101-ROW(E28)>$J$2,\"\",Sheet1!G133)","v":"9"},{"$f":"IF(101-ROW(A28)>$J$2,\"\",Sheet1!P133)","v":"2"},{"$f":"IF(101-ROW(B28)>$J$2,\"\",Sheet1!Q133)","v":"4"},{"$f":"IF(101-ROW(C28)>$J$2,\"\",Sheet1!R133)","v":"3"},{"$f":"IF(101-ROW(D28)>$J$2,\"\",Sheet1!S133)","v":"5"},{"$f":"IF(101-ROW(E28)>$J$2,\"\",Sheet1!T133)","v":"6"},{"$f":"IF(101-ROW(F28)>$J$2,\"\",Sheet1!U133)","v":"8"},{"$f":"IF(101-ROW(G28)>$J$2,\"\",Sheet1!V133)","v":"7"},{"$f":"IF(101-ROW(H28)>$J$2,\"\",Sheet1!W133)","v":"0"},{"$f":"IF(101-ROW(I28)>$J$2,\"\",Sheet1!X133)","v":"1"},{"$f":"IF(101-ROW(J28)>$J$2,\"\",Sheet1!Y133)","v":"9"},{"$f":"IF(101-ROW(K28)>$J$2,\"\",Sheet1!Z133)","v":"2435"}]
[{"$f":"IF(101-ROW(A29)>$J$2,\"\",Sheet1!A134)","v":"20200515055"},{"$f":"IF(101-ROW(A29)>$J$2,\"\",Sheet1!O134&\"\")","v":"919"},{"$f":"IF(101-ROW(A29)>$J$2,\"\",Sheet1!C134)","v":"4"},{"$f":"IF(101-ROW(B29)>$J$2,\"\",Sheet1!D134)","v":"8"},{"$f":"IF(101-ROW(C29)>$J$2,\"\",Sheet1!E134)","v":"9"},{"$f":"IF(101-ROW(D29)>$J$2,\"\",Sheet1!F134)","v":"1"},{"$f":"IF(101-ROW(E29)>$J$2,\"\",Sheet1!G134)","v":"9"},{"$f":"IF(101-ROW(A29)>$J$2,\"\",Sheet1!P134)","v":"2"},{"$f":"IF(101-ROW(B29)>$J$2,\"\",Sheet1!Q134)","v":"4"},{"$f":"IF(101-ROW(C29)>$J$2,\"\",Sheet1!R134)","v":"3"},{"$f":"IF(101-ROW(D29)>$J$2,\"\",Sheet1!S134)","v":"5"},{"$f":"IF(101-ROW(E29)>$J$2,\"\",Sheet1!T134)","v":"8"},{"$f":"IF(101-ROW(F29)>$J$2,\"\",Sheet1!U134)","v":"7"},{"$f":"IF(101-ROW(G29)>$J$2,\"\",Sheet1!V134)","v":"0"},{"$f":"IF(101-ROW(H29)>$J$2,\"\",Sheet1!W134)","v":"6"},{"$f":"IF(101-ROW(I29)>$J$2,\"\",Sheet1!X134)","v":"1"},{"$f":"IF(101-ROW(J29)>$J$2,\"\",Sheet1!Y134)","v":"9"},{"$f":"IF(101-ROW(K29)>$J$2,\"\",Sheet1!Z134)","v":"2435"}]
[{"$f":"IF(101-ROW(A30)>$J$2,\"\",Sheet1!A135)","v":"20200515056"},{"$f":"IF(101-ROW(A30)>$J$2,\"\",Sheet1!O135&\"\")","v":"600"},{"$f":"IF(101-ROW(A30)>$J$2,\"\",Sheet1!C135)","v":"1"},{"$f":"IF(101-ROW(B30)>$J$2,\"\",Sheet1!D135)","v":"6"},{"$f":"IF(101-ROW(C30)>$J$2,\"\",Sheet1!E135)","v":"6"},{"$f":"IF(101-ROW(D30)>$J$2,\"\",Sheet1!F135)","v":"0"},{"$f":"IF(101-ROW(E30)>$J$2,\"\",Sheet1!G135)","v":"0"},{"$f":"IF(101-ROW(A30)>$J$2,\"\",Sheet1!P135)","v":"2"},{"$f":"IF(101-ROW(B30)>$J$2,\"\",Sheet1!Q135)","v":"4"},{"$f":"IF(101-ROW(C30)>$J$2,\"\",Sheet1!R135)","v":"3"},{"$f":"IF(101-ROW(D30)>$J$2,\"\",Sheet1!S135)","v":"5"},{"$f":"IF(101-ROW(E30)>$J$2,\"\",Sheet1!T135)","v":"8"},{"$f":"IF(101-ROW(F30)>$J$2,\"\",Sheet1!U135)","v":"6"},{"$f":"IF(101-ROW(G30)>$J$2,\"\",Sheet1!V135)","v":"7"},{"$f":"IF(101-ROW(H30)>$J$2,\"\",Sheet1!W135)","v":"0"},{"$f":"IF(101-ROW(I30)>$J$2,\"\",Sheet1!X135)","v":"1"},{"$f":"IF(101-ROW(J30)>$J$2,\"\",Sheet1!Y135)","v":"9"},{"$f":"IF(101-ROW(K30)>$J$2,\"\",Sheet1!Z135)","v":"2435"}]
[{"$f":"IF(101-ROW(A31)>$J$2,\"\",Sheet1!A136)","v":"20200515057"},{"$f":"IF(101-ROW(A31)>$J$2,\"\",Sheet1!O136&\"\")","v":"099"},{"$f":"IF(101-ROW(A31)>$J$2,\"\",Sheet1!C136)","v":"4"},{"$f":"IF(101-ROW(B31)>$J$2,\"\",Sheet1!D136)","v":"0"},{"$f":"IF(101-ROW(C31)>$J$2,\"\",Sheet1!E136)","v":"0"},{"$f":"IF(101-ROW(D31)>$J$2,\"\",Sheet1!F136)","v":"9"},{"$f":"IF(101-ROW(E31)>$J$2,\"\",Sheet1!G136)","v":"9"},{"$f":"IF(101-ROW(A31)>$J$2,\"\",Sheet1!P136)","v":"2"},{"$f":"IF(101-ROW(B31)>$J$2,\"\",Sheet1!Q136)","v":"4"},{"$f":"IF(101-ROW(C31)>$J$2,\"\",Sheet1!R136)","v":"5"},{"$f":"IF(101-ROW(D31)>$J$2,\"\",Sheet1!S136)","v":"3"},{"$f":"IF(101-ROW(E31)>$J$2,\"\",Sheet1!T136)","v":"8"},{"$f":"IF(101-ROW(F31)>$J$2,\"\",Sheet1!U136)","v":"6"},{"$f":"IF(101-ROW(G31)>$J$2,\"\",Sheet1!V136)","v":"0"},{"$f":"IF(101-ROW(H31)>$J$2,\"\",Sheet1!W136)","v":"7"},{"$f":"IF(101-ROW(I31)>$J$2,\"\",Sheet1!X136)","v":"1"},{"$f":"IF(101-ROW(J31)>$J$2,\"\",Sheet1!Y136)","v":"9"},{"$f":"IF(101-ROW(K31)>$J$2,\"\",Sheet1!Z136)","v":"2453"}]
[{"$f":"IF(101-ROW(A32)>$J$2,\"\",Sheet1!A137)","v":"20200515058"},{"$f":"IF(101-ROW(A32)>$J$2,\"\",Sheet1!O137&\"\")","v":"462"},{"$f":"IF(101-ROW(A32)>$J$2,\"\",Sheet1!C137)","v":"1"},{"$f":"IF(101-ROW(B32)>$J$2,\"\",Sheet1!D137)","v":"1"},{"$f":"IF(101-ROW(C32)>$J$2,\"\",Sheet1!E137)","v":"4"},{"$f":"IF(101-ROW(D32)>$J$2,\"\",Sheet1!F137)","v":"6"},{"$f":"IF(101-ROW(E32)>$J$2,\"\",Sheet1!G137)","v":"2"},{"$f":"IF(101-ROW(A32)>$J$2,\"\",Sheet1!P137)","v":"2"},{"$f":"IF(101-ROW(B32)>$J$2,\"\",Sheet1!Q137)","v":"4"},{"$f":"IF(101-ROW(C32)>$J$2,\"\",Sheet1!R137)","v":"5"},{"$f":"IF(101-ROW(D32)>$J$2,\"\",Sheet1!S137)","v":"8"},{"$f":"IF(101-ROW(E32)>$J$2,\"\",Sheet1!T137)","v":"0"},{"$f":"IF(101-ROW(F32)>$J$2,\"\",Sheet1!U137)","v":"3"},{"$f":"IF(101-ROW(G32)>$J$2,\"\",Sheet1!V137)","v":"6"},{"$f":"IF(101-ROW(H32)>$J$2,\"\",Sheet1!W137)","v":"7"},{"$f":"IF(101-ROW(I32)>$J$2,\"\",Sheet1!X137)","v":"1"},{"$f":"IF(101-ROW(J32)>$J$2,\"\",Sheet1!Y137)","v":"9"},{"$f":"IF(101-ROW(K32)>$J$2,\"\",Sheet1!Z137)","v":"2458"}]
[{"$f":"IF(101-ROW(A33)>$J$2,\"\",Sheet1!A138)","v":"20200515059"},{"$f":"IF(101-ROW(A33)>$J$2,\"\",Sheet1!O138&\"\")","v":"050"},{"$f":"IF(101-ROW(A33)>$J$2,\"\",Sheet1!C138)","v":"1"},{"$f":"IF(101-ROW(B33)>$J$2,\"\",Sheet1!D138)","v":"4"},{"$f":"IF(101-ROW(C33)>$J$2,\"\",Sheet1!E138)","v":"0"},{"$f":"IF(101-ROW(D33)>$J$2,\"\",Sheet1!F138)","v":"5"},{"$f":"IF(101-ROW(E33)>$J$2,\"\",Sheet1!G138)","v":"0"},{"$f":"IF(101-ROW(A33)>$J$2,\"\",Sheet1!P138)","v":"2"},{"$f":"IF(101-ROW(B33)>$J$2,\"\",Sheet1!Q138)","v":"4"},{"$f":"IF(101-ROW(C33)>$J$2,\"\",Sheet1!R138)","v":"5"},{"$f":"IF(101-ROW(D33)>$J$2,\"\",Sheet1!S138)","v":"6"},{"$f":"IF(101-ROW(E33)>$J$2,\"\",Sheet1!T138)","v":"8"},{"$f":"IF(101-ROW(F33)>$J$2,\"\",Sheet1!U138)","v":"0"},{"$f":"IF(101-ROW(G33)>$J$2,\"\",Sheet1!V138)","v":"3"},{"$f":"IF(101-ROW(H33)>$J$2,\"\",Sheet1!W138)","v":"7"},{"$f":"IF(101-ROW(I33)>$J$2,\"\",Sheet1!X138)","v":"1"},{"$f":"IF(101-ROW(J33)>$J$2,\"\",Sheet1!Y138)","v":"9"},{"$f":"IF(101-ROW(K33)>$J$2,\"\",Sheet1!Z138)","v":"2456"}]
[{"$f":"IF(101-ROW(A34)>$J$2,\"\",Sheet1!A139)","v":"20200515060"},{"$f":"IF(101-ROW(A34)>$J$2,\"\",Sheet1!O139&\"\")","v":"080"},{"$f":"IF(101-ROW(A34)>$J$2,\"\",Sheet1!C139)","v":"3"},{"$f":"IF(101-ROW(B34)>$J$2,\"\",Sheet1!D139)","v":"3"},{"$f":"IF(101-ROW(C34)>$J$2,\"\",Sheet1!E139)","v":"0"},{"$f":"IF(101-ROW(D34)>$J$2,\"\",Sheet1!F139)","v":"8"},{"$f":"IF(101-ROW(E34)>$J$2,\"\",Sheet1!G139)","v":"0"},{"$f":"IF(101-ROW(A34)>$J$2,\"\",Sheet1!P139)","v":"2"},{"$f":"IF(101-ROW(B34)>$J$2,\"\",Sheet1!Q139)","v":"4"},{"$f":"IF(101-ROW(C34)>$J$2,\"\",Sheet1!R139)","v":"5"},{"$f":"IF(101-ROW(D34)>$J$2,\"\",Sheet1!S139)","v":"0"},{"$f":"IF(101-ROW(E34)>$J$2,\"\",Sheet1!T139)","v":"6"},{"$f":"IF(101-ROW(F34)>$J$2,\"\",Sheet1!U139)","v":"8"},{"$f":"IF(101-ROW(G34)>$J$2,\"\",Sheet1!V139)","v":"3"},{"$f":"IF(101-ROW(H34)>$J$2,\"\",Sheet1!W139)","v":"7"},{"$f":"IF(101-ROW(I34)>$J$2,\"\",Sheet1!X139)","v":"9"},{"$f":"IF(101-ROW(J34)>$J$2,\"\",Sheet1!Y139)","v":"1"},{"$f":"IF(101-ROW(K34)>$J$2,\"\",Sheet1!Z139)","v":"2450"}]
[{"$f":"IF(101-ROW(A35)>$J$2,\"\",Sheet1!A140)","v":"20200515061"},{"$f":"IF(101-ROW(A35)>$J$2,\"\",Sheet1!O140&\"\")","v":"871"},{"$f":"IF(101-ROW(A35)>$J$2,\"\",Sheet1!C140)","v":"8"},{"$f":"IF(101-ROW(B35)>$J$2,\"\",Sheet1!D140)","v":"5"},{"$f":"IF(101-ROW(C35)>$J$2,\"\",Sheet1!E140)","v":"8"},{"$f":"IF(101-ROW(D35)>$J$2,\"\",Sheet1!F140)","v":"7"},{"$f":"IF(101-ROW(E35)>$J$2,\"\",Sheet1!G140)","v":"1"},{"$f":"IF(101-ROW(A35)>$J$2,\"\",Sheet1!P140)","v":"2"},{"$f":"IF(101-ROW(B35)>$J$2,\"\",Sheet1!Q140)","v":"0"},{"$f":"IF(101-ROW(C35)>$J$2,\"\",Sheet1!R140)","v":"5"},{"$f":"IF(101-ROW(D35)>$J$2,\"\",Sheet1!S140)","v":"4"},{"$f":"IF(101-ROW(E35)>$J$2,\"\",Sheet1!T140)","v":"6"},{"$f":"IF(101-ROW(F35)>$J$2,\"\",Sheet1!U140)","v":"8"},{"$f":"IF(101-ROW(G35)>$J$2,\"\",Sheet1!V140)","v":"3"},{"$f":"IF(101-ROW(H35)>$J$2,\"\",Sheet1!W140)","v":"7"},{"$f":"IF(101-ROW(I35)>$J$2,\"\",Sheet1!X140)","v":"9"},{"$f":"IF(101-ROW(J35)>$J$2,\"\",Sheet1!Y140)","v":"1"},{"$f":"IF(101-ROW(K35)>$J$2,\"\",Sheet1!Z140)","v":"2054"}]
[{"$f":"IF(101-ROW(A36)>$J$2,\"\",Sheet1!A141)","v":"20200515067"},{"$f":"IF(101-ROW(A36)>$J$2,\"\",Sheet1!O141&\"\")","v":"770"},{"$f":"IF(101-ROW(A36)>$J$2,\"\",Sheet1!C141)","v":"6"},{"$f":"IF(101-ROW(B36)>$J$2,\"\",Sheet1!D141)","v":"8"},{"$f":"IF(101-ROW(C36)>$J$2,\"\",Sheet1!E141)","v":"7"},{"$f":"IF(101-ROW(D36)>$J$2,\"\",Sheet1!F141)","v":"7"},{"$f":"IF(101-ROW(E36)>$J$2,\"\",Sheet1!G141)","v":"0"},{"$f":"IF(101-ROW(A36)>$J$2,\"\",Sheet1!P141)","v":"2"},{"$f":"IF(101-ROW(B36)>$J$2,\"\",Sheet1!Q141)","v":"0"},{"$f":"IF(101-ROW(C36)>$J$2,\"\",Sheet1!R141)","v":"5"},{"$f":"IF(101-ROW(D36)>$J$2,\"\",Sheet1!S141)","v":"4"},{"$f":"IF(101-ROW(E36)>$J$2,\"\",Sheet1!T141)","v":"6"},{"$f":"IF(101-ROW(F36)>$J$2,\"\",Sheet1!U141)","v":"8"},{"$f":"IF(101-ROW(G36)>$J$2,\"\",Sheet1!V141)","v":"3"},{"$f":"IF(101-ROW(H36)>$J$2,\"\",Sheet1!W141)","v":"7"},{"$f":"IF(101-ROW(I36)>$J$2,\"\",Sheet1!X141)","v":"1"},{"$f":"IF(101-ROW(J36)>$J$2,\"\",Sheet1!Y141)","v":"9"},{"$f":"IF(101-ROW(K36)>$J$2,\"\",Sheet1!Z141)","v":"2054"}]
[{"$f":"IF(101-ROW(A37)>$J$2,\"\",Sheet1!A142)","v":"20200515068"},{"$f":"IF(101-ROW(A37)>$J$2,\"\",Sheet1!O142&\"\")","v":"520"},{"$f":"IF(101-ROW(A37)>$J$2,\"\",Sheet1!C142)","v":"7"},{"$f":"IF(101-ROW(B37)>$J$2,\"\",Sheet1!D142)","v":"4"},{"$f":"IF(101-ROW(C37)>$J$2,\"\",Sheet1!E142)","v":"5"},{"$f":"IF(101-ROW(D37)>$J$2,\"\",Sheet1!F142)","v":"2"},{"$f":"IF(101-ROW(E37)>$J$2,\"\",Sheet1!G142)","v":"0"},{"$f":"IF(101-ROW(A37)>$J$2,\"\",Sheet1!P142)","v":"2"},{"$f":"IF(101-ROW(B37)>$J$2,\"\",Sheet1!Q142)","v":"0"},{"$f":"IF(101-ROW(C37)>$J$2,\"\",Sheet1!R142)","v":"4"},{"$f":"IF(101-ROW(D37)>$J$2,\"\",Sheet1!S142)","v":"5"},{"$f":"IF(101-ROW(E37)>$J$2,\"\",Sheet1!T142)","v":"6"},{"$f":"IF(101-ROW(F37)>$J$2,\"\",Sheet1!U142)","v":"7"},{"$f":"IF(101-ROW(G37)>$J$2,\"\",Sheet1!V142)","v":"3"},{"$f":"IF(101-ROW(H37)>$J$2,\"\",Sheet1!W142)","v":"8"},{"$f":"IF(101-ROW(I37)>$J$2,\"\",Sheet1!X142)","v":"1"},{"$f":"IF(101-ROW(J37)>$J$2,\"\",Sheet1!Y142)","v":"9"},{"$f":"IF(101-ROW(K37)>$J$2,\"\",Sheet1!Z142)","v":"2045"}]
[{"$f":"IF(101-ROW(A38)>$J$2,\"\",Sheet1!A143)","v":"20200515069"},{"$f":"IF(101-ROW(A38)>$J$2,\"\",Sheet1!O143&\"\")","v":"349"},{"$f":"IF(101-ROW(A38)>$J$2,\"\",Sheet1!C143)","v":"8"},{"$f":"IF(101-ROW(B38)>$J$2,\"\",Sheet1!D143)","v":"0"},{"$f":"IF(101-ROW(C38)>$J$2,\"\",Sheet1!E143)","v":"3"},{"$f":"IF(101-ROW(D38)>$J$2,\"\",Sheet1!F143)","v":"4"},{"$f":"IF(101-ROW(E38)>$J$2,\"\",Sheet1!G143)","v":"9"},{"$f":"IF(101-ROW(A38)>$J$2,\"\",Sheet1!P143)","v":"0"},{"$f":"IF(101-ROW(B38)>$J$2,\"\",Sheet1!Q143)","v":"2"},{"$f":"IF(101-ROW(C38)>$J$2,\"\",Sheet1!R143)","v":"5"},{"$f":"IF(101-ROW(D38)>$J$2,\"\",Sheet1!S143)","v":"4"},{"$f":"IF(101-ROW(E38)>$J$2,\"\",Sheet1!T143)","v":"6"},{"$f":"IF(101-ROW(F38)>$J$2,\"\",Sheet1!U143)","v":"7"},{"$f":"IF(101-ROW(G38)>$J$2,\"\",Sheet1!V143)","v":"3"},{"$f":"IF(101-ROW(H38)>$J$2,\"\",Sheet1!W143)","v":"8"},{"$f":"IF(101-ROW(I38)>$J$2,\"\",Sheet1!X143)","v":"1"},{"$f":"IF(101-ROW(J38)>$J$2,\"\",Sheet1!Y143)","v":"9"},{"$f":"IF(101-ROW(K38)>$J$2,\"\",Sheet1!Z143)","v":"0254"}]
[{"$f":"IF(101-ROW(A39)>$J$2,\"\",Sheet1!A144)","v":"20200515070"},{"$f":"IF(101-ROW(A39)>$J$2,\"\",Sheet1!O144&\"\")","v":"413"},{"$f":"IF(101-ROW(A39)>$J$2,\"\",Sheet1!C144)","v":"3"},{"$f":"IF(101-ROW(B39)>$J$2,\"\",Sheet1!D144)","v":"2"},{"$f":"IF(101-ROW(C39)>$J$2,\"\",Sheet1!E144)","v":"4"},{"$f":"IF(101-ROW(D39)>$J$2,\"\",Sheet1!F144)","v":"1"},{"$f":"IF(101-ROW(E39)>$J$2,\"\",Sheet1!G144)","v":"3"},{"$f":"IF(101-ROW(A39)>$J$2,\"\",Sheet1!P144)","v":"0"},{"$f":"IF(101-ROW(B39)>$J$2,\"\",Sheet1!Q144)","v":"2"},{"$f":"IF(101-ROW(C39)>$J$2,\"\",Sheet1!R144)","v":"5"},{"$f":"IF(101-ROW(D39)>$J$2,\"\",Sheet1!S144)","v":"4"},{"$f":"IF(101-ROW(E39)>$J$2,\"\",Sheet1!T144)","v":"3"},{"$f":"IF(101-ROW(F39)>$J$2,\"\",Sheet1!U144)","v":"7"},{"$f":"IF(101-ROW(G39)>$J$2,\"\",Sheet1!V144)","v":"6"},{"$f":"IF(101-ROW(H39)>$J$2,\"\",Sheet1!W144)","v":"8"},{"$f":"IF(101-ROW(I39)>$J$2,\"\",Sheet1!X144)","v":"9"},{"$f":"IF(101-ROW(J39)>$J$2,\"\",Sheet1!Y144)","v":"1"},{"$f":"IF(101-ROW(K39)>$J$2,\"\",Sheet1!Z144)","v":"0254"}]
[{"$f":"IF(101-ROW(A40)>$J$2,\"\",Sheet1!A145)","v":"20200515071"},{"$f":"IF(101-ROW(A40)>$J$2,\"\",Sheet1!O145&\"\")","v":"306"},{"$f":"IF(101-ROW(A40)>$J$2,\"\",Sheet1!C145)","v":"9"},{"$f":"IF(101-ROW(B40)>$J$2,\"\",Sheet1!D145)","v":"0"},{"$f":"IF(101-ROW(C40)>$J$2,\"\",Sheet1!E145)","v":"3"},{"$f":"IF(101-ROW(D40)>$J$2,\"\",Sheet1!F145)","v":"0"},{"$f":"IF(101-ROW(E40)>$J$2,\"\",Sheet1!G145)","v":"6"},{"$f":"IF(101-ROW(A40)>$J$2,\"\",Sheet1!P145)","v":"0"},{"$f":"IF(101-ROW(B40)>$J$2,\"\",Sheet1!Q145)","v":"2"},{"$f":"IF(101-ROW(C40)>$J$2,\"\",Sheet1!R145)","v":"4"},{"$f":"IF(101-ROW(D40)>$J$2,\"\",Sheet1!S145)","v":"5"},{"$f":"IF(101-ROW(E40)>$J$2,\"\",Sheet1!T145)","v":"3"},{"$f":"IF(101-ROW(F40)>$J$2,\"\",Sheet1!U145)","v":"7"},{"$f":"IF(101-ROW(G40)>$J$2,\"\",Sheet1!V145)","v":"6"},{"$f":"IF(101-ROW(H40)>$J$2,\"\",Sheet1!W145)","v":"8"},{"$f":"IF(101-ROW(I40)>$J$2,\"\",Sheet1!X145)","v":"1"},{"$f":"IF(101-ROW(J40)>$J$2,\"\",Sheet1!Y145)","v":"9"},{"$f":"IF(101-ROW(K40)>$J$2,\"\",Sheet1!Z145)","v":"0245"}]
[{"$f":"IF(101-ROW(A41)>$J$2,\"\",Sheet1!A146)","v":"20200515072"},{"$f":"IF(101-ROW(A41)>$J$2,\"\",Sheet1!O146&\"\")","v":"681"},{"$f":"IF(101-ROW(A41)>$J$2,\"\",Sheet1!C146)","v":"0"},{"$f":"IF(101-ROW(B41)>$J$2,\"\",Sheet1!D146)","v":"7"},{"$f":"IF(101-ROW(C41)>$J$2,\"\",Sheet1!E146)","v":"6"},{"$f":"IF(101-ROW(D41)>$J$2,\"\",Sheet1!F146)","v":"8"},{"$f":"IF(101-ROW(E41)>$J$2,\"\",Sheet1!G146)","v":"1"},{"$f":"IF(101-ROW(A41)>$J$2,\"\",Sheet1!P146)","v":"0"},{"$f":"IF(101-ROW(B41)>$J$2,\"\",Sheet1!Q146)","v":"2"},{"$f":"IF(101-ROW(C41)>$J$2,\"\",Sheet1!R146)","v":"3"},{"$f":"IF(101-ROW(D41)>$J$2,\"\",Sheet1!S146)","v":"4"},{"$f":"IF(101-ROW(E41)>$J$2,\"\",Sheet1!T146)","v":"5"},{"$f":"IF(101-ROW(F41)>$J$2,\"\",Sheet1!U146)","v":"6"},{"$f":"IF(101-ROW(G41)>$J$2,\"\",Sheet1!V146)","v":"7"},{"$f":"IF(101-ROW(H41)>$J$2,\"\",Sheet1!W146)","v":"8"},{"$f":"IF(101-ROW(I41)>$J$2,\"\",Sheet1!X146)","v":"1"},{"$f":"IF(101-ROW(J41)>$J$2,\"\",Sheet1!Y146)","v":"9"},{"$f":"IF(101-ROW(K41)>$J$2,\"\",Sheet1!Z146)","v":"0234"}]
[{"$f":"IF(101-ROW(A42)>$J$2,\"\",Sheet1!A147)","v":"20200515073"},{"$f":"IF(101-ROW(A42)>$J$2,\"\",Sheet1!O147&\"\")","v":"276"},{"$f":"IF(101-ROW(A42)>$J$2,\"\",Sheet1!C147)","v":"4"},{"$f":"IF(101-ROW(B42)>$J$2,\"\",Sheet1!D147)","v":"4"},{"$f":"IF(101-ROW(C42)>$J$2,\"\",Sheet1!E147)","v":"2"},{"$f":"IF(101-ROW(D42)>$J$2,\"\",Sheet1!F147)","v":"7"},{"$f":"IF(101-ROW(E42)>$J$2,\"\",Sheet1!G147)","v":"6"},{"$f":"IF(101-ROW(A42)>$J$2,\"\",Sheet1!P147)","v":"0"},{"$f":"IF(101-ROW(B42)>$J$2,\"\",Sheet1!Q147)","v":"2"},{"$f":"IF(101-ROW(C42)>$J$2,\"\",Sheet1!R147)","v":"4"},{"$f":"IF(101-ROW(D42)>$J$2,\"\",Sheet1!S147)","v":"3"},{"$f":"IF(101-ROW(E42)>$J$2,\"\",Sheet1!T147)","v":"5"},{"$f":"IF(101-ROW(F42)>$J$2,\"\",Sheet1!U147)","v":"6"},{"$f":"IF(101-ROW(G42)>$J$2,\"\",Sheet1!V147)","v":"8"},{"$f":"IF(101-ROW(H42)>$J$2,\"\",Sheet1!W147)","v":"7"},{"$f":"IF(101-ROW(I42)>$J$2,\"\",Sheet1!X147)","v":"1"},{"$f":"IF(101-ROW(J42)>$J$2,\"\",Sheet1!Y147)","v":"9"},{"$f":"IF(101-ROW(K42)>$J$2,\"\",Sheet1!Z147)","v":"0243"}]
[{"$f":"IF(101-ROW(A43)>$J$2,\"\",Sheet1!A148)","v":"20200515074"},{"$f":"IF(101-ROW(A43)>$J$2,\"\",Sheet1!O148&\"\")","v":"522"},{"$f":"IF(101-ROW(A43)>$J$2,\"\",Sheet1!C148)","v":"3"},{"$f":"IF(101-ROW(B43)>$J$2,\"\",Sheet1!D148)","v":"5"},{"$f":"IF(101-ROW(C43)>$J$2,\"\",Sheet1!E148)","v":"5"},{"$f":"IF(101-ROW(D43)>$J$2,\"\",Sheet1!F148)","v":"2"},{"$f":"IF(101-ROW(E43)>$J$2,\"\",Sheet1!G148)","v":"2"},{"$f":"IF(101-ROW(A43)>$J$2,\"\",Sheet1!P148)","v":"0"},{"$f":"IF(101-ROW(B43)>$J$2,\"\",Sheet1!Q148)","v":"2"},{"$f":"IF(101-ROW(C43)>$J$2,\"\",Sheet1!R148)","v":"4"},{"$f":"IF(101-ROW(D43)>$J$2,\"\",Sheet1!S148)","v":"3"},{"$f":"IF(101-ROW(E43)>$J$2,\"\",Sheet1!T148)","v":"5"},{"$f":"IF(101-ROW(F43)>$J$2,\"\",Sheet1!U148)","v":"6"},{"$f":"IF(101-ROW(G43)>$J$2,\"\",Sheet1!V148)","v":"7"},{"$f":"IF(101-ROW(H43)>$J$2,\"\",Sheet1!W148)","v":"8"},{"$f":"IF(101-ROW(I43)>$J$2,\"\",Sheet1!X148)","v":"1"},{"$f":"IF(101-ROW(J43)>$J$2,\"\",Sheet1!Y148)","v":"9"},{"$f":"IF(101-ROW(K43)>$J$2,\"\",Sheet1!Z148)","v":"0243"}]
[{"$f":"IF(101-ROW(A44)>$J$2,\"\",Sheet1!A149)","v":"20200515075"},{"$f":"IF(101-ROW(A44)>$J$2,\"\",Sheet1!O149&\"\")","v":"366"},{"$f":"IF(101-ROW(A44)>$J$2,\"\",Sheet1!C149)","v":"9"},{"$f":"IF(101-ROW(B44)>$J$2,\"\",Sheet1!D149)","v":"4"},{"$f":"IF(101-ROW(C44)>$J$2,\"\",Sheet1!E149)","v":"3"},{"$f":"IF(101-ROW(D44)>$J$2,\"\",Sheet1!F149)","v":"6"},{"$f":"IF(101-ROW(E44)>$J$2,\"\",Sheet1!G149)","v":"6"},{"$f":"IF(101-ROW(A44)>$J$2,\"\",Sheet1!P149)","v":"0"},{"$f":"IF(101-ROW(B44)>$J$2,\"\",Sheet1!Q149)","v":"2"},{"$f":"IF(101-ROW(C44)>$J$2,\"\",Sheet1!R149)","v":"4"},{"$f":"IF(101-ROW(D44)>$J$2,\"\",Sheet1!S149)","v":"5"},{"$f":"IF(101-ROW(E44)>$J$2,\"\",Sheet1!T149)","v":"3"},{"$f":"IF(101-ROW(F44)>$J$2,\"\",Sheet1!U149)","v":"6"},{"$f":"IF(101-ROW(G44)>$J$2,\"\",Sheet1!V149)","v":"7"},{"$f":"IF(101-ROW(H44)>$J$2,\"\",Sheet1!W149)","v":"8"},{"$f":"IF(101-ROW(I44)>$J$2,\"\",Sheet1!X149)","v":"1"},{"$f":"IF(101-ROW(J44)>$J$2,\"\",Sheet1!Y149)","v":"9"},{"$f":"IF(101-ROW(K44)>$J$2,\"\",Sheet1!Z149)","v":"0245"}]
[{"$f":"IF(101-ROW(A45)>$J$2,\"\",Sheet1!A150)","v":"20200515076"},{"$f":"IF(101-ROW(A45)>$J$2,\"\",Sheet1!O150&\"\")","v":"916"},{"$f":"IF(101-ROW(A45)>$J$2,\"\",Sheet1!C150)","v":"1"},{"$f":"IF(101-ROW(B45)>$J$2,\"\",Sheet1!D150)","v":"6"},{"$f":"IF(101-ROW(C45)>$J$2,\"\",Sheet1!E150)","v":"9"},{"$f":"IF(101-ROW(D45)>$J$2,\"\",Sheet1!F150)","v":"1"},{"$f":"IF(101-ROW(E45)>$J$2,\"\",Sheet1!G150)","v":"6"},{"$f":"IF(101-ROW(A45)>$J$2,\"\",Sheet1!P150)","v":"0"},{"$f":"IF(101-ROW(B45)>$J$2,\"\",Sheet1!Q150)","v":"2"},{"$f":"IF(101-ROW(C45)>$J$2,\"\",Sheet1!R150)","v":"3"},{"$f":"IF(101-ROW(D45)>$J$2,\"\",Sheet1!S150)","v":"6"},{"$f":"IF(101-ROW(E45)>$J$2,\"\",Sheet1!T150)","v":"4"},{"$f":"IF(101-ROW(F45)>$J$2,\"\",Sheet1!U150)","v":"5"},{"$f":"IF(101-ROW(G45)>$J$2,\"\",Sheet1!V150)","v":"8"},{"$f":"IF(101-ROW(H45)>$J$2,\"\",Sheet1!W150)","v":"7"},{"$f":"IF(101-ROW(I45)>$J$2,\"\",Sheet1!X150)","v":"1"},{"$f":"IF(101-ROW(J45)>$J$2,\"\",Sheet1!Y150)","v":"9"},{"$f":"IF(101-ROW(K45)>$J$2,\"\",Sheet1!Z150)","v":"0236"}]
[{"$f":"IF(101-ROW(A46)>$J$2,\"\",Sheet1!A151)","v":"20200515077"},{"$f":"IF(101-ROW(A46)>$J$2,\"\",Sheet1!O151&\"\")","v":"080"},{"$f":"IF(101-ROW(A46)>$J$2,\"\",Sheet1!C151)","v":"8"},{"$f":"IF(101-ROW(B46)>$J$2,\"\",Sheet1!D151)","v":"6"},{"$f":"IF(101-ROW(C46)>$J$2,\"\",Sheet1!E151)","v":"0"},{"$f":"IF(101-ROW(D46)>$J$2,\"\",Sheet1!F151)","v":"8"},{"$f":"IF(101-ROW(E46)>$J$2,\"\",Sheet1!G151)","v":"0"},{"$f":"IF(101-ROW(A46)>$J$2,\"\",Sheet1!P151)","v":"0"},{"$f":"IF(101-ROW(B46)>$J$2,\"\",Sheet1!Q151)","v":"2"},{"$f":"IF(101-ROW(C46)>$J$2,\"\",Sheet1!R151)","v":"6"},{"$f":"IF(101-ROW(D46)>$J$2,\"\",Sheet1!S151)","v":"3"},{"$f":"IF(101-ROW(E46)>$J$2,\"\",Sheet1!T151)","v":"4"},{"$f":"IF(101-ROW(F46)>$J$2,\"\",Sheet1!U151)","v":"5"},{"$f":"IF(101-ROW(G46)>$J$2,\"\",Sheet1!V151)","v":"8"},{"$f":"IF(101-ROW(H46)>$J$2,\"\",Sheet1!W151)","v":"1"},{"$f":"IF(101-ROW(I46)>$J$2,\"\",Sheet1!X151)","v":"7"},{"$f":"IF(101-ROW(J46)>$J$2,\"\",Sheet1!Y151)","v":"9"},{"$f":"IF(101-ROW(K46)>$J$2,\"\",Sheet1!Z151)","v":"0263"}]
[{"$f":"IF(101-ROW(A47)>$J$2,\"\",Sheet1!A152)","v":"20200515078"},{"$f":"IF(101-ROW(A47)>$J$2,\"\",Sheet1!O152&\"\")","v":"181"},{"$f":"IF(101-ROW(A47)>$J$2,\"\",Sheet1!C152)","v":"8"},{"$f":"IF(101-ROW(B47)>$J$2,\"\",Sheet1!D152)","v":"7"},{"$f":"IF(101-ROW(C47)>$J$2,\"\",Sheet1!E152)","v":"1"},{"$f":"IF(101-ROW(D47)>$J$2,\"\",Sheet1!F152)","v":"8"},{"$f":"IF(101-ROW(E47)>$J$2,\"\",Sheet1!G152)","v":"1"},{"$f":"IF(101-ROW(A47)>$J$2,\"\",Sheet1!P152)","v":"0"},{"$f":"IF(101-ROW(B47)>$J$2,\"\",Sheet1!Q152)","v":"2"},{"$f":"IF(101-ROW(C47)>$J$2,\"\",Sheet1!R152)","v":"6"},{"$f":"IF(101-ROW(D47)>$J$2,\"\",Sheet1!S152)","v":"3"},{"$f":"IF(101-ROW(E47)>$J$2,\"\",Sheet1!T152)","v":"4"},{"$f":"IF(101-ROW(F47)>$J$2,\"\",Sheet1!U152)","v":"5"},{"$f":"IF(101-ROW(G47)>$J$2,\"\",Sheet1!V152)","v":"8"},{"$f":"IF(101-ROW(H47)>$J$2,\"\",Sheet1!W152)","v":"1"},{"$f":"IF(101-ROW(I47)>$J$2,\"\",Sheet1!X152)","v":"7"},{"$f":"IF(101-ROW(J47)>$J$2,\"\",Sheet1!Y152)","v":"9"},{"$f":"IF(101-ROW(K47)>$J$2,\"\",Sheet1!Z152)","v":"0263"}]
[{"$f":"IF(101-ROW(A48)>$J$2,\"\",Sheet1!A153)","v":"20200515079"},{"$f":"IF(101-ROW(A48)>$J$2,\"\",Sheet1!O153&\"\")","v":"102"},{"$f":"IF(101-ROW(A48)>$J$2,\"\",Sheet1!C153)","v":"7"},{"$f":"IF(101-ROW(B48)>$J$2,\"\",Sheet1!D153)","v":"4"},{"$f":"IF(101-ROW(C48)>$J$2,\"\",Sheet1!E153)","v":"1"},{"$f":"IF(101-ROW(D48)>$J$2,\"\",Sheet1!F153)","v":"0"},{"$f":"IF(101-ROW(E48)>$J$2,\"\",Sheet1!G153)","v":"2"},{"$f":"IF(101-ROW(A48)>$J$2,\"\",Sheet1!P153)","v":"0"},{"$f":"IF(101-ROW(B48)>$J$2,\"\",Sheet1!Q153)","v":"2"},{"$f":"IF(101-ROW(C48)>$J$2,\"\",Sheet1!R153)","v":"6"},{"$f":"IF(101-ROW(D48)>$J$2,\"\",Sheet1!S153)","v":"3"},{"$f":"IF(101-ROW(E48)>$J$2,\"\",Sheet1!T153)","v":"5"},{"$f":"IF(101-ROW(F48)>$J$2,\"\",Sheet1!U153)","v":"8"},{"$f":"IF(101-ROW(G48)>$J$2,\"\",Sheet1!V153)","v":"1"},{"$f":"IF(101-ROW(H48)>$J$2,\"\",Sheet1!W153)","v":"4"},{"$f":"IF(101-ROW(I48)>$J$2,\"\",Sheet1!X153)","v":"9"},{"$f":"IF(101-ROW(J48)>$J$2,\"\",Sheet1!Y153)","v":"7"},{"$f":"IF(101-ROW(K48)>$J$2,\"\",Sheet1!Z153)","v":"0263"}]
[{"$f":"IF(101-ROW(A49)>$J$2,\"\",Sheet1!A154)","v":"20200515080"},{"$f":"IF(101-ROW(A49)>$J$2,\"\",Sheet1!O154&\"\")","v":"568"},{"$f":"IF(101-ROW(A49)>$J$2,\"\",Sheet1!C154)","v":"8"},{"$f":"IF(101-ROW(B49)>$J$2,\"\",Sheet1!D154)","v":"6"},{"$f":"IF(101-ROW(C49)>$J$2,\"\",Sheet1!E154)","v":"5"},{"$f":"IF(101-ROW(D49)>$J$2,\"\",Sheet1!F154)","v":"6"},{"$f":"IF(101-ROW(E49)>$J$2,\"\",Sheet1!G154)","v":"8"},{"$f":"IF(101-ROW(A49)>$J$2,\"\",Sheet1!P154)","v":"0"},{"$f":"IF(101-ROW(B49)>$J$2,\"\",Sheet1!Q154)","v":"2"},{"$f":"IF(101-ROW(C49)>$J$2,\"\",Sheet1!R154)","v":"6"},{"$f":"IF(101-ROW(D49)>$J$2,\"\",Sheet1!S154)","v":"1"},{"$f":"IF(101-ROW(E49)>$J$2,\"\",Sheet1!T154)","v":"5"},{"$f":"IF(101-ROW(F49)>$J$2,\"\",Sheet1!U154)","v":"3"},{"$f":"IF(101-ROW(G49)>$J$2,\"\",Sheet1!V154)","v":"4"},{"$f":"IF(101-ROW(H49)>$J$2,\"\",Sheet1!W154)","v":"8"},{"$f":"IF(101-ROW(I49)>$J$2,\"\",Sheet1!X154)","v":"9"},{"$f":"IF(101-ROW(J49)>$J$2,\"\",Sheet1!Y154)","v":"7"},{"$f":"IF(101-ROW(K49)>$J$2,\"\",Sheet1!Z154)","v":"0261"}]
[{"$f":"IF(101-ROW(A50)>$J$2,\"\",Sheet1!A155)","v":"20200515081"},{"$f":"IF(101-ROW(A50)>$J$2,\"\",Sheet1!O155&\"\")","v":"652"},{"$f":"IF(101-ROW(A50)>$J$2,\"\",Sheet1!C155)","v":"8"},{"$f":"IF(101-ROW(B50)>$J$2,\"\",Sheet1!D155)","v":"5"},{"$f":"IF(101-ROW(C50)>$J$2,\"\",Sheet1!E155)","v":"6"},{"$f":"IF(101-ROW(D50)>$J$2,\"\",Sheet1!F155)","v":"5"},{"$f":"IF(101-ROW(E50)>$J$2,\"\",Sheet1!G155)","v":"2"},{"$f":"IF(101-ROW(A50)>$J$2,\"\",Sheet1!P155)","v":"0"},{"$f":"IF(101-ROW(B50)>$J$2,\"\",Sheet1!Q155)","v":"2"},{"$f":"IF(101-ROW(C50)>$J$2,\"\",Sheet1!R155)","v":"6"},{"$f":"IF(101-ROW(D50)>$J$2,\"\",Sheet1!S155)","v":"5"},{"$f":"IF(101-ROW(E50)>$J$2,\"\",Sheet1!T155)","v":"1"},{"$f":"IF(101-ROW(F50)>$J$2,\"\",Sheet1!U155)","v":"8"},{"$f":"IF(101-ROW(G50)>$J$2,\"\",Sheet1!V155)","v":"3"},{"$f":"IF(101-ROW(H50)>$J$2,\"\",Sheet1!W155)","v":"4"},{"$f":"IF(101-ROW(I50)>$J$2,\"\",Sheet1!X155)","v":"9"},{"$f":"IF(101-ROW(J50)>$J$2,\"\",Sheet1!Y155)","v":"7"},{"$f":"IF(101-ROW(K50)>$J$2,\"\",Sheet1!Z155)","v":"0265"}]
[{"$f":"IF(101-ROW(A51)>$J$2,\"\",Sheet1!A156)","v":"20200515082"},{"$f":"IF(101-ROW(A51)>$J$2,\"\",Sheet1!O156&\"\")","v":"933"},{"$f":"IF(101-ROW(A51)>$J$2,\"\",Sheet1!C156)","v":"8"},{"$f":"IF(101-ROW(B51)>$J$2,\"\",Sheet1!D156)","v":"8"},{"$f":"IF(101-ROW(C51)>$J$2,\"\",Sheet1!E156)","v":"9"},{"$f":"IF(101-ROW(D51)>$J$2,\"\",Sheet1!F156)","v":"3"},{"$f":"IF(101-ROW(E51)>$J$2,\"\",Sheet1!G156)","v":"3"},{"$f":"IF(101-ROW(A51)>$J$2,\"\",Sheet1!P156)","v":"0"},{"$f":"IF(101-ROW(B51)>$J$2,\"\",Sheet1!Q156)","v":"2"},{"$f":"IF(101-ROW(C51)>$J$2,\"\",Sheet1!R156)","v":"6"},{"$f":"IF(101-ROW(D51)>$J$2,\"\",Sheet1!S156)","v":"5"},{"$f":"IF(101-ROW(E51)>$J$2,\"\",Sheet1!T156)","v":"1"},{"$f":"IF(101-ROW(F51)>$J$2,\"\",Sheet1!U156)","v":"8"},{"$f":"IF(101-ROW(G51)>$J$2,\"\",Sheet1!V156)","v":"3"},{"$f":"IF(101-ROW(H51)>$J$2,\"\",Sheet1!W156)","v":"4"},{"$f":"IF(101-ROW(I51)>$J$2,\"\",Sheet1!X156)","v":"9"},{"$f":"IF(101-ROW(J51)>$J$2,\"\",Sheet1!Y156)","v":"7"},{"$f":"IF(101-ROW(K51)>$J$2,\"\",Sheet1!Z156)","v":"0265"}]
[{"$f":"IF(101-ROW(A52)>$J$2,\"\",Sheet1!A157)","v":"20200515083"},{"$f":"IF(101-ROW(A52)>$J$2,\"\",Sheet1!O157&\"\")","v":"809"},{"$f":"IF(101-ROW(A52)>$J$2,\"\",Sheet1!C157)","v":"0"},{"$f":"IF(101-ROW(B52)>$J$2,\"\",Sheet1!D157)","v":"6"},{"$f":"IF(101-ROW(C52)>$J$2,\"\",Sheet1!E157)","v":"8"},{"$f":"IF(101-ROW(D52)>$J$2,\"\",Sheet1!F157)","v":"0"},{"$f":"IF(101-ROW(E52)>$J$2,\"\",Sheet1!G157)","v":"9"},{"$f":"IF(101-ROW(A52)>$J$2,\"\",Sheet1!P157)","v":"0"},{"$f":"IF(101-ROW(B52)>$J$2,\"\",Sheet1!Q157)","v":"2"},{"$f":"IF(101-ROW(C52)>$J$2,\"\",Sheet1!R157)","v":"6"},{"$f":"IF(101-ROW(D52)>$J$2,\"\",Sheet1!S157)","v":"5"},{"$f":"IF(101-ROW(E52)>$J$2,\"\",Sheet1!T157)","v":"3"},{"$f":"IF(101-ROW(F52)>$J$2,\"\",Sheet1!U157)","v":"1"},{"$f":"IF(101-ROW(G52)>$J$2,\"\",Sheet1!V157)","v":"8"},{"$f":"IF(101-ROW(H52)>$J$2,\"\",Sheet1!W157)","v":"4"},{"$f":"IF(101-ROW(I52)>$J$2,\"\",Sheet1!X157)","v":"9"},{"$f":"IF(101-ROW(J52)>$J$2,\"\",Sheet1!Y157)","v":"7"},{"$f":"IF(101-ROW(K52)>$J$2,\"\",Sheet1!Z157)","v":"0265"}]
[{"$f":"IF(101-ROW(A53)>$J$2,\"\",Sheet1!A158)","v":"20200515084"},{"$f":"IF(101-ROW(A53)>$J$2,\"\",Sheet1!O158&\"\")","v":"158"},{"$f":"IF(101-ROW(A53)>$J$2,\"\",Sheet1!C158)","v":"0"},{"$f":"IF(101-ROW(B53)>$J$2,\"\",Sheet1!D158)","v":"1"},{"$f":"IF(101-ROW(C53)>$J$2,\"\",Sheet1!E158)","v":"1"},{"$f":"IF(101-ROW(D53)>$J$2,\"\",Sheet1!F158)","v":"5"},{"$f":"IF(101-ROW(E53)>$J$2,\"\",Sheet1!G158)","v":"8"},{"$f":"IF(101-ROW(A53)>$J$2,\"\",Sheet1!P158)","v":"0"},{"$f":"IF(101-ROW(B53)>$J$2,\"\",Sheet1!Q158)","v":"2"},{"$f":"IF(101-ROW(C53)>$J$2,\"\",Sheet1!R158)","v":"6"},{"$f":"IF(101-ROW(D53)>$J$2,\"\",Sheet1!S158)","v":"5"},{"$f":"IF(101-ROW(E53)>$J$2,\"\",Sheet1!T158)","v":"1"},{"$f":"IF(101-ROW(F53)>$J$2,\"\",Sheet1!U158)","v":"3"},{"$f":"IF(101-ROW(G53)>$J$2,\"\",Sheet1!V158)","v":"8"},{"$f":"IF(101-ROW(H53)>$J$2,\"\",Sheet1!W158)","v":"9"},{"$f":"IF(101-ROW(I53)>$J$2,\"\",Sheet1!X158)","v":"4"},{"$f":"IF(101-ROW(J53)>$J$2,\"\",Sheet1!Y158)","v":"7"},{"$f":"IF(101-ROW(K53)>$J$2,\"\",Sheet1!Z158)","v":"0265"}]
[{"$f":"IF(101-ROW(A54)>$J$2,\"\",Sheet1!A159)","v":"20200515085"},{"$f":"IF(101-ROW(A54)>$J$2,\"\",Sheet1!O159&\"\")","v":"086"},{"$f":"IF(101-ROW(A54)>$J$2,\"\",Sheet1!C159)","v":"4"},{"$f":"IF(101-ROW(B54)>$J$2,\"\",Sheet1!D159)","v":"3"},{"$f":"IF(101-ROW(C54)>$J$2,\"\",Sheet1!E159)","v":"0"},{"$f":"IF(101-ROW(D54)>$J$2,\"\",Sheet1!F159)","v":"8"},{"$f":"IF(101-ROW(E54)>$J$2,\"\",Sheet1!G159)","v":"6"},{"$f":"IF(101-ROW(A54)>$J$2,\"\",Sheet1!P159)","v":"0"},{"$f":"IF(101-ROW(B54)>$J$2,\"\",Sheet1!Q159)","v":"6"},{"$f":"IF(101-ROW(C54)>$J$2,\"\",Sheet1!R159)","v":"2"},{"$f":"IF(101-ROW(D54)>$J$2,\"\",Sheet1!S159)","v":"5"},{"$f":"IF(101-ROW(E54)>$J$2,\"\",Sheet1!T159)","v":"1"},{"$f":"IF(101-ROW(F54)>$J$2,\"\",Sheet1!U159)","v":"3"},{"$f":"IF(101-ROW(G54)>$J$2,\"\",Sheet1!V159)","v":"8"},{"$f":"IF(101-ROW(H54)>$J$2,\"\",Sheet1!W159)","v":"9"},{"$f":"IF(101-ROW(I54)>$J$2,\"\",Sheet1!X159)","v":"4"},{"$f":"IF(101-ROW(J54)>$J$2,\"\",Sheet1!Y159)","v":"7"},{"$f":"IF(101-ROW(K54)>$J$2,\"\",Sheet1!Z159)","v":"0625"}]
[{"$f":"IF(101-ROW(A55)>$J$2,\"\",Sheet1!A160)","v":"20200515086"},{"$f":"IF(101-ROW(A55)>$J$2,\"\",Sheet1!O160&\"\")","v":"941"},{"$f":"IF(101-ROW(A55)>$J$2,\"\",Sheet1!C160)","v":"5"},{"$f":"IF(101-ROW(B55)>$J$2,\"\",Sheet1!D160)","v":"7"},{"$f":"IF(101-ROW(C55)>$J$2,\"\",Sheet1!E160)","v":"9"},{"$f":"IF(101-ROW(D55)>$J$2,\"\",Sheet1!F160)","v":"4"},{"$f":"IF(101-ROW(E55)>$J$2,\"\",Sheet1!G160)","v":"1"},{"$f":"IF(101-ROW(A55)>$J$2,\"\",Sheet1!P160)","v":"0"},{"$f":"IF(101-ROW(B55)>$J$2,\"\",Sheet1!Q160)","v":"6"},{"$f":"IF(101-ROW(C55)>$J$2,\"\",Sheet1!R160)","v":"5"},{"$f":"IF(101-ROW(D55)>$J$2,\"\",Sheet1!S160)","v":"2"},{"$f":"IF(101-ROW(E55)>$J$2,\"\",Sheet1!T160)","v":"1"},{"$f":"IF(101-ROW(F55)>$J$2,\"\",Sheet1!U160)","v":"8"},{"$f":"IF(101-ROW(G55)>$J$2,\"\",Sheet1!V160)","v":"3"},{"$f":"IF(101-ROW(H55)>$J$2,\"\",Sheet1!W160)","v":"9"},{"$f":"IF(101-ROW(I55)>$J$2,\"\",Sheet1!X160)","v":"7"},{"$f":"IF(101-ROW(J55)>$J$2,\"\",Sheet1!Y160)","v":"4"},{"$f":"IF(101-ROW(K55)>$J$2,\"\",Sheet1!Z160)","v":"0652"}]
[{"$f":"IF(101-ROW(A56)>$J$2,\"\",Sheet1!A161)","v":"20200515087"},{"$f":"IF(101-ROW(A56)>$J$2,\"\",Sheet1!O161&\"\")","v":"237"},{"$f":"IF(101-ROW(A56)>$J$2,\"\",Sheet1!C161)","v":"4"},{"$f":"IF(101-ROW(B56)>$J$2,\"\",Sheet1!D161)","v":"6"},{"$f":"IF(101-ROW(C56)>$J$2,\"\",Sheet1!E161)","v":"2"},{"$f":"IF(101-ROW(D56)>$J$2,\"\",Sheet1!F161)","v":"3"},{"$f":"IF(101-ROW(E56)>$J$2,\"\",Sheet1!G161)","v":"7"},{"$f":"IF(101-ROW(A56)>$J$2,\"\",Sheet1!P161)","v":"0"},{"$f":"IF(101-ROW(B56)>$J$2,\"\",Sheet1!Q161)","v":"6"},{"$f":"IF(101-ROW(C56)>$J$2,\"\",Sheet1!R161)","v":"5"},{"$f":"IF(101-ROW(D56)>$J$2,\"\",Sheet1!S161)","v":"1"},{"$f":"IF(101-ROW(E56)>$J$2,\"\",Sheet1!T161)","v":"2"},{"$f":"IF(101-ROW(F56)>$J$2,\"\",Sheet1!U161)","v":"3"},{"$f":"IF(101-ROW(G56)>$J$2,\"\",Sheet1!V161)","v":"8"},{"$f":"IF(101-ROW(H56)>$J$2,\"\",Sheet1!W161)","v":"9"},{"$f":"IF(101-ROW(I56)>$J$2,\"\",Sheet1!X161)","v":"7"},{"$f":"IF(101-ROW(J56)>$J$2,\"\",Sheet1!Y161)","v":"4"},{"$f":"IF(101-ROW(K56)>$J$2,\"\",Sheet1!Z161)","v":"0651"}]
[{"$f":"IF(101-ROW(A57)>$J$2,\"\",Sheet1!A162)","v":"20200515088"},{"$f":"IF(101-ROW(A57)>$J$2,\"\",Sheet1!O162&\"\")","v":"961"},{"$f":"IF(101-ROW(A57)>$J$2,\"\",Sheet1!C162)","v":"5"},{"$f":"IF(101-ROW(B57)>$J$2,\"\",Sheet1!D162)","v":"9"},{"$f":"IF(101-ROW(C57)>$J$2,\"\",Sheet1!E162)","v":"9"},{"$f":"IF(101-ROW(D57)>$J$2,\"\",Sheet1!F162)","v":"6"},{"$f":"IF(101-ROW(E57)>$J$2,\"\",Sheet1!G162)","v":"1"},{"$f":"IF(101-ROW(A57)>$J$2,\"\",Sheet1!P162)","v":"0"},{"$f":"IF(101-ROW(B57)>$J$2,\"\",Sheet1!Q162)","v":"6"},{"$f":"IF(101-ROW(C57)>$J$2,\"\",Sheet1!R162)","v":"5"},{"$f":"IF(101-ROW(D57)>$J$2,\"\",Sheet1!S162)","v":"1"},{"$f":"IF(101-ROW(E57)>$J$2,\"\",Sheet1!T162)","v":"2"},{"$f":"IF(101-ROW(F57)>$J$2,\"\",Sheet1!U162)","v":"3"},{"$f":"IF(101-ROW(G57)>$J$2,\"\",Sheet1!V162)","v":"8"},{"$f":"IF(101-ROW(H57)>$J$2,\"\",Sheet1!W162)","v":"9"},{"$f":"IF(101-ROW(I57)>$J$2,\"\",Sheet1!X162)","v":"7"},{"$f":"IF(101-ROW(J57)>$J$2,\"\",Sheet1!Y162)","v":"4"},{"$f":"IF(101-ROW(K57)>$J$2,\"\",Sheet1!Z162)","v":"0651"}]
[{"$f":"IF(101-ROW(A58)>$J$2,\"\",Sheet1!A163)","v":"20200515089"},{"$f":"IF(101-ROW(A58)>$J$2,\"\",Sheet1!O163&\"\")","v":"216"},{"$f":"IF(101-ROW(A58)>$J$2,\"\",Sheet1!C163)","v":"7"},{"$f":"IF(101-ROW(B58)>$J$2,\"\",Sheet1!D163)","v":"6"},{"$f":"IF(101-ROW(C58)>$J$2,\"\",Sheet1!E163)","v":"2"},{"$f":"IF(101-ROW(D58)>$J$2,\"\",Sheet1!F163)","v":"1"},{"$f":"IF(101-ROW(E58)>$J$2,\"\",Sheet1!G163)","v":"6"},{"$f":"IF(101-ROW(A58)>$J$2,\"\",Sheet1!P163)","v":"0"},{"$f":"IF(101-ROW(B58)>$J$2,\"\",Sheet1!Q163)","v":"6"},{"$f":"IF(101-ROW(C58)>$J$2,\"\",Sheet1!R163)","v":"1"},{"$f":"IF(101-ROW(D58)>$J$2,\"\",Sheet1!S163)","v":"5"},{"$f":"IF(101-ROW(E58)>$J$2,\"\",Sheet1!T163)","v":"3"},{"$f":"IF(101-ROW(F58)>$J$2,\"\",Sheet1!U163)","v":"2"},{"$f":"IF(101-ROW(G58)>$J$2,\"\",Sheet1!V163)","v":"8"},{"$f":"IF(101-ROW(H58)>$J$2,\"\",Sheet1!W163)","v":"9"},{"$f":"IF(101-ROW(I58)>$J$2,\"\",Sheet1!X163)","v":"7"},{"$f":"IF(101-ROW(J58)>$J$2,\"\",Sheet1!Y163)","v":"4"},{"$f":"IF(101-ROW(K58)>$J$2,\"\",Sheet1!Z163)","v":"0615"}]
[{"$f":"IF(101-ROW(A59)>$J$2,\"\",Sheet1!A164)","v":"20200515090"},{"$f":"IF(101-ROW(A59)>$J$2,\"\",Sheet1!O164&\"\")","v":"288"},{"$f":"IF(101-ROW(A59)>$J$2,\"\",Sheet1!C164)","v":"0"},{"$f":"IF(101-ROW(B59)>$J$2,\"\",Sheet1!D164)","v":"0"},{"$f":"IF(101-ROW(C59)>$J$2,\"\",Sheet1!E164)","v":"2"},{"$f":"IF(101-ROW(D59)>$J$2,\"\",Sheet1!F164)","v":"8"},{"$f":"IF(101-ROW(E59)>$J$2,\"\",Sheet1!G164)","v":"8"},{"$f":"IF(101-ROW(A59)>$J$2,\"\",Sheet1!P164)","v":"0"},{"$f":"IF(101-ROW(B59)>$J$2,\"\",Sheet1!Q164)","v":"6"},{"$f":"IF(101-ROW(C59)>$J$2,\"\",Sheet1!R164)","v":"1"},{"$f":"IF(101-ROW(D59)>$J$2,\"\",Sheet1!S164)","v":"5"},{"$f":"IF(101-ROW(E59)>$J$2,\"\",Sheet1!T164)","v":"2"},{"$f":"IF(101-ROW(F59)>$J$2,\"\",Sheet1!U164)","v":"3"},{"$f":"IF(101-ROW(G59)>$J$2,\"\",Sheet1!V164)","v":"8"},{"$f":"IF(101-ROW(H59)>$J$2,\"\",Sheet1!W164)","v":"9"},{"$f":"IF(101-ROW(I59)>$J$2,\"\",Sheet1!X164)","v":"7"},{"$f":"IF(101-ROW(J59)>$J$2,\"\",Sheet1!Y164)","v":"4"},{"$f":"IF(101-ROW(K59)>$J$2,\"\",Sheet1!Z164)","v":"0615"}]
[{"$f":"IF(101-ROW(A60)>$J$2,\"\",Sheet1!A165)","v":"20200515091"},{"$f":"IF(101-ROW(A60)>$J$2,\"\",Sheet1!O165&\"\")","v":"571"},{"$f":"IF(101-ROW(A60)>$J$2,\"\",Sheet1!C165)","v":"0"},{"$f":"IF(101-ROW(B60)>$J$2,\"\",Sheet1!D165)","v":"6"},{"$f":"IF(101-ROW(C60)>$J$2,\"\",Sheet1!E165)","v":"5"},{"$f":"IF(101-ROW(D60)>$J$2,\"\",Sheet1!F165)","v":"7"},{"$f":"IF(101-ROW(E60)>$J$2,\"\",Sheet1!G165)","v":"1"},{"$f":"IF(101-ROW(A60)>$J$2,\"\",Sheet1!P165)","v":"0"},{"$f":"IF(101-ROW(B60)>$J$2,\"\",Sheet1!Q165)","v":"6"},{"$f":"IF(101-ROW(C60)>$J$2,\"\",Sheet1!R165)","v":"1"},{"$f":"IF(101-ROW(D60)>$J$2,\"\",Sheet1!S165)","v":"2"},{"$f":"IF(101-ROW(E60)>$J$2,\"\",Sheet1!T165)","v":"5"},{"$f":"IF(101-ROW(F60)>$J$2,\"\",Sheet1!U165)","v":"8"},{"$f":"IF(101-ROW(G60)>$J$2,\"\",Sheet1!V165)","v":"3"},{"$f":"IF(101-ROW(H60)>$J$2,\"\",Sheet1!W165)","v":"9"},{"$f":"IF(101-ROW(I60)>$J$2,\"\",Sheet1!X165)","v":"7"},{"$f":"IF(101-ROW(J60)>$J$2,\"\",Sheet1!Y165)","v":"4"},{"$f":"IF(101-ROW(K60)>$J$2,\"\",Sheet1!Z165)","v":"0612"}]
[{"$f":"IF(101-ROW(A61)>$J$2,\"\",Sheet1!A166)","v":"20200515092"},{"$f":"IF(101-ROW(A61)>$J$2,\"\",Sheet1!O166&\"\")","v":"742"},{"$f":"IF(101-ROW(A61)>$J$2,\"\",Sheet1!C166)","v":"0"},{"$f":"IF(101-ROW(B61)>$J$2,\"\",Sheet1!D166)","v":"6"},{"$f":"IF(101-ROW(C61)>$J$2,\"\",Sheet1!E166)","v":"7"},{"$f":"IF(101-ROW(D61)>$J$2,\"\",Sheet1!F166)","v":"4"},{"$f":"IF(101-ROW(E61)>$J$2,\"\",Sheet1!G166)","v":"2"},{"$f":"IF(101-ROW(A61)>$J$2,\"\",Sheet1!P166)","v":"0"},{"$f":"IF(101-ROW(B61)>$J$2,\"\",Sheet1!Q166)","v":"6"},{"$f":"IF(101-ROW(C61)>$J$2,\"\",Sheet1!R166)","v":"1"},{"$f":"IF(101-ROW(D61)>$J$2,\"\",Sheet1!S166)","v":"5"},{"$f":"IF(101-ROW(E61)>$J$2,\"\",Sheet1!T166)","v":"2"},{"$f":"IF(101-ROW(F61)>$J$2,\"\",Sheet1!U166)","v":"8"},{"$f":"IF(101-ROW(G61)>$J$2,\"\",Sheet1!V166)","v":"3"},{"$f":"IF(101-ROW(H61)>$J$2,\"\",Sheet1!W166)","v":"9"},{"$f":"IF(101-ROW(I61)>$J$2,\"\",Sheet1!X166)","v":"7"},{"$f":"IF(101-ROW(J61)>$J$2,\"\",Sheet1!Y166)","v":"4"},{"$f":"IF(101-ROW(K61)>$J$2,\"\",Sheet1!Z166)","v":"0615"}]
[{"$f":"IF(101-ROW(A62)>$J$2,\"\",Sheet1!A167)","v":"20200515093"},{"$f":"IF(101-ROW(A62)>$J$2,\"\",Sheet1!O167&\"\")","v":"717"},{"$f":"IF(101-ROW(A62)>$J$2,\"\",Sheet1!C167)","v":"0"},{"$f":"IF(101-ROW(B62)>$J$2,\"\",Sheet1!D167)","v":"9"},{"$f":"IF(101-ROW(C62)>$J$2,\"\",Sheet1!E167)","v":"7"},{"$f":"IF(101-ROW(D62)>$J$2,\"\",Sheet1!F167)","v":"1"},{"$f":"IF(101-ROW(E62)>$J$2,\"\",Sheet1!G167)","v":"7"},{"$f":"IF(101-ROW(A62)>$J$2,\"\",Sheet1!P167)","v":"0"},{"$f":"IF(101-ROW(B62)>$J$2,\"\",Sheet1!Q167)","v":"6"},{"$f":"IF(101-ROW(C62)>$J$2,\"\",Sheet1!R167)","v":"2"},{"$f":"IF(101-ROW(D62)>$J$2,\"\",Sheet1!S167)","v":"1"},{"$f":"IF(101-ROW(E62)>$J$2,\"\",Sheet1!T167)","v":"5"},{"$f":"IF(101-ROW(F62)>$J$2,\"\",Sheet1!U167)","v":"8"},{"$f":"IF(101-ROW(G62)>$J$2,\"\",Sheet1!V167)","v":"3"},{"$f":"IF(101-ROW(H62)>$J$2,\"\",Sheet1!W167)","v":"9"},{"$f":"IF(101-ROW(I62)>$J$2,\"\",Sheet1!X167)","v":"7"},{"$f":"IF(101-ROW(J62)>$J$2,\"\",Sheet1!Y167)","v":"4"},{"$f":"IF(101-ROW(K62)>$J$2,\"\",Sheet1!Z167)","v":"0621"}]
[{"$f":"IF(101-ROW(A63)>$J$2,\"\",Sheet1!A168)","v":"20200515094"},{"$f":"IF(101-ROW(A63)>$J$2,\"\",Sheet1!O168&\"\")","v":"238"},{"$f":"IF(101-ROW(A63)>$J$2,\"\",Sheet1!C168)","v":"9"},{"$f":"IF(101-ROW(B63)>$J$2,\"\",Sheet1!D168)","v":"8"},{"$f":"IF(101-ROW(C63)>$J$2,\"\",Sheet1!E168)","v":"2"},{"$f":"IF(101-ROW(D63)>$J$2,\"\",Sheet1!F168)","v":"3"},{"$f":"IF(101-ROW(E63)>$J$2,\"\",Sheet1!G168)","v":"8"},{"$f":"IF(101-ROW(A63)>$J$2,\"\",Sheet1!P168)","v":"0"},{"$f":"IF(101-ROW(B63)>$J$2,\"\",Sheet1!Q168)","v":"6"},{"$f":"IF(101-ROW(C63)>$J$2,\"\",Sheet1!R168)","v":"1"},{"$f":"IF(101-ROW(D63)>$J$2,\"\",Sheet1!S168)","v":"2"},{"$f":"IF(101-ROW(E63)>$J$2,\"\",Sheet1!T168)","v":"5"},{"$f":"IF(101-ROW(F63)>$J$2,\"\",Sheet1!U168)","v":"8"},{"$f":"IF(101-ROW(G63)>$J$2,\"\",Sheet1!V168)","v":"3"},{"$f":"IF(101-ROW(H63)>$J$2,\"\",Sheet1!W168)","v":"7"},{"$f":"IF(101-ROW(I63)>$J$2,\"\",Sheet1!X168)","v":"9"},{"$f":"IF(101-ROW(J63)>$J$2,\"\",Sheet1!Y168)","v":"4"},{"$f":"IF(101-ROW(K63)>$J$2,\"\",Sheet1!Z168)","v":"0612"}]
[{"$f":"IF(101-ROW(A64)>$J$2,\"\",Sheet1!A169)","v":"20200515095"},{"$f":"IF(101-ROW(A64)>$J$2,\"\",Sheet1!O169&\"\")","v":"424"},{"$f":"IF(101-ROW(A64)>$J$2,\"\",Sheet1!C169)","v":"5"},{"$f":"IF(101-ROW(B64)>$J$2,\"\",Sheet1!D169)","v":"9"},{"$f":"IF(101-ROW(C64)>$J$2,\"\",Sheet1!E169)","v":"4"},{"$f":"IF(101-ROW(D64)>$J$2,\"\",Sheet1!F169)","v":"2"},{"$f":"IF(101-ROW(E64)>$J$2,\"\",Sheet1!G169)","v":"4"},{"$f":"IF(101-ROW(A64)>$J$2,\"\",Sheet1!P169)","v":"0"},{"$f":"IF(101-ROW(B64)>$J$2,\"\",Sheet1!Q169)","v":"6"},{"$f":"IF(101-ROW(C64)>$J$2,\"\",Sheet1!R169)","v":"2"},{"$f":"IF(101-ROW(D64)>$J$2,\"\",Sheet1!S169)","v":"1"},{"$f":"IF(101-ROW(E64)>$J$2,\"\",Sheet1!T169)","v":"5"},{"$f":"IF(101-ROW(F64)>$J$2,\"\",Sheet1!U169)","v":"8"},{"$f":"IF(101-ROW(G64)>$J$2,\"\",Sheet1!V169)","v":"3"},{"$f":"IF(101-ROW(H64)>$J$2,\"\",Sheet1!W169)","v":"7"},{"$f":"IF(101-ROW(I64)>$J$2,\"\",Sheet1!X169)","v":"9"},{"$f":"IF(101-ROW(J64)>$J$2,\"\",Sheet1!Y169)","v":"4"},{"$f":"IF(101-ROW(K64)>$J$2,\"\",Sheet1!Z169)","v":"0621"}]
[{"$f":"IF(101-ROW(A65)>$J$2,\"\",Sheet1!A170)","v":"20200515096"},{"$f":"IF(101-ROW(A65)>$J$2,\"\",Sheet1!O170&\"\")","v":"976"},{"$f":"IF(101-ROW(A65)>$J$2,\"\",Sheet1!C170)","v":"2"},{"$f":"IF(101-ROW(B65)>$J$2,\"\",Sheet1!D170)","v":"2"},{"$f":"IF(101-ROW(C65)>$J$2,\"\",Sheet1!E170)","v":"9"},{"$f":"IF(101-ROW(D65)>$J$2,\"\",Sheet1!F170)","v":"7"},{"$f":"IF(101-ROW(E65)>$J$2,\"\",Sheet1!G170)","v":"6"},{"$f":"IF(101-ROW(A65)>$J$2,\"\",Sheet1!P170)","v":"0"},{"$f":"IF(101-ROW(B65)>$J$2,\"\",Sheet1!Q170)","v":"6"},{"$f":"IF(101-ROW(C65)>$J$2,\"\",Sheet1!R170)","v":"2"},{"$f":"IF(101-ROW(D65)>$J$2,\"\",Sheet1!S170)","v":"1"},{"$f":"IF(101-ROW(E65)>$J$2,\"\",Sheet1!T170)","v":"5"},{"$f":"IF(101-ROW(F65)>$J$2,\"\",Sheet1!U170)","v":"8"},{"$f":"IF(101-ROW(G65)>$J$2,\"\",Sheet1!V170)","v":"3"},{"$f":"IF(101-ROW(H65)>$J$2,\"\",Sheet1!W170)","v":"7"},{"$f":"IF(101-ROW(I65)>$J$2,\"\",Sheet1!X170)","v":"4"},{"$f":"IF(101-ROW(J65)>$J$2,\"\",Sheet1!Y170)","v":"9"},{"$f":"IF(101-ROW(K65)>$J$2,\"\",Sheet1!Z170)","v":"0621"}]
[{"$f":"IF(101-ROW(A66)>$J$2,\"\",Sheet1!A171)","v":"20200515097"},{"$f":"IF(101-ROW(A66)>$J$2,\"\",Sheet1!O171&\"\")","v":"330"},{"$f":"IF(101-ROW(A66)>$J$2,\"\",Sheet1!C171)","v":"9"},{"$f":"IF(101-ROW(B66)>$J$2,\"\",Sheet1!D171)","v":"7"},{"$f":"IF(101-ROW(C66)>$J$2,\"\",Sheet1!E171)","v":"3"},{"$f":"IF(101-ROW(D66)>$J$2,\"\",Sheet1!F171)","v":"3"},{"$f":"IF(101-ROW(E66)>$J$2,\"\",Sheet1!G171)","v":"0"},{"$f":"IF(101-ROW(A66)>$J$2,\"\",Sheet1!P171)","v":"0"},{"$f":"IF(101-ROW(B66)>$J$2,\"\",Sheet1!Q171)","v":"6"},{"$f":"IF(101-ROW(C66)>$J$2,\"\",Sheet1!R171)","v":"2"},{"$f":"IF(101-ROW(D66)>$J$2,\"\",Sheet1!S171)","v":"1"},{"$f":"IF(101-ROW(E66)>$J$2,\"\",Sheet1!T171)","v":"5"},{"$f":"IF(101-ROW(F66)>$J$2,\"\",Sheet1!U171)","v":"8"},{"$f":"IF(101-ROW(G66)>$J$2,\"\",Sheet1!V171)","v":"7"},{"$f":"IF(101-ROW(H66)>$J$2,\"\",Sheet1!W171)","v":"3"},{"$f":"IF(101-ROW(I66)>$J$2,\"\",Sheet1!X171)","v":"9"},{"$f":"IF(101-ROW(J66)>$J$2,\"\",Sheet1!Y171)","v":"4"},{"$f":"IF(101-ROW(K66)>$J$2,\"\",Sheet1!Z171)","v":"0621"}]
[{"$f":"IF(101-ROW(A67)>$J$2,\"\",Sheet1!A172)","v":"20200515098"},{"$f":"IF(101-ROW(A67)>$J$2,\"\",Sheet1!O172&\"\")","v":"215"},{"$f":"IF(101-ROW(A67)>$J$2,\"\",Sheet1!C172)","v":"1"},{"$f":"IF(101-ROW(B67)>$J$2,\"\",Sheet1!D172)","v":"5"},{"$f":"IF(101-ROW(C67)>$J$2,\"\",Sheet1!E172)","v":"2"},{"$f":"IF(101-ROW(D67)>$J$2,\"\",Sheet1!F172)","v":"1"},{"$f":"IF(101-ROW(E67)>$J$2,\"\",Sheet1!G172)","v":"5"},{"$f":"IF(101-ROW(A67)>$J$2,\"\",Sheet1!P172)","v":"0"},{"$f":"IF(101-ROW(B67)>$J$2,\"\",Sheet1!Q172)","v":"6"},{"$f":"IF(101-ROW(C67)>$J$2,\"\",Sheet1!R172)","v":"1"},{"$f":"IF(101-ROW(D67)>$J$2,\"\",Sheet1!S172)","v":"2"},{"$f":"IF(101-ROW(E67)>$J$2,\"\",Sheet1!T172)","v":"8"},{"$f":"IF(101-ROW(F67)>$J$2,\"\",Sheet1!U172)","v":"3"},{"$f":"IF(101-ROW(G67)>$J$2,\"\",Sheet1!V172)","v":"5"},{"$f":"IF(101-ROW(H67)>$J$2,\"\",Sheet1!W172)","v":"7"},{"$f":"IF(101-ROW(I67)>$J$2,\"\",Sheet1!X172)","v":"9"},{"$f":"IF(101-ROW(J67)>$J$2,\"\",Sheet1!Y172)","v":"4"},{"$f":"IF(101-ROW(K67)>$J$2,\"\",Sheet1!Z172)","v":"0612"}]
[{"$f":"IF(101-ROW(A68)>$J$2,\"\",Sheet1!A173)","v":"20200515099"},{"$f":"IF(101-ROW(A68)>$J$2,\"\",Sheet1!O173&\"\")","v":"887"},{"$f":"IF(101-ROW(A68)>$J$2,\"\",Sheet1!C173)","v":"2"},{"$f":"IF(101-ROW(B68)>$J$2,\"\",Sheet1!D173)","v":"5"},{"$f":"IF(101-ROW(C68)>$J$2,\"\",Sheet1!E173)","v":"8"},{"$f":"IF(101-ROW(D68)>$J$2,\"\",Sheet1!F173)","v":"8"},{"$f":"IF(101-ROW(E68)>$J$2,\"\",Sheet1!G173)","v":"7"},{"$f":"IF(101-ROW(A68)>$J$2,\"\",Sheet1!P173)","v":"0"},{"$f":"IF(101-ROW(B68)>$J$2,\"\",Sheet1!Q173)","v":"6"},{"$f":"IF(101-ROW(C68)>$J$2,\"\",Sheet1!R173)","v":"2"},{"$f":"IF(101-ROW(D68)>$J$2,\"\",Sheet1!S173)","v":"1"},{"$f":"IF(101-ROW(E68)>$J$2,\"\",Sheet1!T173)","v":"5"},{"$f":"IF(101-ROW(F68)>$J$2,\"\",Sheet1!U173)","v":"8"},{"$f":"IF(101-ROW(G68)>$J$2,\"\",Sheet1!V173)","v":"3"},{"$f":"IF(101-ROW(H68)>$J$2,\"\",Sheet1!W173)","v":"7"},{"$f":"IF(101-ROW(I68)>$J$2,\"\",Sheet1!X173)","v":"9"},{"$f":"IF(101-ROW(J68)>$J$2,\"\",Sheet1!Y173)","v":"4"},{"$f":"IF(101-ROW(K68)>$J$2,\"\",Sheet1!Z173)","v":"0621"}]
[{"$f":"IF(101-ROW(A69)>$J$2,\"\",Sheet1!A174)","v":"20200515100"},{"$f":"IF(101-ROW(A69)>$J$2,\"\",Sheet1!O174&\"\")","v":"750"},{"$f":"IF(101-ROW(A69)>$J$2,\"\",Sheet1!C174)","v":"8"},{"$f":"IF(101-ROW(B69)>$J$2,\"\",Sheet1!D174)","v":"8"},{"$f":"IF(101-ROW(C69)>$J$2,\"\",Sheet1!E174)","v":"7"},{"$f":"IF(101-ROW(D69)>$J$2,\"\",Sheet1!F174)","v":"5"},{"$f":"IF(101-ROW(E69)>$J$2,\"\",Sheet1!G174)","v":"0"},{"$f":"IF(101-ROW(A69)>$J$2,\"\",Sheet1!P174)","v":"6"},{"$f":"IF(101-ROW(B69)>$J$2,\"\",Sheet1!Q174)","v":"0"},{"$f":"IF(101-ROW(C69)>$J$2,\"\",Sheet1!R174)","v":"2"},{"$f":"IF(101-ROW(D69)>$J$2,\"\",Sheet1!S174)","v":"8"},{"$f":"IF(101-ROW(E69)>$J$2,\"\",Sheet1!T174)","v":"1"},{"$f":"IF(101-ROW(F69)>$J$2,\"\",Sheet1!U174)","v":"7"},{"$f":"IF(101-ROW(G69)>$J$2,\"\",Sheet1!V174)","v":"3"},{"$f":"IF(101-ROW(H69)>$J$2,\"\",Sheet1!W174)","v":"5"},{"$f":"IF(101-ROW(I69)>$J$2,\"\",Sheet1!X174)","v":"9"},{"$f":"IF(101-ROW(J69)>$J$2,\"\",Sheet1!Y174)","v":"4"},{"$f":"IF(101-ROW(K69)>$J$2,\"\",Sheet1!Z174)","v":"6028"}]
[{"$f":"IF(101-ROW(A70)>$J$2,\"\",Sheet1!A175)","v":"20200515101"},{"$f":"IF(101-ROW(A70)>$J$2,\"\",Sheet1!O175&\"\")","v":"902"},{"$f":"IF(101-ROW(A70)>$J$2,\"\",Sheet1!C175)","v":"0"},{"$f":"IF(101-ROW(B70)>$J$2,\"\",Sheet1!D175)","v":"2"},{"$f":"IF(101-ROW(C70)>$J$2,\"\",Sheet1!E175)","v":"9"},{"$f":"IF(101-ROW(D70)>$J$2,\"\",Sheet1!F175)","v":"0"},{"$f":"IF(101-ROW(E70)>$J$2,\"\",Sheet1!G175)","v":"2"},{"$f":"IF(101-ROW(A70)>$J$2,\"\",Sheet1!P175)","v":"0"},{"$f":"IF(101-ROW(B70)>$J$2,\"\",Sheet1!Q175)","v":"6"},{"$f":"IF(101-ROW(C70)>$J$2,\"\",Sheet1!R175)","v":"2"},{"$f":"IF(101-ROW(D70)>$J$2,\"\",Sheet1!S175)","v":"1"},{"$f":"IF(101-ROW(E70)>$J$2,\"\",Sheet1!T175)","v":"7"},{"$f":"IF(101-ROW(F70)>$J$2,\"\",Sheet1!U175)","v":"8"},{"$f":"IF(101-ROW(G70)>$J$2,\"\",Sheet1!V175)","v":"5"},{"$f":"IF(101-ROW(H70)>$J$2,\"\",Sheet1!W175)","v":"3"},{"$f":"IF(101-ROW(I70)>$J$2,\"\",Sheet1!X175)","v":"9"},{"$f":"IF(101-ROW(J70)>$J$2,\"\",Sheet1!Y175)","v":"4"},{"$f":"IF(101-ROW(K70)>$J$2,\"\",Sheet1!Z175)","v":"0621"}]
[{"$f":"IF(101-ROW(A71)>$J$2,\"\",Sheet1!A176)","v":"20200515102"},{"$f":"IF(101-ROW(A71)>$J$2,\"\",Sheet1!O176&\"\")","v":"992"},{"$f":"IF(101-ROW(A71)>$J$2,\"\",Sheet1!C176)","v":"8"},{"$f":"IF(101-ROW(B71)>$J$2,\"\",Sheet1!D176)","v":"1"},{"$f":"IF(101-ROW(C71)>$J$2,\"\",Sheet1!E176)","v":"9"},{"$f":"IF(101-ROW(D71)>$J$2,\"\",Sheet1!F176)","v":"9"},{"$f":"IF(101-ROW(E71)>$J$2,\"\",Sheet1!G176)","v":"2"},{"$f":"IF(101-ROW(A71)>$J$2,\"\",Sheet1!P176)","v":"0"},{"$f":"IF(101-ROW(B71)>$J$2,\"\",Sheet1!Q176)","v":"2"},{"$f":"IF(101-ROW(C71)>$J$2,\"\",Sheet1!R176)","v":"6"},{"$f":"IF(101-ROW(D71)>$J$2,\"\",Sheet1!S176)","v":"1"},{"$f":"IF(101-ROW(E71)>$J$2,\"\",Sheet1!T176)","v":"8"},{"$f":"IF(101-ROW(F71)>$J$2,\"\",Sheet1!U176)","v":"5"},{"$f":"IF(101-ROW(G71)>$J$2,\"\",Sheet1!V176)","v":"7"},{"$f":"IF(101-ROW(H71)>$J$2,\"\",Sheet1!W176)","v":"3"},{"$f":"IF(101-ROW(I71)>$J$2,\"\",Sheet1!X176)","v":"9"},{"$f":"IF(101-ROW(J71)>$J$2,\"\",Sheet1!Y176)","v":"4"},{"$f":"IF(101-ROW(K71)>$J$2,\"\",Sheet1!Z176)","v":"0261"}]
[{"$f":"IF(101-ROW(A72)>$J$2,\"\",Sheet1!A177)","v":"20200515103"},{"$f":"IF(101-ROW(A72)>$J$2,\"\",Sheet1!O177&\"\")","v":"145"},{"$f":"IF(101-ROW(A72)>$J$2,\"\",Sheet1!C177)","v":"3"},{"$f":"IF(101-ROW(B72)>$J$2,\"\",Sheet1!D177)","v":"9"},{"$f":"IF(101-ROW(C72)>$J$2,\"\",Sheet1!E177)","v":"1"},{"$f":"IF(101-ROW(D72)>$J$2,\"\",Sheet1!F177)","v":"4"},{"$f":"IF(101-ROW(E72)>$J$2,\"\",Sheet1!G177)","v":"5"},{"$f":"IF(101-ROW(A72)>$J$2,\"\",Sheet1!P177)","v":"0"},{"$f":"IF(101-ROW(B72)>$J$2,\"\",Sheet1!Q177)","v":"2"},{"$f":"IF(101-ROW(C72)>$J$2,\"\",Sheet1!R177)","v":"6"},{"$f":"IF(101-ROW(D72)>$J$2,\"\",Sheet1!S177)","v":"8"},{"$f":"IF(101-ROW(E72)>$J$2,\"\",Sheet1!T177)","v":"1"},{"$f":"IF(101-ROW(F72)>$J$2,\"\",Sheet1!U177)","v":"9"},{"$f":"IF(101-ROW(G72)>$J$2,\"\",Sheet1!V177)","v":"5"},{"$f":"IF(101-ROW(H72)>$J$2,\"\",Sheet1!W177)","v":"7"},{"$f":"IF(101-ROW(I72)>$J$2,\"\",Sheet1!X177)","v":"3"},{"$f":"IF(101-ROW(J72)>$J$2,\"\",Sheet1!Y177)","v":"4"},{"$f":"IF(101-ROW(K72)>$J$2,\"\",Sheet1!Z177)","v":"0268"}]
[{"$f":"IF(101-ROW(A73)>$J$2,\"\",Sheet1!A178)","v":"20200515104"},{"$f":"IF(101-ROW(A73)>$J$2,\"\",Sheet1!O178&\"\")","v":"022"},{"$f":"IF(101-ROW(A73)>$J$2,\"\",Sheet1!C178)","v":"7"},{"$f":"IF(101-ROW(B73)>$J$2,\"\",Sheet1!D178)","v":"9"},{"$f":"IF(101-ROW(C73)>$J$2,\"\",Sheet1!E178)","v":"0"},{"$f":"IF(101-ROW(D73)>$J$2,\"\",Sheet1!F178)","v":"2"},{"$f":"IF(101-ROW(E73)>$J$2,\"\",Sheet1!G178)","v":"2"},{"$f":"IF(101-ROW(A73)>$J$2,\"\",Sheet1!P178)","v":"0"},{"$f":"IF(101-ROW(B73)>$J$2,\"\",Sheet1!Q178)","v":"2"},{"$f":"IF(101-ROW(C73)>$J$2,\"\",Sheet1!R178)","v":"1"},{"$f":"IF(101-ROW(D73)>$J$2,\"\",Sheet1!S178)","v":"6"},{"$f":"IF(101-ROW(E73)>$J$2,\"\",Sheet1!T178)","v":"8"},{"$f":"IF(101-ROW(F73)>$J$2,\"\",Sheet1!U178)","v":"9"},{"$f":"IF(101-ROW(G73)>$J$2,\"\",Sheet1!V178)","v":"5"},{"$f":"IF(101-ROW(H73)>$J$2,\"\",Sheet1!W178)","v":"7"},{"$f":"IF(101-ROW(I73)>$J$2,\"\",Sheet1!X178)","v":"3"},{"$f":"IF(101-ROW(J73)>$J$2,\"\",Sheet1!Y178)","v":"4"},{"$f":"IF(101-ROW(K73)>$J$2,\"\",Sheet1!Z178)","v":"0216"}]
[{"$f":"IF(101-ROW(A74)>$J$2,\"\",Sheet1!A179)","v":"20200515105"},{"$f":"IF(101-ROW(A74)>$J$2,\"\",Sheet1!O179&\"\")","v":"252"},{"$f":"IF(101-ROW(A74)>$J$2,\"\",Sheet1!C179)","v":"7"},{"$f":"IF(101-ROW(B74)>$J$2,\"\",Sheet1!D179)","v":"5"},{"$f":"IF(101-ROW(C74)>$J$2,\"\",Sheet1!E179)","v":"2"},{"$f":"IF(101-ROW(D74)>$J$2,\"\",Sheet1!F179)","v":"5"},{"$f":"IF(101-ROW(E74)>$J$2,\"\",Sheet1!G179)","v":"2"},{"$f":"IF(101-ROW(A74)>$J$2,\"\",Sheet1!P179)","v":"0"},{"$f":"IF(101-ROW(B74)>$J$2,\"\",Sheet1!Q179)","v":"2"},{"$f":"IF(101-ROW(C74)>$J$2,\"\",Sheet1!R179)","v":"1"},{"$f":"IF(101-ROW(D74)>$J$2,\"\",Sheet1!S179)","v":"6"},{"$f":"IF(101-ROW(E74)>$J$2,\"\",Sheet1!T179)","v":"8"},{"$f":"IF(101-ROW(F74)>$J$2,\"\",Sheet1!U179)","v":"9"},{"$f":"IF(101-ROW(G74)>$J$2,\"\",Sheet1!V179)","v":"5"},{"$f":"IF(101-ROW(H74)>$J$2,\"\",Sheet1!W179)","v":"7"},{"$f":"IF(101-ROW(I74)>$J$2,\"\",Sheet1!X179)","v":"3"},{"$f":"IF(101-ROW(J74)>$J$2,\"\",Sheet1!Y179)","v":"4"},{"$f":"IF(101-ROW(K74)>$J$2,\"\",Sheet1!Z179)","v":"0216"}]
[{"$f":"IF(101-ROW(A75)>$J$2,\"\",Sheet1!A180)","v":"20200515106"},{"$f":"IF(101-ROW(A75)>$J$2,\"\",Sheet1!O180&\"\")","v":"724"},{"$f":"IF(101-ROW(A75)>$J$2,\"\",Sheet1!C180)","v":"7"},{"$f":"IF(101-ROW(B75)>$J$2,\"\",Sheet1!D180)","v":"0"},{"$f":"IF(101-ROW(C75)>$J$2,\"\",Sheet1!E180)","v":"7"},{"$f":"IF(101-ROW(D75)>$J$2,\"\",Sheet1!F180)","v":"2"},{"$f":"IF(101-ROW(E75)>$J$2,\"\",Sheet1!G180)","v":"4"},{"$f":"IF(101-ROW(A75)>$J$2,\"\",Sheet1!P180)","v":"2"},{"$f":"IF(101-ROW(B75)>$J$2,\"\",Sheet1!Q180)","v":"0"},{"$f":"IF(101-ROW(C75)>$J$2,\"\",Sheet1!R180)","v":"1"},{"$f":"IF(101-ROW(D75)>$J$2,\"\",Sheet1!S180)","v":"5"},{"$f":"IF(101-ROW(E75)>$J$2,\"\",Sheet1!T180)","v":"6"},{"$f":"IF(101-ROW(F75)>$J$2,\"\",Sheet1!U180)","v":"9"},{"$f":"IF(101-ROW(G75)>$J$2,\"\",Sheet1!V180)","v":"8"},{"$f":"IF(101-ROW(H75)>$J$2,\"\",Sheet1!W180)","v":"7"},{"$f":"IF(101-ROW(I75)>$J$2,\"\",Sheet1!X180)","v":"3"},{"$f":"IF(101-ROW(J75)>$J$2,\"\",Sheet1!Y180)","v":"4"},{"$f":"IF(101-ROW(K75)>$J$2,\"\",Sheet1!Z180)","v":"2015"}]
[{"$f":"IF(101-ROW(A76)>$J$2,\"\",Sheet1!A181)","v":"20200515107"},{"$f":"IF(101-ROW(A76)>$J$2,\"\",Sheet1!O181&\"\")","v":"238"},{"$f":"IF(101-ROW(A76)>$J$2,\"\",Sheet1!C181)","v":"4"},{"$f":"IF(101-ROW(B76)>$J$2,\"\",Sheet1!D181)","v":"3"},{"$f":"IF(101-ROW(C76)>$J$2,\"\",Sheet1!E181)","v":"2"},{"$f":"IF(101-ROW(D76)>$J$2,\"\",Sheet1!F181)","v":"3"},{"$f":"IF(101-ROW(E76)>$J$2,\"\",Sheet1!G181)","v":"8"},{"$f":"IF(101-ROW(A76)>$J$2,\"\",Sheet1!P181)","v":"2"},{"$f":"IF(101-ROW(B76)>$J$2,\"\",Sheet1!Q181)","v":"0"},{"$f":"IF(101-ROW(C76)>$J$2,\"\",Sheet1!R181)","v":"1"},{"$f":"IF(101-ROW(D76)>$J$2,\"\",Sheet1!S181)","v":"6"},{"$f":"IF(101-ROW(E76)>$J$2,\"\",Sheet1!T181)","v":"9"},{"$f":"IF(101-ROW(F76)>$J$2,\"\",Sheet1!U181)","v":"5"},{"$f":"IF(101-ROW(G76)>$J$2,\"\",Sheet1!V181)","v":"7"},{"$f":"IF(101-ROW(H76)>$J$2,\"\",Sheet1!W181)","v":"8"},{"$f":"IF(101-ROW(I76)>$J$2,\"\",Sheet1!X181)","v":"3"},{"$f":"IF(101-ROW(J76)>$J$2,\"\",Sheet1!Y181)","v":"4"},{"$f":"IF(101-ROW(K76)>$J$2,\"\",Sheet1!Z181)","v":"2016"}]
[{"$f":"IF(101-ROW(A77)>$J$2,\"\",Sheet1!A182)","v":"20200515108"},{"$f":"IF(101-ROW(A77)>$J$2,\"\",Sheet1!O182&\"\")","v":"125"},{"$f":"IF(101-ROW(A77)>$J$2,\"\",Sheet1!C182)","v":"9"},{"$f":"IF(101-ROW(B77)>$J$2,\"\",Sheet1!D182)","v":"7"},{"$f":"IF(101-ROW(C77)>$J$2,\"\",Sheet1!E182)","v":"1"},{"$f":"IF(101-ROW(D77)>$J$2,\"\",Sheet1!F182)","v":"2"},{"$f":"IF(101-ROW(E77)>$J$2,\"\",Sheet1!G182)","v":"5"},{"$f":"IF(101-ROW(A77)>$J$2,\"\",Sheet1!P182)","v":"2"},{"$f":"IF(101-ROW(B77)>$J$2,\"\",Sheet1!Q182)","v":"0"},{"$f":"IF(101-ROW(C77)>$J$2,\"\",Sheet1!R182)","v":"1"},{"$f":"IF(101-ROW(D77)>$J$2,\"\",Sheet1!S182)","v":"6"},{"$f":"IF(101-ROW(E77)>$J$2,\"\",Sheet1!T182)","v":"8"},{"$f":"IF(101-ROW(F77)>$J$2,\"\",Sheet1!U182)","v":"9"},{"$f":"IF(101-ROW(G77)>$J$2,\"\",Sheet1!V182)","v":"7"},{"$f":"IF(101-ROW(H77)>$J$2,\"\",Sheet1!W182)","v":"5"},{"$f":"IF(101-ROW(I77)>$J$2,\"\",Sheet1!X182)","v":"3"},{"$f":"IF(101-ROW(J77)>$J$2,\"\",Sheet1!Y182)","v":"4"},{"$f":"IF(101-ROW(K77)>$J$2,\"\",Sheet1!Z182)","v":"2016"}]
[{"$f":"IF(101-ROW(A78)>$J$2,\"\",Sheet1!A183)","v":"20200515109"},{"$f":"IF(101-ROW(A78)>$J$2,\"\",Sheet1!O183&\"\")","v":"723"},{"$f":"IF(101-ROW(A78)>$J$2,\"\",Sheet1!C183)","v":"1"},{"$f":"IF(101-ROW(B78)>$J$2,\"\",Sheet1!D183)","v":"3"},{"$f":"IF(101-ROW(C78)>$J$2,\"\",Sheet1!E183)","v":"7"},{"$f":"IF(101-ROW(D78)>$J$2,\"\",Sheet1!F183)","v":"2"},{"$f":"IF(101-ROW(E78)>$J$2,\"\",Sheet1!G183)","v":"3"},{"$f":"IF(101-ROW(A78)>$J$2,\"\",Sheet1!P183)","v":"2"},{"$f":"IF(101-ROW(B78)>$J$2,\"\",Sheet1!Q183)","v":"0"},{"$f":"IF(101-ROW(C78)>$J$2,\"\",Sheet1!R183)","v":"1"},{"$f":"IF(101-ROW(D78)>$J$2,\"\",Sheet1!S183)","v":"8"},{"$f":"IF(101-ROW(E78)>$J$2,\"\",Sheet1!T183)","v":"9"},{"$f":"IF(101-ROW(F78)>$J$2,\"\",Sheet1!U183)","v":"6"},{"$f":"IF(101-ROW(G78)>$J$2,\"\",Sheet1!V183)","v":"7"},{"$f":"IF(101-ROW(H78)>$J$2,\"\",Sheet1!W183)","v":"5"},{"$f":"IF(101-ROW(I78)>$J$2,\"\",Sheet1!X183)","v":"3"},{"$f":"IF(101-ROW(J78)>$J$2,\"\",Sheet1!Y183)","v":"4"},{"$f":"IF(101-ROW(K78)>$J$2,\"\",Sheet1!Z183)","v":"2018"}]
[{"$f":"IF(101-ROW(A79)>$J$2,\"\",Sheet1!A184)","v":"20200515110"},{"$f":"IF(101-ROW(A79)>$J$2,\"\",Sheet1!O184&\"\")","v":"605"},{"$f":"IF(101-ROW(A79)>$J$2,\"\",Sheet1!C184)","v":"6"},{"$f":"IF(101-ROW(B79)>$J$2,\"\",Sheet1!D184)","v":"4"},{"$f":"IF(101-ROW(C79)>$J$2,\"\",Sheet1!E184)","v":"6"},{"$f":"IF(101-ROW(D79)>$J$2,\"\",Sheet1!F184)","v":"0"},{"$f":"IF(101-ROW(E79)>$J$2,\"\",Sheet1!G184)","v":"5"},{"$f":"IF(101-ROW(A79)>$J$2,\"\",Sheet1!P184)","v":"2"},{"$f":"IF(101-ROW(B79)>$J$2,\"\",Sheet1!Q184)","v":"0"},{"$f":"IF(101-ROW(C79)>$J$2,\"\",Sheet1!R184)","v":"1"},{"$f":"IF(101-ROW(D79)>$J$2,\"\",Sheet1!S184)","v":"8"},{"$f":"IF(101-ROW(E79)>$J$2,\"\",Sheet1!T184)","v":"6"},{"$f":"IF(101-ROW(F79)>$J$2,\"\",Sheet1!U184)","v":"7"},{"$f":"IF(101-ROW(G79)>$J$2,\"\",Sheet1!V184)","v":"9"},{"$f":"IF(101-ROW(H79)>$J$2,\"\",Sheet1!W184)","v":"3"},{"$f":"IF(101-ROW(I79)>$J$2,\"\",Sheet1!X184)","v":"5"},{"$f":"IF(101-ROW(J79)>$J$2,\"\",Sheet1!Y184)","v":"4"},{"$f":"IF(101-ROW(K79)>$J$2,\"\",Sheet1!Z184)","v":"2018"}]
[{"$f":"IF(101-ROW(A80)>$J$2,\"\",Sheet1!A185)","v":"20200515111"},{"$f":"IF(101-ROW(A80)>$J$2,\"\",Sheet1!O185&\"\")","v":"745"},{"$f":"IF(101-ROW(A80)>$J$2,\"\",Sheet1!C185)","v":"2"},{"$f":"IF(101-ROW(B80)>$J$2,\"\",Sheet1!D185)","v":"7"},{"$f":"IF(101-ROW(C80)>$J$2,\"\",Sheet1!E185)","v":"7"},{"$f":"IF(101-ROW(D80)>$J$2,\"\",Sheet1!F185)","v":"4"},{"$f":"IF(101-ROW(E80)>$J$2,\"\",Sheet1!G185)","v":"5"},{"$f":"IF(101-ROW(A80)>$J$2,\"\",Sheet1!P185)","v":"2"},{"$f":"IF(101-ROW(B80)>$J$2,\"\",Sheet1!Q185)","v":"0"},{"$f":"IF(101-ROW(C80)>$J$2,\"\",Sheet1!R185)","v":"1"},{"$f":"IF(101-ROW(D80)>$J$2,\"\",Sheet1!S185)","v":"6"},{"$f":"IF(101-ROW(E80)>$J$2,\"\",Sheet1!T185)","v":"8"},{"$f":"IF(101-ROW(F80)>$J$2,\"\",Sheet1!U185)","v":"7"},{"$f":"IF(101-ROW(G80)>$J$2,\"\",Sheet1!V185)","v":"5"},{"$f":"IF(101-ROW(H80)>$J$2,\"\",Sheet1!W185)","v":"3"},{"$f":"IF(101-ROW(I80)>$J$2,\"\",Sheet1!X185)","v":"9"},{"$f":"IF(101-ROW(J80)>$J$2,\"\",Sheet1!Y185)","v":"4"},{"$f":"IF(101-ROW(K80)>$J$2,\"\",Sheet1!Z185)","v":"2016"}]
[{"$f":"IF(101-ROW(A81)>$J$2,\"\",Sheet1!A186)","v":"20200515112"},{"$f":"IF(101-ROW(A81)>$J$2,\"\",Sheet1!O186&\"\")","v":"982"},{"$f":"IF(101-ROW(A81)>$J$2,\"\",Sheet1!C186)","v":"9"},{"$f":"IF(101-ROW(B81)>$J$2,\"\",Sheet1!D186)","v":"0"},{"$f":"IF(101-ROW(C81)>$J$2,\"\",Sheet1!E186)","v":"9"},{"$f":"IF(101-ROW(D81)>$J$2,\"\",Sheet1!F186)","v":"8"},{"$f":"IF(101-ROW(E81)>$J$2,\"\",Sheet1!G186)","v":"2"},{"$f":"IF(101-ROW(A81)>$J$2,\"\",Sheet1!P186)","v":"2"},{"$f":"IF(101-ROW(B81)>$J$2,\"\",Sheet1!Q186)","v":"0"},{"$f":"IF(101-ROW(C81)>$J$2,\"\",Sheet1!R186)","v":"1"},{"$f":"IF(101-ROW(D81)>$J$2,\"\",Sheet1!S186)","v":"7"},{"$f":"IF(101-ROW(E81)>$J$2,\"\",Sheet1!T186)","v":"8"},{"$f":"IF(101-ROW(F81)>$J$2,\"\",Sheet1!U186)","v":"5"},{"$f":"IF(101-ROW(G81)>$J$2,\"\",Sheet1!V186)","v":"6"},{"$f":"IF(101-ROW(H81)>$J$2,\"\",Sheet1!W186)","v":"3"},{"$f":"IF(101-ROW(I81)>$J$2,\"\",Sheet1!X186)","v":"9"},{"$f":"IF(101-ROW(J81)>$J$2,\"\",Sheet1!Y186)","v":"4"},{"$f":"IF(101-ROW(K81)>$J$2,\"\",Sheet1!Z186)","v":"2017"}]
[{"$f":"IF(101-ROW(A82)>$J$2,\"\",Sheet1!A187)","v":"20200515113"},{"$f":"IF(101-ROW(A82)>$J$2,\"\",Sheet1!O187&\"\")","v":"918"},{"$f":"IF(101-ROW(A82)>$J$2,\"\",Sheet1!C187)","v":"3"},{"$f":"IF(101-ROW(B82)>$J$2,\"\",Sheet1!D187)","v":"9"},{"$f":"IF(101-ROW(C82)>$J$2,\"\",Sheet1!E187)","v":"9"},{"$f":"IF(101-ROW(D82)>$J$2,\"\",Sheet1!F187)","v":"1"},{"$f":"IF(101-ROW(E82)>$J$2,\"\",Sheet1!G187)","v":"8"},{"$f":"IF(101-ROW(A82)>$J$2,\"\",Sheet1!P187)","v":"2"},{"$f":"IF(101-ROW(B82)>$J$2,\"\",Sheet1!Q187)","v":"0"},{"$f":"IF(101-ROW(C82)>$J$2,\"\",Sheet1!R187)","v":"1"},{"$f":"IF(101-ROW(D82)>$J$2,\"\",Sheet1!S187)","v":"8"},{"$f":"IF(101-ROW(E82)>$J$2,\"\",Sheet1!T187)","v":"7"},{"$f":"IF(101-ROW(F82)>$J$2,\"\",Sheet1!U187)","v":"5"},{"$f":"IF(101-ROW(G82)>$J$2,\"\",Sheet1!V187)","v":"6"},{"$f":"IF(101-ROW(H82)>$J$2,\"\",Sheet1!W187)","v":"3"},{"$f":"IF(101-ROW(I82)>$J$2,\"\",Sheet1!X187)","v":"9"},{"$f":"IF(101-ROW(J82)>$J$2,\"\",Sheet1!Y187)","v":"4"},{"$f":"IF(101-ROW(K82)>$J$2,\"\",Sheet1!Z187)","v":"2018"}]
[{"$f":"IF(101-ROW(A83)>$J$2,\"\",Sheet1!A188)","v":"20200515114"},{"$f":"IF(101-ROW(A83)>$J$2,\"\",Sheet1!O188&\"\")","v":"213"},{"$f":"IF(101-ROW(A83)>$J$2,\"\",Sheet1!C188)","v":"9"},{"$f":"IF(101-ROW(B83)>$J$2,\"\",Sheet1!D188)","v":"5"},{"$f":"IF(101-ROW(C83)>$J$2,\"\",Sheet1!E188)","v":"2"},{"$f":"IF(101-ROW(D83)>$J$2,\"\",Sheet1!F188)","v":"1"},{"$f":"IF(101-ROW(E83)>$J$2,\"\",Sheet1!G188)","v":"3"},{"$f":"IF(101-ROW(A83)>$J$2,\"\",Sheet1!P188)","v":"2"},{"$f":"IF(101-ROW(B83)>$J$2,\"\",Sheet1!Q188)","v":"0"},{"$f":"IF(101-ROW(C83)>$J$2,\"\",Sheet1!R188)","v":"1"},{"$f":"IF(101-ROW(D83)>$J$2,\"\",Sheet1!S188)","v":"8"},{"$f":"IF(101-ROW(E83)>$J$2,\"\",Sheet1!T188)","v":"7"},{"$f":"IF(101-ROW(F83)>$J$2,\"\",Sheet1!U188)","v":"5"},{"$f":"IF(101-ROW(G83)>$J$2,\"\",Sheet1!V188)","v":"6"},{"$f":"IF(101-ROW(H83)>$J$2,\"\",Sheet1!W188)","v":"3"},{"$f":"IF(101-ROW(I83)>$J$2,\"\",Sheet1!X188)","v":"9"},{"$f":"IF(101-ROW(J83)>$J$2,\"\",Sheet1!Y188)","v":"4"},{"$f":"IF(101-ROW(K83)>$J$2,\"\",Sheet1!Z188)","v":"2018"}]
[{"$f":"IF(101-ROW(A84)>$J$2,\"\",Sheet1!A189)","v":"20200515115"},{"$f":"IF(101-ROW(A84)>$J$2,\"\",Sheet1!O189&\"\")","v":"518"},{"$f":"IF(101-ROW(A84)>$J$2,\"\",Sheet1!C189)","v":"9"},{"$f":"IF(101-ROW(B84)>$J$2,\"\",Sheet1!D189)","v":"3"},{"$f":"IF(101-ROW(C84)>$J$2,\"\",Sheet1!E189)","v":"5"},{"$f":"IF(101-ROW(D84)>$J$2,\"\",Sheet1!F189)","v":"1"},{"$f":"IF(101-ROW(E84)>$J$2,\"\",Sheet1!G189)","v":"8"},{"$f":"IF(101-ROW(A84)>$J$2,\"\",Sheet1!P189)","v":"2"},{"$f":"IF(101-ROW(B84)>$J$2,\"\",Sheet1!Q189)","v":"1"},{"$f":"IF(101-ROW(C84)>$J$2,\"\",Sheet1!R189)","v":"8"},{"$f":"IF(101-ROW(D84)>$J$2,\"\",Sheet1!S189)","v":"0"},{"$f":"IF(101-ROW(E84)>$J$2,\"\",Sheet1!T189)","v":"7"},{"$f":"IF(101-ROW(F84)>$J$2,\"\",Sheet1!U189)","v":"3"},{"$f":"IF(101-ROW(G84)>$J$2,\"\",Sheet1!V189)","v":"5"},{"$f":"IF(101-ROW(H84)>$J$2,\"\",Sheet1!W189)","v":"6"},{"$f":"IF(101-ROW(I84)>$J$2,\"\",Sheet1!X189)","v":"9"},{"$f":"IF(101-ROW(J84)>$J$2,\"\",Sheet1!Y189)","v":"4"},{"$f":"IF(101-ROW(K84)>$J$2,\"\",Sheet1!Z189)","v":"2180"}]
[{"$f":"IF(101-ROW(A85)>$J$2,\"\",Sheet1!A190)","v":"20200515116"},{"$f":"IF(101-ROW(A85)>$J$2,\"\",Sheet1!O190&\"\")","v":"058"},{"$f":"IF(101-ROW(A85)>$J$2,\"\",Sheet1!C190)","v":"7"},{"$f":"IF(101-ROW(B85)>$J$2,\"\",Sheet1!D190)","v":"2"},{"$f":"IF(101-ROW(C85)>$J$2,\"\",Sheet1!E190)","v":"0"},{"$f":"IF(101-ROW(D85)>$J$2,\"\",Sheet1!F190)","v":"5"},{"$f":"IF(101-ROW(E85)>$J$2,\"\",Sheet1!G190)","v":"8"},{"$f":"IF(101-ROW(A85)>$J$2,\"\",Sheet1!P190)","v":"2"},{"$f":"IF(101-ROW(B85)>$J$2,\"\",Sheet1!Q190)","v":"1"},{"$f":"IF(101-ROW(C85)>$J$2,\"\",Sheet1!R190)","v":"8"},{"$f":"IF(101-ROW(D85)>$J$2,\"\",Sheet1!S190)","v":"7"},{"$f":"IF(101-ROW(E85)>$J$2,\"\",Sheet1!T190)","v":"5"},{"$f":"IF(101-ROW(F85)>$J$2,\"\",Sheet1!U190)","v":"0"},{"$f":"IF(101-ROW(G85)>$J$2,\"\",Sheet1!V190)","v":"3"},{"$f":"IF(101-ROW(H85)>$J$2,\"\",Sheet1!W190)","v":"6"},{"$f":"IF(101-ROW(I85)>$J$2,\"\",Sheet1!X190)","v":"9"},{"$f":"IF(101-ROW(J85)>$J$2,\"\",Sheet1!Y190)","v":"4"},{"$f":"IF(101-ROW(K85)>$J$2,\"\",Sheet1!Z190)","v":"2187"}]
[{"$f":"IF(101-ROW(A86)>$J$2,\"\",Sheet1!A191)","v":"20200515117"},{"$f":"IF(101-ROW(A86)>$J$2,\"\",Sheet1!O191&\"\")","v":"135"},{"$f":"IF(101-ROW(A86)>$J$2,\"\",Sheet1!C191)","v":"8"},{"$f":"IF(101-ROW(B86)>$J$2,\"\",Sheet1!D191)","v":"6"},{"$f":"IF(101-ROW(C86)>$J$2,\"\",Sheet1!E191)","v":"1"},{"$f":"IF(101-ROW(D86)>$J$2,\"\",Sheet1!F191)","v":"3"},{"$f":"IF(101-ROW(E86)>$J$2,\"\",Sheet1!G191)","v":"5"},{"$f":"IF(101-ROW(A86)>$J$2,\"\",Sheet1!P191)","v":"2"},{"$f":"IF(101-ROW(B86)>$J$2,\"\",Sheet1!Q191)","v":"1"},{"$f":"IF(101-ROW(C86)>$J$2,\"\",Sheet1!R191)","v":"8"},{"$f":"IF(101-ROW(D86)>$J$2,\"\",Sheet1!S191)","v":"5"},{"$f":"IF(101-ROW(E86)>$J$2,\"\",Sheet1!T191)","v":"0"},{"$f":"IF(101-ROW(F86)>$J$2,\"\",Sheet1!U191)","v":"7"},{"$f":"IF(101-ROW(G86)>$J$2,\"\",Sheet1!V191)","v":"3"},{"$f":"IF(101-ROW(H86)>$J$2,\"\",Sheet1!W191)","v":"6"},{"$f":"IF(101-ROW(I86)>$J$2,\"\",Sheet1!X191)","v":"9"},{"$f":"IF(101-ROW(J86)>$J$2,\"\",Sheet1!Y191)","v":"4"},{"$f":"IF(101-ROW(K86)>$J$2,\"\",Sheet1!Z191)","v":"2185"}]
[{"$f":"IF(101-ROW(A87)>$J$2,\"\",Sheet1!A192)","v":"20200515118"},{"$f":"IF(101-ROW(A87)>$J$2,\"\",Sheet1!O192&\"\")","v":"239"},{"$f":"IF(101-ROW(A87)>$J$2,\"\",Sheet1!C192)","v":"7"},{"$f":"IF(101-ROW(B87)>$J$2,\"\",Sheet1!D192)","v":"6"},{"$f":"IF(101-ROW(C87)>$J$2,\"\",Sheet1!E192)","v":"2"},{"$f":"IF(101-ROW(D87)>$J$2,\"\",Sheet1!F192)","v":"3"},{"$f":"IF(101-ROW(E87)>$J$2,\"\",Sheet1!G192)","v":"9"},{"$f":"IF(101-ROW(A87)>$J$2,\"\",Sheet1!P192)","v":"2"},{"$f":"IF(101-ROW(B87)>$J$2,\"\",Sheet1!Q192)","v":"1"},{"$f":"IF(101-ROW(C87)>$J$2,\"\",Sheet1!R192)","v":"8"},{"$f":"IF(101-ROW(D87)>$J$2,\"\",Sheet1!S192)","v":"5"},{"$f":"IF(101-ROW(E87)>$J$2,\"\",Sheet1!T192)","v":"3"},{"$f":"IF(101-ROW(F87)>$J$2,\"\",Sheet1!U192)","v":"0"},{"$f":"IF(101-ROW(G87)>$J$2,\"\",Sheet1!V192)","v":"6"},{"$f":"IF(101-ROW(H87)>$J$2,\"\",Sheet1!W192)","v":"7"},{"$f":"IF(101-ROW(I87)>$J$2,\"\",Sheet1!X192)","v":"9"},{"$f":"IF(101-ROW(J87)>$J$2,\"\",Sheet1!Y192)","v":"4"},{"$f":"IF(101-ROW(K87)>$J$2,\"\",Sheet1!Z192)","v":"2185"}]
[{"$f":"IF(101-ROW(A88)>$J$2,\"\",Sheet1!A193)","v":"20200515119"},{"$f":"IF(101-ROW(A88)>$J$2,\"\",Sheet1!O193&\"\")","v":"610"},{"$f":"IF(101-ROW(A88)>$J$2,\"\",Sheet1!C193)","v":"7"},{"$f":"IF(101-ROW(B88)>$J$2,\"\",Sheet1!D193)","v":"7"},{"$f":"IF(101-ROW(C88)>$J$2,\"\",Sheet1!E193)","v":"6"},{"$f":"IF(101-ROW(D88)>$J$2,\"\",Sheet1!F193)","v":"1"},{"$f":"IF(101-ROW(E88)>$J$2,\"\",Sheet1!G193)","v":"0"},{"$f":"IF(101-ROW(A88)>$J$2,\"\",Sheet1!P193)","v":"2"},{"$f":"IF(101-ROW(B88)>$J$2,\"\",Sheet1!Q193)","v":"1"},{"$f":"IF(101-ROW(C88)>$J$2,\"\",Sheet1!R193)","v":"8"},{"$f":"IF(101-ROW(D88)>$J$2,\"\",Sheet1!S193)","v":"3"},{"$f":"IF(101-ROW(E88)>$J$2,\"\",Sheet1!T193)","v":"5"},{"$f":"IF(101-ROW(F88)>$J$2,\"\",Sheet1!U193)","v":"6"},{"$f":"IF(101-ROW(G88)>$J$2,\"\",Sheet1!V193)","v":"9"},{"$f":"IF(101-ROW(H88)>$J$2,\"\",Sheet1!W193)","v":"0"},{"$f":"IF(101-ROW(I88)>$J$2,\"\",Sheet1!X193)","v":"7"},{"$f":"IF(101-ROW(J88)>$J$2,\"\",Sheet1!Y193)","v":"4"},{"$f":"IF(101-ROW(K88)>$J$2,\"\",Sheet1!Z193)","v":"2183"}]
[{"$f":"IF(101-ROW(A89)>$J$2,\"\",Sheet1!A194)","v":"20200515120"},{"$f":"IF(101-ROW(A89)>$J$2,\"\",Sheet1!O194&\"\")","v":"642"},{"$f":"IF(101-ROW(A89)>$J$2,\"\",Sheet1!C194)","v":"1"},{"$f":"IF(101-ROW(B89)>$J$2,\"\",Sheet1!D194)","v":"1"},{"$f":"IF(101-ROW(C89)>$J$2,\"\",Sheet1!E194)","v":"6"},{"$f":"IF(101-ROW(D89)>$J$2,\"\",Sheet1!F194)","v":"4"},{"$f":"IF(101-ROW(E89)>$J$2,\"\",Sheet1!G194)","v":"2"},{"$f":"IF(101-ROW(A89)>$J$2,\"\",Sheet1!P194)","v":"2"},{"$f":"IF(101-ROW(B89)>$J$2,\"\",Sheet1!Q194)","v":"1"},{"$f":"IF(101-ROW(C89)>$J$2,\"\",Sheet1!R194)","v":"8"},{"$f":"IF(101-ROW(D89)>$J$2,\"\",Sheet1!S194)","v":"5"},{"$f":"IF(101-ROW(E89)>$J$2,\"\",Sheet1!T194)","v":"3"},{"$f":"IF(101-ROW(F89)>$J$2,\"\",Sheet1!U194)","v":"6"},{"$f":"IF(101-ROW(G89)>$J$2,\"\",Sheet1!V194)","v":"0"},{"$f":"IF(101-ROW(H89)>$J$2,\"\",Sheet1!W194)","v":"7"},{"$f":"IF(101-ROW(I89)>$J$2,\"\",Sheet1!X194)","v":"9"},{"$f":"IF(101-ROW(J89)>$J$2,\"\",Sheet1!Y194)","v":"4"},{"$f":"IF(101-ROW(K89)>$J$2,\"\",Sheet1!Z194)","v":"2185"}]
[{"$f":"IF(101-ROW(A90)>$J$2,\"\",Sheet1!A195)","v":"20200515121"},{"$f":"IF(101-ROW(A90)>$J$2,\"\",Sheet1!O195&\"\")","v":"811"},{"$f":"IF(101-ROW(A90)>$J$2,\"\",Sheet1!C195)","v":"3"},{"$f":"IF(101-ROW(B90)>$J$2,\"\",Sheet1!D195)","v":"8"},{"$f":"IF(101-ROW(C90)>$J$2,\"\",Sheet1!E195)","v":"8"},{"$f":"IF(101-ROW(D90)>$J$2,\"\",Sheet1!F195)","v":"1"},{"$f":"IF(101-ROW(E90)>$J$2,\"\",Sheet1!G195)","v":"1"},{"$f":"IF(101-ROW(A90)>$J$2,\"\",Sheet1!P195)","v":"2"},{"$f":"IF(101-ROW(B90)>$J$2,\"\",Sheet1!Q195)","v":"1"},{"$f":"IF(101-ROW(C90)>$J$2,\"\",Sheet1!R195)","v":"8"},{"$f":"IF(101-ROW(D90)>$J$2,\"\",Sheet1!S195)","v":"5"},{"$f":"IF(101-ROW(E90)>$J$2,\"\",Sheet1!T195)","v":"6"},{"$f":"IF(101-ROW(F90)>$J$2,\"\",Sheet1!U195)","v":"0"},{"$f":"IF(101-ROW(G90)>$J$2,\"\",Sheet1!V195)","v":"3"},{"$f":"IF(101-ROW(H90)>$J$2,\"\",Sheet1!W195)","v":"7"},{"$f":"IF(101-ROW(I90)>$J$2,\"\",Sheet1!X195)","v":"9"},{"$f":"IF(101-ROW(J90)>$J$2,\"\",Sheet1!Y195)","v":"4"},{"$f":"IF(101-ROW(K90)>$J$2,\"\",Sheet1!Z195)","v":"2185"}]
[{"$f":"IF(101-ROW(A91)>$J$2,\"\",Sheet1!A196)","v":"20200515122"},{"$f":"IF(101-ROW(A91)>$J$2,\"\",Sheet1!O196&\"\")","v":"098"},{"$f":"IF(101-ROW(A91)>$J$2,\"\",Sheet1!C196)","v":"6"},{"$f":"IF(101-ROW(B91)>$J$2,\"\",Sheet1!D196)","v":"8"},{"$f":"IF(101-ROW(C91)>$J$2,\"\",Sheet1!E196)","v":"0"},{"$f":"IF(101-ROW(D91)>$J$2,\"\",Sheet1!F196)","v":"9"},{"$f":"IF(101-ROW(E91)>$J$2,\"\",Sheet1!G196)","v":"8"},{"$f":"IF(101-ROW(A91)>$J$2,\"\",Sheet1!P196)","v":"2"},{"$f":"IF(101-ROW(B91)>$J$2,\"\",Sheet1!Q196)","v":"1"},{"$f":"IF(101-ROW(C91)>$J$2,\"\",Sheet1!R196)","v":"8"},{"$f":"IF(101-ROW(D91)>$J$2,\"\",Sheet1!S196)","v":"5"},{"$f":"IF(101-ROW(E91)>$J$2,\"\",Sheet1!T196)","v":"6"},{"$f":"IF(101-ROW(F91)>$J$2,\"\",Sheet1!U196)","v":"0"},{"$f":"IF(101-ROW(G91)>$J$2,\"\",Sheet1!V196)","v":"3"},{"$f":"IF(101-ROW(H91)>$J$2,\"\",Sheet1!W196)","v":"7"},{"$f":"IF(101-ROW(I91)>$J$2,\"\",Sheet1!X196)","v":"9"},{"$f":"IF(101-ROW(J91)>$J$2,\"\",Sheet1!Y196)","v":"4"},{"$f":"IF(101-ROW(K91)>$J$2,\"\",Sheet1!Z196)","v":"2185"}]
[{"$f":"IF(101-ROW(A92)>$J$2,\"\",Sheet1!A197)","v":"20200515123"},{"$f":"IF(101-ROW(A92)>$J$2,\"\",Sheet1!O197&\"\")","v":"856"},{"$f":"IF(101-ROW(A92)>$J$2,\"\",Sheet1!C197)","v":"0"},{"$f":"IF(101-ROW(B92)>$J$2,\"\",Sheet1!D197)","v":"3"},{"$f":"IF(101-ROW(C92)>$J$2,\"\",Sheet1!E197)","v":"8"},{"$f":"IF(101-ROW(D92)>$J$2,\"\",Sheet1!F197)","v":"5"},{"$f":"IF(101-ROW(E92)>$J$2,\"\",Sheet1!G197)","v":"6"},{"$f":"IF(101-ROW(A92)>$J$2,\"\",Sheet1!P197)","v":"2"},{"$f":"IF(101-ROW(B92)>$J$2,\"\",Sheet1!Q197)","v":"1"},{"$f":"IF(101-ROW(C92)>$J$2,\"\",Sheet1!R197)","v":"8"},{"$f":"IF(101-ROW(D92)>$J$2,\"\",Sheet1!S197)","v":"5"},{"$f":"IF(101-ROW(E92)>$J$2,\"\",Sheet1!T197)","v":"0"},{"$f":"IF(101-ROW(F92)>$J$2,\"\",Sheet1!U197)","v":"6"},{"$f":"IF(101-ROW(G92)>$J$2,\"\",Sheet1!V197)","v":"9"},{"$f":"IF(101-ROW(H92)>$J$2,\"\",Sheet1!W197)","v":"3"},{"$f":"IF(101-ROW(I92)>$J$2,\"\",Sheet1!X197)","v":"7"},{"$f":"IF(101-ROW(J92)>$J$2,\"\",Sheet1!Y197)","v":"4"},{"$f":"IF(101-ROW(K92)>$J$2,\"\",Sheet1!Z197)","v":"2185"}]
[{"$f":"IF(101-ROW(A93)>$J$2,\"\",Sheet1!A198)","v":"20200515124"},{"$f":"IF(101-ROW(A93)>$J$2,\"\",Sheet1!O198&\"\")","v":"224"},{"$f":"IF(101-ROW(A93)>$J$2,\"\",Sheet1!C198)","v":"9"},{"$f":"IF(101-ROW(B93)>$J$2,\"\",Sheet1!D198)","v":"0"},{"$f":"IF(101-ROW(C93)>$J$2,\"\",Sheet1!E198)","v":"2"},{"$f":"IF(101-ROW(D93)>$J$2,\"\",Sheet1!F198)","v":"2"},{"$f":"IF(101-ROW(E93)>$J$2,\"\",Sheet1!G198)","v":"4"},{"$f":"IF(101-ROW(A93)>$J$2,\"\",Sheet1!P198)","v":"2"},{"$f":"IF(101-ROW(B93)>$J$2,\"\",Sheet1!Q198)","v":"1"},{"$f":"IF(101-ROW(C93)>$J$2,\"\",Sheet1!R198)","v":"8"},{"$f":"IF(101-ROW(D93)>$J$2,\"\",Sheet1!S198)","v":"5"},{"$f":"IF(101-ROW(E93)>$J$2,\"\",Sheet1!T198)","v":"0"},{"$f":"IF(101-ROW(F93)>$J$2,\"\",Sheet1!U198)","v":"6"},{"$f":"IF(101-ROW(G93)>$J$2,\"\",Sheet1!V198)","v":"9"},{"$f":"IF(101-ROW(H93)>$J$2,\"\",Sheet1!W198)","v":"3"},{"$f":"IF(101-ROW(I93)>$J$2,\"\",Sheet1!X198)","v":"7"},{"$f":"IF(101-ROW(J93)>$J$2,\"\",Sheet1!Y198)","v":"4"},{"$f":"IF(101-ROW(K93)>$J$2,\"\",Sheet1!Z198)","v":"2185"}]
[{"$f":"IF(101-ROW(A94)>$J$2,\"\",Sheet1!A199)","v":"20200515125"},{"$f":"IF(101-ROW(A94)>$J$2,\"\",Sheet1!O199&\"\")","v":"816"},{"$f":"IF(101-ROW(A94)>$J$2,\"\",Sheet1!C199)","v":"1"},{"$f":"IF(101-ROW(B94)>$J$2,\"\",Sheet1!D199)","v":"6"},{"$f":"IF(101-ROW(C94)>$J$2,\"\",Sheet1!E199)","v":"8"},{"$f":"IF(101-ROW(D94)>$J$2,\"\",Sheet1!F199)","v":"1"},{"$f":"IF(101-ROW(E94)>$J$2,\"\",Sheet1!G199)","v":"6"},{"$f":"IF(101-ROW(A94)>$J$2,\"\",Sheet1!P199)","v":"2"},{"$f":"IF(101-ROW(B94)>$J$2,\"\",Sheet1!Q199)","v":"1"},{"$f":"IF(101-ROW(C94)>$J$2,\"\",Sheet1!R199)","v":"8"},{"$f":"IF(101-ROW(D94)>$J$2,\"\",Sheet1!S199)","v":"5"},{"$f":"IF(101-ROW(E94)>$J$2,\"\",Sheet1!T199)","v":"0"},{"$f":"IF(101-ROW(F94)>$J$2,\"\",Sheet1!U199)","v":"6"},{"$f":"IF(101-ROW(G94)>$J$2,\"\",Sheet1!V199)","v":"9"},{"$f":"IF(101-ROW(H94)>$J$2,\"\",Sheet1!W199)","v":"3"},{"$f":"IF(101-ROW(I94)>$J$2,\"\",Sheet1!X199)","v":"7"},{"$f":"IF(101-ROW(J94)>$J$2,\"\",Sheet1!Y199)","v":"4"},{"$f":"IF(101-ROW(K94)>$J$2,\"\",Sheet1!Z199)","v":"2185"}]
[{"$f":"IF(101-ROW(A95)>$J$2,\"\",Sheet1!A200)","v":"20200515126"},{"$f":"IF(101-ROW(A95)>$J$2,\"\",Sheet1!O200&\"\")","v":"736"},{"$f":"IF(101-ROW(A95)>$J$2,\"\",Sheet1!C200)","v":"5"},{"$f":"IF(101-ROW(B95)>$J$2,\"\",Sheet1!D200)","v":"2"},{"$f":"IF(101-ROW(C95)>$J$2,\"\",Sheet1!E200)","v":"7"},{"$f":"IF(101-ROW(D95)>$J$2,\"\",Sheet1!F200)","v":"3"},{"$f":"IF(101-ROW(E95)>$J$2,\"\",Sheet1!G200)","v":"6"},{"$f":"IF(101-ROW(A95)>$J$2,\"\",Sheet1!P200)","v":"2"},{"$f":"IF(101-ROW(B95)>$J$2,\"\",Sheet1!Q200)","v":"1"},{"$f":"IF(101-ROW(C95)>$J$2,\"\",Sheet1!R200)","v":"8"},{"$f":"IF(101-ROW(D95)>$J$2,\"\",Sheet1!S200)","v":"5"},{"$f":"IF(101-ROW(E95)>$J$2,\"\",Sheet1!T200)","v":"0"},{"$f":"IF(101-ROW(F95)>$J$2,\"\",Sheet1!U200)","v":"9"},{"$f":"IF(101-ROW(G95)>$J$2,\"\",Sheet1!V200)","v":"6"},{"$f":"IF(101-ROW(H95)>$J$2,\"\",Sheet1!W200)","v":"3"},{"$f":"IF(101-ROW(I95)>$J$2,\"\",Sheet1!X200)","v":"7"},{"$f":"IF(101-ROW(J95)>$J$2,\"\",Sheet1!Y200)","v":"4"},{"$f":"IF(101-ROW(K95)>$J$2,\"\",Sheet1!Z200)","v":"2185"}]
[{"$f":"IF(101-ROW(A96)>$J$2,\"\",Sheet1!A201)","v":"20200515127"},{"$f":"IF(101-ROW(A96)>$J$2,\"\",Sheet1!O201&\"\")","v":"441"},{"$f":"IF(101-ROW(A96)>$J$2,\"\",Sheet1!C201)","v":"7"},{"$f":"IF(101-ROW(B96)>$J$2,\"\",Sheet1!D201)","v":"9"},{"$f":"IF(101-ROW(C96)>$J$2,\"\",Sheet1!E201)","v":"4"},{"$f":"IF(101-ROW(D96)>$J$2,\"\",Sheet1!F201)","v":"4"},{"$f":"IF(101-ROW(E96)>$J$2,\"\",Sheet1!G201)","v":"1"},{"$f":"IF(101-ROW(A96)>$J$2,\"\",Sheet1!P201)","v":"2"},{"$f":"IF(101-ROW(B96)>$J$2,\"\",Sheet1!Q201)","v":"1"},{"$f":"IF(101-ROW(C96)>$J$2,\"\",Sheet1!R201)","v":"8"},{"$f":"IF(101-ROW(D96)>$J$2,\"\",Sheet1!S201)","v":"5"},{"$f":"IF(101-ROW(E96)>$J$2,\"\",Sheet1!T201)","v":"0"},{"$f":"IF(101-ROW(F96)>$J$2,\"\",Sheet1!U201)","v":"3"},{"$f":"IF(101-ROW(G96)>$J$2,\"\",Sheet1!V201)","v":"6"},{"$f":"IF(101-ROW(H96)>$J$2,\"\",Sheet1!W201)","v":"7"},{"$f":"IF(101-ROW(I96)>$J$2,\"\",Sheet1!X201)","v":"9"},{"$f":"IF(101-ROW(J96)>$J$2,\"\",Sheet1!Y201)","v":"4"},{"$f":"IF(101-ROW(K96)>$J$2,\"\",Sheet1!Z201)","v":"2185"}]
[{"$f":"IF(101-ROW(A97)>$J$2,\"\",Sheet1!A202)","v":"20200515128"},{"$f":"IF(101-ROW(A97)>$J$2,\"\",Sheet1!O202&\"\")","v":"214"},{"$f":"IF(101-ROW(A97)>$J$2,\"\",Sheet1!C202)","v":"6"},{"$f":"IF(101-ROW(B97)>$J$2,\"\",Sheet1!D202)","v":"1"},{"$f":"IF(101-ROW(C97)>$J$2,\"\",Sheet1!E202)","v":"2"},{"$f":"IF(101-ROW(D97)>$J$2,\"\",Sheet1!F202)","v":"1"},{"$f":"IF(101-ROW(E97)>$J$2,\"\",Sheet1!G202)","v":"4"},{"$f":"IF(101-ROW(A97)>$J$2,\"\",Sheet1!P202)","v":"2"},{"$f":"IF(101-ROW(B97)>$J$2,\"\",Sheet1!Q202)","v":"1"},{"$f":"IF(101-ROW(C97)>$J$2,\"\",Sheet1!R202)","v":"8"},{"$f":"IF(101-ROW(D97)>$J$2,\"\",Sheet1!S202)","v":"5"},{"$f":"IF(101-ROW(E97)>$J$2,\"\",Sheet1!T202)","v":"3"},{"$f":"IF(101-ROW(F97)>$J$2,\"\",Sheet1!U202)","v":"6"},{"$f":"IF(101-ROW(G97)>$J$2,\"\",Sheet1!V202)","v":"7"},{"$f":"IF(101-ROW(H97)>$J$2,\"\",Sheet1!W202)","v":"9"},{"$f":"IF(101-ROW(I97)>$J$2,\"\",Sheet1!X202)","v":"0"},{"$f":"IF(101-ROW(J97)>$J$2,\"\",Sheet1!Y202)","v":"4"},{"$f":"IF(101-ROW(K97)>$J$2,\"\",Sheet1!Z202)","v":"2185"}]
[{"$f":"IF(101-ROW(A98)>$J$2,\"\",Sheet1!A203)","v":"20200515129"},{"$f":"IF(101-ROW(A98)>$J$2,\"\",Sheet1!O203&\"\")","v":"264"},{"$f":"IF(101-ROW(A98)>$J$2,\"\",Sheet1!C203)","v":"9"},{"$f":"IF(101-ROW(B98)>$J$2,\"\",Sheet1!D203)","v":"7"},{"$f":"IF(101-ROW(C98)>$J$2,\"\",Sheet1!E203)","v":"2"},{"$f":"IF(101-ROW(D98)>$J$2,\"\",Sheet1!F203)","v":"6"},{"$f":"IF(101-ROW(E98)>$J$2,\"\",Sheet1!G203)","v":"4"},{"$f":"IF(101-ROW(A98)>$J$2,\"\",Sheet1!P203)","v":"2"},{"$f":"IF(101-ROW(B98)>$J$2,\"\",Sheet1!Q203)","v":"1"},{"$f":"IF(101-ROW(C98)>$J$2,\"\",Sheet1!R203)","v":"8"},{"$f":"IF(101-ROW(D98)>$J$2,\"\",Sheet1!S203)","v":"5"},{"$f":"IF(101-ROW(E98)>$J$2,\"\",Sheet1!T203)","v":"3"},{"$f":"IF(101-ROW(F98)>$J$2,\"\",Sheet1!U203)","v":"4"},{"$f":"IF(101-ROW(G98)>$J$2,\"\",Sheet1!V203)","v":"6"},{"$f":"IF(101-ROW(H98)>$J$2,\"\",Sheet1!W203)","v":"7"},{"$f":"IF(101-ROW(I98)>$J$2,\"\",Sheet1!X203)","v":"9"},{"$f":"IF(101-ROW(J98)>$J$2,\"\",Sheet1!Y203)","v":"0"},{"$f":"IF(101-ROW(K98)>$J$2,\"\",Sheet1!Z203)","v":"2185"}]
[{"$f":"IF(101-ROW(A99)>$J$2,\"\",Sheet1!A204)","v":"20200515130"},{"$f":"IF(101-ROW(A99)>$J$2,\"\",Sheet1!O204&\"\")","v":"411"},{"$f":"IF(101-ROW(A99)>$J$2,\"\",Sheet1!C204)","v":"7"},{"$f":"IF(101-ROW(B99)>$J$2,\"\",Sheet1!D204)","v":"1"},{"$f":"IF(101-ROW(C99)>$J$2,\"\",Sheet1!E204)","v":"4"},{"$f":"IF(101-ROW(D99)>$J$2,\"\",Sheet1!F204)","v":"1"},{"$f":"IF(101-ROW(E99)>$J$2,\"\",Sheet1!G204)","v":"1"},{"$f":"IF(101-ROW(A99)>$J$2,\"\",Sheet1!P204)","v":"2"},{"$f":"IF(101-ROW(B99)>$J$2,\"\",Sheet1!Q204)","v":"1"},{"$f":"IF(101-ROW(C99)>$J$2,\"\",Sheet1!R204)","v":"8"},{"$f":"IF(101-ROW(D99)>$J$2,\"\",Sheet1!S204)","v":"5"},{"$f":"IF(101-ROW(E99)>$J$2,\"\",Sheet1!T204)","v":"4"},{"$f":"IF(101-ROW(F99)>$J$2,\"\",Sheet1!U204)","v":"6"},{"$f":"IF(101-ROW(G99)>$J$2,\"\",Sheet1!V204)","v":"3"},{"$f":"IF(101-ROW(H99)>$J$2,\"\",Sheet1!W204)","v":"7"},{"$f":"IF(101-ROW(I99)>$J$2,\"\",Sheet1!X204)","v":"9"},{"$f":"IF(101-ROW(J99)>$J$2,\"\",Sheet1!Y204)","v":"0"},{"$f":"IF(101-ROW(K99)>$J$2,\"\",Sheet1!Z204)","v":"2185"}]
[{"$f":"IF(101-ROW(A100)>$J$2,\"\",Sheet1!A205)","v":"20200515131"},{"$f":"IF(101-ROW(A100)>$J$2,\"\",Sheet1!O205&\"\")","v":"023"},{"$f":"IF(101-ROW(A100)>$J$2,\"\",Sheet1!C205)","v":"8"},{"$f":"IF(101-ROW(B100)>$J$2,\"\",Sheet1!D205)","v":"4"},{"$f":"IF(101-ROW(C100)>$J$2,\"\",Sheet1!E205)","v":"0"},{"$f":"IF(101-ROW(D100)>$J$2,\"\",Sheet1!F205)","v":"2"},{"$f":"IF(101-ROW(E100)>$J$2,\"\",Sheet1!G205)","v":"3"},{"$f":"IF(101-ROW(A100)>$J$2,\"\",Sheet1!P205)","v":"2"},{"$f":"IF(101-ROW(B100)>$J$2,\"\",Sheet1!Q205)","v":"1"},{"$f":"IF(101-ROW(C100)>$J$2,\"\",Sheet1!R205)","v":"8"},{"$f":"IF(101-ROW(D100)>$J$2,\"\",Sheet1!S205)","v":"4"},{"$f":"IF(101-ROW(E100)>$J$2,\"\",Sheet1!T205)","v":"5"},{"$f":"IF(101-ROW(F100)>$J$2,\"\",Sheet1!U205)","v":"3"},{"$f":"IF(101-ROW(G100)>$J$2,\"\",Sheet1!V205)","v":"6"},{"$f":"IF(101-ROW(H100)>$J$2,\"\",Sheet1!W205)","v":"7"},{"$f":"IF(101-ROW(I100)>$J$2,\"\",Sheet1!X205)","v":"9"},{"$f":"IF(101-ROW(J100)>$J$2,\"\",Sheet1!Y205)","v":"0"},{"$f":"IF(101-ROW(K100)>$J$2,\"\",Sheet1!Z205)","v":"2184"}]
[null,null,"下期预测",null,null,null,null,{"$f":"INDEX(Sheet1!$P$206:$AA$206,COLUMN(A100))&\"\"","v":"2"},{"$f":"INDEX(Sheet1!$P$206:$AA$206,COLUMN(B100))&\"\"","v":"1"},{"$f":"INDEX(Sheet1!$P$206:$AA$206,COLUMN(C100))&\"\"","v":"8"},{"$f":"INDEX(Sheet1!$P$206:$AA$206,COLUMN(D100))&\"\"","v":"4"},{"$f":"INDEX(Sheet1!$P$206:$AA$206,COLUMN(E100))&\"\"","v":"3"},{"$f":"INDEX(Sheet1!$P$206:$AA$206,COLUMN(F100))&\"\"","v":"5"},{"$f":"INDEX(Sheet1!$P$206:$AA$206,COLUMN(G100))&\"\"","v":"7"},{"$f":"INDEX(Sheet1!$P$206:$AA$206,COLUMN(H100))&\"\"","v":"9"},{"$f":"INDEX(Sheet1!$P$206:$AA$206,COLUMN(I100))&\"\"","v":"0"},{"$f":"INDEX(Sheet1!$P$206:$AA$206,COLUMN(J100))&\"\"","v":"6"},{"$f":"IF(H$6=TRUE,H107,\"\")&IF(I$6=TRUE,I107,\"\")&IF(J$6=TRUE,J107,\"\")&IF(K$6=TRUE,K107,\"\")&IF(L$6=TRUE,L107,\"\")&IF(M$6=TRUE,M107,\"\")&IF(N$6=TRUE,N107,\"\")&IF(O$6=TRUE,O107,\"\")&IF(P$6=TRUE,P107,\"\")&IF(Q$6=TRUE,Q107,\"\")","v":"2184"}]
[null,null,"出现次数",null,null,null,null,{"$f":"IF(H6=TRUE,SUMPRODUCT(($B$7:$B$106<>\"\")*(LEN($B$7:$B$106)<>LEN(SUBSTITUTE($B$7:$B$106,H7:H106,\"\")))),\"\")","v":29},{"$f":"IF(I6=TRUE,SUMPRODUCT(($B$7:$B$106<>\"\")*(LEN($B$7:$B$106)<>LEN(SUBSTITUTE($B$7:$B$106,I7:I106,\"\")))),\"\")","v":35},22,24,"","","","","","",{"$f":"SUM(N(MMULT(N(ISNUMBER(FIND(MID(B7:B106&\"lllll\",{1,2,3,4,5},1),R7:R106))),{1;1;1;1;1})>0))","v":76}]
[null,null,"最大连出",null,null,null,null,{"$f":"IF(H6=TRUE,MAX(FREQUENCY(ROW($A$7:$A$106),IF(LEN($B$7:$B$106)<>LEN(SUBSTITUTE($B$7:$B$106,H7:H106,\"\")),\"\",ROW($A$7:$A$106))))-1,\"\")","v":4},{"$f":"IF(I6=TRUE,MAX(FREQUENCY(ROW($A$7:$A$106),IF(LEN($B$7:$B$106)<>LEN(SUBSTITUTE($B$7:$B$106,I7:I106,\"\")),\"\",ROW($A$7:$A$106))))-1,\"\")","v":4},{"$f":"IF(J6=TRUE,MAX(FREQUENCY(ROW($A$7:$A$106),IF(LEN($B$7:$B$106)<>LEN(SUBSTITUTE($B$7:$B$106,J7:J106,\"\")),\"\",ROW($A$7:$A$106))))-1,\"\")","v":4},{"$f":"IF(K6=TRUE,MAX(FREQUENCY(ROW($A$7:$A$106),IF(LEN($B$7:$B$106)<>LEN(SUBSTITUTE($B$7:$B$106,K7:K106,\"\")),\"\",ROW($A$7:$A$106))))-1,\"\")","v":3},{"$f":"IF(L6=TRUE,MAX(FREQUENCY(ROW($A$7:$A$106),IF(LEN($B$7:$B$106)<>LEN(SUBSTITUTE($B$7:$B$106,L7:L106,\"\")),\"\",ROW($A$7:$A$106))))-1,\"\")","v":""},{"$f":"IF(M6=TRUE,MAX(FREQUENCY(ROW($A$7:$A$106),IF(LEN($B$7:$B$106)<>LEN(SUBSTITUTE($B$7:$B$106,M7:M106,\"\")),\"\",ROW($A$7:$A$106))))-1,\"\")","v":""},{"$f":"IF(N6=TRUE,MAX(FREQUENCY(ROW($A$7:$A$106),IF(LEN($B$7:$B$106)<>LEN(SUBSTITUTE($B$7:$B$106,N7:N106,\"\")),\"\",ROW($A$7:$A$106))))-1,\"\")","v":""},{"$f":"IF(O6=TRUE,MAX(FREQUENCY(ROW($A$7:$A$106),IF(LEN($B$7:$B$106)<>LEN(SUBSTITUTE($B$7:$B$106,O7:O106,\"\")),\"\",ROW($A$7:$A$106))))-1,\"\")","v":""},{"$f":"IF(P6=TRUE,MAX(FREQUENCY(ROW($A$7:$A$106),IF(LEN($B$7:$B$106)<>LEN(SUBSTITUTE($B$7:$B$106,P7:P106,\"\")),\"\",ROW($A$7:$A$106))))-1,\"\")","v":""},{"$f":"IF(Q6=TRUE,MAX(FREQUENCY(ROW($A$7:$A$106),IF(LEN($B$7:$B$106)<>LEN(SUBSTITUTE($B$7:$B$106,Q7:Q106,\"\")),\"\",ROW($A$7:$A$106))))-1,\"\")","v":""},{"$f":"MAX(FREQUENCY(ROW($A$7:$A$106),IF(N(MMULT(N(ISNUMBER(FIND(MID(B7:B106&\"lllll\",{1,2,3,4,5},1),R7:R106))),{1;1;1;1;1})>0),\"\",ROW($A$7:$A$106))))-1","v":14}]
[null,null,"当前遗漏",null,null,null,null,{"$f":"IF(H6=TRUE,106-MAX(ROW($B$7:$B$106)*($B$7:$B$106<>\"\")*(LEN($B$7:$B$106)<>LEN(SUBSTITUTE($B$7:$B$106,H7:H106,\"\"))),7),\"\")","v":0},{"$f":"IF(I6=TRUE,106-MAX(ROW($B$7:$B$106)*($B$7:$B$106<>\"\")*(LEN($B$7:$B$106)<>LEN(SUBSTITUTE($B$7:$B$106,I7:I106,\"\"))),7),\"\")","v":1},{"$f":"IF(J6=TRUE,106-MAX(ROW($B$7:$B$106)*($B$7:$B$106<>\"\")*(LEN($B$7:$B$106)<>LEN(SUBSTITUTE($B$7:$B$106,J7:J106,\"\"))),7),\"\")","v":6},{"$f":"IF(K6=TRUE,106-MAX(ROW($B$7:$B$106)*($B$7:$B$106<>\"\")*(LEN($B$7:$B$106)<>LEN(SUBSTITUTE($B$7:$B$106,K7:K106,\"\"))),7),\"\")","v":8},{"$f":"IF(L6=TRUE,106-MAX(ROW($B$7:$B$106)*($B$7:$B$106<>\"\")*(LEN($B$7:$B$106)<>LEN(SUBSTITUTE($B$7:$B$106,L7:L106,\"\"))),7),\"\")","v":""},{"$f":"IF(M6=TRUE,106-MAX(ROW($B$7:$B$106)*($B$7:$B$106<>\"\")*(LEN($B$7:$B$106)<>LEN(SUBSTITUTE($B$7:$B$106,M7:M106,\"\"))),7),\"\")","v":""},{"$f":"IF(N6=TRUE,106-MAX(ROW($B$7:$B$106)*($B$7:$B$106<>\"\")*(LEN($B$7:$B$106)<>LEN(SUBSTITUTE($B$7:$B$106,N7:N106,\"\"))),7),\"\")","v":""},{"$f":"IF(O6=TRUE,106-MAX(ROW($B$7:$B$106)*($B$7:$B$106<>\"\")*(LEN($B$7:$B$106)<>LEN(SUBSTITUTE($B$7:$B$106,O7:O106,\"\"))),7),\"\")","v":""},{"$f":"IF(P6=TRUE,106-MAX(ROW($B$7:$B$106)*($B$7:$B$106<>\"\")*(LEN($B$7:$B$106)<>LEN(SUBSTITUTE($B$7:$B$106,P7:P106,\"\"))),7),\"\")","v":""},{"$f":"IF(Q6=TRUE,106-MAX(ROW($B$7:$B$106)*($B$7:$B$106<>\"\")*(LEN($B$7:$B$106)<>LEN(SUBSTITUTE($B$7:$B$106,Q7:Q106,\"\"))),7),\"\")","v":""},{"$f":"106-MAX(ROW($B$7:$B$106)*N(MMULT(N(ISNUMBER(FIND(MID(B7:B106&\"lllll\",{1,2,3,4,5},1),R7:R106))),{1;1;1;1;1})>0),7)","v":0}]
[null,null,"最大遗漏",null,null,null,null,{"$f":"IF(H6=TRUE,MAX(FREQUENCY(ROW($A$7:$A$106),IF(($B$7:B106<>\"\")*(LEN($B$7:$B$106)=LEN(SUBSTITUTE($B$7:$B$106,H7:H106,\"\"))),\"\",ROW($A$7:$A$106))))-1,\"\")","v":11},{"$f":"IF(I6=TRUE,MAX(FREQUENCY(ROW($A$7:$A$106),IF(($B$7:C106<>\"\")*(LEN($B$7:$B$106)=LEN(SUBSTITUTE($B$7:$B$106,I7:I106,\"\"))),\"\",ROW($A$7:$A$106))))-1,\"\")","v":6},{"$f":"IF(J6=TRUE,MAX(FREQUENCY(ROW($A$7:$A$106),IF(($B$7:D106<>\"\")*(LEN($B$7:$B$106)=LEN(SUBSTITUTE($B$7:$B$106,J7:J106,\"\"))),\"\",ROW($A$7:$A$106))))-1,\"\")","v":15},{"$f":"IF(K6=TRUE,MAX(FREQUENCY(ROW($A$7:$A$106),IF(($B$7:E106<>\"\")*(LEN($B$7:$B$106)=LEN(SUBSTITUTE($B$7:$B$106,K7:K106,\"\"))),\"\",ROW($A$7:$A$106))))-1,\"\")","v":14},{"$f":"IF(L6=TRUE,MAX(FREQUENCY(ROW($A$7:$A$106),IF(($B$7:F106<>\"\")*(LEN($B$7:$B$106)=LEN(SUBSTITUTE($B$7:$B$106,L7:L106,\"\"))),\"\",ROW($A$7:$A$106))))-1,\"\")","v":""},{"$f":"IF(M6=TRUE,MAX(FREQUENCY(ROW($A$7:$A$106),IF(($B$7:G106<>\"\")*(LEN($B$7:$B$106)=LEN(SUBSTITUTE($B$7:$B$106,M7:M106,\"\"))),\"\",ROW($A$7:$A$106))))-1,\"\")","v":""},{"$f":"IF(N6=TRUE,MAX(FREQUENCY(ROW($A$7:$A$106),IF(($B$7:H106<>\"\")*(LEN($B$7:$B$106)=LEN(SUBSTITUTE($B$7:$B$106,N7:N106,\"\"))),\"\",ROW($A$7:$A$106))))-1,\"\")","v":""},{"$f":"IF(O6=TRUE,MAX(FREQUENCY(ROW($A$7:$A$106),IF(($B$7:I106<>\"\")*(LEN($B$7:$B$106)=LEN(SUBSTITUTE($B$7:$B$106,O7:O106,\"\"))),\"\",ROW($A$7:$A$106))))-1,\"\")","v":""},{"$f":"IF(P6=TRUE,MAX(FREQUENCY(ROW($A$7:$A$106),IF(($B$7:J106<>\"\")*(LEN($B$7:$B$106)=LEN(SUBSTITUTE($B$7:$B$106,P7:P106,\"\"))),\"\",ROW($A$7:$A$106))))-1,\"\")","v":""},{"$f":"IF(Q6=TRUE,MAX(FREQUENCY(ROW($A$7:$A$106),IF(($B$7:K106<>\"\")*(LEN($B$7:$B$106)=LEN(SUBSTITUTE($B$7:$B$106,Q7:Q106,\"\"))),\"\",ROW($A$7:$A$106))))-1,\"\")","v":""},{"$f":"MAX(FREQUENCY(ROW($A$7:$A$106),IF(($B$7:B106<>\"\")*N(MMULT(N(ISNUMBER(FIND(MID(B7:B106&\"lllll\",{1,2,3,4,5},1),R7:R106))),{1;1;1;1;1})=0),\"\",ROW($A$7:$A$106))))-1","v":5}]