{"text_format":"1","workbook":"xlsx","n_sheets":7,"sheets":["分析","360重庆","360福彩","Sheet1","胆对九补序","胆对九补序(定位）","数据库"],"not_rendered":{"charts":0,"images":0,"macros":1,"external_links":0,"defined_names":1,"comments":0,"pivot_tables":0},"unopened":[],"bounds":{"document_bytes":16777216,"sheet_cells":100000,"rows_first":2000,"rows_last":500,"rows_between":2000,"halvings":0,"cell_chars":16384,"cell_head_chars":4096},"cells_cut":0,"cells_raw":0,"read":"whole","date_system":"1900"}

{"sheet":"分析","index":0,"n_rows":1902,"n_cols":42,"rows_kept":1902,"cut":false,"hidden":false,"merged":[[260,18,264,18],[11,22,11,24],[11,19,11,21],[11,25,11,27],[11,28,11,30]]}
[null,null,null,{"$f":"FIND(\" \",A5)","v":13},null,null,null,null,"重庆一",null,{"$f":"COUNTA(A:A)","v":1901},null,null,null,null,null,null,null,null,null,null,null,null,null,null,null,null,null,null,null,null,null,null,null,null,null,null,null,null,null,null,{"$f":"199-COUNTBLANK(#REF!)+13","v":{"$error":"#REF!"}}]
["201806270832 05530",null,{"$f":"IF(E2>=0,MID(OFFSET($A$1,E2,),3,D$1-3),\"\")","v":"1806241119"},{"$f":"IF(E2>=0,MID(OFFSET($A$1,E2,),D$1+1,5),\"\")","v":"44924"},{"$f":"E3+1","v":1002},1002,{"$f":"IF(E2>=0,MID(OFFSET($A$1,F2,),3,D$1-3),\"\")","v":"1806241119"},{"$f":"IF(E2>=0,MID(OFFSET($A$1,F2,),D$1+1,5),\"\")","v":"44924"},null,"开奖号"]
["201806270831 85145",null,"1806241120","99998",1001,1001,"1806241120","99998"]
["201806270830 95876",null,"1806241121","45834",1000,1000,"1806241121","45834"]
["201806270829 26861",null,"1806241122","02609",999,999,"1806241122","02609"]
["201806270828 93366",null,"1806241123","04665",998,998,"1806241123","04665"]
["201806270827 29861",null,"1806241124","35722",997,997,"1806241124","35722",null,null,null,null,null,null,null,null,null,null,1]
["201806270826 90830",null,"1806241125","93038",996,996,"1806241125","93038",null,null,null,null,null,null,null,null,null,null,10]
["201806270825 34158",null,"1806241126","71408",995,995,"1806241126","71408"]
["201806270824 46698",null,"1806241127","76208",994,994,"1806241127","76208"]
["201806270823 14455",null,"1806241128","74661",993,993,"1806241128","74661",null,null,null,"万","千","百","十","个",null,null,null,1,2,3]
["201806270822 50312",null,"1806241129","78229",992,992,"1806241129","78229",20180625093,43060,null,null,null,null,null,null,null,null,null,"胆",null,null,"对码",null,null,"九",null,null,"补",null,null,null,"胆对九","胆对补","胆九补","对九补","定 胆对九","定 胆对补","定 胆九补","定 对九补"]
["201806270821 92987",null,"1806241130","06027",991,991,"1806241130","06027",20180625094,15673,{"$f":"IF(J13=\"\",\"\",TEXT(J13,\"00000\"))","v":"15673"},{"$f":"MID($K13,1,1)","v":"1"},{"$f":"MID(K13,2,1)","v":"5"},{"$f":"MID(K13,3,1)","v":"6"},{"$f":"MID(K13,4,1)","v":"7"},{"$f":"MID(K13,5,1)","v":"3"}]
["201806270820 35770",null,"1806241131","44727",990,990,"1806241131","44727",20180625095,92383,"92383","9","2","3","8","3",null,{"$f":"IF(R$213=\"胆码\",MID($K14,MID(S$213,1,1),1)&MID($K14,MID(S$213,2,1),1)&MID($K14,MID(S$213,3,1),1),IF(R$213=\"任合\",RIGHT(MID($K14,MID(S$213,1,1),1)+MID($K14,MID(S$213,2,1),1))&RIGHT(MID($K14,MID(S$213,1,1),1)+MID($K14,MID(S$213,3,1),1))&RIGHT(MID($K14,MID(S$213,2,1),1)+MID($K14,MID(S$213,3,1),1)),IF(R$213=\"任差\",RIGHT(MID($K14,MID(S$213,1,1),1)-MID($K14,MID(S$213,2,1),1))&RIGHT(MID($K14,MID(S$213,1,1),1)-MID($K14,MID(S$213,3,1),1))&RIGHT(MID($K14,MID(S$213,2,1),1)-MID($K14,MID(S$213,3,1),1)),IF(R$213=\"任积\",RIGHT(MID($K14,MID(S$213,1,1),1)*MID($K14,MID(S$213,2,1),1))&RIGHT(MID($K14,MID(S$213,1,1),1)*MID($K14,MID(S$213,3,1),1))&RIGHT(MID($K14,MID(S$213,2,1),1)*MID($K14,MID(S$213,3,1),1)),IF(R$213=\"位合\",RIGHT(MID($K14,MID(S$213,1,1),1)+MID($K13,MID(S$213,1,1),1))&RIGHT(MID($K14,MID(S$213,2,1),1)+MID($K13,MID(S$213,2,1),1))&RIGHT(MID($K14,MID(S$213,3,1),1)+MID($K13,MID(S$213,3,1),1)),IF(R$213=\"位差\",RIGHT(MID($K14,MID(S$213,1,1),1)-MID($K13,MID(S$213,1,1),1))&RIGHT(MID($K14,MID(S$213,2,1),1)-MID($K13,MID(S$213,2,1),1))&RIGHT(MID($K14,MID(S$213,3,1),1)-MID($K13,MID(S$213,3,1),1)),IF(R$213=\"位积\",RIGHT(MID($K14,MID(S$213,1,1),1)*MID($K13,MID(S$213,1,1),1))&RIGHT(MID($K14,MID(S$213,2,1),1)*MID($K13,MID(S$213,2,1),1))&RIGHT(MID($K14,MID(S$213,3,1),1)*MID($K13,MID(S$213,3,1),1)))))))))","v":"383"},{"$f":"R14","v":"383"},{"$f":"MID($S14,MID(T$11,1,1),1)","v":"3"},{"$f":"MID($S14,MID(U$11,1,1),1)","v":"8"},"3",{"$f":"RIGHT(T14+5)","v":"8"},{"$f":"RIGHT(U14+5)","v":"3"},"8",{"$f":"RIGHT(9-T14)","v":"6"},{"$f":"RIGHT(9-U14)","v":"1"},"6",{"$f":"RIGHT(10-T14)","v":"7"},{"$f":"RIGHT(10-U14)","v":"2"},"7",null,{"$f":"T14&U14&V14&W14&X14&Y14&Z14&AA14&AB14","v":"383838616"},{"$f":"T14&U14&V14&W14&X14&Y14&AC14&AD14&AE14","v":"383838727"},{"$f":"T14&U14&V14&Z14&AA14&AB14&AC14&AD14&AE14","v":"383616727"},{"$f":"W14&X14&Y14&Z14&AA14&AB14&AC14&AD14&AE14","v":"838616727"},{"$f":"T14&W14&Z14&\"-\"&U14&X14&AA14&\"-\"&V14&Y14&AB14","v":"386-831-386"},{"$f":"T14&W14&AC14&\"-\"&U14&X14&AD14&\"-\"&V14&Y14&AE14","v":"387-832-387"},{"$f":"T14&Z14&AC14&\"-\"&U14&AA14&AD14&\"-\"&V14&AB14&AE14","v":"367-812-367"},{"$f":"W14&Z14&AC14&\"-\"&X14&AA14&AD14&\"-\"&Y14&AB14&AE14","v":"867-312-867"}]
["201806270819 15847",null,"1806241132","87188",989,989,"1806241132","87188",20180625096,21200,"21200","2","1","2","0","0",null,"200","200",{"$f":"MID($S15,MID(T$11,1,1),1)","v":"2"},"0","0",{"$f":"RIGHT(T15+5)","v":"7"},{"$f":"RIGHT(U15+5)","v":"5"},{"$f":"RIGHT(V15+5)","v":"5"},{"$f":"RIGHT(9-T15)","v":"7"},{"$f":"RIGHT(9-U15)","v":"9"},{"$f":"RIGHT(9-V15)","v":"9"},{"$f":"RIGHT(10-T15)","v":"8"},{"$f":"RIGHT(10-U15)","v":"0"},{"$f":"RIGHT(10-V15)","v":"0"},null,{"$f":"T15&U15&V15&W15&X15&Y15&Z15&AA15&AB15","v":"200755799"},{"$f":"T15&U15&V15&W15&X15&Y15&AC15&AD15&AE15","v":"200755800"},{"$f":"T15&U15&V15&Z15&AA15&AB15&AC15&AD15&AE15","v":"200799800"},{"$f":"W15&X15&Y15&Z15&AA15&AB15&AC15&AD15&AE15","v":"755799800"},{"$f":"T15&W15&Z15&\"-\"&U15&X15&AA15&\"-\"&V15&Y15&AB15","v":"277-059-059"},{"$f":"T15&W15&AC15&\"-\"&U15&X15&AD15&\"-\"&V15&Y15&AE15","v":"278-050-050"},{"$f":"T15&Z15&AC15&\"-\"&U15&AA15&AD15&\"-\"&V15&AB15&AE15","v":"278-090-090"},{"$f":"W15&Z15&AC15&\"-\"&X15&AA15&AD15&\"-\"&Y15&AB15&AE15","v":"778-590-590"}]
["201806270818 73150",null,"1806241133","07028",988,988,"1806241133","07028",20180625097,44459,"44459","4","4","4","5","9",null,"459","459","4","5","9","9","0","4","5","4","0","6","5","1",null,"459904540","459904651","459540651","904540651","495-504-940","496-505-941","456-545-901","956-045-401"]
["201806270817 68674",null,"1806241134","72635",987,987,"1806241134","72635",20180625098,91410,"91410","9","1","4","1","0",null,"410","410","4","1","0","9","6","5","5","8","9","6","9","0",null,"410965589","410965690","410589690","965589690","495-168-059","496-169-050","456-189-090","956-689-590"]
["201806270816 83245",null,"1806241135","04056",986,986,"1806241135","04056",20180625099,59605,"59605","5","9","6","0","5",null,"605","605","6","0","5","1","5","0","3","9","4","4","0","5",null,{"$f":"T18&U18&V18&W18&X18&Y18&Z18&AA18&AB18","v":"605150394"},{"$f":"T18&U18&V18&W18&X18&Y18&AC18&AD18&AE18","v":"605150405"},{"$f":"T18&U18&V18&Z18&AA18&AB18&AC18&AD18&AE18","v":"605394405"},{"$f":"W18&X18&Y18&Z18&AA18&AB18&AC18&AD18&AE18","v":"150394405"},"613-059-504","614-050-505","634-090-545","134-590-045"]
["201806270815 99908",null,"1806241136","33836",985,985,"1806241136","33836",20180625100,21456,"21456","2","1","4","5","6",null,"456","456","4","5","6","9","0","1","5","4","3","6","5","4",null,"456901543","456901654","456543654","901543654","495-504-613","496-505-614","456-545-634","956-045-134"]
["201806270814 52094",null,"1806241137","77703",984,984,"1806241137","77703",20180625101,18708,"18708","1","8","7","0","8",null,"708","708","7","0","8","2","5","3","2","9","1","3","0","2",null,"708253291","708253302","708291302","253291302","722-059-831","723-050-832","723-090-812","223-590-312"]
["201806270813 01775",null,"1806241138","05664",983,983,"1806241138","05664",20180625102,22635,"22635","2","2","6","3","5",null,"635","635","6","3","5","1","8","0","3","6","4","4","7","5",null,"635180364","635180475","635364475","180364475","613-386-504","614-387-505","634-367-545","134-867-045"]
["201806270812 14326",null,"1806241139","19639",982,982,"1806241139","19639",20180625103,62504,"62504","6","2","5","0","4",null,"504","504","5","0","4","0","5","9","4","9","5","5","0","6",null,"504059495","504059506","504495506","059495506","504-059-495","505-050-496","545-090-456","045-590-956"]
["201806270811 17567",null,"1806241140","70257",981,981,"1806241140","70257",20180625104,54184,"54184","5","4","1","8","4",null,"184","184","1","8","4","6","3","9","8","1","5","9","2","6",null,"184639815","184639926","184815926","639815926","168-831-495","169-832-496","189-812-456","689-312-956"]
["201806270810 85344",null,"1806241141","76019",980,980,"1806241141","76019",20180625105,5073,"05073","0","5","0","7","3",null,"073","073","0","7","3","5","2","8","9","2","6","0","3","7",null,"073528926","073528037","073926037","528926037","059-722-386","050-723-387","090-723-367","590-223-867"]
["201806270809 06109",null,"1806241142","94734",979,979,"1806241142","94734",20180625106,9719,"09719","0","9","7","1","9",null,"719","719","7","1","9","2","6","4","2","8","0","3","9","1",null,"719264280","719264391","719280391","264280391","722-168-940","723-169-941","723-189-901","223-689-401"]
["201806270808 93969",null,"1806241143","36114",978,978,"1806241143","36114",20180625107,3411,"03411","0","3","4","1","1",null,"411","411","4","1","1","9","6","6","5","8","8","6","9","9",null,"411966588","411966699","411588699","966588699","495-168-168","496-169-169","456-189-189","956-689-689"]
["201806270807 46637",null,"1806241144","87218",977,977,"1806241144","87218",20180625108,22188,"22188","2","2","1","8","8",null,"188","188","1","8","8","6","3","3","8","1","1","9","2","2",null,"188633811","188633922","188811922","633811922","168-831-831","169-832-832","189-812-812","689-312-312"]
["201806270806 52209",null,"1806241145","29951",976,976,"1806241145","29951",20180625109,23060,"23060","2","3","0","6","0",null,"060","060","0","6","0","5","1","5","9","3","9","0","4","0",null,"060515939","060515040","060939040","515939040","059-613-059","050-614-050","090-634-090","590-134-590"]
["201806270805 77294",null,"1806241146","34246",975,975,"1806241146","34246",20180625110,77436,"77436","7","7","4","3","6",null,"436","436","4","3","6","9","8","1","5","6","3","6","7","4",null,"436981563","436981674","436563674","981563674","495-386-613","496-387-614","456-367-634","956-867-134"]
["201806270804 58144",null,"1806241147","35092",974,974,"1806241147","35092",20180625111,11174,"11174","1","1","1","7","4",null,"174","174","1","7","4","6","2","9","8","2","5","9","3","6",null,"174629825","174629936","174825936","629825936","168-722-495","169-723-496","189-723-456","689-223-956"]
["201806270803 62137",null,"1806241148","46441",973,973,"1806241148","46441",20180625112,69914,"69914","6","9","9","1","4",null,"914","914","9","1","4","4","6","9","0","8","5","1","9","6",null,"914469085","914469196","914085196","469085196","940-168-495","941-169-496","901-189-456","401-689-956"]
["201806270802 28633",null,"1806241149","67765",972,972,"1806241149","67765",20180625113,25548,"25548","2","5","5","4","8",null,"548","548","5","4","8","0","9","3","4","5","1","5","6","2",null,"548093451","548093562","548451562","093451562","504-495-831","505-496-832","545-456-812","045-956-312"]
["201806270801 52235",null,"1806241150","16786",971,971,"1806241150","16786",20180625114,23944,"23944","2","3","9","4","4",null,"944","944","9","4","4","4","9","9","0","5","5","1","6","6",null,"944499055","944499166","944055166","499055166","940-495-495","941-496-496","901-456-456","401-956-956"]
["201806270800 50597",null,"1806241151","02949",970,970,"1806241151","02949",20180625115,78521,"78521","7","8","5","2","1",null,"521","521","5","2","1","0","7","6","4","7","8","5","8","9",null,"521076478","521076589","521478589","076478589","504-277-168","505-278-169","545-278-189","045-778-689"]
["201806270799 43240",null,"1806241152","71755",969,969,"1806241152","71755",20180625116,79487,"79487","7","9","4","8","7",null,"487","487","4","8","7","9","3","2","5","1","2","6","2","3",null,"487932512","487932623","487512623","932512623","495-831-722","496-832-723","456-812-723","956-312-223"]
["201806270798 04443",null,"1806241153","32679",968,968,"1806241153","32679",20180625117,61385,"61385","6","1","3","8","5",null,"385","385","3","8","5","8","3","0","6","1","4","7","2","5",null,"385830614","385830725","385614725","830614725","386-831-504","387-832-505","367-812-545","867-312-045"]
["201806270797 93578",null,"1806241154","16962",967,967,"1806241154","16962",20180625118,63541,"63541","6","3","5","4","1",null,"541","541","5","4","1","0","9","6","4","5","8","5","6","9",null,"541096458","541096569","541458569","096458569","504-495-168","505-496-169","545-456-189","045-956-689"]
["201806270796 85974",null,"1806241155","47074",966,966,"1806241155","47074",20180625119,20389,"20389","2","0","3","8","9",null,"389","389","3","8","9","8","3","4","6","1","0","7","2","1",null,"389834610","389834721","389610721","834610721","386-831-940","387-832-941","367-812-901","867-312-401"]
["201806270795 21700",null,"1806241156","80382",965,965,"1806241156","80382",20180625120,57252,"57252","5","7","2","5","2",null,"252","252","2","5","2","7","0","7","7","4","7","8","5","8",null,"252707747","252707858","252747858","707747858","277-504-277","278-505-278","278-545-278","778-045-778"]
["201806270794 90145",null,"1806241157","76575",964,964,"1806241157","76575",20180626001,39499,"39499","3","9","4","9","9",null,"499","499","4","9","9","9","4","4","5","0","0","6","1","1",null,"499944500","499944611","499500611","944500611","495-940-940","496-941-941","456-901-901","956-401-401"]
["201806270793 20003",null,"1806241158","51433",963,963,"1806241158","51433",20180626002,13905,"13905","1","3","9","0","5",null,"905","905","9","0","5","4","5","0","0","9","4","1","0","5",null,"905450094","905450105","905094105","450094105","940-059-504","941-050-505","901-090-545","401-590-045"]
["201806270792 25059",null,"1806241159","17325",962,962,"1806241159","17325",20180626003,29696,"29696","2","9","6","9","6",null,"696","696","6","9","6","1","4","1","3","0","3","4","1","4",null,"696141303","696141414","696303414","141303414","613-940-613","614-941-614","634-901-634","134-401-134"]
["201806270791 10967",null,"1806241160","50541",961,961,"1806241160","50541",20180626004,81341,"81341","8","1","3","4","1",null,"341","341","3","4","1","8","9","6","6","5","8","7","6","9",null,"341896658","341896769","341658769","896658769","386-495-168","387-496-169","367-456-189","867-956-689"]
["201806270790 87045",null,"1806241161","23371",960,960,"1806241161","23371",20180626005,16842,"16842","1","6","8","4","2",null,"842","842","8","4","2","3","9","7","1","5","7","2","6","8",null,"842397157","842397268","842157268","397157268","831-495-277","832-496-278","812-456-278","312-956-778"]
["201806270789 68696",null,"1806241162","48835",959,959,"1806241162","48835",20180626006,62397,"62397","6","2","3","9","7",null,"397","397","3","9","7","8","4","2","6","0","2","7","1","3",null,"397842602","397842713","397602713","842602713","386-940-722","387-941-723","367-901-723","867-401-223"]
["201806270788 15755",null,"1806241163","44845",958,958,"1806241163","44845",20180626007,87120,"87120","8","7","1","2","0",null,"120","120","1","2","0","6","7","5","8","7","9","9","8","0",null,"120675879","120675980","120879980","675879980","168-277-059","169-278-050","189-278-090","689-778-590"]
["201806270787 72940",null,"1806241164","88052",957,957,"1806241164","88052",20180626008,25009,"25009","2","5","0","0","9",null,"009","009",{"$f":"MID($S47,MID(T$11,1,1),1)","v":"0"},"0","9","5","5","4","9","9","0","0","0","1",null,"009554990","009554001","009990001","554990001","059-059-940","050-050-941","090-090-901","590-590-401"]
["201806270786 81009",null,"1806241165","98351",956,956,"1806241165","98351",20180626009,83855,"83855","8","3","8","5","5",null,"855","855","8","5","5","3","0","0","1","4","4","2","5","5",null,"855300144","855300255","855144255","300144255","831-504-504","832-505-505","812-545-545","312-045-045"]
["201806270785 27471",null,"1806241166","94463",955,955,"1806241166","94463",20180626010,90986,"90986","9","0","9","8","6",null,"986","986","9","8","6","4","3","1","0","1","3","1","2","4",null,"986431013","986431124","986013124","431013124","940-831-613","941-832-614","901-812-634","401-312-134"]
["201806270784 58719",null,"1806241167","75379",954,954,"1806241167","75379",20180626011,92903,"92903","9","2","9","0","3",null,"903","903","9","0","3","4","5","8","0","9","6","1","0","7",null,"903458096","903458107","903096107","458096107","940-059-386","941-050-387","901-090-367","401-590-867"]
["201806270783 44020",null,"1806241168","15812",953,953,"1806241168","15812",20180626012,74001,"74001","7","4","0","0","1",null,"001","001","0","0","1","5","5","6","9","9","8","0","0","9",null,"001556998","001556009","001998009","556998009","059-059-168","050-050-169","090-090-189","590-590-689"]
["201806270782 22503",null,"1806241169","85501",952,952,"1806241169","85501",20180626013,85839,"85839","8","5","8","3","9",null,"839","839","8","3","9","3","8","4","1","6","0","2","7","1",null,"839384160","839384271","839160271","384160271","831-386-940","832-387-941","812-367-901","312-867-401"]
["201806270781 20453",null,"1806241170","21721",951,951,"1806241170","21721",20180626014,20740,"20740","2","0","7","4","0",null,"740","740","7","4","0","2","9","5","2","5","9","3","6","0",null,"740295259","740295360","740259360","295259360","722-495-059","723-496-050","723-456-090","223-956-590"]
["201806270780 78988",null,"1806241171","15787",950,950,"1806241171","15787",20180626015,68554,"68554","6","8","5","5","4",null,"554","554","5","5","4","0","0","9","4","4","5","5","5","6",null,"554009445","554009556","554445556","009445556","504-504-495","505-505-496","545-545-456","045-045-956"]
["201806270779 91203",null,"1806241172","58399",949,949,"1806241172","58399",20180626016,66371,"66371","6","6","3","7","1",null,"371","371","3","7","1","8","2","6","6","2","8","7","3","9",null,"371826628","371826739","371628739","826628739","386-722-168","387-723-169","367-723-189","867-223-689"]
["201806270778 89109",null,"1806241173","21622",948,948,"1806241173","21622",20180626017,23580,"23580","2","3","5","8","0",null,"580","580","5","8","0","0","3","5","4","1","9","5","2","0",null,"580035419","580035520","580419520","035419520","504-831-059","505-832-050","545-812-090","045-312-590"]
["201806270777 33543",null,"1806241174","88594",947,947,"1806241174","88594",20180626018,45728,"45728","4","5","7","2","8",null,"728","728","7","2","8","2","7","3","2","7","1","3","8","2",null,"728273271","728273382","728271382","273271382","722-277-831","723-278-832","723-278-812","223-778-312"]
["201806270776 00240",null,"1806241175","90085",946,946,"1806241175","90085",20180626019,34594,"34594","3","4","5","9","4",null,"594","594","5","9","4","0","4","9","4","0","5","5","1","6",null,"594049405","594049516","594405516","049405516","504-940-495","505-941-496","545-901-456","045-401-956"]
["201806270775 14035",null,"1806241176","35579",945,945,"1806241176","35579",20180626020,1536,"01536","0","1","5","3","6",null,"536","536","5","3","6","0","8","1","4","6","3","5","7","4",null,"536081463","536081574","536463574","081463574","504-386-613","505-387-614","545-367-634","045-867-134"]
["201806270774 46427",null,"1806241177","35426",944,944,"1806241177","35426",20180626021,69578,"69578","6","9","5","7","8",null,"578","578","5","7","8","0","2","3","4","2","1","5","3","2",null,"578023421","578023532","578421532","023421532","504-722-831","505-723-832","545-723-812","045-223-312"]
["201806270773 87795",null,"1806241178","77649",943,943,"1806241178","77649",20180626022,15464,"15464","1","5","4","6","4",null,"464","464","4","6","4","9","1","9","5","3","5","6","4","6",null,"464919535","464919646","464535646","919535646","495-613-495","496-614-496","456-634-456","956-134-956"]
["201806270772 32294",null,"1806241179","13268",942,942,"1806241179","13268",20180626023,65746,"65746","6","5","7","4","6",null,"746","746","7","4","6","2","9","1","2","5","3","3","6","4",null,"746291253","746291364","746253364","291253364","722-495-613","723-496-614","723-456-634","223-956-134"]
["201806270771 49188",null,"1806241180","84185",941,941,"1806241180","84185",20180626024,38593,"38593","3","8","5","9","3",null,"593","593","5","9","3","0","4","8","4","0","6","5","1","7",null,"593048406","593048517","593406517","048406517","504-940-386","505-941-387","545-901-367","045-401-867"]
["201806270770 11586",null,"1806241181","79759",940,940,"1806241181","79759",20180626025,57133,"57133","5","7","1","3","3",null,"133","133","1","3","3","6","8","8","8","6","6","9","7","7",null,"133688866","133688977","133866977","688866977","168-386-386","169-387-387","189-367-367","689-867-867"]
["201806270769 60978",null,"1806241182","25987",939,939,"1806241182","25987",20180626026,45878,"45878","4","5","8","7","8",null,"878","878","8","7","8","3","2","3","1","2","1","2","3","2",null,"878323121","878323232","878121232","323121232","831-722-831","832-723-832","812-723-812","312-223-312"]
["201806270768 28831",null,{"$f":"IF(E66>=0,MID(OFFSET($A$1,E66,),3,D$1-3),\"\")","v":"1806241183"},{"$f":"IF(E66>=0,MID(OFFSET($A$1,E66,),D$1+1,5),\"\")","v":"85276"},{"$f":"E67+1","v":938},938,{"$f":"IF(E66>=0,MID(OFFSET($A$1,F66,),3,D$1-3),\"\")","v":"1806241183"},{"$f":"IF(E66>=0,MID(OFFSET($A$1,F66,),D$1+1,5),\"\")","v":"85276"},20180626027,18095,"18095","1","8","0","9","5",null,"095","095","0","9","5","5","4","0","9","0","4","0","1","5",null,"095540904","095540015","095904015","540904015","059-940-504","050-941-505","090-901-545","590-401-045"]
["201806270767 03822",null,"1806241184","84255",937,937,"1806241184","84255",20180626028,79389,{"$f":"IF(J67=\"\",\"\",TEXT(J67,\"00000\"))","v":"79389"},{"$f":"MID($K67,1,1)","v":"7"},{"$f":"MID(K67,2,1)","v":"9"},{"$f":"MID(K67,3,1)","v":"3"},{"$f":"MID(K67,4,1)","v":"8"},{"$f":"MID(K67,5,1)","v":"9"},null,"389","389","3","8","9","8","3","4","6","1","0","7","2","1",null,"389834610","389834721","389610721","834610721","386-831-940","387-832-941","367-812-901","867-312-401"]
["201806270766 18890",null,"1806241185","11500",936,936,"1806241185","11500",20180626029,55237,"55237","5","5","2","3","7",null,"237","237","2","3","7","7","8","2","7","6","2","8","7","3",null,"237782762","237782873","237762873","782762873","277-386-722","278-387-723","278-367-723","778-867-223"]
["201806270765 36801",null,"1806241186","10516",935,935,"1806241186","10516",20180626030,32602,"32602","3","2","6","0","2",null,"602","602","6","0","2","1","5","7","3","9","7","4","0","8",null,"602157397","602157408","602397408","157397408","613-059-277","614-050-278","634-090-278","134-590-778"]
["201806270764 51824",null,"1806241187","69475",934,934,"1806241187","69475",20180626031,39698,"39698","3","9","6","9","8",null,"698","698","6","9","8","1","4","3","3","0","1","4","1","2",null,"698143301","698143412","698301412","143301412","613-940-831","614-941-832","634-901-812","134-401-312"]
["201806270763 30930",null,"1806241188","63748",933,933,"1806241188","63748",20180626032,5587,"05587","0","5","5","8","7",null,"587","587","5","8","7","0","3","2","4","1","2","5","2","3",null,"587032412","587032523","587412523","032412523","504-831-722","505-832-723","545-812-723","045-312-223"]
["201806270762 46510",null,"1806241189","97473",932,932,"1806241189","97473",20180626033,47417,"47417","4","7","4","1","7",null,"417","417","4","1","7","9","6","2","5","8","2","6","9","3",null,"417962582","417962693","417582693","962582693","495-168-722","496-169-723","456-189-723","956-689-223"]
["201806270761 44724",null,"1806241190","62796",931,931,"1806241190","62796",20180626034,13477,"13477","1","3","4","7","7",null,"477","477","4","7","7","9","2","2","5","2","2","6","3","3",null,"477922522","477922633","477522633","922522633","495-722-722","496-723-723","456-723-723","956-223-223"]
["201806270760 20613",null,"1806241191","57256",930,930,"1806241191","57256",20180626035,60978,"60978","6","0","9","7","8",null,"978","978","9","7","8","4","2","3","0","2","1","1","3","2",null,"978423021","978423132","978021132","423021132","940-722-831","941-723-832","901-723-812","401-223-312"]
["201806270759 26256",null,"1806241192","23711",929,929,"1806241192","23711",20180626036,3328,"03328","0","3","3","2","8",null,"328","328","3","2","8","8","7","3","6","7","1","7","8","2",null,"328873671","328873782","328671782","873671782","386-277-831","387-278-832","367-278-812","867-778-312"]
["201806270758 76810",null,"1806241193","48148",928,928,"1806241193","48148",20180626037,6477,"06477","0","6","4","7","7",null,"477","477","4","7","7","9","2","2","5","2","2","6","3","3",null,"477922522","477922633","477522633","922522633","495-722-722","496-723-723","456-723-723","956-223-223"]
["201806270757 76442",null,"1806241194","98790",927,927,"1806241194","98790",20180626038,90334,"90334","9","0","3","3","4",null,{"$f":"IF(R$213=\"胆码\",MID($K77,MID(S$213,1,1),1)&MID($K77,MID(S$213,2,1),1)&MID($K77,MID(S$213,3,1),1),IF(R$213=\"任合\",RIGHT(MID($K77,MID(S$213,1,1),1)+MID($K77,MID(S$213,2,1),1))&RIGHT(MID($K77,MID(S$213,1,1),1)+MID($K77,MID(S$213,3,1),1))&RIGHT(MID($K77,MID(S$213,2,1),1)+MID($K77,MID(S$213,3,1),1)),IF(R$213=\"任差\",RIGHT(MID($K77,MID(S$213,1,1),1)-MID($K77,MID(S$213,2,1),1))&RIGHT(MID($K77,MID(S$213,1,1),1)-MID($K77,MID(S$213,3,1),1))&RIGHT(MID($K77,MID(S$213,2,1),1)-MID($K77,MID(S$213,3,1),1)),IF(R$213=\"任积\",RIGHT(MID($K77,MID(S$213,1,1),1)*MID($K77,MID(S$213,2,1),1))&RIGHT(MID($K77,MID(S$213,1,1),1)*MID($K77,MID(S$213,3,1),1))&RIGHT(MID($K77,MID(S$213,2,1),1)*MID($K77,MID(S$213,3,1),1)),IF(R$213=\"位合\",RIGHT(MID($K77,MID(S$213,1,1),1)+MID($K76,MID(S$213,1,1),1))&RIGHT(MID($K77,MID(S$213,2,1),1)+MID($K76,MID(S$213,2,1),1))&RIGHT(MID($K77,MID(S$213,3,1),1)+MID($K76,MID(S$213,3,1),1)),IF(R$213=\"位差\",RIGHT(MID($K77,MID(S$213,1,1),1)-MID($K76,MID(S$213,1,1),1))&RIGHT(MID($K77,MID(S$213,2,1),1)-MID($K76,MID(S$213,2,1),1))&RIGHT(MID($K77,MID(S$213,3,1),1)-MID($K76,MID(S$213,3,1),1)),IF(R$213=\"位积\",RIGHT(MID($K77,MID(S$213,1,1),1)*MID($K76,MID(S$213,1,1),1))&RIGHT(MID($K77,MID(S$213,2,1),1)*MID($K76,MID(S$213,2,1),1))&RIGHT(MID($K77,MID(S$213,3,1),1)*MID($K76,MID(S$213,3,1),1)))))))))","v":"334"},{"$f":"R77","v":"334"},"3","3","4","8","8","9","6","6","5","7","7","6",null,"334889665","334889776","334665776","889665776","386-386-495","387-387-496","367-367-456","867-867-956"]
["201806270756 31086",null,"1806241195","51477",926,926,"1806241195","51477",20180626039,40109,"40109","4","0","1","0","9",null,"109","109","1","0","9","6","5","4","8","9","0","9","0","1",null,"109654890","109654901","109890901","654890901","168-059-940","169-050-941","189-090-901","689-590-401"]
["201806270755 55277",null,"1806241196","17251",925,925,"1806241196","17251",20180626040,27697,"27697","2","7","6","9","7",null,"697","697",{"$f":"MID($S79,MID(T$11,1,1),1)","v":"6"},"9","7",{"$f":"RIGHT(T79+5)","v":"1"},{"$f":"RIGHT(U79+5)","v":"4"},{"$f":"RIGHT(V79+5)","v":"2"},{"$f":"RIGHT(9-T79)","v":"3"},{"$f":"RIGHT(9-U79)","v":"0"},{"$f":"RIGHT(9-V79)","v":"2"},{"$f":"RIGHT(10-T79)","v":"4"},{"$f":"RIGHT(10-U79)","v":"1"},{"$f":"RIGHT(10-V79)","v":"3"},null,"697142302","697142413","697302413","142302413",{"$f":"T79&W79&Z79&\"-\"&U79&X79&AA79&\"-\"&V79&Y79&AB79","v":"613-940-722"},{"$f":"T79&W79&AC79&\"-\"&U79&X79&AD79&\"-\"&V79&Y79&AE79","v":"614-941-723"},{"$f":"T79&Z79&AC79&\"-\"&U79&AA79&AD79&\"-\"&V79&AB79&AE79","v":"634-901-723"},{"$f":"W79&Z79&AC79&\"-\"&X79&AA79&AD79&\"-\"&Y79&AB79&AE79","v":"134-401-223"}]
["201806270754 03017",null,"1806241197","92287",924,924,"1806241197","92287",20180626041,97205,"97205","9","7","2","0","5",null,"205","205","2","0","5","7","5","0","7","9","4","8","0","5",null,"205750794","205750805","205794805","750794805","277-059-504","278-050-505","278-090-545","778-590-045"]
["201806270753 67022",null,"1806241198","05878",923,923,"1806241198","05878",20180626042,46416,"46416","4","6","4","1","6",null,"416","416","4","1","6","9","6","1","5","8","3","6","9","4",null,"416961583","416961694","416583694","961583694","495-168-613","496-169-614","456-189-634","956-689-134"]
["201806270752 81380",null,"1806241199","54347",922,922,"1806241199","54347",20180626043,34686,"34686","3","4","6","8","6",null,"686","686","6","8","6","1","3","1","3","1","3","4","2","4",null,{"$f":"T82&U82&V82&W82&X82&Y82&Z82&AA82&AB82","v":"686131313"},{"$f":"T82&U82&V82&W82&X82&Y82&AC82&AD82&AE82","v":"686131424"},{"$f":"T82&U82&V82&Z82&AA82&AB82&AC82&AD82&AE82","v":"686313424"},{"$f":"W82&X82&Y82&Z82&AA82&AB82&AC82&AD82&AE82","v":"131313424"},"613-831-613","614-832-614","634-812-634","134-312-134"]
["201806270751 56649",null,"1806241200","74714",921,921,"1806241200","74714",20180626044,96823,"96823","9","6","8","2","3",null,"823","823","8","2","3","3","7","8","1","7","6","2","8","7",null,"823378176","823378287","823176287","378176287","831-277-386","832-278-387","812-278-367","312-778-867"]
["201806270750 91766",null,"1806241201","22533",920,920,"1806241201","22533",20180626045,69169,"69169","6","9","1","6","9",null,"169","169","1","6","9","6","1","4","8","3","0","9","4","1",null,"169614830","169614941","169830941","614830941","168-613-940","169-614-941","189-634-901","689-134-401"]
["201806270749 58220",null,"1806241202","18873",919,919,"1806241202","18873",20180626046,52567,"52567","5","2","5","6","7",null,"567","567","5","6","7","0","1","2","4","3","2","5","4","3",null,"567012432","567012543","567432543","012432543","504-613-722","505-614-723","545-634-723","045-134-223"]
["201806270748 44123",null,"1806241203","34954",918,918,"1806241203","34954",20180626047,65637,"65637","6","5","6","3","7",null,"637","637","6","3","7","1","8","2","3","6","2","4","7","3",null,"637182362","637182473","637362473","182362473","613-386-722","614-387-723","634-367-723","134-867-223"]
["201806270747 39619",null,"1806241204","54627",917,917,"1806241204","54627",20180626048,11301,"11301","1","1","3","0","1",null,"301","301","3","0","1","8","5","6","6","9","8","7","0","9",null,"301856698","301856709","301698709","856698709","386-059-168","387-050-169","367-090-189","867-590-689"]
["201806270746 23476",null,"1806241205","44586",916,916,"1806241205","44586",20180626049,88712,"88712","8","8","7","1","2",null,"712","712","7","1","2","2","6","7","2","8","7","3","9","8",null,"712267287","712267398","712287398","267287398","722-168-277","723-169-278","723-189-278","223-689-778"]
["201806270745 96177",null,"1806241206","28774",915,915,"1806241206","28774",20180626050,99819,"99819","9","9","8","1","9",null,"819","819","8","1","9","3","6","4","1","8","0","2","9","1",null,"819364180","819364291","819180291","364180291","831-168-940","832-169-941","812-189-901","312-689-401"]
["201806270744 08854",null,"1806241207","15426",914,914,"1806241207","15426",20180626051,55714,"55714","5","5","7","1","4",null,"714","714","7","1","4","2","6","9","2","8","5","3","9","6",null,"714269285","714269396","714285396","269285396","722-168-495","723-169-496","723-189-456","223-689-956"]
["201806270743 08125",null,"1806241208","48203",913,913,"1806241208","48203",20180626052,48812,"48812","4","8","8","1","2",null,"812","812","8","1","2","3","6","7","1","8","7","2","9","8",null,"812367187","812367298","812187298","367187298","831-168-277","832-169-278","812-189-278","312-689-778"]
["201806270742 52664",null,"1806241209","01186",912,912,"1806241209","01186",20180626053,46772,"46772","4","6","7","7","2",null,"772","772","7","7","2","2","2","7","2","2","7","3","3","8",null,"772227227","772227338","772227338","227227338","722-722-277","723-723-278","723-723-278","223-223-778"]
["201806270741 66263",null,"1806241210","43911",911,911,"1806241210","43911",20180626054,77899,"77899","7","7","8","9","9",null,"899","899","8","9","9","3","4","4","1","0","0","2","1","1",null,"899344100","899344211","899100211","344100211","831-940-940","832-941-941","812-901-901","312-401-401"]
["201806270740 45965",null,"1806241211","89174",910,910,"1806241211","89174",20180626055,80687,"80687","8","0","6","8","7",null,"687","687","6","8","7","1","3","2","3","1","2","4","2","3",null,"687132312","687132423","687312423","132312423","613-831-722","614-832-723","634-812-723","134-312-223"]
["201806270739 20793",null,"1806241212","93093",909,909,"1806241212","93093",20180626056,9300,"09300","0","9","3","0","0",null,"300","300","3","0","0","8","5","5","6","9","9","7","0","0",null,"300855699","300855700","300699700","855699700","386-059-059","387-050-050","367-090-090","867-590-590"]
["201806270738 95576",null,"1806241213","66496",908,908,"1806241213","66496",20180626057,41234,"41234","4","1","2","3","4",null,"234","234","2","3","4","7","8","9","7","6","5","8","7","6",null,"234789765","234789876","234765876","789765876","277-386-495","278-387-496","278-367-456","778-867-956"]
["201806270737 57414",null,"1806241214","69550",907,907,"1806241214","69550",20180626058,83781,"83781","8","3","7","8","1",null,"781","781","7","8","1","2","3","6","2","1","8","3","2","9",null,"781236218","781236329","781218329","236218329","722-831-168","723-832-169","723-812-189","223-312-689"]
["201806270736 92979",null,"1806241215","24366",906,906,"1806241215","24366",20180626059,93161,"93161","9","3","1","6","1",null,"161","161","1","6","1","6","1","6","8","3","8","9","4","9",null,"161616838","161616949","161838949","616838949","168-613-168","169-614-169","189-634-189","689-134-689"]
["201806270735 18818",null,"1806241216","85276",905,905,"1806241216","85276",20180626060,39249,"39249","3","9","2","4","9",null,"249","249","2","4","9","7","9","4","7","5","0","8","6","1",null,"249794750","249794861","249750861","794750861","277-495-940","278-496-941","278-456-901","778-956-401"]
["201806270734 85484",null,"1806241217","74352",904,904,"1806241217","74352",20180626061,92294,"92294","9","2","2","9","4",null,"294","294","2","9","4","7","4","9","7","0","5","8","1","6",null,"294749705","294749816","294705816","749705816","277-940-495","278-941-496","278-901-456","778-401-956"]
["201806270733 65469",null,"1806241218","76282",903,903,"1806241218","76282",20180626062,68889,"68889","6","8","8","8","9",null,"889","889","8","8","9","3","3","4","1","1","0","2","2","1",null,"889334110","889334221","889110221","334110221","831-831-940","832-832-941","812-812-901","312-312-401"]
["201806270732 32423",null,"1806241219","98113",902,902,"1806241219","98113",20180626063,75093,"75093","7","5","0","9","3",null,"093","093","0","9","3","5","4","8","9","0","6","0","1","7",null,"093548906","093548017","093906017","548906017","059-940-386","050-941-387","090-901-367","590-401-867"]
["201806270731 73360",null,"1806241220","25266",901,901,"1806241220","25266",20180626064,71464,"71464","7","1","4","6","4",null,"464","464","4","6","4","9","1","9","5","3","5","6","4","6",null,"464919535","464919646","464535646","919535646","495-613-495","496-614-496","456-634-456","956-134-956"]
["201806270730 12179",null,"1806241221","95761",900,900,"1806241221","95761",20180626065,13702,"13702","1","3","7","0","2",null,"702","702","7","0","2","2","5","7","2","9","7","3","0","8",null,"702257297","702257308","702297308","257297308","722-059-277","723-050-278","723-090-278","223-590-778"]
["201806270729 57131",null,"1806241222","79425",899,899,"1806241222","79425",20180626066,76871,"76871","7","6","8","7","1",null,"871","871","8","7","1","3","2","6","1","2","8","2","3","9",null,"871326128","871326239","871128239","326128239","831-722-168","832-723-169","812-723-189","312-223-689"]
["201806270728 56122",null,"1806241223","16472",898,898,"1806241223","16472",20180626067,49568,"49568","4","9","5","6","8",null,"568","568","5","6","8","0","1","3","4","3","1","5","4","2",null,"568013431","568013542","568431542","013431542","504-613-831","505-614-832","545-634-812","045-134-312"]
["201806270727 98926",null,"1806241224","10403",897,897,"1806241224","10403",20180626068,69229,"69229","6","9","2","2","9",null,"229","229","2","2","9","7","7","4","7","7","0","8","8","1",null,"229774770","229774881","229770881","774770881","277-277-940","278-278-941","278-278-901","778-778-401"]
["201806270726 92221",null,"1806241225","05597",896,896,"1806241225","05597",20180626069,8497,"08497","0","8","4","9","7",null,"497","497","4","9","7","9","4","2","5","0","2","6","1","3",null,"497942502","497942613","497502613","942502613","495-940-722","496-941-723","456-901-723","956-401-223"]
["201806270725 79700",null,"1806241226","22895",895,895,"1806241226","22895",20180626070,61539,"61539","6","1","5","3","9",null,"539","539","5","3","9","0","8","4","4","6","0","5","7","1",null,"539084460","539084571","539460571","084460571","504-386-940","505-387-941","545-367-901","045-867-401"]
["201806270724 22424",null,"1806241227","99162",894,894,"1806241227","99162",20180626071,26245,"26245","2","6","2","4","5",null,"245","245","2","4","5","7","9","0","7","5","4","8","6","5",null,"245790754","245790865","245754865","790754865","277-495-504","278-496-505","278-456-545","778-956-045"]
["201806270723 47014",null,"1806241228","44491",893,893,"1806241228","44491",20180626072,59720,"59720","5","9","7","2","0",null,"720","720",{"$f":"MID($S111,MID(T$11,1,1),1)","v":"7"},"2","0","2","7","5","2","7","9","3","8","0",null,"720275279","720275380","720279380","275279380","722-277-059","723-278-050","723-278-090","223-778-590"]
["201806270722 62802",null,"1806241229","81970",892,892,"1806241229","81970",20180626073,71981,"71981","7","1","9","8","1",null,"981","981","9","8","1","4","3","6","0","1","8","1","2","9",null,"981436018","981436129","981018129","436018129","940-831-168","941-832-169","901-812-189","401-312-689"]
["201806270721 58740",null,"1806241230","28873",891,891,"1806241230","28873",20180626074,7442,"07442","0","7","4","4","2",null,"442","442","4","4","2","9","9","7","5","5","7","6","6","8",null,"442997557","442997668","442557668","997557668","495-495-277","496-496-278","456-456-278","956-956-778"]
["201806270720 61921",null,"1806241231","62721",890,890,"1806241231","62721",20180626075,47777,"47777","4","7","7","7","7",null,"777","777","7","7","7","2","2","2","2","2","2","3","3","3",null,"777222222","777222333","777222333","222222333","722-722-722","723-723-723","723-723-723","223-223-223"]
["201806270719 22780",null,"1806241232","99169",889,889,"1806241232","99169",20180626076,43602,"43602","4","3","6","0","2",null,"602","602","6","0","2","1","5","7","3","9","7","4","0","8",null,"602157397","602157408","602397408","157397408","613-059-277","614-050-278","634-090-278","134-590-778"]
["201806270718 42325",null,"1806241233","67322",888,888,"1806241233","67322",20180626077,53914,"53914","5","3","9","1","4",null,"914","914","9","1","4","4","6","9","0","8","5","1","9","6",null,"914469085","914469196","914085196","469085196","940-168-495","941-169-496","901-189-456","401-689-956"]
["201806270717 32459",null,"1806241234","91718",887,887,"1806241234","91718",20180626078,84253,"84253","8","4","2","5","3",null,"253","253","2","5","3","7","0","8","7","4","6","8","5","7",null,"253708746","253708857","253746857","708746857","277-504-386","278-505-387","278-545-367","778-045-867"]
["201806270716 03719",null,"1806241235","50465",886,886,"1806241235","50465",20180626079,19056,"19056","1","9","0","5","6",null,"056","056","0","5","6","5","0","1","9","4","3","0","5","4",null,"056501943","056501054","056943054","501943054","059-504-613","050-505-614","090-545-634","590-045-134"]
["201806270715 98062",null,"1806241236","96752",885,885,"1806241236","96752",20180626080,26306,{"$f":"IF(J119=\"\",\"\",TEXT(J119,\"00000\"))","v":"26306"},{"$f":"MID($K119,1,1)","v":"2"},{"$f":"MID(K119,2,1)","v":"6"},{"$f":"MID(K119,3,1)","v":"3"},{"$f":"MID(K119,4,1)","v":"0"},{"$f":"MID(K119,5,1)","v":"6"},null,"306","306","3","0","6","8","5","1","6","9","3","7","0","4",null,"306851693","306851704","306693704","851693704","386-059-613","387-050-614","367-090-634","867-590-134"]
["201806270714 40052",null,"1806241237","34721",884,884,"1806241237","34721",20180626081,82209,{"$f":"IF(J120=\"\",\"\",TEXT(J120,\"00000\"))","v":"82209"},{"$f":"MID($K120,1,1)","v":"8"},{"$f":"MID(K120,2,1)","v":"2"},{"$f":"MID(K120,3,1)","v":"2"},{"$f":"MID(K120,4,1)","v":"0"},{"$f":"MID(K120,5,1)","v":"9"},null,"209","209","2","0","9","7","5","4","7","9","0","8","0","1",null,"209754790","209754801","209790801","754790801","277-059-940","278-050-941","278-090-901","778-590-401"]
["201806270713 92702",null,"1806241238","73186",883,883,"1806241238","73186",20180626082,58825,"58825","5","8","8","2","5",null,"825","825","8","2","5","3","7","0","1","7","4","2","8","5",null,"825370174","825370285","825174285","370174285","831-277-504","832-278-505","812-278-545","312-778-045"]
["201806270712 06403",null,"1806241239","96085",882,882,"1806241239","96085",20180626083,39703,"39703","3","9","7","0","3",null,"703","703","7","0","3","2","5","8","2","9","6","3","0","7",null,"703258296","703258307","703296307","258296307","722-059-386","723-050-387","723-090-367","223-590-867"]
["201806270711 70765",null,"1806241240","75895",881,881,"1806241240","75895",20180626084,63531,"63531","6","3","5","3","1",null,"531","531","5","3","1","0","8","6","4","6","8","5","7","9",null,"531086468","531086579","531468579","086468579","504-386-168","505-387-169","545-367-189","045-867-689"]
["201806270710 88168",null,"1806241241","90279",880,880,"1806241241","90279",20180626085,16205,"16205","1","6","2","0","5",null,"205","205","2","0","5","7","5","0","7","9","4","8","0","5",null,"205750794","205750805","205794805","750794805","277-059-504","278-050-505","278-090-545","778-590-045"]
["201806270709 76743",null,"1806241242","60325",879,879,"1806241242","60325",20180626086,80743,"80743","8","0","7","4","3",null,"743","743","7","4","3","2","9","8","2","5","6","3","6","7",null,"743298256","743298367","743256367","298256367","722-495-386","723-496-387","723-456-367","223-956-867"]
["201806270708 16341",null,"1806241243","72047",878,878,"1806241243","72047",20180626087,13767,"13767","1","3","7","6","7",null,"767","767","7","6","7","2","1","2","2","3","2","3","4","3",null,"767212232","767212343","767232343","212232343","722-613-722","723-614-723","723-634-723","223-134-223"]
["201806270707 85177",null,"1806241244","10012",877,877,"1806241244","10012",20180626088,71202,"71202","7","1","2","0","2",null,"202","202","2","0","2","7","5","7","7","9","7","8","0","8",null,"202757797","202757808","202797808","757797808","277-059-277","278-050-278","278-090-278","778-590-778"]
["201806270706 72608",null,"1806241245","73289",876,876,"1806241245","73289",20180626089,32877,"32877","3","2","8","7","7",null,"877","877","8","7","7","3","2","2","1","2","2","2","3","3",null,"877322122","877322233","877122233","322122233","831-722-722","832-723-723","812-723-723","312-223-223"]
["201806270705 45918",null,"1806241246","18361",875,875,"1806241246","18361",20180626090,6136,"06136","0","6","1","3","6",null,"136","136","1","3","6","6","8","1","8","6","3","9","7","4",null,"136681863","136681974","136863974","681863974","168-386-613","169-387-614","189-367-634","689-867-134"]
["201806270704 77097",null,{"$f":"IF(E130>=0,MID(OFFSET($A$1,E130,),3,D$1-3),\"\")","v":"1806241247"},{"$f":"IF(E130>=0,MID(OFFSET($A$1,E130,),D$1+1,5),\"\")","v":"54463"},{"$f":"E131+1","v":874},874,{"$f":"IF(E130>=0,MID(OFFSET($A$1,F130,),3,D$1-3),\"\")","v":"1806241247"},{"$f":"IF(E130>=0,MID(OFFSET($A$1,F130,),D$1+1,5),\"\")","v":"54463"},20180626091,48320,"48320","4","8","3","2","0",null,"320","320","3","2","0","8","7","5","6","7","9","7","8","0",null,"320875679","320875780","320679780","875679780","386-277-059","387-278-050","367-278-090","867-778-590"]
["201806270703 58366",null,"1806241248","02437",873,873,"1806241248","02437",20180626092,10644,"10644","1","0","6","4","4",null,"644","644","6","4","4","1","9","9","3","5","5","4","6","6",null,"644199355","644199466","644355466","199355466","613-495-495","614-496-496","634-456-456","134-956-956"]
["201806270702 05895",null,"1806241249","72124",872,872,"1806241249","72124",20180626093,76231,"76231","7","6","2","3","1",null,"231","231","2","3","1","7","8","6","7","6","8","8","7","9",null,"231786768","231786879","231768879","786768879","277-386-168","278-387-169","278-367-189","778-867-689"]
["201806270701 92827",null,"1806241250","77463",871,871,"1806241250","77463",20180626094,60114,"60114","6","0","1","1","4",null,"114","114","1","1","4","6","6","9","8","8","5","9","9","6",null,"114669885","114669996","114885996","669885996","168-168-495","169-169-496","189-189-456","689-689-956"]
["201806270700 77217",null,"1806241251","05062",870,870,"1806241251","05062",20180626095,38094,"38094","3","8","0","9","4",null,"094","094","0","9","4","5","4","9","9","0","5","0","1","6",null,"094549905","094549016","094905016","549905016","059-940-495","050-941-496","090-901-456","590-401-956"]
["201806270699 47472",null,"1806241252","53001",869,869,"1806241252","53001",20180626096,31938,"31938","3","1","9","3","8",null,"938","938","9","3","8","4","8","3","0","6","1","1","7","2",null,"938483061","938483172","938061172","483061172","940-386-831","941-387-832","901-367-812","401-867-312"]
["201806270698 51503",null,"1806241253","90937",868,868,"1806241253","90937",20180626097,40872,"40872","4","0","8","7","2",null,"872","872","8","7","2","3","2","7","1","2","7","2","3","8",null,"872327127","872327238","872127238","327127238","831-722-277","832-723-278","812-723-278","312-223-778"]
["201806270697 46906",null,"1806241254","74389",867,867,"1806241254","74389",20180626098,63547,"63547","6","3","5","4","7",null,"547","547","5","4","7","0","9","2","4","5","2","5","6","3",null,"547092452","547092563","547452563","092452563","504-495-722","505-496-723","545-456-723","045-956-223"]
["201806270696 72775",null,"1806241255","21749",866,866,"1806241255","21749",20180626099,39427,"39427","3","9","4","2","7",null,"427","427","4","2","7","9","7","2","5","7","2","6","8","3",null,"427972572","427972683","427572683","972572683","495-277-722","496-278-723","456-278-723","956-778-223"]
["201806270695 71155",null,"1806241256","20366",865,865,"1806241256","20366",20180626100,26760,"26760","2","6","7","6","0",null,"760","760","7","6","0","2","1","5","2","3","9","3","4","0",null,"760215239","760215340","760239340","215239340","722-613-059","723-614-050","723-634-090","223-134-590"]
["201806270694 55010",null,"1806241257","23534",864,864,"1806241257","23534",20180626101,57215,"57215","5","7","2","1","5",null,"215","215","2","1","5","7","6","0","7","8","4","8","9","5",null,"215760784","215760895","215784895","760784895","277-168-504","278-169-505","278-189-545","778-689-045"]
["201806270693 74911",null,"1806241258","28771",863,863,"1806241258","28771",20180626102,2045,"02045","0","2","0","4","5",null,{"$f":"IF(R$213=\"胆码\",MID($K141,MID(S$213,1,1),1)&MID($K141,MID(S$213,2,1),1)&MID($K141,MID(S$213,3,1),1),IF(R$213=\"任合\",RIGHT(MID($K141,MID(S$213,1,1),1)+MID($K141,MID(S$213,2,1),1))&RIGHT(MID($K141,MID(S$213,1,1),1)+MID($K141,MID(S$213,3,1),1))&RIGHT(MID($K141,MID(S$213,2,1),1)+MID($K141,MID(S$213,3,1),1)),IF(R$213=\"任差\",RIGHT(MID($K141,MID(S$213,1,1),1)-MID($K141,MID(S$213,2,1),1))&RIGHT(MID($K141,MID(S$213,1,1),1)-MID($K141,MID(S$213,3,1),1))&RIGHT(MID($K141,MID(S$213,2,1),1)-MID($K141,MID(S$213,3,1),1)),IF(R$213=\"任积\",RIGHT(MID($K141,MID(S$213,1,1),1)*MID($K141,MID(S$213,2,1),1))&RIGHT(MID($K141,MID(S$213,1,1),1)*MID($K141,MID(S$213,3,1),1))&RIGHT(MID($K141,MID(S$213,2,1),1)*MID($K141,MID(S$213,3,1),1)),IF(R$213=\"位合\",RIGHT(MID($K141,MID(S$213,1,1),1)+MID($K140,MID(S$213,1,1),1))&RIGHT(MID($K141,MID(S$213,2,1),1)+MID($K140,MID(S$213,2,1),1))&RIGHT(MID($K141,MID(S$213,3,1),1)+MID($K140,MID(S$213,3,1),1)),IF(R$213=\"位差\",RIGHT(MID($K141,MID(S$213,1,1),1)-MID($K140,MID(S$213,1,1),1))&RIGHT(MID($K141,MID(S$213,2,1),1)-MID($K140,MID(S$213,2,1),1))&RIGHT(MID($K141,MID(S$213,3,1),1)-MID($K140,MID(S$213,3,1),1)),IF(R$213=\"位积\",RIGHT(MID($K141,MID(S$213,1,1),1)*MID($K140,MID(S$213,1,1),1))&RIGHT(MID($K141,MID(S$213,2,1),1)*MID($K140,MID(S$213,2,1),1))&RIGHT(MID($K141,MID(S$213,3,1),1)*MID($K140,MID(S$213,3,1),1)))))))))","v":"045"},{"$f":"R141","v":"045"},"0","4","5","5","9","0","9","5","4","0","6","5",null,"045590954","045590065","045954065","590954065","059-495-504","050-496-505","090-456-545","590-956-045"]
["201806270692 82451",null,"1806241259","81340",862,862,"1806241259","81340",20180626103,23478,"23478","2","3","4","7","8",null,"478","478","4","7","8","9","2","3","5","2","1","6","3","2",null,"478923521","478923632","478521632","923521632","495-722-831","496-723-832","456-723-812","956-223-312"]
["201806270691 92771",null,"1806241260","58493",861,861,"1806241260","58493",20180626104,76184,"76184","7","6","1","8","4",null,"184","184",{"$f":"MID($S143,MID(T$11,1,1),1)","v":"1"},"8","4",{"$f":"RIGHT(T143+5)","v":"6"},{"$f":"RIGHT(U143+5)","v":"3"},{"$f":"RIGHT(V143+5)","v":"9"},{"$f":"RIGHT(9-T143)","v":"8"},{"$f":"RIGHT(9-U143)","v":"1"},{"$f":"RIGHT(9-V143)","v":"5"},{"$f":"RIGHT(10-T143)","v":"9"},{"$f":"RIGHT(10-U143)","v":"2"},{"$f":"RIGHT(10-V143)","v":"6"},null,"184639815","184639926","184815926","639815926",{"$f":"T143&W143&Z143&\"-\"&U143&X143&AA143&\"-\"&V143&Y143&AB143","v":"168-831-495"},{"$f":"T143&W143&AC143&\"-\"&U143&X143&AD143&\"-\"&V143&Y143&AE143","v":"169-832-496"},{"$f":"T143&Z143&AC143&\"-\"&U143&AA143&AD143&\"-\"&V143&AB143&AE143","v":"189-812-456"},{"$f":"W143&Z143&AC143&\"-\"&X143&AA143&AD143&\"-\"&Y143&AB143&AE143","v":"689-312-956"}]
["201806270690 68553",null,"1806241261","80858",860,860,"1806241261","80858",20180626105,15411,"15411","1","5","4","1","1",null,"411","411","4","1","1","9","6","6","5","8","8","6","9","9",null,"411966588","411966699","411588699","966588699","495-168-168","496-169-169","456-189-189","956-689-689"]
["201806270689 50048",null,"1806241262","51960",859,859,"1806241262","51960",20180626106,13488,"13488","1","3","4","8","8",null,"488","488","4","8","8","9","3","3","5","1","1","6","2","2",null,"488933511","488933622","488511622","933511622","495-831-831","496-832-832","456-812-812","956-312-312"]
["201806270688 18018",null,"1806241263","78575",858,858,"1806241263","78575",20180626107,46393,"46393","4","6","3","9","3",null,"393","393","3","9","3","8","4","8","6","0","6","7","1","7",null,{"$f":"T146&U146&V146&W146&X146&Y146&Z146&AA146&AB146","v":"393848606"},{"$f":"T146&U146&V146&W146&X146&Y146&AC146&AD146&AE146","v":"393848717"},{"$f":"T146&U146&V146&Z146&AA146&AB146&AC146&AD146&AE146","v":"393606717"},{"$f":"W146&X146&Y146&Z146&AA146&AB146&AC146&AD146&AE146","v":"848606717"},"386-940-386","387-941-387","367-901-367","867-401-867"]
["201806270687 00528",null,"1806241264","34890",857,857,"1806241264","34890",20180626108,11787,"11787","1","1","7","8","7",null,"787","787","7","8","7","2","3","2","2","1","2","3","2","3",null,"787232212","787232323","787212323","232212323","722-831-722","723-832-723","723-812-723","223-312-223"]
["201806270686 81398",null,"1806241265","49746",856,856,"1806241265","49746",20180626109,91040,"91040","9","1","0","4","0",null,"040","040","0","4","0","5","9","5","9","5","9","0","6","0",null,"040595959","040595060","040959060","595959060","059-495-059","050-496-050","090-456-090","590-956-590"]
["201806270685 36829",null,"1806241266","86855",855,855,"1806241266","86855",20180626110,67614,"67614","6","7","6","1","4",null,"614","614","6","1","4","1","6","9","3","8","5","4","9","6",null,"614169385","614169496","614385496","169385496","613-168-495","614-169-496","634-189-456","134-689-956"]
["201806270684 42372",null,"1806241267","80961",854,854,"1806241267","80961",20180626111,25010,"25010","2","5","0","1","0",null,"010","010","0","1","0","5","6","5","9","8","9","0","9","0",null,"010565989","010565090","010989090","565989090","059-168-059","050-169-050","090-189-090","590-689-590"]
["201806270683 41162",null,"1806241268","93421",853,853,"1806241268","93421",20180626112,59274,"59274","5","9","2","7","4",null,"274","274","2","7","4","7","2","9","7","2","5","8","3","6",null,"274729725","274729836","274725836","729725836","277-722-495","278-723-496","278-723-456","778-223-956"]
["201806270682 20118",null,"1806241269","10148",852,852,"1806241269","10148",20180626113,93825,"93825","9","3","8","2","5",null,"825","825","8","2","5","3","7","0","1","7","4","2","8","5",null,"825370174","825370285","825174285","370174285","831-277-504","832-278-505","812-278-545","312-778-045"]
["201806270681 80387",null,"1806241270","48877",851,851,"1806241270","48877",20180626114,83574,"83574","8","3","5","7","4",null,"574","574","5","7","4","0","2","9","4","2","5","5","3","6",null,"574029425","574029536","574425536","029425536","504-722-495","505-723-496","545-723-456","045-223-956"]
["201806270680 44562",null,"1806241271","84039",850,850,"1806241271","84039",20180626115,37049,"37049","3","7","0","4","9",null,"049","049","0","4","9","5","9","4","9","5","0","0","6","1",null,"049594950","049594061","049950061","594950061","059-495-940","050-496-941","090-456-901","590-956-401"]
["201806270679 19413",null,"1806241272","33050",849,849,"1806241272","33050",20180626116,86550,"86550","8","6","5","5","0",null,"550","550","5","5","0","0","0","5","4","4","9","5","5","0",null,"550005449","550005550","550449550","005449550","504-504-059","505-505-050","545-545-090","045-045-590"]
["201806270678 59173",null,"1806241273","83395",848,848,"1806241273","83395",20180626117,28305,"28305","2","8","3","0","5",null,"305","305","3","0","5","8","5","0","6","9","4","7","0","5",null,"305850694","305850705","305694705","850694705","386-059-504","387-050-505","367-090-545","867-590-045"]
["201806270677 85324",null,"1806241274","99975",847,847,"1806241274","99975",20180626118,35851,"35851","3","5","8","5","1",null,"851","851","8","5","1","3","0","6","1","4","8","2","5","9",null,"851306148","851306259","851148259","306148259","831-504-168","832-505-169","812-545-189","312-045-689"]
["201806270676 53693",null,"1806241275","81536",846,846,"1806241275","81536",20180626119,43995,"43995","4","3","9","9","5",null,"995","995","9","9","5","4","4","0","0","0","4","1","1","5",null,"995440004","995440115","995004115","440004115","940-940-504","941-941-505","901-901-545","401-401-045"]
["201806270675 58085",null,"1806241276","67889",845,845,"1806241276","67889",20180626120,34838,"34838","3","4","8","3","8",null,"838","838","8","3","8","3","8","3","1","6","1","2","7","2",null,"838383161","838383272","838161272","383161272","831-386-831","832-387-832","812-367-812","312-867-312"]
["201806270674 79359",null,"1806241277","76013",844,844,"1806241277","76013",20180627001,17656,"17656","1","7","6","5","6",null,"656","656","6","5","6","1","0","1","3","4","3","4","5","4",null,"656101343","656101454","656343454","101343454","613-504-613","614-505-614","634-545-634","134-045-134"]
["201806270673 28886",null,"1806241278","00737",843,843,"1806241278","00737",20180627002,97484,"97484","9","7","4","8","4",null,"484","484","4","8","4","9","3","9","5","1","5","6","2","6",null,"484939515","484939626","484515626","939515626","495-831-495","496-832-496","456-812-456","956-312-956"]
["201806270672 91651",null,"1806241279","57705",842,842,"1806241279","57705",20180627003,1411,"01411","0","1","4","1","1",null,"411","411","4","1","1","9","6","6","5","8","8","6","9","9",null,"411966588","411966699","411588699","966588699","495-168-168","496-169-169","456-189-189","956-689-689"]
["201806270671 12932",null,"1806241280","52490",841,841,"1806241280","52490",20180627004,19458,"19458","1","9","4","5","8",null,"458","458","4","5","8","9","0","3","5","4","1","6","5","2",null,"458903541","458903652","458541652","903541652","495-504-831","496-505-832","456-545-812","956-045-312"]
["201806270670 60781",null,"1806241281","97744",840,840,"1806241281","97744",20180627005,88109,"88109","8","8","1","0","9",null,"109","109","1","0","9","6","5","4","8","9","0","9","0","1",null,"109654890","109654901","109890901","654890901","168-059-940","169-050-941","189-090-901","689-590-401"]
["201806270669 27810",null,"1806241282","78487",839,839,"1806241282","78487",20180627006,77335,"77335","7","7","3","3","5",null,"335","335","3","3","5","8","8","0","6","6","4","7","7","5",null,"335880664","335880775","335664775","880664775","386-386-504","387-387-505","367-367-545","867-867-045"]
["201806270668 89237",null,"1806241283","12355",838,838,"1806241283","12355",20180627007,83890,"83890","8","3","8","9","0",null,"890","890","8","9","0","3","4","5","1","0","9","2","1","0",null,"890345109","890345210","890109210","345109210","831-940-059","832-941-050","812-901-090","312-401-590"]
["201806270667 59732",null,"1806241284","66833",837,837,"1806241284","66833",20180627008,92613,"92613","9","2","6","1","3",null,"613","613","6","1","3","1","6","8","3","8","6","4","9","7",null,"613168386","613168497","613386497","168386497","613-168-386","614-169-387","634-189-367","134-689-867"]
["201806270666 23916",null,"1806241285","04849",836,836,"1806241285","04849",20180627009,73115,"73115","7","3","1","1","5",null,"115","115","1","1","5","6","6","0","8","8","4","9","9","5",null,"115660884","115660995","115884995","660884995","168-168-504","169-169-505","189-189-545","689-689-045"]
["201806270665 37962",null,"1806241286","39180",835,835,"1806241286","39180",20180627010,81496,"81496","8","1","4","9","6",null,"496","496","4","9","6","9","4","1","5","0","3","6","1","4",null,"496941503","496941614","496503614","941503614","495-940-613","496-941-614","456-901-634","956-401-134"]
["201806270664 07396",null,"1806241287","05016",834,834,"1806241287","05016",20180627011,30061,"30061","3","0","0","6","1",null,"061","061","0","6","1","5","1","6","9","3","8","0","4","9",null,"061516938","061516049","061938049","516938049","059-613-168","050-614-169","090-634-189","590-134-689"]
["201806270663 72977",null,"1806241288","76426",833,833,"1806241288","76426",20180627012,78208,"78208","7","8","2","0","8",null,"208","208","2","0","8","7","5","3","7","9","1","8","0","2",null,"208753791","208753802","208791802","753791802","277-059-831","278-050-832","278-090-812","778-590-312"]
["201806270662 46943",null,"1806241289","95164",832,832,"1806241289","95164",20180627013,10197,"10197","1","0","1","9","7",null,"197","197","1","9","7","6","4","2","8","0","2","9","1","3",null,"197642802","197642913","197802913","642802913","168-940-722","169-941-723","189-901-723","689-401-223"]
["201806270661 13002",null,"1806241290","14010",831,831,"1806241290","14010",20180627014,30161,"30161","3","0","1","6","1",null,"161","161","1","6","1","6","1","6","8","3","8","9","4","9",null,"161616838","161616949","161838949","616838949","168-613-168","169-614-169","189-634-189","689-134-689"]
["201806270660 56284",null,"1806241291","89569",830,830,"1806241291","89569",20180627015,30270,"30270","3","0","2","7","0",null,"270","270","2","7","0","7","2","5","7","2","9","8","3","0",null,"270725729","270725830","270729830","725729830","277-722-059","278-723-050","278-723-090","778-223-590"]
["201806270659 96344",null,"1806241292","07698",829,829,"1806241292","07698",20180627016,37106,"37106","3","7","1","0","6",null,"106","106",{"$f":"MID($S175,MID(T$11,1,1),1)","v":"1"},"0","6","6","5","1","8","9","3","9","0","4",null,"106651893","106651904","106893904","651893904","168-059-613","169-050-614","189-090-634","689-590-134"]
["201806270658 73047",null,"1806241293","21172",828,828,"1806241293","21172",20180627017,67362,"67362","6","7","3","6","2",null,"362","362","3","6","2","8","1","7","6","3","7","7","4","8",null,"362817637","362817748","362637748","817637748","386-613-277","387-614-278","367-634-278","867-134-778"]
["201806270657 70544",null,"1806241294","80809",827,827,"1806241294","80809",20180627018,51849,"51849","5","1","8","4","9",null,"849","849","8","4","9","3","9","4","1","5","0","2","6","1",null,"849394150","849394261","849150261","394150261","831-495-940","832-496-941","812-456-901","312-956-401"]
["201806270656 00650",null,"1806241295","36827",826,826,"1806241295","36827",20180627019,70760,"70760","7","0","7","6","0",null,"760","760","7","6","0","2","1","5","2","3","9","3","4","0",null,"760215239","760215340","760239340","215239340","722-613-059","723-614-050","723-634-090","223-134-590"]
["201806270655 33594",null,"1806241296","97886",825,825,"1806241296","97886",20180627020,4213,"04213","0","4","2","1","3",null,"213","213","2","1","3","7","6","8","7","8","6","8","9","7",null,"213768786","213768897","213786897","768786897","277-168-386","278-169-387","278-189-367","778-689-867"]
["201806270654 56173",null,"1806241297","50357",824,824,"1806241297","50357",20180627021,75183,"75183","7","5","1","8","3",null,"183","183","1","8","3","6","3","8","8","1","6","9","2","7",null,"183638816","183638927","183816927","638816927","168-831-386","169-832-387","189-812-367","689-312-867"]
["201806270653 26220",null,"1806241298","17113",823,823,"1806241298","17113",20180627022,26666,"26666","2","6","6","6","6",null,"666","666","6","6","6","1","1","1","3","3","3","4","4","4",null,"666111333","666111444","666333444","111333444","613-613-613","614-614-614","634-634-634","134-134-134"]
["201806270652 61820",null,"1806241299","55687",822,822,"1806241299","55687",20180627023,18709,"18709","1","8","7","0","9",null,"709","709","7","0","9","2","5","4","2","9","0","3","0","1",null,"709254290","709254301","709290301","254290301","722-059-940","723-050-941","723-090-901","223-590-401"]
["201806270651 45724",null,"1806241300","01216",821,821,"1806241300","01216",20180627024,48095,"48095","4","8","0","9","5",null,"095","095","0","9","5","5","4","0","9","0","4","0","1","5",null,"095540904","095540015","095904015","540904015","059-940-504","050-941-505","090-901-545","590-401-045"]
["201806270650 79253",null,"1806241301","87993",820,820,"1806241301","87993",20180627025,24644,{"$f":"IF(J184=\"\",\"\",TEXT(J184,\"00000\"))","v":"24644"},{"$f":"MID($K184,1,1)","v":"2"},{"$f":"MID(K184,2,1)","v":"4"},{"$f":"MID(K184,3,1)","v":"6"},{"$f":"MID(K184,4,1)","v":"4"},{"$f":"MID(K184,5,1)","v":"4"},null,"644","644","6","4","4","1","9","9","3","5","5","4","6","6",null,"644199355","644199466","644355466","199355466","613-495-495","614-496-496","634-456-456","134-956-956"]
["201806270649 27443",null,"1806241302","84544",819,819,"1806241302","84544",20180627026,64754,"64754","6","4","7","5","4",null,"754","754","7","5","4","2","0","9","2","4","5","3","5","6",null,"754209245","754209356","754245356","209245356","722-504-495","723-505-496","723-545-456","223-045-956"]
["201806270648 15136",null,"1806241303","80737",818,818,"1806241303","80737",20180627027,98996,"98996","9","8","9","9","6",null,"996","996","9","9","6","4","4","1","0","0","3","1","1","4",null,"996441003","996441114","996003114","441003114","940-940-613","941-941-614","901-901-634","401-401-134"]
["201806270647 56356",null,"1806241304","34299",817,817,"1806241304","34299",20180627028,98421,"98421","9","8","4","2","1",null,"421","421","4","2","1","9","7","6","5","7","8","6","8","9",null,"421976578","421976689","421578689","976578689","495-277-168","496-278-169","456-278-189","956-778-689"]
["201806270646 70370",null,"1806241305","60126",816,816,"1806241305","60126",20180627029,14587,"14587","1","4","5","8","7",null,"587","587","5","8","7","0","3","2","4","1","2","5","2","3",null,"587032412","587032523","587412523","032412523","504-831-722","505-832-723","545-812-723","045-312-223"]
["201806270645 06885",null,"1806241306","23529",815,815,"1806241306","23529",20180627030,64441,"64441","6","4","4","4","1",null,"441","441","4","4","1","9","9","6","5","5","8","6","6","9",null,"441996558","441996669","441558669","996558669","495-495-168","496-496-169","456-456-189","956-956-689"]
["201806270644 14445",null,"1806241307","81916",814,814,"1806241307","81916",20180627031,29248,"29248","2","9","2","4","8",null,"248","248","2","4","8","7","9","3","7","5","1","8","6","2",null,"248793751","248793862","248751862","793751862","277-495-831","278-496-832","278-456-812","778-956-312"]
["201806270643 61714",null,"1806241308","10004",813,813,"1806241308","10004",20180627032,84441,"84441","8","4","4","4","1",null,"441","441","4","4","1","9","9","6","5","5","8","6","6","9",null,"441996558","441996669","441558669","996558669","495-495-168","496-496-169","456-456-189","956-956-689"]
["201806270642 67308",null,"1806241309","10004",812,812,"1806241309","10004",20180627033,76298,"76298","7","6","2","9","8",null,"298","298","2","9","8","7","4","3","7","0","1","8","1","2",null,"298743701","298743812","298701812","743701812","277-940-831","278-941-832","278-901-812","778-401-312"]
["201806270641 29134",null,"1806241310","03765",811,811,"1806241310","03765",20180627034,63578,"63578","6","3","5","7","8",null,"578","578","5","7","8","0","2","3","4","2","1","5","3","2",null,"578023421","578023532","578421532","023421532","504-722-831","505-723-832","545-723-812","045-223-312"]
["201806270640 48120",null,{"$f":"IF(E194>=0,MID(OFFSET($A$1,E194,),3,D$1-3),\"\")","v":"1806241311"},{"$f":"IF(E194>=0,MID(OFFSET($A$1,E194,),D$1+1,5),\"\")","v":"47866"},{"$f":"E195+1","v":810},810,{"$f":"IF(E194>=0,MID(OFFSET($A$1,F194,),3,D$1-3),\"\")","v":"1806241311"},{"$f":"IF(E194>=0,MID(OFFSET($A$1,F194,),D$1+1,5),\"\")","v":"47866"},20180627035,56954,"56954","5","6","9","5","4",null,"954","954","9","5","4","4","0","9","0","4","5","1","5","6",null,"954409045","954409156","954045156","409045156","940-504-495","941-505-496","901-545-456","401-045-956"]
["201806270639 49310",null,"1806241312","17973",809,809,"1806241312","17973",20180627036,86962,"86962","8","6","9","6","2",null,"962","962","9","6","2","4","1","7","0","3","7","1","4","8",null,"962417037","962417148","962037148","417037148","940-613-277","941-614-278","901-634-278","401-134-778"]
["201806270638 44260",null,"1806241313","73733",808,808,"1806241313","73733",20180627037,27214,"27214","2","7","2","1","4",null,"214","214","2","1","4","7","6","9","7","8","5","8","9","6",null,"214769785","214769896","214785896","769785896","277-168-495","278-169-496","278-189-456","778-689-956"]
["201806270637 04813",null,"1806241314","44581",807,807,"1806241314","44581",20180627038,19118,"19118","1","9","1","1","8",null,"118","118","1","1","8","6","6","3","8","8","1","9","9","2",null,"118663881","118663992","118881992","663881992","168-168-831","169-169-832","189-189-812","689-689-312"]
["201806270636 73069",null,"1806241315","40313",806,806,"1806241315","40313",20180627039,88144,{"$f":"IF(J198=\"\",\"\",TEXT(J198,\"00000\"))","v":"88144"},"8",{"$f":"MID(K198,2,1)","v":"8"},{"$f":"MID(K198,3,1)","v":"1"},{"$f":"MID(K198,4,1)","v":"4"},{"$f":"MID(K198,5,1)","v":"4"},null,"144","144","1","4","4","6","9","9","8","5","5","9","6","6",null,"144699855","144699966","144855966","699855966","168-495-495","169-496-496","189-456-456","689-956-956"]
["201806270635 41430",null,"1806241316","22309",805,805,"1806241316","22309",20180627040,38703,"38703","3","8","7","0","3",null,"703","703","7","0","3","2","5","8","2","9","6","3","0","7",null,"703258296","703258307","703296307","258296307","722-059-386","723-050-387","723-090-367","223-590-867"]
["201806270634 35017",null,"1806241318","20097",804,804,"1806241318","20097",20180627041,63124,"63124","6","3","1","2","4",null,"124","124","1","2","4","6","7","9","8","7","5","9","8","6",null,"124679875","124679986","124875986","679875986","168-277-495","169-278-496","189-278-456","689-778-956"]
["201806270633 94249",null,"1806241319","99956",803,803,"1806241319","99956",20180627042,25896,"25896","2","5","8","9","6",null,"896","896","8","9","6","3","4","1","1","0","3","2","1","4",null,"896341103","896341214","896103214","341103214","831-940-613","832-941-614","812-901-634","312-401-134"]
["201806270632 11358",null,"1806241322","79478",802,802,"1806241322","79478",20180627043,50996,"50996","5","0","9","9","6",null,"996","996","9","9","6","4","4","1","0","0","3","1","1","4",null,"996441003","996441114","996003114","441003114","940-940-613","941-941-614","901-901-634","401-401-134"]
["201806270631 10990",null,"1806241323","17016",801,801,"1806241323","17016",20180627044,95173,"95173","9","5","1","7","3",null,"173","173","1","7","3","6","2","8","8","2","6","9","3","7",null,"173628826","173628937","173826937","628826937","168-722-386","169-723-387","189-723-367","689-223-867"]
["201806270630 42171",null,"1806241324","04661",800,800,"1806241324","04661",20180627045,67351,"67351","6","7","3","5","1",null,"351","351","3","5","1","8","0","6","6","4","8","7","5","9",null,"351806648","351806759","351648759","806648759","386-504-168","387-505-169","367-545-189","867-045-689"]
["201806270629 15212",null,"1806241325","24884",799,799,"1806241325","24884",20180627046,91774,"91774","9","1","7","7","4",null,{"$f":"IF(R$213=\"胆码\",MID($K205,MID(S$213,1,1),1)&MID($K205,MID(S$213,2,1),1)&MID($K205,MID(S$213,3,1),1),IF(R$213=\"任合\",RIGHT(MID($K205,MID(S$213,1,1),1)+MID($K205,MID(S$213,2,1),1))&RIGHT(MID($K205,MID(S$213,1,1),1)+MID($K205,MID(S$213,3,1),1))&RIGHT(MID($K205,MID(S$213,2,1),1)+MID($K205,MID(S$213,3,1),1)),IF(R$213=\"任差\",RIGHT(MID($K205,MID(S$213,1,1),1)-MID($K205,MID(S$213,2,1),1))&RIGHT(MID($K205,MID(S$213,1,1),1)-MID($K205,MID(S$213,3,1),1))&RIGHT(MID($K205,MID(S$213,2,1),1)-MID($K205,MID(S$213,3,1),1)),IF(R$213=\"任积\",RIGHT(MID($K205,MID(S$213,1,1),1)*MID($K205,MID(S$213,2,1),1))&RIGHT(MID($K205,MID(S$213,1,1),1)*MID($K205,MID(S$213,3,1),1))&RIGHT(MID($K205,MID(S$213,2,1),1)*MID($K205,MID(S$213,3,1),1)),IF(R$213=\"位合\",RIGHT(MID($K205,MID(S$213,1,1),1)+MID($K204,MID(S$213,1,1),1))&RIGHT(MID($K205,MID(S$213,2,1),1)+MID($K204,MID(S$213,2,1),1))&RIGHT(MID($K205,MID(S$213,3,1),1)+MID($K204,MID(S$213,3,1),1)),IF(R$213=\"位差\",RIGHT(MID($K205,MID(S$213,1,1),1)-MID($K204,MID(S$213,1,1),1))&RIGHT(MID($K205,MID(S$213,2,1),1)-MID($K204,MID(S$213,2,1),1))&RIGHT(MID($K205,MID(S$213,3,1),1)-MID($K204,MID(S$213,3,1),1)),IF(R$213=\"位积\",RIGHT(MID($K205,MID(S$213,1,1),1)*MID($K204,MID(S$213,1,1),1))&RIGHT(MID($K205,MID(S$213,2,1),1)*MID($K204,MID(S$213,2,1),1))&RIGHT(MID($K205,MID(S$213,3,1),1)*MID($K204,MID(S$213,3,1),1)))))))))","v":"774"},{"$f":"R205","v":"774"},"7","7","4","2","2","9","2","2","5","3","3","6",null,"774229225","774229336","774225336","229225336","722-722-495","723-723-496","723-723-456","223-223-956"]
["201806270628 39878",null,"1806241326","57415",798,798,"1806241326","57415",20180627047,62179,"62179","6","2","1","7","9",null,"179","179","1","7","9","6","2","4","8","2","0","9","3","1",null,"179624820","179624931","179820931","624820931","168-722-940","169-723-941","189-723-901","689-223-401"]
["201806270627 42101",null,"1806241327","13368",797,797,"1806241327","13368",20180627048,38299,"38299","3","8","2","9","9",null,"299","299","2","9","9",{"$f":"RIGHT(T207+5)","v":"7"},{"$f":"RIGHT(U207+5)","v":"4"},{"$f":"RIGHT(V207+5)","v":"4"},{"$f":"RIGHT(9-T207)","v":"7"},{"$f":"RIGHT(9-U207)","v":"0"},{"$f":"RIGHT(9-V207)","v":"0"},{"$f":"RIGHT(10-T207)","v":"8"},{"$f":"RIGHT(10-U207)","v":"1"},{"$f":"RIGHT(10-V207)","v":"1"},null,"299744700","299744811","299700811","744700811",{"$f":"T207&W207&Z207&\"-\"&U207&X207&AA207&\"-\"&V207&Y207&AB207","v":"277-940-940"},{"$f":"T207&W207&AC207&\"-\"&U207&X207&AD207&\"-\"&V207&Y207&AE207","v":"278-941-941"},{"$f":"T207&Z207&AC207&\"-\"&U207&AA207&AD207&\"-\"&V207&AB207&AE207","v":"278-901-901"},{"$f":"W207&Z207&AC207&\"-\"&X207&AA207&AD207&\"-\"&Y207&AB207&AE207","v":"778-401-401"}]
["201806270626 61880",null,"1806241328","91984",796,796,"1806241328","91984",20180627049,62060,{"$f":"IF(J208=\"\",\"\",TEXT(J208,\"00000\"))","v":"62060"},"6",{"$f":"MID(K208,2,1)","v":"2"},{"$f":"MID(K208,3,1)","v":"0"},{"$f":"MID(K208,4,1)","v":"6"},{"$f":"MID(K208,5,1)","v":"0"},null,{"$f":"IF(R$213=\"胆码\",MID($K208,MID(S$213,1,1),1)&MID($K208,MID(S$213,2,1),1)&MID($K208,MID(S$213,3,1),1),IF(R$213=\"任合\",RIGHT(MID($K208,MID(S$213,1,1),1)+MID($K208,MID(S$213,2,1),1))&RIGHT(MID($K208,MID(S$213,1,1),1)+MID($K208,MID(S$213,3,1),1))&RIGHT(MID($K208,MID(S$213,2,1),1)+MID($K208,MID(S$213,3,1),1)),IF(R$213=\"任差\",RIGHT(MID($K208,MID(S$213,1,1),1)-MID($K208,MID(S$213,2,1),1))&RIGHT(MID($K208,MID(S$213,1,1),1)-MID($K208,MID(S$213,3,1),1))&RIGHT(MID($K208,MID(S$213,2,1),1)-MID($K208,MID(S$213,3,1),1)),IF(R$213=\"任积\",RIGHT(MID($K208,MID(S$213,1,1),1)*MID($K208,MID(S$213,2,1),1))&RIGHT(MID($K208,MID(S$213,1,1),1)*MID($K208,MID(S$213,3,1),1))&RIGHT(MID($K208,MID(S$213,2,1),1)*MID($K208,MID(S$213,3,1),1)),IF(R$213=\"位合\",RIGHT(MID($K208,MID(S$213,1,1),1)+MID($K207,MID(S$213,1,1),1))&RIGHT(MID($K208,MID(S$213,2,1),1)+MID($K207,MID(S$213,2,1),1))&RIGHT(MID($K208,MID(S$213,3,1),1)+MID($K207,MID(S$213,3,1),1)),IF(R$213=\"位差\",RIGHT(MID($K208,MID(S$213,1,1),1)-MID($K207,MID(S$213,1,1),1))&RIGHT(MID($K208,MID(S$213,2,1),1)-MID($K207,MID(S$213,2,1),1))&RIGHT(MID($K208,MID(S$213,3,1),1)-MID($K207,MID(S$213,3,1),1)),IF(R$213=\"位积\",RIGHT(MID($K208,MID(S$213,1,1),1)*MID($K207,MID(S$213,1,1),1))&RIGHT(MID($K208,MID(S$213,2,1),1)*MID($K207,MID(S$213,2,1),1))&RIGHT(MID($K208,MID(S$213,3,1),1)*MID($K207,MID(S$213,3,1),1)))))))))","v":"060"},{"$f":"R208","v":"060"},"0","6","0","5","1","5","9","3","9","0","4","0",null,"060515939","060515040","060939040","515939040","059-613-059","050-614-050","090-634-090","590-134-590"]
["201806270625 31004",null,"1806241329","61539",795,795,"1806241329","61539",20180627050,40324,"40324","4","0","3","2","4",null,"324","324","3","2","4","8","7","9","6","7","5","7","8","6",null,"324879675","324879786","324675786","879675786","386-277-495","387-278-496","367-278-456","867-778-956"]
["201806270624 71984",null,"1806241330","38117",794,794,"1806241330","38117",20180627051,16692,"16692","1","6","6","9","2",null,"692","692","6","9","2","1","4","7","3","0","7","4","1","8",null,{"$f":"T210&U210&V210&W210&X210&Y210&Z210&AA210&AB210","v":"692147307"},{"$f":"T210&U210&V210&W210&X210&Y210&AC210&AD210&AE210","v":"692147418"},{"$f":"T210&U210&V210&Z210&AA210&AB210&AC210&AD210&AE210","v":"692307418"},{"$f":"W210&X210&Y210&Z210&AA210&AB210&AC210&AD210&AE210","v":"147307418"},"613-940-277","614-941-278","634-901-278","134-401-778"]
["201806270623 81450",null,"1806241331","82020",793,793,"1806241331","82020",20180627052,53650,"53650","5","3","6","5","0",null,{"$f":"IF(R$213=\"胆码\",MID($K211,MID(S$213,1,1),1)&MID($K211,MID(S$213,2,1),1)&MID($K211,MID(S$213,3,1),1),IF(R$213=\"任合\",RIGHT(MID($K211,MID(S$213,1,1),1)+MID($K211,MID(S$213,2,1),1))&RIGHT(MID($K211,MID(S$213,1,1),1)+MID($K211,MID(S$213,3,1),1))&RIGHT(MID($K211,MID(S$213,2,1),1)+MID($K211,MID(S$213,3,1),1)),IF(R$213=\"任差\",RIGHT(MID($K211,MID(S$213,1,1),1)-MID($K211,MID(S$213,2,1),1))&RIGHT(MID($K211,MID(S$213,1,1),1)-MID($K211,MID(S$213,3,1),1))&RIGHT(MID($K211,MID(S$213,2,1),1)-MID($K211,MID(S$213,3,1),1)),IF(R$213=\"任积\",RIGHT(MID($K211,MID(S$213,1,1),1)*MID($K211,MID(S$213,2,1),1))&RIGHT(MID($K211,MID(S$213,1,1),1)*MID($K211,MID(S$213,3,1),1))&RIGHT(MID($K211,MID(S$213,2,1),1)*MID($K211,MID(S$213,3,1),1)),IF(R$213=\"位合\",RIGHT(MID($K211,MID(S$213,1,1),1)+MID($K210,MID(S$213,1,1),1))&RIGHT(MID($K211,MID(S$213,2,1),1)+MID($K210,MID(S$213,2,1),1))&RIGHT(MID($K211,MID(S$213,3,1),1)+MID($K210,MID(S$213,3,1),1)),IF(R$213=\"位差\",RIGHT(MID($K211,MID(S$213,1,1),1)-MID($K210,MID(S$213,1,1),1))&RIGHT(MID($K211,MID(S$213,2,1),1)-MID($K210,MID(S$213,2,1),1))&RIGHT(MID($K211,MID(S$213,3,1),1)-MID($K210,MID(S$213,3,1),1)),IF(R$213=\"位积\",RIGHT(MID($K211,MID(S$213,1,1),1)*MID($K210,MID(S$213,1,1),1))&RIGHT(MID($K211,MID(S$213,2,1),1)*MID($K210,MID(S$213,2,1),1))&RIGHT(MID($K211,MID(S$213,3,1),1)*MID($K210,MID(S$213,3,1),1)))))))))","v":"650"},{"$f":"R211","v":"650"},"6","5","0","1","0","5","3","4","9","4","5","0",null,"650105349","650105450","650349450","105349450","613-504-059","614-505-050","634-545-090","134-045-590"]
["201806270622 20395",null,"1806241332","16634",792,792,"1806241332","16634",20180627053,"待待待待待","待待待待待","待",{"$f":"MID(K212,2,1)","v":"待"},{"$f":"MID(K212,3,1)","v":"待"},{"$f":"MID(K212,4,1)","v":"待"},{"$f":"MID(K212,5,1)","v":"待"},null,{"$f":"IF(R$213=\"胆码\",MID($K212,MID(S$213,1,1),1)&MID($K212,MID(S$213,2,1),1)&MID($K212,MID(S$213,3,1),1),IF(R$213=\"任合\",RIGHT(MID($K212,MID(S$213,1,1),1)+MID($K212,MID(S$213,2,1),1))&RIGHT(MID($K212,MID(S$213,1,1),1)+MID($K212,MID(S$213,3,1),1))&RIGHT(MID($K212,MID(S$213,2,1),1)+MID($K212,MID(S$213,3,1),1)),IF(R$213=\"任差\",RIGHT(MID($K212,MID(S$213,1,1),1)-MID($K212,MID(S$213,2,1),1))&RIGHT(MID($K212,MID(S$213,1,1),1)-MID($K212,MID(S$213,3,1),1))&RIGHT(MID($K212,MID(S$213,2,1),1)-MID($K212,MID(S$213,3,1),1)),IF(R$213=\"任积\",RIGHT(MID($K212,MID(S$213,1,1),1)*MID($K212,MID(S$213,2,1),1))&RIGHT(MID($K212,MID(S$213,1,1),1)*MID($K212,MID(S$213,3,1),1))&RIGHT(MID($K212,MID(S$213,2,1),1)*MID($K212,MID(S$213,3,1),1)),IF(R$213=\"位合\",RIGHT(MID($K212,MID(S$213,1,1),1)+MID($K211,MID(S$213,1,1),1))&RIGHT(MID($K212,MID(S$213,2,1),1)+MID($K211,MID(S$213,2,1),1))&RIGHT(MID($K212,MID(S$213,3,1),1)+MID($K211,MID(S$213,3,1),1)),IF(R$213=\"位差\",RIGHT(MID($K212,MID(S$213,1,1),1)-MID($K211,MID(S$213,1,1),1))&RIGHT(MID($K212,MID(S$213,2,1),1)-MID($K211,MID(S$213,2,1),1))&RIGHT(MID($K212,MID(S$213,3,1),1)-MID($K211,MID(S$213,3,1),1)),IF(R$213=\"位积\",RIGHT(MID($K212,MID(S$213,1,1),1)*MID($K211,MID(S$213,1,1),1))&RIGHT(MID($K212,MID(S$213,2,1),1)*MID($K211,MID(S$213,2,1),1))&RIGHT(MID($K212,MID(S$213,3,1),1)*MID($K211,MID(S$213,3,1),1)))))))))","v":"待待待"},{"$f":"MID($K212,MID(S$213,1,1),1)&MID($K212,MID(S$213,2,1),1)&MID($K212,MID(S$213,3,1),1)","v":"待待待"}]
["201806270621 81437",null,"1806241333","33675",791,791,"1806241333","33675",null,null,null,null,null,null,null,null,null,{"$f":"IF(S7=1,\"胆码\",IF(S7=2,\"任合\",IF(S7=3,\"任差\",IF(S7=4,\"任积\",IF(S7=5,\"位合\",IF(S7=6,\"位差\",IF(S7=7,\"位积\")))))))","v":"胆码"},{"$f":"IF(S8=1,\"123\",IF(S8=2,\"124\",IF(S8=3,\"125\",IF(S8=4,\"134\",IF(S8=5,\"135\",IF(S8=6,\"145\",IF(S8=7,\"234\",IF(S8=8,\"235\",IF(S8=9,\"245\",IF(S8=10,\"345\"))))))))))","v":"345"}]
["201806270620 53783",null,"1806241334","42526",790,790,"1806241334","42526"]
["201806270619 65086",null,"1806241335","48542",789,789,"1806241335","48542"]
["201806270618 36652",null,"1806241336","65875",788,788,"1806241336","65875","彩种文本名",null,null,null,null,null,null,null,null,null,null,null,null,null,null,null,null,null,null,null,null,null,null,"使用office2007打开启动宏"]
["201806270617 72833",null,"1806241337","89587",787,787,"1806241337","89587","腾讯分分彩"]
["201806270616 91183",null,"1806241338","30340",786,786,"1806241338","30340",0]
["201806270615 88947",null,"1806241339","48205",785,785,"1806241339","48205",0]
["201806270614 57184",null,"1806241340","01727",784,784,"1806241340","01727"]
["201806270613 91636",null,"1806241341","64286",783,783,"1806241341","64286"]
["201806270612 77549",null,"1806241342","83830",782,782,"1806241342","83830"]
["201806270611 92435",null,"1806241343","73406",781,781,"1806241343","73406"]
["201806270610 31343",null,"1806241344","28361",780,780,"1806241344","28361"]
["201806270609 61327",null,"1806241345","87409",779,779,"1806241345","87409"]
["201806270608 88549",null,"1806241346","16157",778,778,"1806241346","16157"]
["201806270607 35656",null,"1806241347","26242",777,777,"1806241347","26242"]
["201806270606 59702",null,"1806241348","45425",776,776,"1806241348","45425"]
["201806270605 18353",null,"1806241349","29028",775,775,"1806241349","29028"]
["201806270604 56897",null,"1806241350","12424",774,774,"1806241350","12424"]
["201806270603 77637",null,"1806241351","65494",773,773,"1806241351","65494"]
["201806270602 88831",null,"1806241352","43223",772,772,"1806241352","43223"]
["201806270601 23492",null,"1806241353","12073",771,771,"1806241353","12073"]
["201806270600 78638",null,"1806241354","90832",770,770,"1806241354","90832"]
["201806270599 88542",null,"1806241355","36247",769,769,"1806241355","36247"]
["201806270598 02083",null,"1806241356","85318",768,768,"1806241356","85318"]
["201806270597 39453",null,"1806241357","99229",767,767,"1806241357","99229"]
["201806270596 62616",null,"1806241358","29719",766,766,"1806241358","29719"]
["201806270595 18006",null,"1806241359","64773",765,765,"1806241359","64773"]
["201806270594 43587",null,"1806241360","39196",764,764,"1806241360","39196"]
["201806270593 00453",null,"1806241361","36654",763,763,"1806241361","36654"]
["201806270592 81543",null,"1806241362","42572",762,762,"1806241362","42572"]
["201806270591 03930",null,"1806241363","98600",761,761,"1806241363","98600"]
["201806270590 53387",null,"1806241364","78478",760,760,"1806241364","78478"]
["201806270589 23121",null,"1806241365","01861",759,759,"1806241365","01861"]
["201806270588 44191",null,"1806241366","67221",758,758,"1806241366","67221"]
["201806270587 10022",null,"1806241367","30980",757,757,"1806241367","30980"]
["201806270586 00818",null,"1806241368","24258",756,756,"1806241368","24258"]
["201806270585 31182",null,"1806241369","65117",755,755,"1806241369","65117"]
["201806270584 38296",null,"1806241370","48305",754,754,"1806241370","48305"]
["201806270583 79201",null,"1806241371","67935",753,753,"1806241371","67935"]
["201806270582 90977",null,"1806241372","06609",752,752,"1806241372","06609"]
["201806270581 33448",null,"1806241373","99191",751,751,"1806241373","99191"]
["201806270580 96180",null,"1806241374","07024",750,750,"1806241374","07024"]
["201806270579 14488",null,"1806241375","31749",749,749,"1806241375","31749"]
["201806270578 95640",null,"1806241376","98914",748,748,"1806241376","98914"]
["201806270577 05402",null,"1806241377","02932",747,747,"1806241377","02932"]
["201806270576 64301",null,{"$f":"IF(E258>=0,MID(OFFSET($A$1,E258,),3,D$1-3),\"\")","v":"1806241378"},{"$f":"IF(E258>=0,MID(OFFSET($A$1,E258,),D$1+1,5),\"\")","v":"29126"},{"$f":"E259+1","v":746},746,{"$f":"IF(E258>=0,MID(OFFSET($A$1,F258,),3,D$1-3),\"\")","v":"1806241378"},{"$f":"IF(E258>=0,MID(OFFSET($A$1,F258,),D$1+1,5),\"\")","v":"29126"}]
["201806270575 85915",null,"1806241379","81658",745,745,"1806241379","81658"]
["201806270574 77590",null,"1806241380","67224",744,744,"1806241380","67224"]
["201806270573 20281",null,"1806241381","86162",743,743,"1806241381","86162"]
["201806270572 87753",null,"1806241382","39977",742,742,"1806241382","39977"]
["201806270571 76090",null,"1806241383","21609",741,741,"1806241383","21609",null,null,1]
["201806270570 07263",null,"1806241384","46362",740,740,"1806241384","46362",null,null,"万千百"]
["201806270569 23211",null,"1806241385","15141",739,739,"1806241385","15141",null,null,"万千十"]
["201806270568 29935",null,"1806241386","50544",738,738,"1806241386","50544",null,null,"万千个"]
["201806270567 83666",null,"1806241387","74593",737,737,"1806241387","74593",null,null,"万百十"]
["201806270566 94736",null,"1806241388","10729",736,736,"1806241388","10729",null,null,"万百个"]
["201806270565 00144",null,"1806241389","05899",735,735,"1806241389","05899",null,null,"万十个"]
["201806270564 08182",null,"1806241390","39731",734,734,"1806241390","39731",null,null,"千百十"]
["201806270563 31020",null,"1806241391","07073",733,733,"1806241391","07073",null,null,"千百个"]
["201806270562 04437",null,"1806241392","70976",732,732,"1806241392","70976",null,null,"千十个"]
["201806270561 96864",null,"1806241393","20760",731,731,"1806241393","20760",null,null,"百十个"]
["201806270560 46677",null,"1806241394","67997",730,730,"1806241394","67997",null,null,"胆码"]
["201806270559 34902",null,"1806241395","32679",729,729,"1806241395","32679",null,null,"任合"]
["201806270558 50971",null,"1806241396","82107",728,728,"1806241396","82107",null,null,"任差"]
["201806270557 38566",null,"1806241397","90251",727,727,"1806241397","90251",null,null,"任积"]
["201806270556 04772",null,"1806241398","82280",726,726,"1806241398","82280",null,null,"位合"]
["201806270555 98730",null,"1806241399","08155",725,725,"1806241399","08155",null,null,"位差"]
["201806270554 24671",null,"1806241400","85726",724,724,"1806241400","85726",null,null,"位积"]
["201806270553 47708",null,"1806241401","05406",723,723,"1806241401","05406",null,null,10]
["201806270552 35261",null,"1806241402","36949",722,722,"1806241402","36949"]
["201806270551 15638",null,"1806241403","32676",721,721,"1806241403","32676"]
["201806270550 70692",null,"1806241404","75226",720,720,"1806241404","75226"]
["201806270549 26116",null,"1806241405","33299",719,719,"1806241405","33299"]
["201806270548 92800",null,"1806241406","18684",718,718,"1806241406","18684"]
["201806270547 84082",null,"1806241407","17019",717,717,"1806241407","17019"]
["201806270546 66891",null,"1806241408","92977",716,716,"1806241408","92977"]
["201806270545 70682",null,"1806241409","79524",715,715,"1806241409","79524"]
["201806270544 33517",null,"1806241410","17484",714,714,"1806241410","17484"]
["201806270543 77232",null,"1806241411","73648",713,713,"1806241411","73648"]
["201806270542 17196",null,"1806241412","67601",712,712,"1806241412","67601"]
["201806270541 70883",null,"1806241413","30557",711,711,"1806241413","30557"]
["201806270540 93910",null,"1806241414","50431",710,710,"1806241414","50431"]
["201806270539 57222",null,"1806241415","66947",709,709,"1806241415","66947"]
["201806270538 71339",null,"1806241416","72759",708,708,"1806241416","72759"]
["201806270537 57471",null,"1806241417","42468",707,707,"1806241417","42468"]
["201806270536 27081",null,"1806241418","34216",706,706,"1806241418","34216",null,null,null,null,null,null,null,null,null,{"$f":"MID($M$223,MID(S$213,1,1),1)&MID($M$223,MID(S$213,2,1),1)&MID($M$223,MID(S$213,3,1),1)","v":""}]
["201806270535 08440",null,"1806241419","65559",705,705,"1806241419","65559",null,null,null,null,null,null,null,null,null,{"$f":"IF($N$222=TRUE,S212,R298)","v":""}]
["201806270534 19889",null,"1806241420","04716",704,704,"1806241420","04716",null,null,{"$f":"R211","v":"650"},null,null,null,null,null,null,"常规"]
["201806270533 94764",null,"1806241421","78624",703,703,"1806241421","78624",null,null,"000",null,null,null,null,null,null,{"$f":"IF(R$213=\"胆码\",MID($K301,1,1)&MID($K301,2,1)&MID($K301,3,1),IF(R$213=\"任合\",RIGHT(MID($K301,1,1)+MID($K301,2,1))&RIGHT(MID($K301,1,1)+MID($K301,3,1))&RIGHT(MID($K301,2,1)+MID($K301,3,1)),IF(R$213=\"任差\",RIGHT(MID($K301,1,1)-MID($K301,2,1))&RIGHT(MID($K301,1,1)-MID($K301,3,1))&RIGHT(MID($K301,2,1)-MID($K301,3,1)),IF(R$213=\"任积\",RIGHT(MID($K301,1,1)*MID($K301,2,1))&RIGHT(MID($K301,1,1)*MID($K301,3,1))&RIGHT(MID($K301,2,1)*MID($K301,3,1)),IF(R$213=\"位合\",RIGHT(MID($K301,1,1)+MID($K$300,1,1))&RIGHT(MID($K301,2,1)+MID($K$300,2,1))&RIGHT(MID($K301,3,1)+MID($K$300,3,1)),IF(R$213=\"位差\",RIGHT(MID($K301,1,1)-MID($K$300,1,1))&RIGHT(MID($K301,2,1)-MID($K$300,2,1))&RIGHT(MID($K301,3,1)-MID($K$300,3,1)),IF(R$213=\"位积\",RIGHT(MID($K301,1,1)*MID($K$300,1,1))&RIGHT(MID($K301,2,1)*MID($K$300,2,1))&RIGHT(MID($K301,3,1)*MID($K$300,3,1)))))))))","v":"000"},{"$f":"R301","v":"000"}]
["201806270532 75430",null,"1806241422","37522",702,702,"1806241422","37522",null,null,"001",null,null,null,null,null,null,{"$f":"IF(R$213=\"胆码\",MID($K302,1,1)&MID($K302,2,1)&MID($K302,3,1),IF(R$213=\"任合\",RIGHT(MID($K302,1,1)+MID($K302,2,1))&RIGHT(MID($K302,1,1)+MID($K302,3,1))&RIGHT(MID($K302,2,1)+MID($K302,3,1)),IF(R$213=\"任差\",RIGHT(MID($K302,1,1)-MID($K302,2,1))&RIGHT(MID($K302,1,1)-MID($K302,3,1))&RIGHT(MID($K302,2,1)-MID($K302,3,1)),IF(R$213=\"任积\",RIGHT(MID($K302,1,1)*MID($K302,2,1))&RIGHT(MID($K302,1,1)*MID($K302,3,1))&RIGHT(MID($K302,2,1)*MID($K302,3,1)),IF(R$213=\"位合\",RIGHT(MID($K302,1,1)+MID($K$300,1,1))&RIGHT(MID($K302,2,1)+MID($K$300,2,1))&RIGHT(MID($K302,3,1)+MID($K$300,3,1)),IF(R$213=\"位差\",RIGHT(MID($K302,1,1)-MID($K$300,1,1))&RIGHT(MID($K302,2,1)-MID($K$300,2,1))&RIGHT(MID($K302,3,1)-MID($K$300,3,1)),IF(R$213=\"位积\",RIGHT(MID($K302,1,1)*MID($K$300,1,1))&RIGHT(MID($K302,2,1)*MID($K$300,2,1))&RIGHT(MID($K302,3,1)*MID($K$300,3,1)))))))))","v":"001"},{"$f":"R302","v":"001"}]
["201806270531 96303",null,"1806241423","99883",701,701,"1806241423","99883",null,null,"002",null,null,null,null,null,null,"002","002"]
["201806270530 09048",null,"1806241424","50542",700,700,"1806241424","50542",null,null,"003",null,null,null,null,null,null,"003","003"]
["201806270529 59822",null,"1806260540","56733",699,699,"1806260540","56733",null,null,"004",null,null,null,null,null,null,"004","004"]
["201806270528 75131",null,"1806260541","04754",698,698,"1806260541","04754",null,null,"005",null,null,null,null,null,null,"005","005"]
["201806270527 46543",null,"1806260542","07755",697,697,"1806260542","07755",null,null,"006",null,null,null,null,null,null,"006","006"]
["201806270526 00395",null,"1806260543","67203",696,696,"1806260543","67203",null,null,"007",null,null,null,null,null,null,"007","007"]
["201806270525 39290",null,"1806260544","98807",695,695,"1806260544","98807",null,null,"008",null,null,null,null,null,null,"008","008"]
["201806270524 10061",null,"1806260545","36811",694,694,"1806260545","36811",null,null,"009",null,null,null,null,null,null,"009","009"]
["201806270523 06768",null,"1806260546","77225",693,693,"1806260546","77225",null,null,"010",null,null,null,null,null,null,"010","010"]
["201806270522 77384",null,"1806260547","10947",692,692,"1806260547","10947",null,null,"011",null,null,null,null,null,null,"011","011"]
["201806270521 37231",null,"1806260548","95786",691,691,"1806260548","95786",null,null,"012",null,null,null,null,null,null,"012","012"]
["201806270520 56029",null,"1806260549","03721",690,690,"1806260549","03721",null,null,"013",null,null,null,null,null,null,"013","013"]
["201806270519 84759",null,"1806260550","99767",689,689,"1806260550","99767",null,null,"014",null,null,null,null,null,null,"014","014"]
["201806270518 34495",null,"1806260551","80272",688,688,"1806260551","80272",null,null,"015",null,null,null,null,null,null,"015","015"]
["201806270517 19956",null,"1806260552","36341",687,687,"1806260552","36341",null,null,"016",null,null,null,null,null,null,"016","016"]
["201806270516 53470",null,"1806260553","31545",686,686,"1806260553","31545",null,null,"017",null,null,null,null,null,null,"017","017"]
["201806270515 41040",null,"1806260554","60388",685,685,"1806260554","60388",null,null,"018",null,null,null,null,null,null,"018","018"]
["201806270514 02811",null,"1806260555","44358",684,684,"1806260555","44358",null,null,"019",null,null,null,null,null,null,"019","019"]
["201806270513 87773",null,"1806260556","29876",683,683,"1806260556","29876",null,null,"020",null,null,null,null,null,null,"020","020"]
["201806270512 25832",null,{"$f":"IF(E322>=0,MID(OFFSET($A$1,E322,),3,D$1-3),\"\")","v":"1806260557"},{"$f":"IF(E322>=0,MID(OFFSET($A$1,E322,),D$1+1,5),\"\")","v":"94340"},{"$f":"E323+1","v":682},682,{"$f":"IF(E322>=0,MID(OFFSET($A$1,F322,),3,D$1-3),\"\")","v":"1806260557"},{"$f":"IF(E322>=0,MID(OFFSET($A$1,F322,),D$1+1,5),\"\")","v":"94340"},null,null,"021",null,null,null,null,null,null,"021","021"]
["201806270511 59197",null,"1806260558","43386",681,681,"1806260558","43386",null,null,"022",null,null,null,null,null,null,"022","022"]
["201806270510 42147",null,"1806260559","33689",680,680,"1806260559","33689",null,null,"023",null,null,null,null,null,null,"023","023"]
["201806270509 30408",null,"1806260560","01798",679,679,"1806260560","01798",null,null,"024",null,null,null,null,null,null,"024","024"]
["201806270508 22376",null,"1806260561","84396",678,678,"1806260561","84396",null,null,"025",null,null,null,null,null,null,"025","025"]
["201806270507 12701",null,"1806260562","10659",677,677,"1806260562","10659",null,null,"026",null,null,null,null,null,null,"026","026"]
["201806270506 87860",null,"1806260563","47874",676,676,"1806260563","47874",null,null,"027",null,null,null,null,null,null,"027","027"]
["201806270505 26653",null,"1806260564","75129",675,675,"1806260564","75129",null,null,"028",null,null,null,null,null,null,"028","028"]
["201806270504 30246",null,"1806260565","02170",674,674,"1806260565","02170",null,null,"029",null,null,null,null,null,null,"029","029"]
["201806270503 81553",null,"1806260566","38298",673,673,"1806260566","38298",null,null,"030",null,null,null,null,null,null,"030","030"]
["201806270502 55503",null,"1806260567","03960",672,672,"1806260567","03960",null,null,"031",null,null,null,null,null,null,"031","031"]
["201806270501 37017",null,"1806260568","76989",671,671,"1806260568","76989",null,null,"032",null,null,null,null,null,null,"032","032"]
["201806261133 23434",null,"1806260569","33914",670,670,"1806260569","33914",null,null,"033",null,null,null,null,null,null,"033","033"]
["201806261025 68342",null,"1806260570","75338",669,669,"1806260570","75338",null,null,"034",null,null,null,null,null,null,"034","034"]
["201806261024 94742",null,"1806260571","35965",668,668,"1806260571","35965",null,null,"035",null,null,null,null,null,null,"035","035"]
["201806261023 56743",null,"1806260572","17813",667,667,"1806260572","17813",null,null,"036",null,null,null,null,null,null,"036","036"]
["201806261022 45913",null,"1806260573","50468",666,666,"1806260573","50468",null,null,"037",null,null,null,null,null,null,"037","037"]
["201806261021 92505",null,"1806260574","85739",665,665,"1806260574","85739",null,null,"038",null,null,null,null,null,null,"038","038"]
["201806261020 41799",null,"1806260575","50587",664,664,"1806260575","50587",null,null,"039",null,null,null,null,null,null,"039","039"]
["201806261019 64722",null,"1806260576","33302",663,663,"1806260576","33302",null,null,"040",null,null,null,null,null,null,"040","040"]
["201806261018 69583",null,"1806260577","39166",662,662,"1806260577","39166",null,null,"041",null,null,null,null,null,null,"041","041"]
["201806261017 15583",null,"1806260578","29279",661,661,"1806260578","29279",null,null,"042",null,null,null,null,null,null,"042","042"]
["201806261016 85564",null,"1806260579","85438",660,660,"1806260579","85438",null,null,"043",null,null,null,null,null,null,"043","043"]
["201806261015 82513",null,"1806260580","52550",659,659,"1806260580","52550",null,null,"044",null,null,null,null,null,null,"044","044"]
["201806261014 19466",null,"1806260581","97305",658,658,"1806260581","97305",null,null,"045",null,null,null,null,null,null,"045","045"]
["201806261013 58553",null,"1806260582","77520",657,657,"1806260582","77520",null,null,"046",null,null,null,null,null,null,"046","046"]
["201806261012 54524",null,"1806260583","29849",656,656,"1806260583","29849",null,null,"047",null,null,null,null,null,null,"047","047"]
["201806261011 18331",null,"1806260584","53952",655,655,"1806260584","53952",null,null,"048",null,null,null,null,null,null,"048","048"]
["201806261010 22017",null,"1806260585","15645",654,654,"1806260585","15645",null,null,"049",null,null,null,null,null,null,"049","049"]
["201806261009 16979",null,"1806260586","72092",653,653,"1806260586","72092",null,null,"050",null,null,null,null,null,null,"050","050"]
["201806261008 54256",null,"1806260587","21351",652,652,"1806260587","21351",null,null,"051",null,null,null,null,null,null,"051","051"]
["201806261007 67059",null,"1806260588","61490",651,651,"1806260588","61490",null,null,"052",null,null,null,null,null,null,"052","052"]
["201806261006 76369",null,"1806260589","87477",650,650,"1806260589","87477",null,null,"053",null,null,null,null,null,null,"053","053"]
["201806261005 89648",null,"1806260590","99031",649,649,"1806260590","99031",null,null,"054",null,null,null,null,null,null,"054","054"]
["201806261004 13783",null,"1806260591","58797",648,648,"1806260591","58797",null,null,"055",null,null,null,null,null,null,"055","055"]
["201806261003 97130",null,"1806260592","59548",647,647,"1806260592","59548",null,null,"056",null,null,null,null,null,null,"056","056"]
["201806261002 79580",null,"1806260593","05859",646,646,"1806260593","05859",null,null,"057",null,null,null,null,null,null,"057","057"]
["201806261001 76403",null,"1806260594","82991",645,645,"1806260594","82991",null,null,"058",null,null,null,null,null,null,"058","058"]
["201806261000 00377",null,"1806260595","63981",644,644,"1806260595","63981",null,null,"059",null,null,null,null,null,null,"059","059"]
["201806260999 97155",null,"1806260596","08701",643,643,"1806260596","08701",null,null,"060",null,null,null,null,null,null,"060","060"]
["201806260998 44389",null,"1806260597","78667",642,642,"1806260597","78667",null,null,"061",null,null,null,null,null,null,"061","061"]
["201806260997 43590",null,"1806260598","26788",641,641,"1806260598","26788",null,null,"062",null,null,null,null,null,null,"062","062"]
["201806260996 83207",null,"1806260599","59305",640,640,"1806260599","59305",null,null,"063",null,null,null,null,null,null,"063","063"]
["201806260995 90526",null,"1806260600","65346",639,639,"1806260600","65346",null,null,"064",null,null,null,null,null,null,"064","064"]
["201806260994 68446",null,"1806260601","60039",638,638,"1806260601","60039",null,null,"065",null,null,null,null,null,null,{"$f":"IF(R$213=\"胆码\",MID($K366,1,1)&MID($K366,2,1)&MID($K366,3,1),IF(R$213=\"任合\",RIGHT(MID($K366,1,1)+MID($K366,2,1))&RIGHT(MID($K366,1,1)+MID($K366,3,1))&RIGHT(MID($K366,2,1)+MID($K366,3,1)),IF(R$213=\"任差\",RIGHT(MID($K366,1,1)-MID($K366,2,1))&RIGHT(MID($K366,1,1)-MID($K366,3,1))&RIGHT(MID($K366,2,1)-MID($K366,3,1)),IF(R$213=\"任积\",RIGHT(MID($K366,1,1)*MID($K366,2,1))&RIGHT(MID($K366,1,1)*MID($K366,3,1))&RIGHT(MID($K366,2,1)*MID($K366,3,1)),IF(R$213=\"位合\",RIGHT(MID($K366,1,1)+MID($K$300,1,1))&RIGHT(MID($K366,2,1)+MID($K$300,2,1))&RIGHT(MID($K366,3,1)+MID($K$300,3,1)),IF(R$213=\"位差\",RIGHT(MID($K366,1,1)-MID($K$300,1,1))&RIGHT(MID($K366,2,1)-MID($K$300,2,1))&RIGHT(MID($K366,3,1)-MID($K$300,3,1)),IF(R$213=\"位积\",RIGHT(MID($K366,1,1)*MID($K$300,1,1))&RIGHT(MID($K366,2,1)*MID($K$300,2,1))&RIGHT(MID($K366,3,1)*MID($K$300,3,1)))))))))","v":"065"},{"$f":"R366","v":"065"}]
["201806260993 30360",null,"1806260602","46285",637,637,"1806260602","46285",null,null,"066",null,null,null,null,null,null,"066","066"]
["201806260992 02014",null,"1806260603","49264",636,636,"1806260603","49264",null,null,"067",null,null,null,null,null,null,"067","067"]
["201806260991 26961",null,"1806260604","82970",635,635,"1806260604","82970",null,null,"068",null,null,null,null,null,null,"068","068"]
["201806260990 33435",null,"1806260605","85654",634,634,"1806260605","85654",null,null,"069",null,null,null,null,null,null,"069","069"]
["201806260989 53268",null,"1806260606","53259",633,633,"1806260606","53259",null,null,"070",null,null,null,null,null,null,"070","070"]
["201806260988 70068",null,"1806260607","23051",632,632,"1806260607","23051",null,null,"071",null,null,null,null,null,null,"071","071"]
["201806260987 09515",null,"1806260608","89561",631,631,"1806260608","89561",null,null,"072",null,null,null,null,null,null,"072","072"]
["201806260986 36956",null,"1806260609","14689",630,630,"1806260609","14689",null,null,"073",null,null,null,null,null,null,"073","073"]
["201806260985 83801",null,"1806260610","83508",629,629,"1806260610","83508",null,null,"074",null,null,null,null,null,null,"074","074"]
["201806260984 38641",null,"1806260611","41315",628,628,"1806260611","41315",null,null,"075",null,null,null,null,null,null,"075","075"]
["201806260983 89334",null,"1806260612","08356",627,627,"1806260612","08356",null,null,"076",null,null,null,null,null,null,"076","076"]
["201806260982 94082",null,"1806260613","47456",626,626,"1806260613","47456",null,null,"077",null,null,null,null,null,null,"077","077"]
["201806260981 04351",null,"1806260614","80113",625,625,"1806260614","80113",null,null,"078",null,null,null,null,null,null,"078","078"]
["201806260980 87142",null,"1806260615","39473",624,624,"1806260615","39473",null,null,"079",null,null,null,null,null,null,"079","079"]
["201806260979 91171",null,"1806260616","82932",623,623,"1806260616","82932",null,null,"080",null,null,null,null,null,null,"080","080"]
["201806260978 57282",null,"1806260617","77092",622,622,"1806260617","77092",null,null,"081",null,null,null,null,null,null,"081","081"]
["201806260977 53450",null,"1806260618","95366",621,621,"1806260618","95366",null,null,"082",null,null,null,null,null,null,"082","082"]
["201806260976 76154",null,"1806260619","53305",620,620,"1806260619","53305",null,null,"083",null,null,null,null,null,null,"083","083"]
["201806260975 36686",null,"1806260620","55582",619,619,"1806260620","55582",null,null,"084",null,null,null,null,null,null,"084","084"]
["201806260974 97872",null,{"$f":"IF(E386>=0,MID(OFFSET($A$1,E386,),3,D$1-3),\"\")","v":"1806260621"},{"$f":"IF(E386>=0,MID(OFFSET($A$1,E386,),D$1+1,5),\"\")","v":"46610"},{"$f":"E387+1","v":618},618,{"$f":"IF(E386>=0,MID(OFFSET($A$1,F386,),3,D$1-3),\"\")","v":"1806260621"},{"$f":"IF(E386>=0,MID(OFFSET($A$1,F386,),D$1+1,5),\"\")","v":"46610"},null,null,"085",null,null,null,null,null,null,"085","085"]
["201806260973 60617",null,"1806260622","67123",617,617,"1806260622","67123",null,null,"086",null,null,null,null,null,null,"086","086"]
["201806260972 70127",null,"1806260623","04685",616,616,"1806260623","04685",null,null,"087",null,null,null,null,null,null,"087","087"]
["201806260971 61175",null,"1806260624","06179",615,615,"1806260624","06179",null,null,"088",null,null,null,null,null,null,"088","088"]
["201806260970 19377",null,"1806260625","19856",614,614,"1806260625","19856",null,null,"089",null,null,null,null,null,null,"089","089"]
["201806260969 87587",null,"1806260626","00693",613,613,"1806260626","00693",null,null,"090",null,null,null,null,null,null,"090","090"]
["201806260968 10873",null,"1806260627","74776",612,612,"1806260627","74776",null,null,"091",null,null,null,null,null,null,"091","091"]
["201806260967 65255",null,"1806260628","35546",611,611,"1806260628","35546",null,null,"092",null,null,null,null,null,null,"092","092"]
["201806260966 75726",null,"1806260629","72794",610,610,"1806260629","72794",null,null,"093",null,null,null,null,null,null,"093","093"]
["201806260965 77941",null,"1806260630","86332",609,609,"1806260630","86332",null,null,"094",null,null,null,null,null,null,"094","094"]
["201806260964 86682",null,"1806260631","64557",608,608,"1806260631","64557",null,null,"095",null,null,null,null,null,null,"095","095"]
["201806260963 11248",null,"1806260632","75412",607,607,"1806260632","75412",null,null,"096",null,null,null,null,null,null,"096","096"]
["201806260962 68690",null,"1806260633","05001",606,606,"1806260633","05001",null,null,"097",null,null,null,null,null,null,"097","097"]
["201806260961 60483",null,"1806260634","26247",605,605,"1806260634","26247",null,null,"098",null,null,null,null,null,null,"098","098"]
["201806260960 00371",null,"1806260635","16373",604,604,"1806260635","16373",null,null,"099",null,null,null,null,null,null,"099","099"]
["201806260959 62142",null,"1806260636","22793",603,603,"1806260636","22793",null,null,"100",null,null,null,null,null,null,"100","100"]
["201806260958 54709",null,"1806260637","89385",602,602,"1806260637","89385",null,null,"101",null,null,null,null,null,null,"101","101"]
["201806260957 08767",null,"1806260638","66875",601,601,"1806260638","66875",null,null,"102",null,null,null,null,null,null,"102","102"]
["201806260956 60130",null,"1806260639","86757",600,600,"1806260639","86757",null,null,"103",null,null,null,null,null,null,"103","103"]
["201806260955 27699",null,"1806260640","88000",599,599,"1806260640","88000",null,null,"104",null,null,null,null,null,null,"104","104"]
["201806260954 36401",null,"1806260641","40019",598,598,"1806260641","40019",null,null,"105",null,null,null,null,null,null,"105","105"]
["201806260953 69556",null,"1806260642","58323",597,597,"1806260642","58323",null,null,"106",null,null,null,null,null,null,"106","106"]
["201806260952 94880",null,"1806260643","36752",596,596,"1806260643","36752",null,null,"107",null,null,null,null,null,null,"107","107"]
["201806260951 52015",null,"1806260644","94491",595,595,"1806260644","94491",null,null,"108",null,null,null,null,null,null,"108","108"]
["201806260950 35553",null,"1806260645","39951",594,594,"1806260645","39951",null,null,"109",null,null,null,null,null,null,"109","109"]
["201806260949 08128",null,"1806260646","33744",593,593,"1806260646","33744",null,null,"110",null,null,null,null,null,null,"110","110"]
["201806260948 58477",null,"1806260647","57089",592,592,"1806260647","57089",null,null,"111",null,null,null,null,null,null,"111","111"]
["201806260947 84213",null,"1806260648","52733",591,591,"1806260648","52733",null,null,"112",null,null,null,null,null,null,"112","112"]
["201806260946 15739",null,"1806260649","89297",590,590,"1806260649","89297",null,null,"113",null,null,null,null,null,null,"113","113"]
["201806260945 10446",null,"1806260650","14251",589,589,"1806260650","14251",null,null,"114",null,null,null,null,null,null,"114","114"]
["201806260944 38757",null,"1806260651","99765",588,588,"1806260651","99765",null,null,"115",null,null,null,null,null,null,"115","115"]
["201806260943 85099",null,"1806260652","65910",587,587,"1806260652","65910",null,null,"116",null,null,null,null,null,null,"116","116"]
["201806260942 47888",null,"1806260653","59019",586,586,"1806260653","59019",null,null,"117",null,null,null,null,null,null,"117","117"]
["201806260941 04863",null,"1806260654","19938",585,585,"1806260654","19938",null,null,"118",null,null,null,null,null,null,"118","118"]
["201806260940 50152",null,"1806260655","06578",584,584,"1806260655","06578",null,null,"119",null,null,null,null,null,null,"119","119"]
["201806260939 12827",null,"1806260656","30563",583,583,"1806260656","30563",null,null,"120",null,null,null,null,null,null,"120","120"]
["201806260938 18906",null,"1806260657","12412",582,582,"1806260657","12412",null,null,"121",null,null,null,null,null,null,"121","121"]
["201806260937 34213",null,"1806260658","88327",581,581,"1806260658","88327",null,null,"122",null,null,null,null,null,null,"122","122"]
["201806260936 62813",null,"1806260659","02554",580,580,"1806260659","02554",null,null,"123",null,null,null,null,null,null,"123","123"]
["201806260935 99785",null,"1806260660","49104",579,579,"1806260660","49104",null,null,"124",null,null,null,null,null,null,"124","124"]
["201806260934 73743",null,"1806260661","62371",578,578,"1806260661","62371",null,null,"125",null,null,null,null,null,null,"125","125"]
["201806260933 73296",null,"1806260662","85214",577,577,"1806260662","85214",null,null,"126",null,null,null,null,null,null,"126","126"]
["201806260932 79318",null,"1806260663","26503",576,576,"1806260663","26503",null,null,"127",null,null,null,null,null,null,"127","127"]
["201806260931 48093",null,"1806260664","58365",575,575,"1806260664","58365",null,null,"128",null,null,null,null,null,null,"128","128"]
["201806260930 48301",null,"1806260665","89093",574,574,"1806260665","89093",null,null,"129",null,null,null,null,null,null,{"$f":"IF(R$213=\"胆码\",MID($K430,1,1)&MID($K430,2,1)&MID($K430,3,1),IF(R$213=\"任合\",RIGHT(MID($K430,1,1)+MID($K430,2,1))&RIGHT(MID($K430,1,1)+MID($K430,3,1))&RIGHT(MID($K430,2,1)+MID($K430,3,1)),IF(R$213=\"任差\",RIGHT(MID($K430,1,1)-MID($K430,2,1))&RIGHT(MID($K430,1,1)-MID($K430,3,1))&RIGHT(MID($K430,2,1)-MID($K430,3,1)),IF(R$213=\"任积\",RIGHT(MID($K430,1,1)*MID($K430,2,1))&RIGHT(MID($K430,1,1)*MID($K430,3,1))&RIGHT(MID($K430,2,1)*MID($K430,3,1)),IF(R$213=\"位合\",RIGHT(MID($K430,1,1)+MID($K$300,1,1))&RIGHT(MID($K430,2,1)+MID($K$300,2,1))&RIGHT(MID($K430,3,1)+MID($K$300,3,1)),IF(R$213=\"位差\",RIGHT(MID($K430,1,1)-MID($K$300,1,1))&RIGHT(MID($K430,2,1)-MID($K$300,2,1))&RIGHT(MID($K430,3,1)-MID($K$300,3,1)),IF(R$213=\"位积\",RIGHT(MID($K430,1,1)*MID($K$300,1,1))&RIGHT(MID($K430,2,1)*MID($K$300,2,1))&RIGHT(MID($K430,3,1)*MID($K$300,3,1)))))))))","v":"129"},{"$f":"R430","v":"129"}]
["201806260929 48168",null,"1806260666","45979",573,573,"1806260666","45979",null,null,"130",null,null,null,null,null,null,"130","130"]
["201806260928 79432",null,"1806260667","22233",572,572,"1806260667","22233",null,null,"131",null,null,null,null,null,null,"131","131"]
["201806260927 97544",null,"1806260668","31606",571,571,"1806260668","31606",null,null,"132",null,null,null,null,null,null,"132","132"]
["201806260926 61860",null,"1806260669","19116",570,570,"1806260669","19116",null,null,"133",null,null,null,null,null,null,"133","133"]
["201806260925 81717",null,"1806260670","76043",569,569,"1806260670","76043",null,null,"134",null,null,null,null,null,null,"134","134"]
["201806260924 67438",null,"1806260671","55826",568,568,"1806260671","55826",null,null,"135",null,null,null,null,null,null,"135","135"]
["201806260923 58012",null,"1806260672","22383",567,567,"1806260672","22383",null,null,"136",null,null,null,null,null,null,"136","136"]
["201806260922 08802",null,"1806260673","48735",566,566,"1806260673","48735",null,null,"137",null,null,null,null,null,null,"137","137"]
["201806260921 75163",null,"1806260674","58060",565,565,"1806260674","58060",null,null,"138",null,null,null,null,null,null,"138","138"]
["201806260920 31451",null,"1806260675","55030",564,564,"1806260675","55030",null,null,"139",null,null,null,null,null,null,"139","139"]
["201806260919 04221",null,"1806260676","06992",563,563,"1806260676","06992",null,null,"140",null,null,null,null,null,null,"140","140"]
["201806260918 01766",null,"1806260677","12198",562,562,"1806260677","12198",null,null,"141",null,null,null,null,null,null,"141","141"]
["201806260917 35621",null,"1806260678","93654",561,561,"1806260678","93654",null,null,"142",null,null,null,null,null,null,"142","142"]
["201806260916 46687",null,"1806260679","55195",560,560,"1806260679","55195",null,null,"143",null,null,null,null,null,null,"143","143"]
["201806260915 70532",null,"1806260680","19379",559,559,"1806260680","19379",null,null,"144",null,null,null,null,null,null,"144","144"]
["201806260914 34481",null,"1806260681","44760",558,558,"1806260681","44760",null,null,"145",null,null,null,null,null,null,"145","145"]
["201806260913 74675",null,"1806260682","19226",557,557,"1806260682","19226",null,null,"146",null,null,null,null,null,null,"146","146"]
["201806260912 40704",null,"1806260683","34146",556,556,"1806260683","34146",null,null,"147",null,null,null,null,null,null,"147","147"]
["201806260911 28050",null,"1806260684","43765",555,555,"1806260684","43765",null,null,"148",null,null,null,null,null,null,"148","148"]
["201806260910 90014",null,{"$f":"IF(E450>=0,MID(OFFSET($A$1,E450,),3,D$1-3),\"\")","v":"1806260685"},{"$f":"IF(E450>=0,MID(OFFSET($A$1,E450,),D$1+1,5),\"\")","v":"00865"},{"$f":"E451+1","v":554},554,{"$f":"IF(E450>=0,MID(OFFSET($A$1,F450,),3,D$1-3),\"\")","v":"1806260685"},{"$f":"IF(E450>=0,MID(OFFSET($A$1,F450,),D$1+1,5),\"\")","v":"00865"},null,null,"149",null,null,null,null,null,null,"149","149"]
["201806260909 85567",null,"1806260686","54806",553,553,"1806260686","54806",null,null,"150",null,null,null,null,null,null,"150","150"]
["201806260908 52319",null,"1806260687","60910",552,552,"1806260687","60910",null,null,"151",null,null,null,null,null,null,"151","151"]
["201806260907 58232",null,"1806260688","28210",551,551,"1806260688","28210",null,null,"152",null,null,null,null,null,null,"152","152"]
["201806260906 96734",null,"1806260689","35265",550,550,"1806260689","35265",null,null,"153",null,null,null,null,null,null,"153","153"]
["201806260905 27772",null,"1806260690","40019",549,549,"1806260690","40019",null,null,"154",null,null,null,null,null,null,"154","154"]
["201806260904 69413",null,"1806260691","18554",548,548,"1806260691","18554",null,null,"155",null,null,null,null,null,null,"155","155"]
["201806260812 82728",null,"1806260692","56726",547,547,"1806260692","56726",null,null,"156",null,null,null,null,null,null,"156","156"]
["201806260811 66439",null,"1806260693","07481",546,546,"1806260693","07481",null,null,"157",null,null,null,null,null,null,"157","157"]
["201806260781 30642",null,"1806260694","58321",545,545,"1806260694","58321",null,null,"158",null,null,null,null,null,null,"158","158"]
["201806260780 86439",null,"1806260695","40258",544,544,"1806260695","40258",null,null,"159",null,null,null,null,null,null,"159","159"]
["201806260779 60636",null,"1806260696","15925",543,543,"1806260696","15925",null,null,"160",null,null,null,null,null,null,"160","160"]
["201806260778 90175",null,"1806260697","80945",542,542,"1806260697","80945",null,null,"161",null,null,null,null,null,null,"161","161"]
["201806260777 00974",null,"1806260698","81241",541,541,"1806260698","81241",null,null,"162",null,null,null,null,null,null,"162","162"]
["201806260776 99583",null,"1806260699","89495",540,540,"1806260699","89495",null,null,"163",null,null,null,null,null,null,"163","163"]
["201806260775 62093",null,"1806260700","75530",539,539,"1806260700","75530",null,null,"164",null,null,null,null,null,null,"164","164"]
["201806260774 98905",null,"1806260701","21862",538,538,"1806260701","21862",null,null,"165",null,null,null,null,null,null,"165","165"]
["201806260773 36491",null,"1806260702","99440",537,537,"1806260702","99440",null,null,"166",null,null,null,null,null,null,"166","166"]
["201806260772 31188",null,"1806260703","04652",536,536,"1806260703","04652",null,null,"167",null,null,null,null,null,null,"167","167"]
["201806260771 59244",null,"1806260704","12900",535,535,"1806260704","12900",null,null,"168",null,null,null,null,null,null,"168","168"]
["201806260770 17005",null,"1806260705","80657",534,534,"1806260705","80657",null,null,"169",null,null,null,null,null,null,"169","169"]
["201806260769 30975",null,"1806260706","91756",533,533,"1806260706","91756",null,null,"170",null,null,null,null,null,null,"170","170"]
["201806260768 45752",null,"1806260707","22444",532,532,"1806260707","22444",null,null,"171",null,null,null,null,null,null,"171","171"]
["201806260767 34524",null,"1806260708","35042",531,531,"1806260708","35042",null,null,"172",null,null,null,null,null,null,"172","172"]
["201806260766 78162",null,"1806260709","59064",530,530,"1806260709","59064",null,null,"173",null,null,null,null,null,null,"173","173"]
["201806260765 45150",null,"1806260710","55530",529,529,"1806260710","55530",null,null,"174",null,null,null,null,null,null,"174","174"]
["201806260764 76006",null,"1806260711","70253",528,528,"1806260711","70253",null,null,"175",null,null,null,null,null,null,"175","175"]
["201806260763 71578",null,"1806260712","81033",527,527,"1806260712","81033",null,null,"176",null,null,null,null,null,null,"176","176"]
["201806260762 98169",null,"1806260713","19077",526,526,"1806260713","19077",null,null,"177",null,null,null,null,null,null,"177","177"]
["201806260761 85288",null,"1806260714","40384",525,525,"1806260714","40384",null,null,"178",null,null,null,null,null,null,"178","178"]
["201806260760 74459",null,"1806260715","12032",524,524,"1806260715","12032",null,null,"179",null,null,null,null,null,null,"179","179"]
["201806260759 44022",null,"1806260716","25497",523,523,"1806260716","25497",null,null,"180",null,null,null,null,null,null,"180","180"]
["201806260758 26884",null,"1806260717","98024",522,522,"1806260717","98024",null,null,"181",null,null,null,null,null,null,"181","181"]
["201806260757 20593",null,"1806260718","22382",521,521,"1806260718","22382",null,null,"182",null,null,null,null,null,null,"182","182"]
["201806260756 72679",null,"1806260719","70334",520,520,"1806260719","70334",null,null,"183",null,null,null,null,null,null,"183","183"]
["201806260755 13622",null,"1806260720","27760",519,519,"1806260720","27760",null,null,"184",null,null,null,null,null,null,"184","184"]
["201806260754 02921",null,"1806260721","93157",518,518,"1806260721","93157",null,null,"185",null,null,null,null,null,null,"185","185"]
["201806260753 23237",null,"1806260722","11379",517,517,"1806260722","11379",null,null,"186",null,null,null,null,null,null,"186","186"]
["201806260752 02806",null,"1806260723","33577",516,516,"1806260723","33577",null,null,"187",null,null,null,null,null,null,"187","187"]
["201806260751 40236",null,"1806260724","60251",515,515,"1806260724","60251",null,null,"188",null,null,null,null,null,null,"188","188"]
["201806260750 94197",null,"1806260725","21627",514,514,"1806260725","21627",null,null,"189",null,null,null,null,null,null,"189","189"]
["201806260749 76793",null,"1806260726","65937",513,513,"1806260726","65937",null,null,"190",null,null,null,null,null,null,"190","190"]
["201806260748 58980",null,"1806260727","20671",512,512,"1806260727","20671",null,null,"191",null,null,null,null,null,null,"191","191"]
["201806260747 13847",null,"1806260728","82676",511,511,"1806260728","82676",null,null,"192",null,null,null,null,null,null,"192","192"]
["201806260746 29143",null,"1806260729","87996",510,510,"1806260729","87996",null,null,"193",null,null,null,null,null,null,{"$f":"IF(R$213=\"胆码\",MID($K494,1,1)&MID($K494,2,1)&MID($K494,3,1),IF(R$213=\"任合\",RIGHT(MID($K494,1,1)+MID($K494,2,1))&RIGHT(MID($K494,1,1)+MID($K494,3,1))&RIGHT(MID($K494,2,1)+MID($K494,3,1)),IF(R$213=\"任差\",RIGHT(MID($K494,1,1)-MID($K494,2,1))&RIGHT(MID($K494,1,1)-MID($K494,3,1))&RIGHT(MID($K494,2,1)-MID($K494,3,1)),IF(R$213=\"任积\",RIGHT(MID($K494,1,1)*MID($K494,2,1))&RIGHT(MID($K494,1,1)*MID($K494,3,1))&RIGHT(MID($K494,2,1)*MID($K494,3,1)),IF(R$213=\"位合\",RIGHT(MID($K494,1,1)+MID($K$300,1,1))&RIGHT(MID($K494,2,1)+MID($K$300,2,1))&RIGHT(MID($K494,3,1)+MID($K$300,3,1)),IF(R$213=\"位差\",RIGHT(MID($K494,1,1)-MID($K$300,1,1))&RIGHT(MID($K494,2,1)-MID($K$300,2,1))&RIGHT(MID($K494,3,1)-MID($K$300,3,1)),IF(R$213=\"位积\",RIGHT(MID($K494,1,1)*MID($K$300,1,1))&RIGHT(MID($K494,2,1)*MID($K$300,2,1))&RIGHT(MID($K494,3,1)*MID($K$300,3,1)))))))))","v":"193"},{"$f":"R494","v":"193"}]
["201806260745 38575",null,"1806260730","23455",509,509,"1806260730","23455",null,null,"194",null,null,null,null,null,null,"194","194"]
["201806260744 73584",null,"1806260731","60679",508,508,"1806260731","60679",null,null,"195",null,null,null,null,null,null,"195","195"]
["201806260743 78091",null,"1806260732","11949",507,507,"1806260732","11949",null,null,"196",null,null,null,null,null,null,"196","196"]
["201806260742 44412",null,"1806260733","52198",506,506,"1806260733","52198",null,null,"197",null,null,null,null,null,null,"197","197"]
["201806260741 01872",null,"1806260734","61272",505,505,"1806260734","61272",null,null,"198",null,null,null,null,null,null,"198","198"]
["201806260740 20420",null,"1806260735","42729",504,504,"1806260735","42729",null,null,"199",null,null,null,null,null,null,"199","199"]
["201806260739 11561",null,"1806260736","74668",503,503,"1806260736","74668",null,null,"200",null,null,null,null,null,null,"200","200"]
["201806260738 14450",null,"1806260737","72247",502,502,"1806260737","72247",null,null,"201",null,null,null,null,null,null,"201","201"]
["201806260737 72247",null,"1806260738","14450",501,501,"1806260738","14450",null,null,"202",null,null,null,null,null,null,"202","202"]
["201806260736 74668",null,"1806260739","11561",500,500,"1806260739","11561",null,null,"203",null,null,null,null,null,null,"203","203"]
["201806260735 42729",null,"1806260740","20420",499,499,"1806260740","20420",null,null,"204",null,null,null,null,null,null,"204","204"]
["201806260734 61272",null,"1806260741","01872",498,498,"1806260741","01872",null,null,"205",null,null,null,null,null,null,"205","205"]
["201806260733 52198",null,"1806260742","44412",497,497,"1806260742","44412",null,null,"206",null,null,null,null,null,null,"206","206"]
["201806260732 11949",null,"1806260743","78091",496,496,"1806260743","78091",null,null,"207",null,null,null,null,null,null,"207","207"]
["201806260731 60679",null,"1806260744","73584",495,495,"1806260744","73584",null,null,"208",null,null,null,null,null,null,"208","208"]
["201806260730 23455",null,"1806260745","38575",494,494,"1806260745","38575",null,null,"209",null,null,null,null,null,null,"209","209"]
["201806260729 87996",null,"1806260746","29143",493,493,"1806260746","29143",null,null,"210",null,null,null,null,null,null,"210","210"]
["201806260728 82676",null,"1806260747","13847",492,492,"1806260747","13847",null,null,"211",null,null,null,null,null,null,"211","211"]
["201806260727 20671",null,"1806260748","58980",491,491,"1806260748","58980",null,null,"212",null,null,null,null,null,null,"212","212"]
["201806260726 65937",null,{"$f":"IF(E514>=0,MID(OFFSET($A$1,E514,),3,D$1-3),\"\")","v":"1806260749"},{"$f":"IF(E514>=0,MID(OFFSET($A$1,E514,),D$1+1,5),\"\")","v":"76793"},{"$f":"E515+1","v":490},490,{"$f":"IF(E514>=0,MID(OFFSET($A$1,F514,),3,D$1-3),\"\")","v":"1806260749"},{"$f":"IF(E514>=0,MID(OFFSET($A$1,F514,),D$1+1,5),\"\")","v":"76793"},null,null,"213",null,null,null,null,null,null,"213","213"]
["201806260725 21627",null,"1806260750","94197",489,489,"1806260750","94197",null,null,"214",null,null,null,null,null,null,"214","214"]
["201806260724 60251",null,"1806260751","40236",488,488,"1806260751","40236",null,null,"215",null,null,null,null,null,null,"215","215"]
["201806260723 33577",null,"1806260752","02806",487,487,"1806260752","02806",null,null,"216",null,null,null,null,null,null,"216","216"]
["201806260722 11379",null,"1806260753","23237",486,486,"1806260753","23237",null,null,"217",null,null,null,null,null,null,"217","217"]
["201806260721 93157",null,"1806260754","02921",485,485,"1806260754","02921",null,null,"218",null,null,null,null,null,null,"218","218"]
["201806260720 27760",null,"1806260755","13622",484,484,"1806260755","13622",null,null,"219",null,null,null,null,null,null,"219","219"]
["201806260719 70334",null,"1806260756","72679",483,483,"1806260756","72679",null,null,"220",null,null,null,null,null,null,"220","220"]
["201806260718 22382",null,"1806260757","20593",482,482,"1806260757","20593",null,null,"221",null,null,null,null,null,null,"221","221"]
["201806260717 98024",null,"1806260758","26884",481,481,"1806260758","26884",null,null,"222",null,null,null,null,null,null,"222","222"]
["201806260716 25497",null,"1806260759","44022",480,480,"1806260759","44022",null,null,"223",null,null,null,null,null,null,"223","223"]
["201806260715 12032",null,"1806260760","74459",479,479,"1806260760","74459",null,null,"224",null,null,null,null,null,null,"224","224"]
["201806260714 40384",null,"1806260761","85288",478,478,"1806260761","85288",null,null,"225",null,null,null,null,null,null,"225","225"]
["201806260713 19077",null,"1806260762","98169",477,477,"1806260762","98169",null,null,"226",null,null,null,null,null,null,"226","226"]
["201806260712 81033",null,"1806260763","71578",476,476,"1806260763","71578",null,null,"227",null,null,null,null,null,null,"227","227"]
["201806260711 70253",null,"1806260764","76006",475,475,"1806260764","76006",null,null,"228",null,null,null,null,null,null,"228","228"]
["201806260710 55530",null,"1806260765","45150",474,474,"1806260765","45150",null,null,"229",null,null,null,null,null,null,"229","229"]
["201806260709 59064",null,"1806260766","78162",473,473,"1806260766","78162",null,null,"230",null,null,null,null,null,null,"230","230"]
["201806260708 35042",null,"1806260767","34524",472,472,"1806260767","34524",null,null,"231",null,null,null,null,null,null,"231","231"]
["201806260707 22444",null,"1806260768","45752",471,471,"1806260768","45752",null,null,"232",null,null,null,null,null,null,"232","232"]
["201806260706 91756",null,"1806260769","30975",470,470,"1806260769","30975",null,null,"233",null,null,null,null,null,null,"233","233"]
["201806260705 80657",null,"1806260770","17005",469,469,"1806260770","17005",null,null,"234",null,null,null,null,null,null,"234","234"]
["201806260704 12900",null,"1806260771","59244",468,468,"1806260771","59244",null,null,"235",null,null,null,null,null,null,"235","235"]
["201806260703 04652",null,"1806260772","31188",467,467,"1806260772","31188",null,null,"236",null,null,null,null,null,null,"236","236"]
["201806260702 99440",null,"1806260773","36491",466,466,"1806260773","36491",null,null,"237",null,null,null,null,null,null,"237","237"]
["201806260701 21862",null,"1806260774","98905",465,465,"1806260774","98905",null,null,"238",null,null,null,null,null,null,"238","238"]
["201806260700 75530",null,"1806260775","62093",464,464,"1806260775","62093",null,null,"239",null,null,null,null,null,null,"239","239"]
["201806260699 89495",null,"1806260776","99583",463,463,"1806260776","99583",null,null,"240",null,null,null,null,null,null,"240","240"]
["201806260698 81241",null,"1806260777","00974",462,462,"1806260777","00974",null,null,"241",null,null,null,null,null,null,"241","241"]
["201806260697 80945",null,"1806260778","90175",461,461,"1806260778","90175",null,null,"242",null,null,null,null,null,null,"242","242"]
["201806260696 15925",null,"1806260779","60636",460,460,"1806260779","60636",null,null,"243",null,null,null,null,null,null,"243","243"]
["201806260695 40258",null,"1806260780","86439",459,459,"1806260780","86439",null,null,"244",null,null,null,null,null,null,"244","244"]
["201806260694 58321",null,"1806260781","30642",458,458,"1806260781","30642",null,null,"245",null,null,null,null,null,null,"245","245"]
["201806260693 07481",null,"1806260811","66439",457,457,"1806260811","66439",null,null,"246",null,null,null,null,null,null,"246","246"]
["201806260692 56726",null,"1806260812","82728",456,456,"1806260812","82728",null,null,"247",null,null,null,null,null,null,"247","247"]
["201806260691 18554",null,"1806260904","69413",455,455,"1806260904","69413",null,null,"248",null,null,null,null,null,null,"248","248"]
["201806260690 40019",null,"1806260905","27772",454,454,"1806260905","27772",null,null,"249",null,null,null,null,null,null,"249","249"]
["201806260689 35265",null,"1806260906","96734",453,453,"1806260906","96734",null,null,"250",null,null,null,null,null,null,"250","250"]
["201806260688 28210",null,"1806260907","58232",452,452,"1806260907","58232",null,null,"251",null,null,null,null,null,null,"251","251"]
["201806260687 60910",null,"1806260908","52319",451,451,"1806260908","52319",null,null,"252",null,null,null,null,null,null,"252","252"]
["201806260686 54806",null,"1806260909","85567",450,450,"1806260909","85567",null,null,"253",null,null,null,null,null,null,"253","253"]
["201806260685 00865",null,"1806260910","90014",449,449,"1806260910","90014",null,null,"254",null,null,null,null,null,null,"254","254"]
["201806260684 43765",null,"1806260911","28050",448,448,"1806260911","28050",null,null,"255",null,null,null,null,null,null,"255","255"]
["201806260683 34146",null,"1806260912","40704",447,447,"1806260912","40704",null,null,"256",null,null,null,null,null,null,"256","256"]
["201806260682 19226",null,"1806260913","74675",446,446,"1806260913","74675",null,null,"257",null,null,null,null,null,null,{"$f":"IF(R$213=\"胆码\",MID($K558,1,1)&MID($K558,2,1)&MID($K558,3,1),IF(R$213=\"任合\",RIGHT(MID($K558,1,1)+MID($K558,2,1))&RIGHT(MID($K558,1,1)+MID($K558,3,1))&RIGHT(MID($K558,2,1)+MID($K558,3,1)),IF(R$213=\"任差\",RIGHT(MID($K558,1,1)-MID($K558,2,1))&RIGHT(MID($K558,1,1)-MID($K558,3,1))&RIGHT(MID($K558,2,1)-MID($K558,3,1)),IF(R$213=\"任积\",RIGHT(MID($K558,1,1)*MID($K558,2,1))&RIGHT(MID($K558,1,1)*MID($K558,3,1))&RIGHT(MID($K558,2,1)*MID($K558,3,1)),IF(R$213=\"位合\",RIGHT(MID($K558,1,1)+MID($K$300,1,1))&RIGHT(MID($K558,2,1)+MID($K$300,2,1))&RIGHT(MID($K558,3,1)+MID($K$300,3,1)),IF(R$213=\"位差\",RIGHT(MID($K558,1,1)-MID($K$300,1,1))&RIGHT(MID($K558,2,1)-MID($K$300,2,1))&RIGHT(MID($K558,3,1)-MID($K$300,3,1)),IF(R$213=\"位积\",RIGHT(MID($K558,1,1)*MID($K$300,1,1))&RIGHT(MID($K558,2,1)*MID($K$300,2,1))&RIGHT(MID($K558,3,1)*MID($K$300,3,1)))))))))","v":"257"},{"$f":"R558","v":"257"}]
["201806260681 44760",null,"1806260914","34481",445,445,"1806260914","34481",null,null,"258",null,null,null,null,null,null,"258","258"]
["201806260680 19379",null,"1806260915","70532",444,444,"1806260915","70532",null,null,"259",null,null,null,null,null,null,"259","259"]
["201806260679 55195",null,"1806260916","46687",443,443,"1806260916","46687",null,null,"260",null,null,null,null,null,null,"260","260"]
["201806260678 93654",null,"1806260917","35621",442,442,"1806260917","35621",null,null,"261",null,null,null,null,null,null,"261","261"]
["201806260677 12198",null,"1806260918","01766",441,441,"1806260918","01766",null,null,"262",null,null,null,null,null,null,"262","262"]
["201806260676 06992",null,"1806260919","04221",440,440,"1806260919","04221",null,null,"263",null,null,null,null,null,null,"263","263"]
["201806260675 55030",null,"1806260920","31451",439,439,"1806260920","31451",null,null,"264",null,null,null,null,null,null,"264","264"]
["201806260674 58060",null,"1806260921","75163",438,438,"1806260921","75163",null,null,"265",null,null,null,null,null,null,"265","265"]
["201806260673 48735",null,"1806260922","08802",437,437,"1806260922","08802",null,null,"266",null,null,null,null,null,null,"266","266"]
["201806260672 22383",null,"1806260923","58012",436,436,"1806260923","58012",null,null,"267",null,null,null,null,null,null,"267","267"]
["201806260671 55826",null,"1806260924","67438",435,435,"1806260924","67438",null,null,"268",null,null,null,null,null,null,"268","268"]
["201806260670 76043",null,"1806260925","81717",434,434,"1806260925","81717",null,null,"269",null,null,null,null,null,null,"269","269"]
["201806260669 19116",null,"1806260926","61860",433,433,"1806260926","61860",null,null,"270",null,null,null,null,null,null,"270","270"]
["201806260668 31606",null,"1806260927","97544",432,432,"1806260927","97544",null,null,"271",null,null,null,null,null,null,"271","271"]
["201806260667 22233",null,"1806260928","79432",431,431,"1806260928","79432",null,null,"272",null,null,null,null,null,null,"272","272"]
["201806260666 45979",null,"1806260929","48168",430,430,"1806260929","48168",null,null,"273",null,null,null,null,null,null,"273","273"]
["201806260665 89093",null,"1806260930","48301",429,429,"1806260930","48301",null,null,"274",null,null,null,null,null,null,"274","274"]
["201806260664 58365",null,"1806260931","48093",428,428,"1806260931","48093",null,null,"275",null,null,null,null,null,null,"275","275"]
["201806260663 26503",null,"1806260932","79318",427,427,"1806260932","79318",null,null,"276",null,null,null,null,null,null,"276","276"]
["201806260662 85214",null,{"$f":"IF(E578>=0,MID(OFFSET($A$1,E578,),3,D$1-3),\"\")","v":"1806260933"},{"$f":"IF(E578>=0,MID(OFFSET($A$1,E578,),D$1+1,5),\"\")","v":"73296"},{"$f":"E579+1","v":426},426,{"$f":"IF(E578>=0,MID(OFFSET($A$1,F578,),3,D$1-3),\"\")","v":"1806260933"},{"$f":"IF(E578>=0,MID(OFFSET($A$1,F578,),D$1+1,5),\"\")","v":"73296"},null,null,"277",null,null,null,null,null,null,"277","277"]
["201806260661 62371",null,"1806260934","73743",425,425,"1806260934","73743",null,null,"278",null,null,null,null,null,null,"278","278"]
["201806260660 49104",null,"1806260935","99785",424,424,"1806260935","99785",null,null,"279",null,null,null,null,null,null,"279","279"]
["201806260659 02554",null,"1806260936","62813",423,423,"1806260936","62813",null,null,"280",null,null,null,null,null,null,"280","280"]
["201806260658 88327",null,"1806260937","34213",422,422,"1806260937","34213",null,null,"281",null,null,null,null,null,null,"281","281"]
["201806260657 12412",null,"1806260938","18906",421,421,"1806260938","18906",null,null,"282",null,null,null,null,null,null,"282","282"]
["201806260656 30563",null,"1806260939","12827",420,420,"1806260939","12827",null,null,"283",null,null,null,null,null,null,"283","283"]
["201806260655 06578",null,"1806260940","50152",419,419,"1806260940","50152",null,null,"284",null,null,null,null,null,null,"284","284"]
["201806260654 19938",null,"1806260941","04863",418,418,"1806260941","04863",null,null,"285",null,null,null,null,null,null,"285","285"]
["201806260653 59019",null,"1806260942","47888",417,417,"1806260942","47888",null,null,"286",null,null,null,null,null,null,"286","286"]
["201806260652 65910",null,"1806260943","85099",416,416,"1806260943","85099",null,null,"287",null,null,null,null,null,null,"287","287"]
["201806260651 99765",null,"1806260944","38757",415,415,"1806260944","38757",null,null,"288",null,null,null,null,null,null,"288","288"]
["201806260650 14251",null,"1806260945","10446",414,414,"1806260945","10446",null,null,"289",null,null,null,null,null,null,"289","289"]
["201806260649 89297",null,"1806260946","15739",413,413,"1806260946","15739",null,null,"290",null,null,null,null,null,null,"290","290"]
["201806260648 52733",null,"1806260947","84213",412,412,"1806260947","84213",null,null,"291",null,null,null,null,null,null,"291","291"]
["201806260647 57089",null,"1806260948","58477",411,411,"1806260948","58477",null,null,"292",null,null,null,null,null,null,"292","292"]
["201806260646 33744",null,"1806260949","08128",410,410,"1806260949","08128",null,null,"293",null,null,null,null,null,null,"293","293"]
["201806260645 39951",null,"1806260950","35553",409,409,"1806260950","35553",null,null,"294",null,null,null,null,null,null,"294","294"]
["201806260644 94491",null,"1806260951","52015",408,408,"1806260951","52015",null,null,"295",null,null,null,null,null,null,"295","295"]
["201806260643 36752",null,"1806260952","94880",407,407,"1806260952","94880",null,null,"296",null,null,null,null,null,null,"296","296"]
["201806260642 58323",null,"1806260953","69556",406,406,"1806260953","69556",null,null,"297",null,null,null,null,null,null,"297","297"]
["201806260641 40019",null,"1806260954","36401",405,405,"1806260954","36401",null,null,"298",null,null,null,null,null,null,"298","298"]
["201806260640 88000",null,"1806260955","27699",404,404,"1806260955","27699",null,null,"299",null,null,null,null,null,null,"299","299"]
["201806260639 86757",null,"1806260956","60130",403,403,"1806260956","60130",null,null,"300",null,null,null,null,null,null,"300","300"]
["201806260638 66875",null,"1806260957","08767",402,402,"1806260957","08767",null,null,"301",null,null,null,null,null,null,"301","301"]
["201806260637 89385",null,"1806260958","54709",401,401,"1806260958","54709",null,null,"302",null,null,null,null,null,null,"302","302"]
["201806260636 22793",null,"1806260959","62142",400,400,"1806260959","62142",null,null,"303",null,null,null,null,null,null,"303","303"]
["201806260635 16373",null,"1806260960","00371",399,399,"1806260960","00371",null,null,"304",null,null,null,null,null,null,"304","304"]
["201806260634 26247",null,"1806260961","60483",398,398,"1806260961","60483",null,null,"305",null,null,null,null,null,null,"305","305"]
["201806260633 05001",null,"1806260962","68690",397,397,"1806260962","68690",null,null,"306",null,null,null,null,null,null,"306","306"]
["201806260632 75412",null,"1806260963","11248",396,396,"1806260963","11248",null,null,"307",null,null,null,null,null,null,"307","307"]
["201806260631 64557",null,"1806260964","86682",395,395,"1806260964","86682",null,null,"308",null,null,null,null,null,null,"308","308"]
["201806260630 86332",null,"1806260965","77941",394,394,"1806260965","77941",null,null,"309",null,null,null,null,null,null,"309","309"]
["201806260629 72794",null,"1806260966","75726",393,393,"1806260966","75726",null,null,"310",null,null,null,null,null,null,"310","310"]
["201806260628 35546",null,"1806260967","65255",392,392,"1806260967","65255",null,null,"311",null,null,null,null,null,null,"311","311"]
["201806260627 74776",null,"1806260968","10873",391,391,"1806260968","10873",null,null,"312",null,null,null,null,null,null,"312","312"]
["201806260626 00693",null,"1806260969","87587",390,390,"1806260969","87587",null,null,"313",null,null,null,null,null,null,"313","313"]
["201806260625 19856",null,"1806260970","19377",389,389,"1806260970","19377",null,null,"314",null,null,null,null,null,null,"314","314"]
["201806260624 06179",null,"1806260971","61175",388,388,"1806260971","61175",null,null,"315",null,null,null,null,null,null,"315","315"]
["201806260623 04685",null,"1806260972","70127",387,387,"1806260972","70127",null,null,"316",null,null,null,null,null,null,"316","316"]
["201806260622 67123",null,"1806260973","60617",386,386,"1806260973","60617",null,null,"317",null,null,null,null,null,null,"317","317"]
["201806260621 46610",null,"1806260974","97872",385,385,"1806260974","97872",null,null,"318",null,null,null,null,null,null,"318","318"]
["201806260620 55582",null,"1806260975","36686",384,384,"1806260975","36686",null,null,"319",null,null,null,null,null,null,"319","319"]
["201806260619 53305",null,"1806260976","76154",383,383,"1806260976","76154",null,null,"320",null,null,null,null,null,null,"320","320"]
["201806260618 95366",null,"1806260977","53450",382,382,"1806260977","53450",null,null,"321",null,null,null,null,null,null,{"$f":"IF(R$213=\"胆码\",MID($K622,1,1)&MID($K622,2,1)&MID($K622,3,1),IF(R$213=\"任合\",RIGHT(MID($K622,1,1)+MID($K622,2,1))&RIGHT(MID($K622,1,1)+MID($K622,3,1))&RIGHT(MID($K622,2,1)+MID($K622,3,1)),IF(R$213=\"任差\",RIGHT(MID($K622,1,1)-MID($K622,2,1))&RIGHT(MID($K622,1,1)-MID($K622,3,1))&RIGHT(MID($K622,2,1)-MID($K622,3,1)),IF(R$213=\"任积\",RIGHT(MID($K622,1,1)*MID($K622,2,1))&RIGHT(MID($K622,1,1)*MID($K622,3,1))&RIGHT(MID($K622,2,1)*MID($K622,3,1)),IF(R$213=\"位合\",RIGHT(MID($K622,1,1)+MID($K$300,1,1))&RIGHT(MID($K622,2,1)+MID($K$300,2,1))&RIGHT(MID($K622,3,1)+MID($K$300,3,1)),IF(R$213=\"位差\",RIGHT(MID($K622,1,1)-MID($K$300,1,1))&RIGHT(MID($K622,2,1)-MID($K$300,2,1))&RIGHT(MID($K622,3,1)-MID($K$300,3,1)),IF(R$213=\"位积\",RIGHT(MID($K622,1,1)*MID($K$300,1,1))&RIGHT(MID($K622,2,1)*MID($K$300,2,1))&RIGHT(MID($K622,3,1)*MID($K$300,3,1)))))))))","v":"321"},{"$f":"R622","v":"321"}]
["201806260617 77092",null,"1806260978","57282",381,381,"1806260978","57282",null,null,"322",null,null,null,null,null,null,"322","322"]
["201806260616 82932",null,"1806260979","91171",380,380,"1806260979","91171",null,null,"323",null,null,null,null,null,null,"323","323"]
["201806260615 39473",null,"1806260980","87142",379,379,"1806260980","87142",null,null,"324",null,null,null,null,null,null,"324","324"]
["201806260614 80113",null,"1806260981","04351",378,378,"1806260981","04351",null,null,"325",null,null,null,null,null,null,"325","325"]
["201806260613 47456",null,"1806260982","94082",377,377,"1806260982","94082",null,null,"326",null,null,null,null,null,null,"326","326"]
["201806260612 08356",null,"1806260983","89334",376,376,"1806260983","89334",null,null,"327",null,null,null,null,null,null,"327","327"]
["201806260611 41315",null,"1806260984","38641",375,375,"1806260984","38641",null,null,"328",null,null,null,null,null,null,"328","328"]
["201806260610 83508",null,"1806260985","83801",374,374,"1806260985","83801",null,null,"329",null,null,null,null,null,null,"329","329"]
["201806260609 14689",null,"1806260986","36956",373,373,"1806260986","36956",null,null,"330",null,null,null,null,null,null,"330","330"]
["201806260608 89561",null,"1806260987","09515",372,372,"1806260987","09515",null,null,"331",null,null,null,null,null,null,"331","331"]
["201806260607 23051",null,"1806260988","70068",371,371,"1806260988","70068",null,null,"332",null,null,null,null,null,null,"332","332"]
["201806260606 53259",null,"1806260989","53268",370,370,"1806260989","53268",null,null,"333",null,null,null,null,null,null,"333","333"]
["201806260605 85654",null,"1806260990","33435",369,369,"1806260990","33435",null,null,"334",null,null,null,null,null,null,"334","334"]
["201806260604 82970",null,"1806260991","26961",368,368,"1806260991","26961",null,null,"335",null,null,null,null,null,null,"335","335"]
["201806260603 49264",null,"1806260992","02014",367,367,"1806260992","02014",null,null,"336",null,null,null,null,null,null,"336","336"]
["201806260602 46285",null,"1806260993","30360",366,366,"1806260993","30360",null,null,"337",null,null,null,null,null,null,"337","337"]
["201806260601 60039",null,"1806260994","68446",365,365,"1806260994","68446",null,null,"338",null,null,null,null,null,null,"338","338"]
["201806260600 65346",null,"1806260995","90526",364,364,"1806260995","90526",null,null,"339",null,null,null,null,null,null,"339","339"]
["201806260599 59305",null,"1806260996","83207",363,363,"1806260996","83207",null,null,"340",null,null,null,null,null,null,"340","340"]
["201806260598 26788",null,{"$f":"IF(E642>=0,MID(OFFSET($A$1,E642,),3,D$1-3),\"\")","v":"1806260997"},{"$f":"IF(E642>=0,MID(OFFSET($A$1,E642,),D$1+1,5),\"\")","v":"43590"},{"$f":"E643+1","v":362},362,{"$f":"IF(E642>=0,MID(OFFSET($A$1,F642,),3,D$1-3),\"\")","v":"1806260997"},{"$f":"IF(E642>=0,MID(OFFSET($A$1,F642,),D$1+1,5),\"\")","v":"43590"},null,null,"341",null,null,null,null,null,null,"341","341"]
["201806260597 78667",null,"1806260998","44389",361,361,"1806260998","44389",null,null,"342",null,null,null,null,null,null,"342","342"]
["201806260596 08701",null,"1806260999","97155",360,360,"1806260999","97155",null,null,"343",null,null,null,null,null,null,"343","343"]
["201806260595 63981",null,"1806261000","00377",359,359,"1806261000","00377",null,null,"344",null,null,null,null,null,null,"344","344"]
["201806260594 82991",null,"1806261001","76403",358,358,"1806261001","76403",null,null,"345",null,null,null,null,null,null,"345","345"]
["201806260593 05859",null,"1806261002","79580",357,357,"1806261002","79580",null,null,"346",null,null,null,null,null,null,"346","346"]
["201806260592 59548",null,"1806261003","97130",356,356,"1806261003","97130",null,null,"347",null,null,null,null,null,null,"347","347"]
["201806260591 58797",null,"1806261004","13783",355,355,"1806261004","13783",null,null,"348",null,null,null,null,null,null,"348","348"]
["201806260590 99031",null,"1806261005","89648",354,354,"1806261005","89648",null,null,"349",null,null,null,null,null,null,"349","349"]
["201806260589 87477",null,"1806261006","76369",353,353,"1806261006","76369",null,null,"350",null,null,null,null,null,null,"350","350"]
["201806260588 61490",null,"1806261007","67059",352,352,"1806261007","67059",null,null,"351",null,null,null,null,null,null,"351","351"]
["201806260587 21351",null,"1806261008","54256",351,351,"1806261008","54256",null,null,"352",null,null,null,null,null,null,"352","352"]
["201806260586 72092",null,"1806261009","16979",350,350,"1806261009","16979",null,null,"353",null,null,null,null,null,null,"353","353"]
["201806260585 15645",null,"1806261010","22017",349,349,"1806261010","22017",null,null,"354",null,null,null,null,null,null,"354","354"]
["201806260584 53952",null,"1806261011","18331",348,348,"1806261011","18331",null,null,"355",null,null,null,null,null,null,"355","355"]
["201806260583 29849",null,"1806261012","54524",347,347,"1806261012","54524",null,null,"356",null,null,null,null,null,null,"356","356"]
["201806260582 77520",null,"1806261013","58553",346,346,"1806261013","58553",null,null,"357",null,null,null,null,null,null,"357","357"]
["201806260581 97305",null,"1806261014","19466",345,345,"1806261014","19466",null,null,"358",null,null,null,null,null,null,"358","358"]
["201806260580 52550",null,"1806261015","82513",344,344,"1806261015","82513",null,null,"359",null,null,null,null,null,null,"359","359"]
["201806260579 85438",null,"1806261016","85564",343,343,"1806261016","85564",null,null,"360",null,null,null,null,null,null,"360","360"]
["201806260578 29279",null,"1806261017","15583",342,342,"1806261017","15583",null,null,"361",null,null,null,null,null,null,"361","361"]
["201806260577 39166",null,"1806261018","69583",341,341,"1806261018","69583",null,null,"362",null,null,null,null,null,null,"362","362"]
["201806260576 33302",null,"1806261019","64722",340,340,"1806261019","64722",null,null,"363",null,null,null,null,null,null,"363","363"]
["201806260575 50587",null,"1806261020","41799",339,339,"1806261020","41799",null,null,"364",null,null,null,null,null,null,"364","364"]
["201806260574 85739",null,"1806261021","92505",338,338,"1806261021","92505",null,null,"365",null,null,null,null,null,null,"365","365"]
["201806260573 50468",null,"1806261022","45913",337,337,"1806261022","45913",null,null,"366",null,null,null,null,null,null,"366","366"]
["201806260572 17813",null,"1806261023","56743",336,336,"1806261023","56743",null,null,"367",null,null,null,null,null,null,"367","367"]
["201806260571 35965",null,"1806261024","94742",335,335,"1806261024","94742",null,null,"368",null,null,null,null,null,null,"368","368"]
["201806260570 75338",null,"1806261025","68342",334,334,"1806261025","68342",null,null,"369",null,null,null,null,null,null,"369","369"]
["201806260569 33914",null,"1806261133","23434",333,333,"1806261133","23434",null,null,"370",null,null,null,null,null,null,"370","370"]
["201806260568 76989",null,"1806270501","37017",332,332,"1806270501","37017",null,null,"371",null,null,null,null,null,null,"371","371"]
["201806260567 03960",null,"1806270502","55503",331,331,"1806270502","55503",null,null,"372",null,null,null,null,null,null,"372","372"]
["201806260566 38298",null,"1806270503","81553",330,330,"1806270503","81553",null,null,"373",null,null,null,null,null,null,"373","373"]
["201806260565 02170",null,"1806270504","30246",329,329,"1806270504","30246",null,null,"374",null,null,null,null,null,null,"374","374"]
["201806260564 75129",null,"1806270505","26653",328,328,"1806270505","26653",null,null,"375",null,null,null,null,null,null,"375","375"]
["201806260563 47874",null,"1806270506","87860",327,327,"1806270506","87860",null,null,"376",null,null,null,null,null,null,"376","376"]
["201806260562 10659",null,"1806270507","12701",326,326,"1806270507","12701",null,null,"377",null,null,null,null,null,null,"377","377"]
["201806260561 84396",null,"1806270508","22376",325,325,"1806270508","22376",null,null,"378",null,null,null,null,null,null,"378","378"]
["201806260560 01798",null,"1806270509","30408",324,324,"1806270509","30408",null,null,"379",null,null,null,null,null,null,"379","379"]
["201806260559 33689",null,"1806270510","42147",323,323,"1806270510","42147",null,null,"380",null,null,null,null,null,null,"380","380"]
["201806260558 43386",null,"1806270511","59197",322,322,"1806270511","59197",null,null,"381",null,null,null,null,null,null,"381","381"]
["201806260557 94340",null,"1806270512","25832",321,321,"1806270512","25832",null,null,"382",null,null,null,null,null,null,"382","382"]
["201806260556 29876",null,"1806270513","87773",320,320,"1806270513","87773",null,null,"383",null,null,null,null,null,null,"383","383"]
["201806260555 44358",null,"1806270514","02811",319,319,"1806270514","02811",null,null,"384",null,null,null,null,null,null,"384","384"]
["201806260554 60388",null,"1806270515","41040",318,318,"1806270515","41040",null,null,"385",null,null,null,null,null,null,{"$f":"IF(R$213=\"胆码\",MID($K686,1,1)&MID($K686,2,1)&MID($K686,3,1),IF(R$213=\"任合\",RIGHT(MID($K686,1,1)+MID($K686,2,1))&RIGHT(MID($K686,1,1)+MID($K686,3,1))&RIGHT(MID($K686,2,1)+MID($K686,3,1)),IF(R$213=\"任差\",RIGHT(MID($K686,1,1)-MID($K686,2,1))&RIGHT(MID($K686,1,1)-MID($K686,3,1))&RIGHT(MID($K686,2,1)-MID($K686,3,1)),IF(R$213=\"任积\",RIGHT(MID($K686,1,1)*MID($K686,2,1))&RIGHT(MID($K686,1,1)*MID($K686,3,1))&RIGHT(MID($K686,2,1)*MID($K686,3,1)),IF(R$213=\"位合\",RIGHT(MID($K686,1,1)+MID($K$300,1,1))&RIGHT(MID($K686,2,1)+MID($K$300,2,1))&RIGHT(MID($K686,3,1)+MID($K$300,3,1)),IF(R$213=\"位差\",RIGHT(MID($K686,1,1)-MID($K$300,1,1))&RIGHT(MID($K686,2,1)-MID($K$300,2,1))&RIGHT(MID($K686,3,1)-MID($K$300,3,1)),IF(R$213=\"位积\",RIGHT(MID($K686,1,1)*MID($K$300,1,1))&RIGHT(MID($K686,2,1)*MID($K$300,2,1))&RIGHT(MID($K686,3,1)*MID($K$300,3,1)))))))))","v":"385"},{"$f":"R686","v":"385"}]
["201806260553 31545",null,"1806270516","53470",317,317,"1806270516","53470",null,null,"386",null,null,null,null,null,null,"386","386"]
["201806260552 36341",null,"1806270517","19956",316,316,"1806270517","19956",null,null,"387",null,null,null,null,null,null,"387","387"]
["201806260551 80272",null,"1806270518","34495",315,315,"1806270518","34495",null,null,"388",null,null,null,null,null,null,"388","388"]
["201806260550 99767",null,"1806270519","84759",314,314,"1806270519","84759",null,null,"389",null,null,null,null,null,null,"389","389"]
["201806260549 03721",null,"1806270520","56029",313,313,"1806270520","56029",null,null,"390",null,null,null,null,null,null,"390","390"]
["201806260548 95786",null,"1806270521","37231",312,312,"1806270521","37231",null,null,"391",null,null,null,null,null,null,"391","391"]
["201806260547 10947",null,"1806270522","77384",311,311,"1806270522","77384",null,null,"392",null,null,null,null,null,null,"392","392"]
["201806260546 77225",null,"1806270523","06768",310,310,"1806270523","06768",null,null,"393",null,null,null,null,null,null,"393","393"]
["201806260545 36811",null,"1806270524","10061",309,309,"1806270524","10061",null,null,"394",null,null,null,null,null,null,"394","394"]
["201806260544 98807",null,"1806270525","39290",308,308,"1806270525","39290",null,null,"395",null,null,null,null,null,null,"395","395"]
["201806260543 67203",null,"1806270526","00395",307,307,"1806270526","00395",null,null,"396",null,null,null,null,null,null,"396","396"]
["201806260542 07755",null,"1806270527","46543",306,306,"1806270527","46543",null,null,"397",null,null,null,null,null,null,"397","397"]
["201806260541 04754",null,"1806270528","75131",305,305,"1806270528","75131",null,null,"398",null,null,null,null,null,null,"398","398"]
["201806260540 56733",null,"1806270529","59822",304,304,"1806270529","59822",null,null,"399",null,null,null,null,null,null,"399","399"]
["201806241424 50542",null,"1806270530","09048",303,303,"1806270530","09048",null,null,"400",null,null,null,null,null,null,"400","400"]
["201806241423 99883",null,"1806270531","96303",302,302,"1806270531","96303",null,null,"401",null,null,null,null,null,null,"401","401"]
["201806241422 37522",null,"1806270532","75430",301,301,"1806270532","75430",null,null,"402",null,null,null,null,null,null,"402","402"]
["201806241421 78624",null,"1806270533","94764",300,300,"1806270533","94764",null,null,"403",null,null,null,null,null,null,"403","403"]
["201806241420 04716",null,"1806270534","19889",299,299,"1806270534","19889",null,null,"404",null,null,null,null,null,null,"404","404"]
["201806241419 65559",null,{"$f":"IF(E706>=0,MID(OFFSET($A$1,E706,),3,D$1-3),\"\")","v":"1806270535"},{"$f":"IF(E706>=0,MID(OFFSET($A$1,E706,),D$1+1,5),\"\")","v":"08440"},{"$f":"E707+1","v":298},298,{"$f":"IF(E706>=0,MID(OFFSET($A$1,F706,),3,D$1-3),\"\")","v":"1806270535"},{"$f":"IF(E706>=0,MID(OFFSET($A$1,F706,),D$1+1,5),\"\")","v":"08440"},null,null,"405",null,null,null,null,null,null,"405","405"]
["201806241418 34216",null,"1806270536","27081",297,297,"1806270536","27081",null,null,"406",null,null,null,null,null,null,"406","406"]
["201806241417 42468",null,"1806270537","57471",296,296,"1806270537","57471",null,null,"407",null,null,null,null,null,null,"407","407"]
["201806241416 72759",null,"1806270538","71339",295,295,"1806270538","71339",null,null,"408",null,null,null,null,null,null,"408","408"]
["201806241415 66947",null,"1806270539","57222",294,294,"1806270539","57222",null,null,"409",null,null,null,null,null,null,"409","409"]
["201806241414 50431",null,"1806270540","93910",293,293,"1806270540","93910",null,null,"410",null,null,null,null,null,null,"410","410"]
["201806241413 30557",null,"1806270541","70883",292,292,"1806270541","70883",null,null,"411",null,null,null,null,null,null,"411","411"]
["201806241412 67601",null,"1806270542","17196",291,291,"1806270542","17196",null,null,"412",null,null,null,null,null,null,"412","412"]
["201806241411 73648",null,"1806270543","77232",290,290,"1806270543","77232",null,null,"413",null,null,null,null,null,null,"413","413"]
["201806241410 17484",null,"1806270544","33517",289,289,"1806270544","33517",null,null,"414",null,null,null,null,null,null,"414","414"]
["201806241409 79524",null,"1806270545","70682",288,288,"1806270545","70682",null,null,"415",null,null,null,null,null,null,"415","415"]
["201806241408 92977",null,"1806270546","66891",287,287,"1806270546","66891",null,null,"416",null,null,null,null,null,null,"416","416"]
["201806241407 17019",null,"1806270547","84082",286,286,"1806270547","84082",null,null,"417",null,null,null,null,null,null,"417","417"]
["201806241406 18684",null,"1806270548","92800",285,285,"1806270548","92800",null,null,"418",null,null,null,null,null,null,"418","418"]
["201806241405 33299",null,"1806270549","26116",284,284,"1806270549","26116",null,null,"419",null,null,null,null,null,null,"419","419"]
["201806241404 75226",null,"1806270550","70692",283,283,"1806270550","70692",null,null,"420",null,null,null,null,null,null,"420","420"]
["201806241403 32676",null,"1806270551","15638",282,282,"1806270551","15638",null,null,"421",null,null,null,null,null,null,"421","421"]
["201806241402 36949",null,"1806270552","35261",281,281,"1806270552","35261",null,null,"422",null,null,null,null,null,null,"422","422"]
["201806241401 05406",null,"1806270553","47708",280,280,"1806270553","47708",null,null,"423",null,null,null,null,null,null,"423","423"]
["201806241400 85726",null,"1806270554","24671",279,279,"1806270554","24671",null,null,"424",null,null,null,null,null,null,"424","424"]
["201806241399 08155",null,"1806270555","98730",278,278,"1806270555","98730",null,null,"425",null,null,null,null,null,null,"425","425"]
["201806241398 82280",null,"1806270556","04772",277,277,"1806270556","04772",null,null,"426",null,null,null,null,null,null,"426","426"]
["201806241397 90251",null,"1806270557","38566",276,276,"1806270557","38566",null,null,"427",null,null,null,null,null,null,"427","427"]
["201806241396 82107",null,"1806270558","50971",275,275,"1806270558","50971",null,null,"428",null,null,null,null,null,null,"428","428"]
["201806241395 32679",null,"1806270559","34902",274,274,"1806270559","34902",null,null,"429",null,null,null,null,null,null,"429","429"]
["201806241394 67997",null,"1806270560","46677",273,273,"1806270560","46677",null,null,"430",null,null,null,null,null,null,"430","430"]
["201806241393 20760",null,"1806270561","96864",272,272,"1806270561","96864",null,null,"431",null,null,null,null,null,null,"431","431"]
["201806241392 70976",null,"1806270562","04437",271,271,"1806270562","04437",null,null,"432",null,null,null,null,null,null,"432","432"]
["201806241391 07073",null,"1806270563","31020",270,270,"1806270563","31020",null,null,"433",null,null,null,null,null,null,"433","433"]
["201806241390 39731",null,"1806270564","08182",269,269,"1806270564","08182",null,null,"434",null,null,null,null,null,null,"434","434"]
["201806241389 05899",null,"1806270565","00144",268,268,"1806270565","00144",null,null,"435",null,null,null,null,null,null,"435","435"]
["201806241388 10729",null,"1806270566","94736",267,267,"1806270566","94736",null,null,"436",null,null,null,null,null,null,"436","436"]
["201806241387 74593",null,"1806270567","83666",266,266,"1806270567","83666",null,null,"437",null,null,null,null,null,null,"437","437"]
["201806241386 50544",null,"1806270568","29935",265,265,"1806270568","29935",null,null,"438",null,null,null,null,null,null,"438","438"]
["201806241385 15141",null,"1806270569","23211",264,264,"1806270569","23211",null,null,"439",null,null,null,null,null,null,"439","439"]
["201806241384 46362",null,"1806270570","07263",263,263,"1806270570","07263",null,null,"440",null,null,null,null,null,null,"440","440"]
["201806241383 21609",null,"1806270571","76090",262,262,"1806270571","76090",null,null,"441",null,null,null,null,null,null,"441","441"]
["201806241382 39977",null,"1806270572","87753",261,261,"1806270572","87753",null,null,"442",null,null,null,null,null,null,"442","442"]
["201806241381 86162",null,"1806270573","20281",260,260,"1806270573","20281",null,null,"443",null,null,null,null,null,null,"443","443"]
["201806241380 67224",null,"1806270574","77590",259,259,"1806270574","77590",null,null,"444",null,null,null,null,null,null,"444","444"]
["201806241379 81658",null,"1806270575","85915",258,258,"1806270575","85915",null,null,"445",null,null,null,null,null,null,"445","445"]
["201806241378 29126",null,"1806270576","64301",257,257,"1806270576","64301",null,null,"446",null,null,null,null,null,null,"446","446"]
["201806241377 02932",null,"1806270577","05402",256,256,"1806270577","05402",null,null,"447",null,null,null,null,null,null,"447","447"]
["201806241376 98914",null,"1806270578","95640",255,255,"1806270578","95640",null,null,"448",null,null,null,null,null,null,"448","448"]
["201806241375 31749",null,"1806270579","14488",254,254,"1806270579","14488",null,null,"449",null,null,null,null,null,null,{"$f":"IF(R$213=\"胆码\",MID($K750,1,1)&MID($K750,2,1)&MID($K750,3,1),IF(R$213=\"任合\",RIGHT(MID($K750,1,1)+MID($K750,2,1))&RIGHT(MID($K750,1,1)+MID($K750,3,1))&RIGHT(MID($K750,2,1)+MID($K750,3,1)),IF(R$213=\"任差\",RIGHT(MID($K750,1,1)-MID($K750,2,1))&RIGHT(MID($K750,1,1)-MID($K750,3,1))&RIGHT(MID($K750,2,1)-MID($K750,3,1)),IF(R$213=\"任积\",RIGHT(MID($K750,1,1)*MID($K750,2,1))&RIGHT(MID($K750,1,1)*MID($K750,3,1))&RIGHT(MID($K750,2,1)*MID($K750,3,1)),IF(R$213=\"位合\",RIGHT(MID($K750,1,1)+MID($K$300,1,1))&RIGHT(MID($K750,2,1)+MID($K$300,2,1))&RIGHT(MID($K750,3,1)+MID($K$300,3,1)),IF(R$213=\"位差\",RIGHT(MID($K750,1,1)-MID($K$300,1,1))&RIGHT(MID($K750,2,1)-MID($K$300,2,1))&RIGHT(MID($K750,3,1)-MID($K$300,3,1)),IF(R$213=\"位积\",RIGHT(MID($K750,1,1)*MID($K$300,1,1))&RIGHT(MID($K750,2,1)*MID($K$300,2,1))&RIGHT(MID($K750,3,1)*MID($K$300,3,1)))))))))","v":"449"},{"$f":"R750","v":"449"}]
["201806241374 07024",null,"1806270580","96180",253,253,"1806270580","96180",null,null,"450",null,null,null,null,null,null,"450","450"]
["201806241373 99191",null,"1806270581","33448",252,252,"1806270581","33448",null,null,"451",null,null,null,null,null,null,"451","451"]
["201806241372 06609",null,"1806270582","90977",251,251,"1806270582","90977",null,null,"452",null,null,null,null,null,null,"452","452"]
["201806241371 67935",null,"1806270583","79201",250,250,"1806270583","79201",null,null,"453",null,null,null,null,null,null,"453","453"]
["201806241370 48305",null,"1806270584","38296",249,249,"1806270584","38296",null,null,"454",null,null,null,null,null,null,"454","454"]
["201806241369 65117",null,"1806270585","31182",248,248,"1806270585","31182",null,null,"455",null,null,null,null,null,null,"455","455"]
["201806241368 24258",null,"1806270586","00818",247,247,"1806270586","00818",null,null,"456",null,null,null,null,null,null,"456","456"]
["201806241367 30980",null,"1806270587","10022",246,246,"1806270587","10022",null,null,"457",null,null,null,null,null,null,"457","457"]
["201806241366 67221",null,"1806270588","44191",245,245,"1806270588","44191",null,null,"458",null,null,null,null,null,null,"458","458"]
["201806241365 01861",null,"1806270589","23121",244,244,"1806270589","23121",null,null,"459",null,null,null,null,null,null,"459","459"]
["201806241364 78478",null,"1806270590","53387",243,243,"1806270590","53387",null,null,"460",null,null,null,null,null,null,"460","460"]
["201806241363 98600",null,"1806270591","03930",242,242,"1806270591","03930",null,null,"461",null,null,null,null,null,null,"461","461"]
["201806241362 42572",null,"1806270592","81543",241,241,"1806270592","81543",null,null,"462",null,null,null,null,null,null,"462","462"]
["201806241361 36654",null,"1806270593","00453",240,240,"1806270593","00453",null,null,"463",null,null,null,null,null,null,"463","463"]
["201806241360 39196",null,"1806270594","43587",239,239,"1806270594","43587",null,null,"464",null,null,null,null,null,null,"464","464"]
["201806241359 64773",null,"1806270595","18006",238,238,"1806270595","18006",null,null,"465",null,null,null,null,null,null,"465","465"]
["201806241358 29719",null,"1806270596","62616",237,237,"1806270596","62616",null,null,"466",null,null,null,null,null,null,"466","466"]
["201806241357 99229",null,"1806270597","39453",236,236,"1806270597","39453",null,null,"467",null,null,null,null,null,null,"467","467"]
["201806241356 85318",null,"1806270598","02083",235,235,"1806270598","02083",null,null,"468",null,null,null,null,null,null,"468","468"]
["201806241355 36247",null,{"$f":"IF(E770>=0,MID(OFFSET($A$1,E770,),3,D$1-3),\"\")","v":"1806270599"},{"$f":"IF(E770>=0,MID(OFFSET($A$1,E770,),D$1+1,5),\"\")","v":"88542"},{"$f":"E771+1","v":234},234,{"$f":"IF(E770>=0,MID(OFFSET($A$1,F770,),3,D$1-3),\"\")","v":"1806270599"},{"$f":"IF(E770>=0,MID(OFFSET($A$1,F770,),D$1+1,5),\"\")","v":"88542"},null,null,"469",null,null,null,null,null,null,"469","469"]
["201806241354 90832",null,"1806270600","78638",233,233,"1806270600","78638",null,null,"470",null,null,null,null,null,null,"470","470"]
["201806241353 12073",null,"1806270601","23492",232,232,"1806270601","23492",null,null,"471",null,null,null,null,null,null,"471","471"]
["201806241352 43223",null,"1806270602","88831",231,231,"1806270602","88831",null,null,"472",null,null,null,null,null,null,"472","472"]
["201806241351 65494",null,"1806270603","77637",230,230,"1806270603","77637",null,null,"473",null,null,null,null,null,null,"473","473"]
["201806241350 12424",null,"1806270604","56897",229,229,"1806270604","56897",null,null,"474",null,null,null,null,null,null,"474","474"]
["201806241349 29028",null,"1806270605","18353",228,228,"1806270605","18353",null,null,"475",null,null,null,null,null,null,"475","475"]
["201806241348 45425",null,"1806270606","59702",227,227,"1806270606","59702",null,null,"476",null,null,null,null,null,null,"476","476"]
["201806241347 26242",null,"1806270607","35656",226,226,"1806270607","35656",null,null,"477",null,null,null,null,null,null,"477","477"]
["201806241346 16157",null,"1806270608","88549",225,225,"1806270608","88549",null,null,"478",null,null,null,null,null,null,"478","478"]
["201806241345 87409",null,"1806270609","61327",224,224,"1806270609","61327",null,null,"479",null,null,null,null,null,null,"479","479"]
["201806241344 28361",null,"1806270610","31343",223,223,"1806270610","31343",null,null,"480",null,null,null,null,null,null,"480","480"]
["201806241343 73406",null,"1806270611","92435",222,222,"1806270611","92435",null,null,"481",null,null,null,null,null,null,"481","481"]
["201806241342 83830",null,"1806270612","77549",221,221,"1806270612","77549",null,null,"482",null,null,null,null,null,null,"482","482"]
["201806241341 64286",null,"1806270613","91636",220,220,"1806270613","91636",null,null,"483",null,null,null,null,null,null,"483","483"]
["201806241340 01727",null,"1806270614","57184",219,219,"1806270614","57184",null,null,"484",null,null,null,null,null,null,"484","484"]
["201806241339 48205",null,"1806270615","88947",218,218,"1806270615","88947",null,null,"485",null,null,null,null,null,null,"485","485"]
["201806241338 30340",null,"1806270616","91183",217,217,"1806270616","91183",null,null,"486",null,null,null,null,null,null,"486","486"]
["201806241337 89587",null,"1806270617","72833",216,216,"1806270617","72833",null,null,"487",null,null,null,null,null,null,"487","487"]
["201806241336 65875",null,"1806270618","36652",215,215,"1806270618","36652",null,null,"488",null,null,null,null,null,null,"488","488"]
["201806241335 48542",null,"1806270619","65086",214,214,"1806270619","65086",null,null,"489",null,null,null,null,null,null,"489","489"]
["201806241334 42526",null,"1806270620","53783",213,213,"1806270620","53783",null,null,"490",null,null,null,null,null,null,"490","490"]
["201806241333 33675",null,"1806270621","81437",212,212,"1806270621","81437",null,null,"491",null,null,null,null,null,null,"491","491"]
["201806241332 16634",null,"1806270622","20395",211,211,"1806270622","20395",null,null,"492",null,null,null,null,null,null,"492","492"]
["201806241331 82020",null,"1806270623","81450",210,210,"1806270623","81450",null,null,"493",null,null,null,null,null,null,"493","493"]
["201806241330 38117",null,"1806270624","71984",209,209,"1806270624","71984",null,null,"494",null,null,null,null,null,null,"494","494"]
["201806241329 61539",null,"1806270625","31004",208,208,"1806270625","31004",null,null,"495",null,null,null,null,null,null,"495","495"]
["201806241328 91984",null,"1806270626","61880",207,207,"1806270626","61880",null,null,"496",null,null,null,null,null,null,"496","496"]
["201806241327 13368",null,"1806270627","42101",206,206,"1806270627","42101",null,null,"497",null,null,null,null,null,null,"497","497"]
["201806241326 57415",null,"1806270628","39878",205,205,"1806270628","39878",null,null,"498",null,null,null,null,null,null,"498","498"]
["201806241325 24884",null,"1806270629","15212",204,204,"1806270629","15212",null,null,"499",null,null,null,null,null,null,"499","499"]
["201806241324 04661",null,"1806270630","42171",203,203,"1806270630","42171",null,null,"500",null,null,null,null,null,null,"500","500"]
["201806241323 17016",null,"1806270631","10990",202,202,"1806270631","10990",null,null,"501",null,null,null,null,null,null,"501","501"]
["201806241322 79478",null,"1806270632","11358",201,201,"1806270632","11358",null,null,"502",null,null,null,null,null,null,"502","502"]
["201806241319 99956",null,"1806270633","94249",200,200,"1806270633","94249",null,null,"503",null,null,null,null,null,null,"503","503"]
["201806241318 20097",null,"1806270634","35017",199,199,"1806270634","35017",null,null,"504",null,null,null,null,null,null,"504","504"]
["201806241316 22309",null,"1806270635","41430",198,198,"1806270635","41430",null,null,"505",null,null,null,null,null,null,"505","505"]
["201806241315 40313",null,"1806270636","73069",197,197,"1806270636","73069",null,null,"506",null,null,null,null,null,null,"506","506"]
["201806241314 44581",null,"1806270637","04813",196,196,"1806270637","04813",null,null,"507",null,null,null,null,null,null,"507","507"]
["201806241313 73733",null,"1806270638","44260",195,195,"1806270638","44260",null,null,"508",null,null,null,null,null,null,"508","508"]
["201806241312 17973",null,"1806270639","49310",194,194,"1806270639","49310",null,null,"509",null,null,null,null,null,null,"509","509"]
["201806241311 47866",null,"1806270640","48120",193,193,"1806270640","48120",null,null,"510",null,null,null,null,null,null,"510","510"]
["201806241310 03765",null,"1806270641","29134",192,192,"1806270641","29134",null,null,"511",null,null,null,null,null,null,"511","511"]
["201806241309 10004",null,"1806270642","67308",191,191,"1806270642","67308",null,null,"512",null,null,null,null,null,null,"512","512"]
["201806241308 10004",null,"1806270643","61714",190,190,"1806270643","61714",null,null,"513",null,null,null,null,null,null,{"$f":"IF(R$213=\"胆码\",MID($K814,1,1)&MID($K814,2,1)&MID($K814,3,1),IF(R$213=\"任合\",RIGHT(MID($K814,1,1)+MID($K814,2,1))&RIGHT(MID($K814,1,1)+MID($K814,3,1))&RIGHT(MID($K814,2,1)+MID($K814,3,1)),IF(R$213=\"任差\",RIGHT(MID($K814,1,1)-MID($K814,2,1))&RIGHT(MID($K814,1,1)-MID($K814,3,1))&RIGHT(MID($K814,2,1)-MID($K814,3,1)),IF(R$213=\"任积\",RIGHT(MID($K814,1,1)*MID($K814,2,1))&RIGHT(MID($K814,1,1)*MID($K814,3,1))&RIGHT(MID($K814,2,1)*MID($K814,3,1)),IF(R$213=\"位合\",RIGHT(MID($K814,1,1)+MID($K$300,1,1))&RIGHT(MID($K814,2,1)+MID($K$300,2,1))&RIGHT(MID($K814,3,1)+MID($K$300,3,1)),IF(R$213=\"位差\",RIGHT(MID($K814,1,1)-MID($K$300,1,1))&RIGHT(MID($K814,2,1)-MID($K$300,2,1))&RIGHT(MID($K814,3,1)-MID($K$300,3,1)),IF(R$213=\"位积\",RIGHT(MID($K814,1,1)*MID($K$300,1,1))&RIGHT(MID($K814,2,1)*MID($K$300,2,1))&RIGHT(MID($K814,3,1)*MID($K$300,3,1)))))))))","v":"513"},{"$f":"R814","v":"513"}]
["201806241307 81916",null,"1806270644","14445",189,189,"1806270644","14445",null,null,"514",null,null,null,null,null,null,"514","514"]
["201806241306 23529",null,"1806270645","06885",188,188,"1806270645","06885",null,null,"515",null,null,null,null,null,null,"515","515"]
["201806241305 60126",null,"1806270646","70370",187,187,"1806270646","70370",null,null,"516",null,null,null,null,null,null,"516","516"]
["201806241304 34299",null,"1806270647","56356",186,186,"1806270647","56356",null,null,"517",null,null,null,null,null,null,"517","517"]
["201806241303 80737",null,"1806270648","15136",185,185,"1806270648","15136",null,null,"518",null,null,null,null,null,null,"518","518"]
["201806241302 84544",null,"1806270649","27443",184,184,"1806270649","27443",null,null,"519",null,null,null,null,null,null,"519","519"]
["201806241301 87993",null,"1806270650","79253",183,183,"1806270650","79253",null,null,"520",null,null,null,null,null,null,"520","520"]
["201806241300 01216",null,"1806270651","45724",182,182,"1806270651","45724",null,null,"521",null,null,null,null,null,null,"521","521"]
["201806241299 55687",null,"1806270652","61820",181,181,"1806270652","61820",null,null,"522",null,null,null,null,null,null,"522","522"]
["201806241298 17113",null,"1806270653","26220",180,180,"1806270653","26220",null,null,"523",null,null,null,null,null,null,"523","523"]
["201806241297 50357",null,"1806270654","56173",179,179,"1806270654","56173",null,null,"524",null,null,null,null,null,null,"524","524"]
["201806241296 97886",null,"1806270655","33594",178,178,"1806270655","33594",null,null,"525",null,null,null,null,null,null,"525","525"]
["201806241295 36827",null,"1806270656","00650",177,177,"1806270656","00650",null,null,"526",null,null,null,null,null,null,"526","526"]
["201806241294 80809",null,"1806270657","70544",176,176,"1806270657","70544",null,null,"527",null,null,null,null,null,null,"527","527"]
["201806241293 21172",null,"1806270658","73047",175,175,"1806270658","73047",null,null,"528",null,null,null,null,null,null,"528","528"]
["201806241292 07698",null,"1806270659","96344",174,174,"1806270659","96344",null,null,"529",null,null,null,null,null,null,"529","529"]
["201806241291 89569",null,"1806270660","56284",173,173,"1806270660","56284",null,null,"530",null,null,null,null,null,null,"530","530"]
["201806241290 14010",null,"1806270661","13002",172,172,"1806270661","13002",null,null,"531",null,null,null,null,null,null,"531","531"]
["201806241289 95164",null,"1806270662","46943",171,171,"1806270662","46943",null,null,"532",null,null,null,null,null,null,"532","532"]
["201806241288 76426",null,{"$f":"IF(E834>=0,MID(OFFSET($A$1,E834,),3,D$1-3),\"\")","v":"1806270663"},{"$f":"IF(E834>=0,MID(OFFSET($A$1,E834,),D$1+1,5),\"\")","v":"72977"},{"$f":"E835+1","v":170},170,{"$f":"IF(E834>=0,MID(OFFSET($A$1,F834,),3,D$1-3),\"\")","v":"1806270663"},{"$f":"IF(E834>=0,MID(OFFSET($A$1,F834,),D$1+1,5),\"\")","v":"72977"},null,null,"533",null,null,null,null,null,null,"533","533"]
["201806241287 05016",null,"1806270664","07396",169,169,"1806270664","07396",null,null,"534",null,null,null,null,null,null,"534","534"]
["201806241286 39180",null,"1806270665","37962",168,168,"1806270665","37962",null,null,"535",null,null,null,null,null,null,"535","535"]
["201806241285 04849",null,"1806270666","23916",167,167,"1806270666","23916",null,null,"536",null,null,null,null,null,null,"536","536"]
["201806241284 66833",null,"1806270667","59732",166,166,"1806270667","59732",null,null,"537",null,null,null,null,null,null,"537","537"]
["201806241283 12355",null,"1806270668","89237",165,165,"1806270668","89237",null,null,"538",null,null,null,null,null,null,"538","538"]
["201806241282 78487",null,"1806270669","27810",164,164,"1806270669","27810",null,null,"539",null,null,null,null,null,null,"539","539"]
["201806241281 97744",null,"1806270670","60781",163,163,"1806270670","60781",null,null,"540",null,null,null,null,null,null,"540","540"]
["201806241280 52490",null,"1806270671","12932",162,162,"1806270671","12932",null,null,"541",null,null,null,null,null,null,"541","541"]
["201806241279 57705",null,"1806270672","91651",161,161,"1806270672","91651",null,null,"542",null,null,null,null,null,null,"542","542"]
["201806241278 00737",null,"1806270673","28886",160,160,"1806270673","28886",null,null,"543",null,null,null,null,null,null,"543","543"]
["201806241277 76013",null,"1806270674","79359",159,159,"1806270674","79359",null,null,"544",null,null,null,null,null,null,"544","544"]
["201806241276 67889",null,"1806270675","58085",158,158,"1806270675","58085",null,null,"545",null,null,null,null,null,null,"545","545"]
["201806241275 81536",null,"1806270676","53693",157,157,"1806270676","53693",null,null,"546",null,null,null,null,null,null,"546","546"]
["201806241274 99975",null,"1806270677","85324",156,156,"1806270677","85324",null,null,"547",null,null,null,null,null,null,"547","547"]
["201806241273 83395",null,"1806270678","59173",155,155,"1806270678","59173",null,null,"548",null,null,null,null,null,null,"548","548"]
["201806241272 33050",null,"1806270679","19413",154,154,"1806270679","19413",null,null,"549",null,null,null,null,null,null,"549","549"]
["201806241271 84039",null,"1806270680","44562",153,153,"1806270680","44562",null,null,"550",null,null,null,null,null,null,"550","550"]
["201806241270 48877",null,"1806270681","80387",152,152,"1806270681","80387",null,null,"551",null,null,null,null,null,null,"551","551"]
["201806241269 10148",null,"1806270682","20118",151,151,"1806270682","20118",null,null,"552",null,null,null,null,null,null,"552","552"]
["201806241268 93421",null,"1806270683","41162",150,150,"1806270683","41162",null,null,"553",null,null,null,null,null,null,"553","553"]
["201806241267 80961",null,"1806270684","42372",149,149,"1806270684","42372",null,null,"554",null,null,null,null,null,null,"554","554"]
["201806241266 86855",null,"1806270685","36829",148,148,"1806270685","36829",null,null,"555",null,null,null,null,null,null,"555","555"]
["201806241265 49746",null,"1806270686","81398",147,147,"1806270686","81398",null,null,"556",null,null,null,null,null,null,"556","556"]
["201806241264 34890",null,"1806270687","00528",146,146,"1806270687","00528",null,null,"557",null,null,null,null,null,null,"557","557"]
["201806241263 78575",null,"1806270688","18018",145,145,"1806270688","18018",null,null,"558",null,null,null,null,null,null,"558","558"]
["201806241262 51960",null,"1806270689","50048",144,144,"1806270689","50048",null,null,"559",null,null,null,null,null,null,"559","559"]
["201806241261 80858",null,"1806270690","68553",143,143,"1806270690","68553",null,null,"560",null,null,null,null,null,null,"560","560"]
["201806241260 58493",null,"1806270691","92771",142,142,"1806270691","92771",null,null,"561",null,null,null,null,null,null,"561","561"]
["201806241259 81340",null,"1806270692","82451",141,141,"1806270692","82451",null,null,"562",null,null,null,null,null,null,"562","562"]
["201806241258 28771",null,"1806270693","74911",140,140,"1806270693","74911",null,null,"563",null,null,null,null,null,null,"563","563"]
["201806241257 23534",null,"1806270694","55010",139,139,"1806270694","55010",null,null,"564",null,null,null,null,null,null,"564","564"]
["201806241256 20366",null,"1806270695","71155",138,138,"1806270695","71155",null,null,"565",null,null,null,null,null,null,"565","565"]
["201806241255 21749",null,"1806270696","72775",137,137,"1806270696","72775",null,null,"566",null,null,null,null,null,null,"566","566"]
["201806241254 74389",null,"1806270697","46906",136,136,"1806270697","46906",null,null,"567",null,null,null,null,null,null,"567","567"]
["201806241253 90937",null,"1806270698","51503",135,135,"1806270698","51503",null,null,"568",null,null,null,null,null,null,"568","568"]
["201806241252 53001",null,"1806270699","47472",134,134,"1806270699","47472",null,null,"569",null,null,null,null,null,null,"569","569"]
["201806241251 05062",null,"1806270700","77217",133,133,"1806270700","77217",null,null,"570",null,null,null,null,null,null,"570","570"]
["201806241250 77463",null,"1806270701","92827",132,132,"1806270701","92827",null,null,"571",null,null,null,null,null,null,"571","571"]
["201806241249 72124",null,"1806270702","05895",131,131,"1806270702","05895",null,null,"572",null,null,null,null,null,null,"572","572"]
["201806241248 02437",null,"1806270703","58366",130,130,"1806270703","58366",null,null,"573",null,null,null,null,null,null,"573","573"]
["201806241247 54463",null,"1806270704","77097",129,129,"1806270704","77097",null,null,"574",null,null,null,null,null,null,"574","574"]
["201806241246 18361",null,"1806270705","45918",128,128,"1806270705","45918",null,null,"575",null,null,null,null,null,null,"575","575"]
["201806241245 73289",null,"1806270706","72608",127,127,"1806270706","72608",null,null,"576",null,null,null,null,null,null,"576","576"]
["201806241244 10012",null,"1806270707","85177",126,126,"1806270707","85177",null,null,"577",null,null,null,null,null,null,{"$f":"IF(R$213=\"胆码\",MID($K878,1,1)&MID($K878,2,1)&MID($K878,3,1),IF(R$213=\"任合\",RIGHT(MID($K878,1,1)+MID($K878,2,1))&RIGHT(MID($K878,1,1)+MID($K878,3,1))&RIGHT(MID($K878,2,1)+MID($K878,3,1)),IF(R$213=\"任差\",RIGHT(MID($K878,1,1)-MID($K878,2,1))&RIGHT(MID($K878,1,1)-MID($K878,3,1))&RIGHT(MID($K878,2,1)-MID($K878,3,1)),IF(R$213=\"任积\",RIGHT(MID($K878,1,1)*MID($K878,2,1))&RIGHT(MID($K878,1,1)*MID($K878,3,1))&RIGHT(MID($K878,2,1)*MID($K878,3,1)),IF(R$213=\"位合\",RIGHT(MID($K878,1,1)+MID($K$300,1,1))&RIGHT(MID($K878,2,1)+MID($K$300,2,1))&RIGHT(MID($K878,3,1)+MID($K$300,3,1)),IF(R$213=\"位差\",RIGHT(MID($K878,1,1)-MID($K$300,1,1))&RIGHT(MID($K878,2,1)-MID($K$300,2,1))&RIGHT(MID($K878,3,1)-MID($K$300,3,1)),IF(R$213=\"位积\",RIGHT(MID($K878,1,1)*MID($K$300,1,1))&RIGHT(MID($K878,2,1)*MID($K$300,2,1))&RIGHT(MID($K878,3,1)*MID($K$300,3,1)))))))))","v":"577"},{"$f":"R878","v":"577"}]
["201806241243 72047",null,"1806270708","16341",125,125,"1806270708","16341",null,null,"578",null,null,null,null,null,null,"578","578"]
["201806241242 60325",null,"1806270709","76743",124,124,"1806270709","76743",null,null,"579",null,null,null,null,null,null,"579","579"]
["201806241241 90279",null,"1806270710","88168",123,123,"1806270710","88168",null,null,"580",null,null,null,null,null,null,"580","580"]
["201806241240 75895",null,"1806270711","70765",122,122,"1806270711","70765",null,null,"581",null,null,null,null,null,null,"581","581"]
["201806241239 96085",null,"1806270712","06403",121,121,"1806270712","06403",null,null,"582",null,null,null,null,null,null,"582","582"]
["201806241238 73186",null,"1806270713","92702",120,120,"1806270713","92702",null,null,"583",null,null,null,null,null,null,"583","583"]
["201806241237 34721",null,"1806270714","40052",119,119,"1806270714","40052",null,null,"584",null,null,null,null,null,null,"584","584"]
["201806241236 96752",null,"1806270715","98062",118,118,"1806270715","98062",null,null,"585",null,null,null,null,null,null,"585","585"]
["201806241235 50465",null,"1806270716","03719",117,117,"1806270716","03719",null,null,"586",null,null,null,null,null,null,"586","586"]
["201806241234 91718",null,"1806270717","32459",116,116,"1806270717","32459",null,null,"587",null,null,null,null,null,null,"587","587"]
["201806241233 67322",null,"1806270718","42325",115,115,"1806270718","42325",null,null,"588",null,null,null,null,null,null,"588","588"]
["201806241232 99169",null,"1806270719","22780",114,114,"1806270719","22780",null,null,"589",null,null,null,null,null,null,"589","589"]
["201806241231 62721",null,"1806270720","61921",113,113,"1806270720","61921",null,null,"590",null,null,null,null,null,null,"590","590"]
["201806241230 28873",null,"1806270721","58740",112,112,"1806270721","58740",null,null,"591",null,null,null,null,null,null,"591","591"]
["201806241229 81970",null,"1806270722","62802",111,111,"1806270722","62802",null,null,"592",null,null,null,null,null,null,"592","592"]
["201806241228 44491",null,"1806270723","47014",110,110,"1806270723","47014",null,null,"593",null,null,null,null,null,null,"593","593"]
["201806241227 99162",null,"1806270724","22424",109,109,"1806270724","22424",null,null,"594",null,null,null,null,null,null,"594","594"]
["201806241226 22895",null,"1806270725","79700",108,108,"1806270725","79700",null,null,"595",null,null,null,null,null,null,"595","595"]
["201806241225 05597",null,"1806270726","92221",107,107,"1806270726","92221",null,null,"596",null,null,null,null,null,null,"596","596"]
["201806241224 10403",null,{"$f":"IF(E898>=0,MID(OFFSET($A$1,E898,),3,D$1-3),\"\")","v":"1806270727"},{"$f":"IF(E898>=0,MID(OFFSET($A$1,E898,),D$1+1,5),\"\")","v":"98926"},{"$f":"E899+1","v":106},106,{"$f":"IF(E898>=0,MID(OFFSET($A$1,F898,),3,D$1-3),\"\")","v":"1806270727"},{"$f":"IF(E898>=0,MID(OFFSET($A$1,F898,),D$1+1,5),\"\")","v":"98926"},null,null,"597",null,null,null,null,null,null,"597","597"]
["201806241223 16472",null,"1806270728","56122",105,105,"1806270728","56122",null,null,"598",null,null,null,null,null,null,"598","598"]
["201806241222 79425",null,"1806270729","57131",104,104,"1806270729","57131",null,null,"599",null,null,null,null,null,null,"599","599"]
["201806241221 95761",null,"1806270730","12179",103,103,"1806270730","12179",null,null,"600",null,null,null,null,null,null,"600","600"]
["201806241220 25266",null,"1806270731","73360",102,102,"1806270731","73360",null,null,"601",null,null,null,null,null,null,"601","601"]
["201806241219 98113",null,"1806270732","32423",101,101,"1806270732","32423",null,null,"602",null,null,null,null,null,null,"602","602"]
["201806241218 76282",null,"1806270733","65469",100,100,"1806270733","65469",null,null,"603",null,null,null,null,null,null,"603","603"]
["201806241217 74352",null,"1806270734","85484",99,99,"1806270734","85484",null,null,"604",null,null,null,null,null,null,"604","604"]
["201806241216 85276",null,"1806270735","18818",98,98,"1806270735","18818",null,null,"605",null,null,null,null,null,null,"605","605"]
["201806241215 24366",null,"1806270736","92979",97,97,"1806270736","92979",null,null,"606",null,null,null,null,null,null,"606","606"]
["201806241214 69550",null,"1806270737","57414",96,96,"1806270737","57414",null,null,"607",null,null,null,null,null,null,"607","607"]
["201806241213 66496",null,"1806270738","95576",95,95,"1806270738","95576",null,null,"608",null,null,null,null,null,null,"608","608"]
["201806241212 93093",null,"1806270739","20793",94,94,"1806270739","20793",null,null,"609",null,null,null,null,null,null,"609","609"]
["201806241211 89174",null,"1806270740","45965",93,93,"1806270740","45965",null,null,"610",null,null,null,null,null,null,"610","610"]
["201806241210 43911",null,"1806270741","66263",92,92,"1806270741","66263",null,null,"611",null,null,null,null,null,null,"611","611"]
["201806241209 01186",null,"1806270742","52664",91,91,"1806270742","52664",null,null,"612",null,null,null,null,null,null,"612","612"]
["201806241208 48203",null,"1806270743","08125",90,90,"1806270743","08125",null,null,"613",null,null,null,null,null,null,"613","613"]
["201806241207 15426",null,"1806270744","08854",89,89,"1806270744","08854",null,null,"614",null,null,null,null,null,null,"614","614"]
["201806241206 28774",null,"1806270745","96177",88,88,"1806270745","96177",null,null,"615",null,null,null,null,null,null,"615","615"]
["201806241205 44586",null,"1806270746","23476",87,87,"1806270746","23476",null,null,"616",null,null,null,null,null,null,"616","616"]
["201806241204 54627",null,"1806270747","39619",86,86,"1806270747","39619",null,null,"617",null,null,null,null,null,null,"617","617"]
["201806241203 34954",null,"1806270748","44123",85,85,"1806270748","44123",null,null,"618",null,null,null,null,null,null,"618","618"]
["201806241202 18873",null,"1806270749","58220",84,84,"1806270749","58220",null,null,"619",null,null,null,null,null,null,"619","619"]
["201806241201 22533",null,"1806270750","91766",83,83,"1806270750","91766",null,null,"620",null,null,null,null,null,null,"620","620"]
["201806241200 74714",null,"1806270751","56649",82,82,"1806270751","56649",null,null,"621",null,null,null,null,null,null,"621","621"]
["201806241199 54347",null,"1806270752","81380",81,81,"1806270752","81380",null,null,"622",null,null,null,null,null,null,"622","622"]
["201806241198 05878",null,"1806270753","67022",80,80,"1806270753","67022",null,null,"623",null,null,null,null,null,null,"623","623"]
["201806241197 92287",null,"1806270754","03017",79,79,"1806270754","03017",null,null,"624",null,null,null,null,null,null,"624","624"]
["201806241196 17251",null,"1806270755","55277",78,78,"1806270755","55277",null,null,"625",null,null,null,null,null,null,"625","625"]
["201806241195 51477",null,"1806270756","31086",77,77,"1806270756","31086",null,null,"626",null,null,null,null,null,null,"626","626"]
["201806241194 98790",null,"1806270757","76442",76,76,"1806270757","76442",null,null,"627",null,null,null,null,null,null,"627","627"]
["201806241193 48148",null,"1806270758","76810",75,75,"1806270758","76810",null,null,"628",null,null,null,null,null,null,"628","628"]
["201806241192 23711",null,"1806270759","26256",74,74,"1806270759","26256",null,null,"629",null,null,null,null,null,null,"629","629"]
["201806241191 57256",null,"1806270760","20613",73,73,"1806270760","20613",null,null,"630",null,null,null,null,null,null,"630","630"]
["201806241190 62796",null,"1806270761","44724",72,72,"1806270761","44724",null,null,"631",null,null,null,null,null,null,"631","631"]
["201806241189 97473",null,"1806270762","46510",71,71,"1806270762","46510",null,null,"632",null,null,null,null,null,null,"632","632"]
["201806241188 63748",null,"1806270763","30930",70,70,"1806270763","30930",null,null,"633",null,null,null,null,null,null,"633","633"]
["201806241187 69475",null,"1806270764","51824",69,69,"1806270764","51824",null,null,"634",null,null,null,null,null,null,"634","634"]
["201806241186 10516",null,"1806270765","36801",68,68,"1806270765","36801",null,null,"635",null,null,null,null,null,null,"635","635"]
["201806241185 11500",null,"1806270766","18890",67,67,"1806270766","18890",null,null,"636",null,null,null,null,null,null,"636","636"]
["201806241184 84255",null,"1806270767","03822",66,66,"1806270767","03822",null,null,"637",null,null,null,null,null,null,"637","637"]
["201806241183 85276",null,"1806270768","28831",65,65,"1806270768","28831",null,null,"638",null,null,null,null,null,null,"638","638"]
["201806241182 25987",null,"1806270769","60978",64,64,"1806270769","60978",null,null,"639",null,null,null,null,null,null,"639","639"]
["201806241181 79759",null,"1806270770","11586",63,63,"1806270770","11586",null,null,"640",null,null,null,null,null,null,"640","640"]
["201806241180 84185",null,"1806270771","49188",62,62,"1806270771","49188",null,null,"641",null,null,null,null,null,null,{"$f":"IF(R$213=\"胆码\",MID($K942,1,1)&MID($K942,2,1)&MID($K942,3,1),IF(R$213=\"任合\",RIGHT(MID($K942,1,1)+MID($K942,2,1))&RIGHT(MID($K942,1,1)+MID($K942,3,1))&RIGHT(MID($K942,2,1)+MID($K942,3,1)),IF(R$213=\"任差\",RIGHT(MID($K942,1,1)-MID($K942,2,1))&RIGHT(MID($K942,1,1)-MID($K942,3,1))&RIGHT(MID($K942,2,1)-MID($K942,3,1)),IF(R$213=\"任积\",RIGHT(MID($K942,1,1)*MID($K942,2,1))&RIGHT(MID($K942,1,1)*MID($K942,3,1))&RIGHT(MID($K942,2,1)*MID($K942,3,1)),IF(R$213=\"位合\",RIGHT(MID($K942,1,1)+MID($K$300,1,1))&RIGHT(MID($K942,2,1)+MID($K$300,2,1))&RIGHT(MID($K942,3,1)+MID($K$300,3,1)),IF(R$213=\"位差\",RIGHT(MID($K942,1,1)-MID($K$300,1,1))&RIGHT(MID($K942,2,1)-MID($K$300,2,1))&RIGHT(MID($K942,3,1)-MID($K$300,3,1)),IF(R$213=\"位积\",RIGHT(MID($K942,1,1)*MID($K$300,1,1))&RIGHT(MID($K942,2,1)*MID($K$300,2,1))&RIGHT(MID($K942,3,1)*MID($K$300,3,1)))))))))","v":"641"},{"$f":"R942","v":"641"}]
["201806241179 13268",null,"1806270772","32294",61,61,"1806270772","32294",null,null,"642",null,null,null,null,null,null,"642","642"]
["201806241178 77649",null,"1806270773","87795",60,60,"1806270773","87795",null,null,"643",null,null,null,null,null,null,"643","643"]
["201806241177 35426",null,"1806270774","46427",59,59,"1806270774","46427",null,null,"644",null,null,null,null,null,null,"644","644"]
["201806241176 35579",null,"1806270775","14035",58,58,"1806270775","14035",null,null,"645",null,null,null,null,null,null,"645","645"]
["201806241175 90085",null,"1806270776","00240",57,57,"1806270776","00240",null,null,"646",null,null,null,null,null,null,"646","646"]
["201806241174 88594",null,"1806270777","33543",56,56,"1806270777","33543",null,null,"647",null,null,null,null,null,null,"647","647"]
["201806241173 21622",null,"1806270778","89109",55,55,"1806270778","89109",null,null,"648",null,null,null,null,null,null,"648","648"]
["201806241172 58399",null,"1806270779","91203",54,54,"1806270779","91203",null,null,"649",null,null,null,null,null,null,"649","649"]
["201806241171 15787",null,"1806270780","78988",53,53,"1806270780","78988",null,null,"650",null,null,null,null,null,null,"650","650"]
["201806241170 21721",null,"1806270781","20453",52,52,"1806270781","20453",null,null,"651",null,null,null,null,null,null,"651","651"]
["201806241169 85501",null,"1806270782","22503",51,51,"1806270782","22503",null,null,"652",null,null,null,null,null,null,"652","652"]
["201806241168 15812",null,"1806270783","44020",50,50,"1806270783","44020",null,null,"653",null,null,null,null,null,null,"653","653"]
["201806241167 75379",null,"1806270784","58719",49,49,"1806270784","58719",null,null,"654",null,null,null,null,null,null,"654","654"]
["201806241166 94463",null,"1806270785","27471",48,48,"1806270785","27471",null,null,"655",null,null,null,null,null,null,"655","655"]
["201806241165 98351",null,"1806270786","81009",47,47,"1806270786","81009",null,null,"656",null,null,null,null,null,null,"656","656"]
["201806241164 88052",null,"1806270787","72940",46,46,"1806270787","72940",null,null,"657",null,null,null,null,null,null,"657","657"]
["201806241163 44845",null,"1806270788","15755",45,45,"1806270788","15755",null,null,"658",null,null,null,null,null,null,"658","658"]
["201806241162 48835",null,"1806270789","68696",44,44,"1806270789","68696",null,null,"659",null,null,null,null,null,null,"659","659"]
["201806241161 23371",null,"1806270790","87045",43,43,"1806270790","87045",null,null,"660",null,null,null,null,null,null,"660","660"]
["201806241160 50541",null,{"$f":"IF(E962>=0,MID(OFFSET($A$1,E962,),3,D$1-3),\"\")","v":"1806270791"},{"$f":"IF(E962>=0,MID(OFFSET($A$1,E962,),D$1+1,5),\"\")","v":"10967"},{"$f":"E963+1","v":42},42,{"$f":"IF(E962>=0,MID(OFFSET($A$1,F962,),3,D$1-3),\"\")","v":"1806270791"},{"$f":"IF(E962>=0,MID(OFFSET($A$1,F962,),D$1+1,5),\"\")","v":"10967"},null,null,"661",null,null,null,null,null,null,"661","661"]
["201806241159 17325",null,"1806270792","25059",41,41,"1806270792","25059",null,null,"662",null,null,null,null,null,null,"662","662"]
["201806241158 51433",null,"1806270793","20003",40,40,"1806270793","20003",null,null,"663",null,null,null,null,null,null,"663","663"]
["201806241157 76575",null,"1806270794","90145",39,39,"1806270794","90145",null,null,"664",null,null,null,null,null,null,"664","664"]
["201806241156 80382",null,"1806270795","21700",38,38,"1806270795","21700",null,null,"665",null,null,null,null,null,null,"665","665"]
["201806241155 47074",null,"1806270796","85974",37,37,"1806270796","85974",null,null,"666",null,null,null,null,null,null,"666","666"]
["201806241154 16962",null,"1806270797","93578",36,36,"1806270797","93578",null,null,"667",null,null,null,null,null,null,"667","667"]
["201806241153 32679",null,"1806270798","04443",35,35,"1806270798","04443",null,null,"668",null,null,null,null,null,null,"668","668"]
["201806241152 71755",null,"1806270799","43240",34,34,"1806270799","43240",null,null,"669",null,null,null,null,null,null,"669","669"]
["201806241151 02949",null,"1806270800","50597",33,33,"1806270800","50597",null,null,"670",null,null,null,null,null,null,"670","670"]
["201806241150 16786",null,"1806270801","52235",32,32,"1806270801","52235",null,null,"671",null,null,null,null,null,null,"671","671"]
["201806241149 67765",null,"1806270802","28633",31,31,"1806270802","28633",null,null,"672",null,null,null,null,null,null,"672","672"]
["201806241148 46441",null,"1806270803","62137",30,30,"1806270803","62137",null,null,"673",null,null,null,null,null,null,"673","673"]
["201806241147 35092",null,"1806270804","58144",29,29,"1806270804","58144",null,null,"674",null,null,null,null,null,null,"674","674"]
["201806241146 34246",null,"1806270805","77294",28,28,"1806270805","77294",null,null,"675",null,null,null,null,null,null,"675","675"]
["201806241145 29951",null,"1806270806","52209",27,27,"1806270806","52209",null,null,"676",null,null,null,null,null,null,"676","676"]
["201806241144 87218",null,"1806270807","46637",26,26,"1806270807","46637",null,null,"677",null,null,null,null,null,null,"677","677"]
["201806241143 36114",null,"1806270808","93969",25,25,"1806270808","93969",null,null,"678",null,null,null,null,null,null,"678","678"]
["201806241142 94734",null,"1806270809","06109",24,24,"1806270809","06109",null,null,"679",null,null,null,null,null,null,"679","679"]
["201806241141 76019",null,"1806270810","85344",23,23,"1806270810","85344",null,null,"680",null,null,null,null,null,null,"680","680"]
["201806241140 70257",null,"1806270811","17567",22,22,"1806270811","17567",null,null,"681",null,null,null,null,null,null,"681","681"]
["201806241139 19639",null,"1806270812","14326",21,21,"1806270812","14326",null,null,"682",null,null,null,null,null,null,"682","682"]
["201806241138 05664",null,"1806270813","01775",20,20,"1806270813","01775",null,null,"683",null,null,null,null,null,null,"683","683"]
["201806241137 77703",null,"1806270814","52094",19,19,"1806270814","52094",null,null,"684",null,null,null,null,null,null,"684","684"]
["201806241136 33836",null,"1806270815","99908",18,18,"1806270815","99908",null,null,"685",null,null,null,null,null,null,"685","685"]
["201806241135 04056",null,"1806270816","83245",17,17,"1806270816","83245",null,null,"686",null,null,null,null,null,null,"686","686"]
["201806241134 72635",null,"1806270817","68674",16,16,"1806270817","68674",null,null,"687",null,null,null,null,null,null,"687","687"]
["201806241133 07028",null,"1806270818","73150",15,15,"1806270818","73150",null,null,"688",null,null,null,null,null,null,"688","688"]
["201806241132 87188",null,"1806270819","15847",14,14,"1806270819","15847",null,null,"689",null,null,null,null,null,null,"689","689"]
["201806241131 44727",null,"1806270820","35770",13,13,"1806270820","35770",null,null,"690",null,null,null,null,null,null,"690","690"]
["201806241130 06027",null,"1806270821","92987",12,12,"1806270821","92987",null,null,"691",null,null,null,null,null,null,"691","691"]
["201806241129 78229",null,"1806270822","50312",11,11,"1806270822","50312",null,null,"692",null,null,null,null,null,null,"692","692"]
["201806241128 74661",null,"1806270823","14455",10,10,"1806270823","14455",null,null,"693",null,null,null,null,null,null,"693","693"]
["201806241127 76208",null,"1806270824","46698",9,9,"1806270824","46698",null,null,"694",null,null,null,null,null,null,"694","694"]
["201806241126 71408",null,"1806270825","34158",8,8,"1806270825","34158",null,null,"695",null,null,null,null,null,null,"695","695"]
["201806241125 93038",null,"1806270826","90830",7,7,"1806270826","90830",null,null,"696",null,null,null,null,null,null,"696","696"]
["201806241124 35722",null,"1806270827","29861",6,6,"1806270827","29861",null,null,"697",null,null,null,null,null,null,"697","697"]
["201806241123 04665",null,"1806270828","93366",5,5,"1806270828","93366",null,null,"698",null,null,null,null,null,null,"698","698"]
["201806241122 02609",null,"1806270829","26861",4,4,"1806270829","26861",null,null,"699",null,null,null,null,null,null,"699","699"]
["201806241121 45834",null,"1806270830","95876",3,3,"1806270830","95876",null,null,"700",null,null,null,null,null,null,"700","700"]
["201806241120 99998",null,"1806270831","85145",{"$f":"E1003+1","v":2},{"$f":"F1003+1","v":2},"1806270831","85145",null,null,"701",null,null,null,null,null,null,"701","701"]
["201806241119 44924",null,{"$f":"IF(E1003>=0,MID(OFFSET($A$1,E1003,),3,D$1-3),\"\")","v":"1806270832"},{"$f":"IF(E1003>=0,MID(OFFSET($A$1,E1003,),D$1+1,5),\"\")","v":"05530"},{"$f":"E1005+1","v":1},{"$f":"F1005+1","v":1},{"$f":"IF(E1003>=0,MID(OFFSET($A$1,F1003,),3,D$1-3),\"\")","v":"1806270832"},{"$f":"IF(E1003>=0,MID(OFFSET($A$1,F1003,),D$1+1,5),\"\")","v":"05530"},null,null,"702",null,null,null,null,null,null,"702","702"]
["201806241118 73397",null,null,null,{"$f":"E1003-1","v":0},{"$f":"F1003-1","v":0},{"$f":"IF(F1004=0,G1003+1,IF(E1004>=0,MID(OFFSET($A$1,F1004,),3,D$1-3),\"\"))","v":1806270833},{"$f":"IF(F1004=0,\"待待待待待\",IF(E1004>=0,MID(OFFSET($A$1,F1004,),D$1+1,5),\"\"))","v":"待待待待待"},null,null,"703",null,null,null,null,null,null,"703","703"]
["201806241117 66285",null,null,null,0,{"$f":"I218","v":0},"",null,null,null,"704",null,null,null,null,null,null,"704","704"]
["201806241116 07033",null,null,null,null,null,"",null,null,null,"705",null,null,null,null,null,null,{"$f":"IF(R$213=\"胆码\",MID($K1006,1,1)&MID($K1006,2,1)&MID($K1006,3,1),IF(R$213=\"任合\",RIGHT(MID($K1006,1,1)+MID($K1006,2,1))&RIGHT(MID($K1006,1,1)+MID($K1006,3,1))&RIGHT(MID($K1006,2,1)+MID($K1006,3,1)),IF(R$213=\"任差\",RIGHT(MID($K1006,1,1)-MID($K1006,2,1))&RIGHT(MID($K1006,1,1)-MID($K1006,3,1))&RIGHT(MID($K1006,2,1)-MID($K1006,3,1)),IF(R$213=\"任积\",RIGHT(MID($K1006,1,1)*MID($K1006,2,1))&RIGHT(MID($K1006,1,1)*MID($K1006,3,1))&RIGHT(MID($K1006,2,1)*MID($K1006,3,1)),IF(R$213=\"位合\",RIGHT(MID($K1006,1,1)+MID($K$300,1,1))&RIGHT(MID($K1006,2,1)+MID($K$300,2,1))&RIGHT(MID($K1006,3,1)+MID($K$300,3,1)),IF(R$213=\"位差\",RIGHT(MID($K1006,1,1)-MID($K$300,1,1))&RIGHT(MID($K1006,2,1)-MID($K$300,2,1))&RIGHT(MID($K1006,3,1)-MID($K$300,3,1)),IF(R$213=\"位积\",RIGHT(MID($K1006,1,1)*MID($K$300,1,1))&RIGHT(MID($K1006,2,1)*MID($K$300,2,1))&RIGHT(MID($K1006,3,1)*MID($K$300,3,1)))))))))","v":"705"},{"$f":"R1006","v":"705"}]
["201806241115 54742",null,null,null,null,null,"",null,null,null,"706",null,null,null,null,null,null,"706","706"]
["201806241114 09019",null,null,null,null,null,"",null,null,null,"707",null,null,null,null,null,null,"707","707"]
["201806241113 03211",null,null,null,null,null,null,null,null,null,"708",null,null,null,null,null,null,"708","708"]
["201806241112 94174",null,null,null,null,null,null,null,null,null,"709",null,null,null,null,null,null,"709","709"]
["201806241111 18127",null,null,null,null,null,null,null,null,null,"710",null,null,null,null,null,null,"710","710"]
["201806241110 06136",null,null,null,null,null,null,null,null,null,"711",null,null,null,null,null,null,"711","711"]
["201806241109 33130",null,null,null,null,null,null,null,null,null,"712",null,null,null,null,null,null,"712","712"]
["201806241108 47350",null,null,null,null,null,null,null,null,null,"713",null,null,null,null,null,null,"713","713"]
["201806241107 46763",null,null,null,null,null,null,null,null,null,"714",null,null,null,null,null,null,"714","714"]
["201806241106 93000",null,null,null,null,null,null,null,null,null,"715",null,null,null,null,null,null,"715","715"]
["201806241105 29356",null,null,null,null,null,null,null,null,null,"716",null,null,null,null,null,null,"716","716"]
["201806241104 23391",null,null,null,null,null,null,null,null,null,"717",null,null,null,null,null,null,"717","717"]
["201806241103 64596",null,null,null,null,null,null,null,null,null,"718",null,null,null,null,null,null,"718","718"]
["201806241102 84858",null,null,null,null,null,null,null,null,null,"719",null,null,null,null,null,null,"719","719"]
["201806241101 51927",null,null,null,null,null,null,null,null,null,"720",null,null,null,null,null,null,"720","720"]
["201806241100 62743",null,null,null,null,null,null,null,null,null,"721",null,null,null,null,null,null,"721","721"]
["201806241099 62743",null,null,null,null,null,null,null,null,null,"722",null,null,null,null,null,null,"722","722"]
["201806241098 72930",null,null,null,null,null,null,null,null,null,"723",null,null,null,null,null,null,"723","723"]
["201806241097 57238",null,null,null,null,null,null,null,null,null,"724",null,null,null,null,null,null,"724","724"]
["201806241096 53993",null,null,null,null,null,null,null,null,null,"725",null,null,null,null,null,null,"725","725"]
["201806241095 38968",null,null,null,null,null,null,null,null,null,"726",null,null,null,null,null,null,"726","726"]
["201806241094 96960",null,null,null,null,null,null,null,null,null,"727",null,null,null,null,null,null,"727","727"]
["201806241093 32380",null,null,null,null,null,null,null,null,null,"728",null,null,null,null,null,null,"728","728"]
["201806241092 78709",null,null,null,null,null,null,null,null,null,"729",null,null,null,null,null,null,"729","729"]
["201806241091 49019",null,null,null,null,null,null,null,null,null,"730",null,null,null,null,null,null,"730","730"]
["201806241090 76552",null,null,null,null,null,null,null,null,null,"731",null,null,null,null,null,null,"731","731"]
["201806241089 41705",null,null,null,null,null,null,null,null,null,"732",null,null,null,null,null,null,"732","732"]
["201806241088 63804",null,null,null,null,null,null,null,null,null,"733",null,null,null,null,null,null,"733","733"]
["201806241087 01838",null,null,null,null,null,null,null,null,null,"734",null,null,null,null,null,null,"734","734"]
["201806241086 45775",null,null,null,null,null,null,null,null,null,"735",null,null,null,null,null,null,"735","735"]
["201806241085 89513",null,null,null,null,null,null,null,null,null,"736",null,null,null,null,null,null,"736","736"]
["201806241084 93267",null,null,null,null,null,null,null,null,null,"737",null,null,null,null,null,null,"737","737"]
["201806241083 82834",null,null,null,null,null,null,null,null,null,"738",null,null,null,null,null,null,"738","738"]
["201806241082 28807",null,null,null,null,null,null,null,null,null,"739",null,null,null,null,null,null,"739","739"]
["201806241081 99599",null,null,null,null,null,null,null,null,null,"740",null,null,null,null,null,null,"740","740"]
["201806241080 57101",null,null,null,null,null,null,null,null,null,"741",null,null,null,null,null,null,"741","741"]
["201806241079 06684",null,null,null,null,null,null,null,null,null,"742",null,null,null,null,null,null,"742","742"]
["201806241078 51368",null,null,null,null,null,null,null,null,null,"743",null,null,null,null,null,null,"743","743"]
["201806241077 34651",null,null,null,null,null,null,null,null,null,"744",null,null,null,null,null,null,"744","744"]
["201806241076 89505",null,null,null,null,null,null,null,null,null,"745",null,null,null,null,null,null,"745","745"]
["201806241075 01665",null,null,null,null,null,null,null,null,null,"746",null,null,null,null,null,null,"746","746"]
["201806241074 56471",null,null,null,null,null,null,null,null,null,"747",null,null,null,null,null,null,"747","747"]
["201806241073 15880",null,null,null,null,null,null,null,null,null,"748",null,null,null,null,null,null,"748","748"]
["201806241072 38374",null,null,null,null,null,null,null,null,null,"749",null,null,null,null,null,null,"749","749"]
["201806241071 02321",null,null,null,null,null,null,null,null,null,"750",null,null,null,null,null,null,"750","750"]
["201806241070 42865",null,null,null,null,null,null,null,null,null,"751",null,null,null,null,null,null,"751","751"]
["201806241069 46158",null,null,null,null,null,null,null,null,null,"752",null,null,null,null,null,null,"752","752"]
["201806241068 90869",null,null,null,null,null,null,null,null,null,"753",null,null,null,null,null,null,"753","753"]
["201806241067 66473",null,null,null,null,null,null,null,null,null,"754",null,null,null,null,null,null,"754","754"]
["201806241066 91425",null,null,null,null,null,null,null,null,null,"755",null,null,null,null,null,null,"755","755"]
["201806241065 14451",null,null,null,null,null,null,null,null,null,"756",null,null,null,null,null,null,"756","756"]
["201806241064 45948",null,null,null,null,null,null,null,null,null,"757",null,null,null,null,null,null,"757","757"]
["201806241063 02784",null,null,null,null,null,null,null,null,null,"758",null,null,null,null,null,null,"758","758"]
["201806241062 97085",null,null,null,null,null,null,null,null,null,"759",null,null,null,null,null,null,"759","759"]
["201806241061 64580",null,null,null,null,null,null,null,null,null,"760",null,null,null,null,null,null,"760","760"]
["201806241060 42680",null,null,null,null,null,null,null,null,null,"761",null,null,null,null,null,null,"761","761"]
["201806241059 36821",null,null,null,null,null,null,null,null,null,"762",null,null,null,null,null,null,"762","762"]
["201806241058 59822",null,null,null,null,null,null,null,null,null,"763",null,null,null,null,null,null,"763","763"]
["201806241057 31477",null,null,null,null,null,null,null,null,null,"764",null,null,null,null,null,null,"764","764"]
["201806241056 13519",null,null,null,null,null,null,null,null,null,"765",null,null,null,null,null,null,"765","765"]
["201806241055 81897",null,null,null,null,null,null,null,null,null,"766",null,null,null,null,null,null,"766","766"]
["201806241054 83517",null,null,null,null,null,null,null,null,null,"767",null,null,null,null,null,null,"767","767"]
["201806241053 30732",null,null,null,null,null,null,null,null,null,"768",null,null,null,null,null,null,"768","768"]
["201806241052 13947",null,null,null,null,null,null,null,null,null,"769",null,null,null,null,null,null,{"$f":"IF(R$213=\"胆码\",MID($K1070,1,1)&MID($K1070,2,1)&MID($K1070,3,1),IF(R$213=\"任合\",RIGHT(MID($K1070,1,1)+MID($K1070,2,1))&RIGHT(MID($K1070,1,1)+MID($K1070,3,1))&RIGHT(MID($K1070,2,1)+MID($K1070,3,1)),IF(R$213=\"任差\",RIGHT(MID($K1070,1,1)-MID($K1070,2,1))&RIGHT(MID($K1070,1,1)-MID($K1070,3,1))&RIGHT(MID($K1070,2,1)-MID($K1070,3,1)),IF(R$213=\"任积\",RIGHT(MID($K1070,1,1)*MID($K1070,2,1))&RIGHT(MID($K1070,1,1)*MID($K1070,3,1))&RIGHT(MID($K1070,2,1)*MID($K1070,3,1)),IF(R$213=\"位合\",RIGHT(MID($K1070,1,1)+MID($K$300,1,1))&RIGHT(MID($K1070,2,1)+MID($K$300,2,1))&RIGHT(MID($K1070,3,1)+MID($K$300,3,1)),IF(R$213=\"位差\",RIGHT(MID($K1070,1,1)-MID($K$300,1,1))&RIGHT(MID($K1070,2,1)-MID($K$300,2,1))&RIGHT(MID($K1070,3,1)-MID($K$300,3,1)),IF(R$213=\"位积\",RIGHT(MID($K1070,1,1)*MID($K$300,1,1))&RIGHT(MID($K1070,2,1)*MID($K$300,2,1))&RIGHT(MID($K1070,3,1)*MID($K$300,3,1)))))))))","v":"769"},{"$f":"R1070","v":"769"}]
["201806241051 49551",null,null,null,null,null,null,null,null,null,"770",null,null,null,null,null,null,"770","770"]
["201806241050 88198",null,null,null,null,null,null,null,null,null,"771",null,null,null,null,null,null,"771","771"]
["201806241049 99910",null,null,null,null,null,null,null,null,null,"772",null,null,null,null,null,null,"772","772"]
["201806241048 39962",null,null,null,null,null,null,null,null,null,"773",null,null,null,null,null,null,"773","773"]
["201806241047 80661",null,null,null,null,null,null,null,null,null,"774",null,null,null,null,null,null,"774","774"]
["201806241046 68781",null,null,null,null,null,null,null,null,null,"775",null,null,null,null,null,null,"775","775"]
["201806241045 29219",null,null,null,null,null,null,null,null,null,"776",null,null,null,null,null,null,"776","776"]
["201806241044 18246",null,null,null,null,null,null,null,null,null,"777",null,null,null,null,null,null,"777","777"]
["201806241043 22983",null,null,null,null,null,null,null,null,null,"778",null,null,null,null,null,null,"778","778"]
["201806241042 48398",null,null,null,null,null,null,null,null,null,"779",null,null,null,null,null,null,"779","779"]
["201806241041 18640",null,null,null,null,null,null,null,null,null,"780",null,null,null,null,null,null,"780","780"]
["201806241040 75461",null,null,null,null,null,null,null,null,null,"781",null,null,null,null,null,null,"781","781"]
["201806241039 90541",null,null,null,null,null,null,null,null,null,"782",null,null,null,null,null,null,"782","782"]
["201806241038 83143",null,null,null,null,null,null,null,null,null,"783",null,null,null,null,null,null,"783","783"]
["201806241037 20199",null,null,null,null,null,null,null,null,null,"784",null,null,null,null,null,null,"784","784"]
["201806241036 61310",null,null,null,null,null,null,null,null,null,"785",null,null,null,null,null,null,"785","785"]
["201806241035 99860",null,null,null,null,null,null,null,null,null,"786",null,null,null,null,null,null,"786","786"]
["201806241034 02057",null,null,null,null,null,null,null,null,null,"787",null,null,null,null,null,null,"787","787"]
["201806241033 55323",null,null,null,null,null,null,null,null,null,"788",null,null,null,null,null,null,"788","788"]
["201806241032 43109",null,null,null,null,null,null,null,null,null,"789",null,null,null,null,null,null,"789","789"]
["201806241031 89974",null,null,null,null,null,null,null,null,null,"790",null,null,null,null,null,null,"790","790"]
["201806241030 71586",null,null,null,null,null,null,null,null,null,"791",null,null,null,null,null,null,"791","791"]
["201806241029 90060",null,null,null,null,null,null,null,null,null,"792",null,null,null,null,null,null,"792","792"]
["201806241028 54429",null,null,null,null,null,null,null,null,null,"793",null,null,null,null,null,null,"793","793"]
["201806241027 10172",null,null,null,null,null,null,null,null,null,"794",null,null,null,null,null,null,"794","794"]
["201806241026 97564",null,null,null,null,null,null,null,null,null,"795",null,null,null,null,null,null,"795","795"]
["201806241025 60820",null,null,null,null,null,null,null,null,null,"796",null,null,null,null,null,null,"796","796"]
["201806241024 04192",null,null,null,null,null,null,null,null,null,"797",null,null,null,null,null,null,"797","797"]
["201806241023 07408",null,null,null,null,null,null,null,null,null,"798",null,null,null,null,null,null,"798","798"]
["201806241022 54813",null,null,null,null,null,null,null,null,null,"799",null,null,null,null,null,null,"799","799"]
["201806241021 18105",null,null,null,null,null,null,null,null,null,"800",null,null,null,null,null,null,"800","800"]
["201806241020 45132",null,null,null,null,null,null,null,null,null,"801",null,null,null,null,null,null,"801","801"]
["201806241019 42940",null,null,null,null,null,null,null,null,null,"802",null,null,null,null,null,null,"802","802"]
["201806241018 30305",null,null,null,null,null,null,null,null,null,"803",null,null,null,null,null,null,"803","803"]
["201806241017 30305",null,null,null,null,null,null,null,null,null,"804",null,null,null,null,null,null,"804","804"]
["201806241016 48464",null,null,null,null,null,null,null,null,null,"805",null,null,null,null,null,null,"805","805"]
["201806241015 96533",null,null,null,null,null,null,null,null,null,"806",null,null,null,null,null,null,"806","806"]
["201806241014 10170",null,null,null,null,null,null,null,null,null,"807",null,null,null,null,null,null,"807","807"]
["201806241013 63812",null,null,null,null,null,null,null,null,null,"808",null,null,null,null,null,null,"808","808"]
["201806241012 64560",null,null,null,null,null,null,null,null,null,"809",null,null,null,null,null,null,"809","809"]
["201806241011 84059",null,null,null,null,null,null,null,null,null,"810",null,null,null,null,null,null,"810","810"]
["201806241010 62682",null,null,null,null,null,null,null,null,null,"811",null,null,null,null,null,null,"811","811"]
["201806241009 18150",null,null,null,null,null,null,null,null,null,"812",null,null,null,null,null,null,"812","812"]
["201806241008 31663",null,null,null,null,null,null,null,null,null,"813",null,null,null,null,null,null,"813","813"]
["201806241007 66519",null,null,null,null,null,null,null,null,null,"814",null,null,null,null,null,null,"814","814"]
["201806241006 28270",null,null,null,null,null,null,null,null,null,"815",null,null,null,null,null,null,"815","815"]
["201806241005 98402",null,null,null,null,null,null,null,null,null,"816",null,null,null,null,null,null,"816","816"]
["201806241004 72884",null,null,null,null,null,null,null,null,null,"817",null,null,null,null,null,null,"817","817"]
["201806241003 50886",null,null,null,null,null,null,null,null,null,"818",null,null,null,null,null,null,"818","818"]
["201806241002 37600",null,null,null,null,null,null,null,null,null,"819",null,null,null,null,null,null,"819","819"]
["201806241001 39809",null,null,null,null,null,null,null,null,null,"820",null,null,null,null,null,null,"820","820"]
["201806241000 66140",null,null,null,null,null,null,null,null,null,"821",null,null,null,null,null,null,"821","821"]
["201806240999 43395",null,null,null,null,null,null,null,null,null,"822",null,null,null,null,null,null,"822","822"]
["201806240998 34955",null,null,null,null,null,null,null,null,null,"823",null,null,null,null,null,null,"823","823"]
["201806240997 69696",null,null,null,null,null,null,null,null,null,"824",null,null,null,null,null,null,"824","824"]
["201806240996 14104",null,null,null,null,null,null,null,null,null,"825",null,null,null,null,null,null,"825","825"]
["201806240995 37375",null,null,null,null,null,null,null,null,null,"826",null,null,null,null,null,null,"826","826"]
["201806240994 88610",null,null,null,null,null,null,null,null,null,"827",null,null,null,null,null,null,"827","827"]
["201806240993 29468",null,null,null,null,null,null,null,null,null,"828",null,null,null,null,null,null,"828","828"]
["201806240992 02359",null,null,null,null,null,null,null,null,null,"829",null,null,null,null,null,null,"829","829"]
["201806240991 57302",null,null,null,null,null,null,null,null,null,"830",null,null,null,null,null,null,"830","830"]
["201806240990 96368",null,null,null,null,null,null,null,null,null,"831",null,null,null,null,null,null,"831","831"]
["201806240989 52673",null,null,null,null,null,null,null,null,null,"832",null,null,null,null,null,null,"832","832"]
["201806240988 89012",null,null,null,null,null,null,null,null,null,"833",null,null,null,null,null,null,{"$f":"IF(R$213=\"胆码\",MID($K1134,1,1)&MID($K1134,2,1)&MID($K1134,3,1),IF(R$213=\"任合\",RIGHT(MID($K1134,1,1)+MID($K1134,2,1))&RIGHT(MID($K1134,1,1)+MID($K1134,3,1))&RIGHT(MID($K1134,2,1)+MID($K1134,3,1)),IF(R$213=\"任差\",RIGHT(MID($K1134,1,1)-MID($K1134,2,1))&RIGHT(MID($K1134,1,1)-MID($K1134,3,1))&RIGHT(MID($K1134,2,1)-MID($K1134,3,1)),IF(R$213=\"任积\",RIGHT(MID($K1134,1,1)*MID($K1134,2,1))&RIGHT(MID($K1134,1,1)*MID($K1134,3,1))&RIGHT(MID($K1134,2,1)*MID($K1134,3,1)),IF(R$213=\"位合\",RIGHT(MID($K1134,1,1)+MID($K$300,1,1))&RIGHT(MID($K1134,2,1)+MID($K$300,2,1))&RIGHT(MID($K1134,3,1)+MID($K$300,3,1)),IF(R$213=\"位差\",RIGHT(MID($K1134,1,1)-MID($K$300,1,1))&RIGHT(MID($K1134,2,1)-MID($K$300,2,1))&RIGHT(MID($K1134,3,1)-MID($K$300,3,1)),IF(R$213=\"位积\",RIGHT(MID($K1134,1,1)*MID($K$300,1,1))&RIGHT(MID($K1134,2,1)*MID($K$300,2,1))&RIGHT(MID($K1134,3,1)*MID($K$300,3,1)))))))))","v":"833"},{"$f":"R1134","v":"833"}]
["201806240987 12788",null,null,null,null,null,null,null,null,null,"834",null,null,null,null,null,null,"834","834"]
["201806240986 32718",null,null,null,null,null,null,null,null,null,"835",null,null,null,null,null,null,"835","835"]
["201806240985 71083",null,null,null,null,null,null,null,null,null,"836",null,null,null,null,null,null,"836","836"]
["201806240984 33815",null,null,null,null,null,null,null,null,null,"837",null,null,null,null,null,null,"837","837"]
["201806240983 08151",null,null,null,null,null,null,null,null,null,"838",null,null,null,null,null,null,"838","838"]
["201806240982 67125",null,null,null,null,null,null,null,null,null,"839",null,null,null,null,null,null,"839","839"]
["201806240981 83098",null,null,null,null,null,null,null,null,null,"840",null,null,null,null,null,null,"840","840"]
["201806240980 03723",null,null,null,null,null,null,null,null,null,"841",null,null,null,null,null,null,"841","841"]
["201806240979 73335",null,null,null,null,null,null,null,null,null,"842",null,null,null,null,null,null,"842","842"]
["201806240978 18822",null,null,null,null,null,null,null,null,null,"843",null,null,null,null,null,null,"843","843"]
["201806240977 94393",null,null,null,null,null,null,null,null,null,"844",null,null,null,null,null,null,"844","844"]
["201806240976 36757",null,null,null,null,null,null,null,null,null,"845",null,null,null,null,null,null,"845","845"]
["201806240975 56516",null,null,null,null,null,null,null,null,null,"846",null,null,null,null,null,null,"846","846"]
["201806240974 83795",null,null,null,null,null,null,null,null,null,"847",null,null,null,null,null,null,"847","847"]
["201806240973 65289",null,null,null,null,null,null,null,null,null,"848",null,null,null,null,null,null,"848","848"]
["201806240972 44508",null,null,null,null,null,null,null,null,null,"849",null,null,null,null,null,null,"849","849"]
["201806240971 31510",null,null,null,null,null,null,null,null,null,"850",null,null,null,null,null,null,"850","850"]
["201806240970 17754",null,null,null,null,null,null,null,null,null,"851",null,null,null,null,null,null,"851","851"]
["201806240969 11436",null,null,null,null,null,null,null,null,null,"852",null,null,null,null,null,null,"852","852"]
["201806240968 89370",null,null,null,null,null,null,null,null,null,"853",null,null,null,null,null,null,"853","853"]
["201806240967 00146",null,null,null,null,null,null,null,null,null,"854",null,null,null,null,null,null,"854","854"]
["201806240966 76004",null,null,null,null,null,null,null,null,null,"855",null,null,null,null,null,null,"855","855"]
["201806240965 13650",null,null,null,null,null,null,null,null,null,"856",null,null,null,null,null,null,"856","856"]
["201806240964 89804",null,null,null,null,null,null,null,null,null,"857",null,null,null,null,null,null,"857","857"]
["201806240963 12434",null,null,null,null,null,null,null,null,null,"858",null,null,null,null,null,null,"858","858"]
["201806240962 75762",null,null,null,null,null,null,null,null,null,"859",null,null,null,null,null,null,"859","859"]
["201806240961 31187",null,null,null,null,null,null,null,null,null,"860",null,null,null,null,null,null,"860","860"]
["201806240960 20196",null,null,null,null,null,null,null,null,null,"861",null,null,null,null,null,null,"861","861"]
["201806240959 26326",null,null,null,null,null,null,null,null,null,"862",null,null,null,null,null,null,"862","862"]
["201806240958 90095",null,null,null,null,null,null,null,null,null,"863",null,null,null,null,null,null,"863","863"]
["201806240957 33853",null,null,null,null,null,null,null,null,null,"864",null,null,null,null,null,null,"864","864"]
["201806240956 16885",null,null,null,null,null,null,null,null,null,"865",null,null,null,null,null,null,"865","865"]
["201806240955 47750",null,null,null,null,null,null,null,null,null,"866",null,null,null,null,null,null,"866","866"]
["201806240954 55607",null,null,null,null,null,null,null,null,null,"867",null,null,null,null,null,null,"867","867"]
["201806240953 14947",null,null,null,null,null,null,null,null,null,"868",null,null,null,null,null,null,"868","868"]
["201806240952 62027",null,null,null,null,null,null,null,null,null,"869",null,null,null,null,null,null,"869","869"]
["201806240951 83636",null,null,null,null,null,null,null,null,null,"870",null,null,null,null,null,null,"870","870"]
["201806240950 37070",null,null,null,null,null,null,null,null,null,"871",null,null,null,null,null,null,"871","871"]
["201806240949 34137",null,null,null,null,null,null,null,null,null,"872",null,null,null,null,null,null,"872","872"]
["201806240948 94710",null,null,null,null,null,null,null,null,null,"873",null,null,null,null,null,null,"873","873"]
["201806240947 69425",null,null,null,null,null,null,null,null,null,"874",null,null,null,null,null,null,"874","874"]
["201806240946 97430",null,null,null,null,null,null,null,null,null,"875",null,null,null,null,null,null,"875","875"]
["201806240945 60920",null,null,null,null,null,null,null,null,null,"876",null,null,null,null,null,null,"876","876"]
["201806240944 68149",null,null,null,null,null,null,null,null,null,"877",null,null,null,null,null,null,"877","877"]
["201806240943 23311",null,null,null,null,null,null,null,null,null,"878",null,null,null,null,null,null,"878","878"]
["201806240942 56477",null,null,null,null,null,null,null,null,null,"879",null,null,null,null,null,null,"879","879"]
["201806240941 81189",null,null,null,null,null,null,null,null,null,"880",null,null,null,null,null,null,"880","880"]
["201806240940 97501",null,null,null,null,null,null,null,null,null,"881",null,null,null,null,null,null,"881","881"]
["201806240939 20206",null,null,null,null,null,null,null,null,null,"882",null,null,null,null,null,null,"882","882"]
["201806240938 76038",null,null,null,null,null,null,null,null,null,"883",null,null,null,null,null,null,"883","883"]
["201806240937 44887",null,null,null,null,null,null,null,null,null,"884",null,null,null,null,null,null,"884","884"]
["201806240936 60720",null,null,null,null,null,null,null,null,null,"885",null,null,null,null,null,null,"885","885"]
["201806240935 21473",null,null,null,null,null,null,null,null,null,"886",null,null,null,null,null,null,"886","886"]
["201806240934 70342",null,null,null,null,null,null,null,null,null,"887",null,null,null,null,null,null,"887","887"]
["201806240933 68217",null,null,null,null,null,null,null,null,null,"888",null,null,null,null,null,null,"888","888"]
["201806240932 44353",null,null,null,null,null,null,null,null,null,"889",null,null,null,null,null,null,"889","889"]
["201806240931 80314",null,null,null,null,null,null,null,null,null,"890",null,null,null,null,null,null,"890","890"]
["201806240930 36485",null,null,null,null,null,null,null,null,null,"891",null,null,null,null,null,null,"891","891"]
["201806240929 07470",null,null,null,null,null,null,null,null,null,"892",null,null,null,null,null,null,"892","892"]
["201806240928 17254",null,null,null,null,null,null,null,null,null,"893",null,null,null,null,null,null,"893","893"]
["201806240927 50992",null,null,null,null,null,null,null,null,null,"894",null,null,null,null,null,null,"894","894"]
["201806240926 91650",null,null,null,null,null,null,null,null,null,"895",null,null,null,null,null,null,"895","895"]
["201806240925 48908",null,null,null,null,null,null,null,null,null,"896",null,null,null,null,null,null,"896","896"]
["201806240924 66942",null,null,null,null,null,null,null,null,null,"897",null,null,null,null,null,null,{"$f":"IF(R$213=\"胆码\",MID($K1198,1,1)&MID($K1198,2,1)&MID($K1198,3,1),IF(R$213=\"任合\",RIGHT(MID($K1198,1,1)+MID($K1198,2,1))&RIGHT(MID($K1198,1,1)+MID($K1198,3,1))&RIGHT(MID($K1198,2,1)+MID($K1198,3,1)),IF(R$213=\"任差\",RIGHT(MID($K1198,1,1)-MID($K1198,2,1))&RIGHT(MID($K1198,1,1)-MID($K1198,3,1))&RIGHT(MID($K1198,2,1)-MID($K1198,3,1)),IF(R$213=\"任积\",RIGHT(MID($K1198,1,1)*MID($K1198,2,1))&RIGHT(MID($K1198,1,1)*MID($K1198,3,1))&RIGHT(MID($K1198,2,1)*MID($K1198,3,1)),IF(R$213=\"位合\",RIGHT(MID($K1198,1,1)+MID($K$300,1,1))&RIGHT(MID($K1198,2,1)+MID($K$300,2,1))&RIGHT(MID($K1198,3,1)+MID($K$300,3,1)),IF(R$213=\"位差\",RIGHT(MID($K1198,1,1)-MID($K$300,1,1))&RIGHT(MID($K1198,2,1)-MID($K$300,2,1))&RIGHT(MID($K1198,3,1)-MID($K$300,3,1)),IF(R$213=\"位积\",RIGHT(MID($K1198,1,1)*MID($K$300,1,1))&RIGHT(MID($K1198,2,1)*MID($K$300,2,1))&RIGHT(MID($K1198,3,1)*MID($K$300,3,1)))))))))","v":"897"},{"$f":"R1198","v":"897"}]
["201806240923 06412",null,null,null,null,null,null,null,null,null,"898",null,null,null,null,null,null,"898","898"]
["201806240922 54220",null,null,null,null,null,null,null,null,null,"899",null,null,null,null,null,null,"899","899"]
["201806240921 32923",null,null,null,null,null,null,null,null,null,"900",null,null,null,null,null,null,"900","900"]
["201806240920 12650",null,null,null,null,null,null,null,null,null,"901",null,null,null,null,null,null,"901","901"]
["201806240919 33407",null,null,null,null,null,null,null,null,null,"902",null,null,null,null,null,null,"902","902"]
["201806240918 54939",null,null,null,null,null,null,null,null,null,"903",null,null,null,null,null,null,"903","903"]
["201806240917 67143",null,null,null,null,null,null,null,null,null,"904",null,null,null,null,null,null,"904","904"]
["201806240916 64631",null,null,null,null,null,null,null,null,null,"905",null,null,null,null,null,null,"905","905"]
["201806240915 91643",null,null,null,null,null,null,null,null,null,"906",null,null,null,null,null,null,"906","906"]
["201806240914 20646",null,null,null,null,null,null,null,null,null,"907",null,null,null,null,null,null,"907","907"]
["201806240913 87384",null,null,null,null,null,null,null,null,null,"908",null,null,null,null,null,null,"908","908"]
["201806240912 76618",null,null,null,null,null,null,null,null,null,"909",null,null,null,null,null,null,"909","909"]
["201806240911 54232",null,null,null,null,null,null,null,null,null,"910",null,null,null,null,null,null,"910","910"]
["201806240910 81465",null,null,null,null,null,null,null,null,null,"911",null,null,null,null,null,null,"911","911"]
["201806240909 26701",null,null,null,null,null,null,null,null,null,"912",null,null,null,null,null,null,"912","912"]
["201806240908 01466",null,null,null,null,null,null,null,null,null,"913",null,null,null,null,null,null,"913","913"]
["201806240907 00173",null,null,null,null,null,null,null,null,null,"914",null,null,null,null,null,null,"914","914"]
["201806240906 70036",null,null,null,null,null,null,null,null,null,"915",null,null,null,null,null,null,"915","915"]
["201806240905 32346",null,null,null,null,null,null,null,null,null,"916",null,null,null,null,null,null,"916","916"]
["201806240904 41102",null,null,null,null,null,null,null,null,null,"917",null,null,null,null,null,null,"917","917"]
["201806240903 20759",null,null,null,null,null,null,null,null,null,"918",null,null,null,null,null,null,"918","918"]
["201806240902 08407",null,null,null,null,null,null,null,null,null,"919",null,null,null,null,null,null,"919","919"]
["201806240901 32512",null,null,null,null,null,null,null,null,null,"920",null,null,null,null,null,null,"920","920"]
["201806240900 83461",null,null,null,null,null,null,null,null,null,"921",null,null,null,null,null,null,"921","921"]
["201806240899 02472",null,null,null,null,null,null,null,null,null,"922",null,null,null,null,null,null,"922","922"]
["201806240898 42277",null,null,null,null,null,null,null,null,null,"923",null,null,null,null,null,null,"923","923"]
["201806240897 50305",null,null,null,null,null,null,null,null,null,"924",null,null,null,null,null,null,"924","924"]
["201806240896 67380",null,null,null,null,null,null,null,null,null,"925",null,null,null,null,null,null,"925","925"]
["201806240895 38678",null,null,null,null,null,null,null,null,null,"926",null,null,null,null,null,null,"926","926"]
["201806240894 41446",null,null,null,null,null,null,null,null,null,"927",null,null,null,null,null,null,"927","927"]
["201806240893 09450",null,null,null,null,null,null,null,null,null,"928",null,null,null,null,null,null,"928","928"]
["201806240892 71427",null,null,null,null,null,null,null,null,null,"929",null,null,null,null,null,null,"929","929"]
["201806240891 93319",null,null,null,null,null,null,null,null,null,"930",null,null,null,null,null,null,"930","930"]
["201806240890 94937",null,null,null,null,null,null,null,null,null,"931",null,null,null,null,null,null,"931","931"]
["201806240889 71052",null,null,null,null,null,null,null,null,null,"932",null,null,null,null,null,null,"932","932"]
["201806240888 43145",null,null,null,null,null,null,null,null,null,"933",null,null,null,null,null,null,"933","933"]
["201806240887 15886",null,null,null,null,null,null,null,null,null,"934",null,null,null,null,null,null,"934","934"]
["201806240886 37864",null,null,null,null,null,null,null,null,null,"935",null,null,null,null,null,null,"935","935"]
["201806240885 25005",null,null,null,null,null,null,null,null,null,"936",null,null,null,null,null,null,"936","936"]
["201806240884 06540",null,null,null,null,null,null,null,null,null,"937",null,null,null,null,null,null,"937","937"]
["201806240883 85997",null,null,null,null,null,null,null,null,null,"938",null,null,null,null,null,null,"938","938"]
["201806240882 13504",null,null,null,null,null,null,null,null,null,"939",null,null,null,null,null,null,"939","939"]
["201806240881 88974",null,null,null,null,null,null,null,null,null,"940",null,null,null,null,null,null,"940","940"]
["201806240880 62236",null,null,null,null,null,null,null,null,null,"941",null,null,null,null,null,null,"941","941"]
["201806240879 75971",null,null,null,null,null,null,null,null,null,"942",null,null,null,null,null,null,"942","942"]
["201806240878 97584",null,null,null,null,null,null,null,null,null,"943",null,null,null,null,null,null,"943","943"]
["201806240877 83901",null,null,null,null,null,null,null,null,null,"944",null,null,null,null,null,null,"944","944"]
["201806240876 86754",null,null,null,null,null,null,null,null,null,"945",null,null,null,null,null,null,"945","945"]
["201806240875 25357",null,null,null,null,null,null,null,null,null,"946",null,null,null,null,null,null,"946","946"]
["201806240874 89905",null,null,null,null,null,null,null,null,null,"947",null,null,null,null,null,null,"947","947"]
["201806240873 85353",null,null,null,null,null,null,null,null,null,"948",null,null,null,null,null,null,"948","948"]
["201806240872 98024",null,null,null,null,null,null,null,null,null,"949",null,null,null,null,null,null,"949","949"]
["201806240871 95202",null,null,null,null,null,null,null,null,null,"950",null,null,null,null,null,null,"950","950"]
["201806240870 02707",null,null,null,null,null,null,null,null,null,"951",null,null,null,null,null,null,"951","951"]
["201806240869 37647",null,null,null,null,null,null,null,null,null,"952",null,null,null,null,null,null,"952","952"]
["201806240868 56618",null,null,null,null,null,null,null,null,null,"953",null,null,null,null,null,null,"953","953"]
["201806240867 64228",null,null,null,null,null,null,null,null,null,"954",null,null,null,null,null,null,"954","954"]
["201806240866 99944",null,null,null,null,null,null,null,null,null,"955",null,null,null,null,null,null,"955","955"]
["201806240865 08765",null,null,null,null,null,null,null,null,null,"956",null,null,null,null,null,null,"956","956"]
["201806240864 09426",null,null,null,null,null,null,null,null,null,"957",null,null,null,null,null,null,"957","957"]
["201806240863 56777",null,null,null,null,null,null,null,null,null,"958",null,null,null,null,null,null,"958","958"]
["201806240862 80736",null,null,null,null,null,null,null,null,null,"959",null,null,null,null,null,null,"959","959"]
["201806240861 23643",null,null,null,null,null,null,null,null,null,"960",null,null,null,null,null,null,"960","960"]
["201806240860 61562",null,null,null,null,null,null,null,null,null,"961",null,null,null,null,null,null,{"$f":"IF(R$213=\"胆码\",MID($K1262,1,1)&MID($K1262,2,1)&MID($K1262,3,1),IF(R$213=\"任合\",RIGHT(MID($K1262,1,1)+MID($K1262,2,1))&RIGHT(MID($K1262,1,1)+MID($K1262,3,1))&RIGHT(MID($K1262,2,1)+MID($K1262,3,1)),IF(R$213=\"任差\",RIGHT(MID($K1262,1,1)-MID($K1262,2,1))&RIGHT(MID($K1262,1,1)-MID($K1262,3,1))&RIGHT(MID($K1262,2,1)-MID($K1262,3,1)),IF(R$213=\"任积\",RIGHT(MID($K1262,1,1)*MID($K1262,2,1))&RIGHT(MID($K1262,1,1)*MID($K1262,3,1))&RIGHT(MID($K1262,2,1)*MID($K1262,3,1)),IF(R$213=\"位合\",RIGHT(MID($K1262,1,1)+MID($K$300,1,1))&RIGHT(MID($K1262,2,1)+MID($K$300,2,1))&RIGHT(MID($K1262,3,1)+MID($K$300,3,1)),IF(R$213=\"位差\",RIGHT(MID($K1262,1,1)-MID($K$300,1,1))&RIGHT(MID($K1262,2,1)-MID($K$300,2,1))&RIGHT(MID($K1262,3,1)-MID($K$300,3,1)),IF(R$213=\"位积\",RIGHT(MID($K1262,1,1)*MID($K$300,1,1))&RIGHT(MID($K1262,2,1)*MID($K$300,2,1))&RIGHT(MID($K1262,3,1)*MID($K$300,3,1)))))))))","v":"961"},{"$f":"R1262","v":"961"}]
["201806240859 73287",null,null,null,null,null,null,null,null,null,"962",null,null,null,null,null,null,"962","962"]
["201806240858 81168",null,null,null,null,null,null,null,null,null,"963",null,null,null,null,null,null,"963","963"]
["201806240857 09160",null,null,null,null,null,null,null,null,null,"964",null,null,null,null,null,null,"964","964"]
["201806240856 91279",null,null,null,null,null,null,null,null,null,"965",null,null,null,null,null,null,"965","965"]
["201806240855 66943",null,null,null,null,null,null,null,null,null,"966",null,null,null,null,null,null,"966","966"]
["201806240854 74682",null,null,null,null,null,null,null,null,null,"967",null,null,null,null,null,null,"967","967"]
["201806240853 05354",null,null,null,null,null,null,null,null,null,"968",null,null,null,null,null,null,"968","968"]
["201806240852 32771",null,null,null,null,null,null,null,null,null,"969",null,null,null,null,null,null,"969","969"]
["201806240851 38004",null,null,null,null,null,null,null,null,null,"970",null,null,null,null,null,null,"970","970"]
["201806240850 69912",null,null,null,null,null,null,null,null,null,"971",null,null,null,null,null,null,"971","971"]
["201806240849 21976",null,null,null,null,null,null,null,null,null,"972",null,null,null,null,null,null,"972","972"]
["201806240848 07121",null,null,null,null,null,null,null,null,null,"973",null,null,null,null,null,null,"973","973"]
["201806240847 67514",null,null,null,null,null,null,null,null,null,"974",null,null,null,null,null,null,"974","974"]
["201806240846 89999",null,null,null,null,null,null,null,null,null,"975",null,null,null,null,null,null,"975","975"]
["201806240845 01336",null,null,null,null,null,null,null,null,null,"976",null,null,null,null,null,null,"976","976"]
["201806240844 38000",null,null,null,null,null,null,null,null,null,"977",null,null,null,null,null,null,"977","977"]
["201806240843 64821",null,null,null,null,null,null,null,null,null,"978",null,null,null,null,null,null,"978","978"]
["201806240842 26876",null,null,null,null,null,null,null,null,null,"979",null,null,null,null,null,null,"979","979"]
["201806240841 84969",null,null,null,null,null,null,null,null,null,"980",null,null,null,null,null,null,"980","980"]
["201806240840 77656",null,null,null,null,null,null,null,null,null,"981",null,null,null,null,null,null,"981","981"]
["201806240839 79241",null,null,null,null,null,null,null,null,null,"982",null,null,null,null,null,null,"982","982"]
["201806240838 66922",null,null,null,null,null,null,null,null,null,"983",null,null,null,null,null,null,"983","983"]
["201806240837 02353",null,null,null,null,null,null,null,null,null,"984",null,null,null,null,null,null,"984","984"]
["201806240836 37203",null,null,null,null,null,null,null,null,null,"985",null,null,null,null,null,null,"985","985"]
["201806240835 59366",null,null,null,null,null,null,null,null,null,"986",null,null,null,null,null,null,"986","986"]
["201806240834 21833",null,null,null,null,null,null,null,null,null,"987",null,null,null,null,null,null,"987","987"]
["201806240833 77391",null,null,null,null,null,null,null,null,null,"988",null,null,null,null,null,null,"988","988"]
["201806240832 44053",null,null,null,null,null,null,null,null,null,"989",null,null,null,null,null,null,"989","989"]
["201806240831 53365",null,null,null,null,null,null,null,null,null,"990",null,null,null,null,null,null,"990","990"]
["201806240830 46634",null,null,null,null,null,null,null,null,null,"991",null,null,null,null,null,null,"991","991"]
["201806240829 46429",null,null,null,null,null,null,null,null,null,"992",null,null,null,null,null,null,"992","992"]
["201806240828 54967",null,null,null,null,null,null,null,null,null,"993",null,null,null,null,null,null,"993","993"]
["201806240827 82125",null,null,null,null,null,null,null,null,null,"994",null,null,null,null,null,null,"994","994"]
["201806240826 17425",null,null,null,null,null,null,null,null,null,"995",null,null,null,null,null,null,"995","995"]
["201806240825 28058",null,null,null,null,null,null,null,null,null,"996",null,null,null,null,null,null,"996","996"]
["201806240824 74103",null,null,null,null,null,null,null,null,null,"997",null,null,null,null,null,null,"997","997"]
["201806240823 68175",null,null,null,null,null,null,null,null,null,"998",null,null,null,null,null,null,"998","998"]
["201806240822 26220",null,null,null,null,null,null,null,null,null,"999",null,null,null,null,null,null,"999","999"]
["201806240821 88617"]
["201806240820 44909"]
["201806240819 45418"]
["201806240818 57684"]
["201806240817 24312"]
["201806240816 78068"]
["201806240815 94887"]
["201806240814 71694"]
["201806240813 03726"]
["201806240812 64142"]
["201806240811 78318"]
["201806240810 97668"]
["201806240809 02813"]
["201806240808 01388"]
["201806240807 76395"]
["201806240806 05224"]
["201806240805 48518"]
["201806240804 91509"]
["201806240803 91509"]
["201806240802 37174"]
["201806240801 74439"]
["201806240800 77226"]
["201806240799 42468"]
["201806240798 90245"]
["201806240797 88145"]
["201806240796 09440"]
["201806240795 37125"]
["201806240794 37041"]
["201806240793 82001"]
["201806240792 54483"]
["201806240791 31689"]
["201806240790 03756"]
["201806240789 97210"]
["201806240788 48126"]
["201806240787 75510"]
["201806240786 98743"]
["201806240785 49699"]
["201806240784 26651"]
["201806240783 71433"]
["201806240782 24183"]
["201806240781 28738"]
["201806240780 38511"]
["201806240779 14591"]
["201806240778 95640"]
["201806240777 37164"]
["201806240776 63584"]
["201806240775 70199"]
["201806240774 28681"]
["201806240773 40335"]
["201806240772 49021"]
["201806240771 38851"]
["201806240770 50798"]
["201806240769 34855"]
["201806240768 00116"]
["201806240767 02673"]
["201806240766 43108"]
["201806240765 57124"]
["201806240764 24403"]
["201806240763 77966"]
["201806240762 76211"]
["201806240761 14139"]
["201806240760 75066"]
["201806240759 81757"]
["201806240758 64565"]
["201806240757 02106"]
["201806240756 44764"]
["201806240755 24174"]
["201806240754 55983"]
["201806240753 40290"]
["201806240752 29330"]
["201806240751 84780"]
["201806240750 01782"]
["201806240749 76294"]
["201806240748 54164"]
["201806240747 55467"]
["201806240746 22218"]
["201806240745 76116"]
["201806240744 82905"]
["201806240743 17610"]
["201806240742 58962"]
["201806240741 63777"]
["201806240740 43675"]
["201806240739 65797"]
["201806240738 97734"]
["201806240737 21206"]
["201806240736 08091"]
["201806240735 94198"]
["201806240734 92414"]
["201806240733 64310"]
["201806240732 11284"]
["201806240731 13256"]
["201806240730 96433"]
["201806240729 58171"]
["201806240728 95953"]
["201806240727 52333"]
["201806240726 58860"]
["201806240725 40151"]
["201806240724 98031"]
["201806240723 74328"]
["201806240722 38115"]
["201806240721 88778"]
["201806240720 98543"]
["201806240719 95301"]
["201806240718 39393"]
["201806240717 97104"]
["201806240716 03213"]
["201806240715 59989"]
["201806240714 32798"]
["201806240713 61962"]
["201806240712 79992"]
["201806240711 80335"]
["201806240710 10803"]
["201806240709 43727"]
["201806240708 10642"]
["201806240707 45623"]
["201806240706 36637"]
["201806240705 35739"]
["201806240704 37384"]
["201806240703 55892"]
["201806240702 91239"]
["201806240701 33859"]
["201806240700 67417"]
["201806240699 31090"]
["201806240698 78563"]
["201806240697 51112"]
["201806240696 62688"]
["201806240695 15683"]
["201806240694 86576"]
["201806240693 46366"]
["201806240692 16345"]
["201806240691 78017"]
["201806240690 20866"]
["201806240689 17010"]
["201806240688 30411"]
["201806240687 04447"]
["201806240686 40694"]
["201806240685 83997"]
["201806240684 53303"]
["201806240683 87757"]
["201806240682 32954"]
["201806240681 02595"]
["201806240680 23460"]
["201806240679 95701"]
["201806240678 06128"]
["201806240677 42565"]
["201806240676 43458"]
["201806240675 40142"]
["201806240674 03735"]
["201806240673 33965"]
["201806240672 38521"]
["201806240671 70545"]
["201806240670 81231"]
["201806240669 76222"]
["201806240668 36916"]
["201806240667 86341"]
["201806240666 39976"]
["201806240665 01303"]
["201806240664 94553"]
["201806240663 34162"]
["201806240662 80540"]
["201806240661 05107"]
["201806240660 27182"]
["201806240659 10369"]
["201806240658 33829"]
["201806240657 20678"]
["201806240656 33202"]
["201806240655 25476"]
["201806240654 99092"]
["201806240653 22596"]
["201806240652 14849"]
["201806240651 91728"]
["201806240650 60836"]
["201806240649 18052"]
["201806240648 20194"]
["201806240647 68139"]
["201806240646 42600"]
["201806240645 73948"]
["201806240644 18345"]
["201806240643 62329"]
["201806240642 19663"]
["201806240641 27722"]
["201806240640 55601"]
["201806240639 30201"]
["201806240638 67799"]
["201806240637 82670"]
["201806240636 60169"]
["201806240635 35486"]
["201806240634 53870"]
["201806240633 57290"]
["201806240632 52414"]
["201806240631 54965"]
["201806240630 63708"]
["201806240629 31651"]
["201806240628 17763"]
["201806240627 35294"]
["201806240626 29089"]
["201806240625 60958"]
["201806240624 23669"]
["201806240623 02669"]
["201806240622 18497"]
["201806240621 66504"]
["201806240620 20359"]
["201806240619 07881"]
["201806240618 25400"]
["201806240617 92740"]
["201806240616 58129"]
["201806240615 25704"]
["201806240614 01232"]
["201806240613 87381"]
["201806240612 57288"]
["201806240611 08464"]
["201806240610 36495"]
["201806240609 28272"]
["201806240608 16102"]
["201806240607 72421"]
["201806240606 46385"]
["201806240605 56182"]
["201806240604 03190"]
["201806240603 43340"]
["201806240602 77290"]
["201806240601 65757"]
["201806240600 00632"]
["201806240599 61909"]
["201806240598 27793"]
["201806240597 42878"]
["201806240596 60111"]
["201806240595 76530"]
["201806240594 43269"]
["201806240593 44080"]
["201806240592 19058"]
["201806240591 34405"]
["201806240590 15953"]
["201806240589 89530"]
["201806240588 92008"]
["201806240587 89944"]
["201806240586 76083"]
["201806240585 40478"]
["201806240584 25235"]
["201806240583 81583"]
["201806240582 70228"]
["201806240581 78337"]
["201806240580 32476"]
["201806240579 58617"]
["201806240578 92010"]
["201806240577 11588"]
["201806240576 12903"]
["201806240575 01273"]
["201806240574 11493"]
["201806240573 78416"]
["201806240572 87567"]
["201806240571 62105"]
["201806240570 62105"]
["201806240569 28641"]
["201806240568 41468"]
["201806240567 00126"]
["201806240566 62977"]
["201806240565 98622"]
["201806240564 96538"]
["201806240563 42141"]
["201806240562 24237"]
["201806240561 86888"]
["201806240560 48493"]
["201806240559 80664"]
["201806240558 44912"]
["201806240557 86968"]
["201806240556 73815"]
["201806240555 16169"]
["201806240554 62147"]
["201806240553 28736"]
["201806240552 82946"]
["201806240551 73227"]
["201806240550 80187"]
["201806240549 48034"]
["201806240548 03190"]
["201806240547 68556"]
["201806240546 68556"]
["201806240545 29853"]
["201806240544 15882"]
["201806240543 70671"]
["201806240542 51743"]
["201806240541 50404"]
["201806240540 80662"]
["201806240539 93837"]
["201806240538 78011"]
["201806240537 39913"]
["201806240536 98028"]
["201806240535 83693"]
["201806240534 50329"]
["201806240533 63742"]
["201806240532 86939"]
["201806240531 52641"]
["201806240530 05945"]
["201806240529 43988"]
["201806240528 35087"]
["201806240527 35087"]
["201806240526 83614"]
["201806240525 13408"]
["201806240524 13408"]
["201806240523 09873"]
["201806240522 47236"]
["201806240521 95255"]
["201806240520 19327"]
["201806240519 56333"]
["201806240518 40236"]
["201806240517 43091"]
["201806240516 05512"]
["201806240515 31565"]
["201806240514 18653"]
["201806240513 52700"]
["201806240512 96265"]
["201806240511 23705"]
["201806240510 72506"]
["201806240509 35016"]
["201806240508 79624"]
["201806240507 65458"]
["201806240506 23821"]
["201806240505 99766"]
["201806240504 54361"]
["201806240503 17648"]
["201806240502 43784"]
["201806240501 03353"]
["201806240500 18722"]
["201806240499 78674"]
["201806240498 28578"]
["201806240497 53233"]
["201806240496 79656"]
["201806240495 08116"]
["201806240494 73090"]
["201806240493 97644"]
["201806240492 52674"]
["201806240491 87493"]
["201806240490 92716"]
["201806240489 42201"]
["201806240488 13800"]
["201806240487 01733"]
["201806240486 56100"]
["201806240485 08157"]
["201806240484 07286"]
["201806240483 46178"]
["201806240482 94866"]
["201806240481 55112"]
["201806240480 16106"]
["201806240479 49347"]
["201806240478 51037"]
["201806240477 45632"]
["201806240476 50086"]
["201806240475 90365"]
["201806240474 94262"]
["201806240473 83737"]
["201806240472 13351"]
["201806240471 99556"]
["201806240470 42228"]
["201806240469 81154"]
["201806240468 17502"]
["201806240467 99999"]
["201806240466 31891"]
["201806240465 16634"]
["201806240464 52989"]
["201806240463 67319"]
["201806240462 50513"]
["201806240461 98774"]
["201806240460 81949"]
["201806240459 03820"]
["201806240458 90620"]
["201806240457 55883"]
["201806240456 79560"]
["201806240455 17225"]
["201806240454 22936"]
["201806240453 37950"]
["201806240452 25080"]
["201806240451 40335"]
["201806240450 24692"]
["201806240449 08487"]
["201806240448 20122"]
["201806240447 58931"]
["201806240446 77621"]
["201806240445 19106"]
["201806240444 76720"]
["201806240443 21998"]
["201806240442 44273"]
["201806240441 57847"]
["201806240440 93469"]
["201806240439 26659"]
["201806240438 22544"]
["201806240437 29506"]
["201806240436 80163"]
["201806240435 55035"]
["201806240434 32666"]
["201806240433 54800"]
["201806240432 67481"]
["201806240431 02916"]
["201806240430 07775"]
["201806240429 73262"]
["201806240428 88887"]
["201806240427 54886"]
["201806240426 29889"]
["201806240425 46484"]
["201806240424 04234"]
["201806240423 50591"]
["201806240422 96951"]
["201806240421 49540"]
["201806240420 63722"]
["201806240419 20408"]
["201806240418 45841"]
["201806240417 80531"]
["201806240416 36041"]
["201806240415 07528"]
["201806240414 27355"]
["201806240413 04077"]
["201806240412 34158"]
["201806240411 21891"]
["201806240410 94185"]
["201806240409 13863"]
["201806240408 64177"]
["201806240407 18234"]
["201806240406 77505"]
["201806240405 66246"]
["201806240404 36838"]
["201806240403 55641"]
["201806240402 23643"]
["201806240401 54052"]
["201806240400 33737"]
["201806240399 72262"]
["201806240398 90267"]
["201806240397 82342"]
["201806240396 74164"]
["201806240395 39367"]
["201806240394 45525"]
["201806240393 77574"]
["201806240392 71025"]
["201806240391 72251"]
["201806240390 93292"]
["201806240389 23188"]
["201806240388 05486"]
["201806240387 54451"]
["201806240386 73490"]
["201806240385 79856"]
["201806240384 96520"]
["201806240383 25305"]
["201806240382 29940"]
["201806240381 81041"]
["201806240380 78999"]
["201806240379 41583"]
["201806240378 45207"]
["201806240377 78980"]
["201806240376 91329"]
["201806240375 93370"]
["201806240374 77402"]
["201806240373 58270"]
["201806240372 64486"]
["201806240371 12845"]
["201806240370 54599"]
["201806240369 45767"]
["201806240368 82675"]
["201806240367 61780"]
["201806240366 82148"]
["201806240365 39326"]
["201806240364 18986"]
["201806240363 09869"]
["201806240362 96589"]
["201806240361 33594"]
["201806240360 19062"]
["201806240359 54080"]
["201806240358 94637"]
["201806240357 49374"]
["201806240356 45981"]
["201806240355 85393"]
["201806240354 38042"]
["201806240353 32011"]
["201806240352 65769"]
["201806240351 66435"]
["201806240350 62460"]
["201806240349 81802"]
["201806240348 07435"]
["201806240347 96872"]
["201806240346 35772"]
["201806240345 97518"]
["201806240344 22688"]
["201806240343 27221"]
["201806240342 03966"]
["201806240341 95844"]
["201806240340 00359"]
["201806240339 74578"]
["201806240338 96275"]
["201806240337 62450"]
["201806240336 32063"]
["201806240335 23693"]
["201806240334 53221"]
["201806240333 40882"]
["201806240332 57578"]
["201806240331 62835"]
["201806240330 03060"]
["201806240329 22079"]
["201806240328 13457"]
["201806240327 53767"]
["201806240326 51210"]
["201806240325 33401"]
["201806240324 96169"]
["201806240323 24702"]
["201806240322 94166"]
["201806240321 81595"]
["201806240320 19010"]
["201806240319 03468"]
["201806240318 52894"]
["201806240317 42086"]
["201806240316 07841"]
["201806240315 69614"]
["201806240314 26210"]
["201806240313 52689"]
["201806240312 34275"]
["201806240311 40834"]
["201806240310 51678"]
["201806240309 46857"]
["201806240308 57231"]
["201806240307 29165"]
["201806240306 45864"]
["201806240305 67455"]
["201806240304 13728"]
["201806240303 54049"]
["201806240302 33970"]
["201806240301 56352"]
["201806240300 02147"]
["201806240299 04797"]
["201806240298 25819"]
["201806240297 21449"]
["201806240296 06050"]
["201806240295 88733"]
["201806240294 45254"]
["201806240293 37332"]
["201806240292 10752"]
["201806240291 92543"]
["201806240290 58049"]
["201806240289 83794"]
["201806240288 55546"]
["201806240287 49612"]
["201806240286 41176"]
["201806240285 57120"]
["201806240284 22764"]
["201806240283 13597"]
["201806240282 26269"]
["201806240281 02575"]
["201806240280 08305"]
["201806240279 27327"]
["201806240278 23181"]
["201806240277 56010"]
["201806240276 17732"]
["201806240275 18092"]
["201806240274 38000"]
["201806240273 50557"]
["201806240272 10264"]
["201806240271 64039"]
["201806240270 58365"]
["201806240269 58629"]
["201806240268 12112"]
["201806240267 45342"]
["201806240266 66346"]
["201806240265 38055"]
["201806240264 36479"]
["201806240263 80055"]
["201806240262 29911"]
["201806240261 37279"]
["201806240260 92744"]
["201806240259 86217"]
["201806240258 73045"]
["201806240257 12578"]
["201806240256 95093"]
["201806240255 05746"]
["201806240254 16436"]
["201806240253 53456"]
["201806240252 44668"]
["201806240251 73613"]
["201806240250 65156"]
["201806240249 80106"]
["201806240248 92892"]
["201806240247 98674"]
["201806240246 31487"]
["201806240245 16164"]
["201806240244 18366"]
["201806240243 69116"]
["201806240242 44748"]
["201806240241 77990"]
["201806240240 99040"]
["201806240239 85029"]
["201806240238 02985"]
["201806240237 16230"]
["201806240236 29108"]
["201806240235 53479"]
["201806240234 40732"]
["201806240233 96447"]
["201806240232 86206"]
["201806240231 50134"]
["201806240230 64090"]
["201806240229 83747"]
["201806240228 64926"]
["201806240227 59486"]
["201806240226 68067"]
["201806240225 05735"]
["201806240224 54662"]
["201806240223 03240"]
["201806240222 04622"]
["201806240221 73842"]
["201806240220 35337"]

{"sheet":"360重庆","index":1,"n_rows":1006,"n_cols":11,"rows_kept":1006,"cut":false,"hidden":true,"merged":[]}
[]
[]
[]
[]
["180618-104","4","6","6","7","6",{"$f":"\"20\"&SUBSTITUTE(A5,\"-\",\"\")+0","v":"20180618104"},{"$f":"B5&C5&D5&E5&F5","v":"46676"},{"$f":"ROW()-$I$1006-1","v":4},{"$f":"OFFSET(G$1,$I5,)","v":"20180618104"},{"$f":"OFFSET(H$1,$I5,)","v":"46676"}]
["180618-105","6","1","9","0","6","20180618105",{"$f":"B6&C6&D6&E6&F6","v":"61906"},5,"20180618105","61906"]
["180618-106","7","8","6","3","4","20180618106","78634",6,"20180618106","78634"]
["180618-107","1","1","7","1","7","20180618107","11717",7,"20180618107","11717"]
["180618-108","6","5","7","8","6","20180618108","65786",8,"20180618108","65786"]
["180618-109","2","3","2","2","0","20180618109","23220",9,"20180618109","23220"]
["180618-110","0","8","6","8","9","20180618110","08689",10,"20180618110","08689"]
["180618-111","4","2","1","5","3","20180618111","42153",11,"20180618111","42153"]
["180618-112","7","8","1","4","5","20180618112","78145",12,"20180618112","78145"]
["180618-113","8","8","8","6","5","20180618113","88865",13,"20180618113","88865"]
["180618-114","4","0","0","8","2","20180618114","40082",14,"20180618114","40082"]
["180618-115","4","8","9","1","0","20180618115","48910",15,"20180618115","48910"]
["180618-116","3","7","1","4","1","20180618116","37141",16,"20180618116","37141"]
["180618-117","4","5","1","5","1","20180618117","45151",17,"20180618117","45151"]
["180618-118","0","6","3","8","9","20180618118","06389",18,"20180618118","06389"]
["180618-119","2","3","8","6","4","20180618119","23864",19,"20180618119","23864"]
["180618-120","2","9","3","6","3","20180618120","29363",20,"20180618120","29363"]
["180619-001","9","0","2","9","4","20180619001","90294",21,"20180619001","90294"]
["180619-002","8","9","9","0","4","20180619002","89904",22,"20180619002","89904"]
["180619-003","6","0","9","4","8","20180619003","60948",23,"20180619003","60948"]
["180619-004","9","4","3","0","4","20180619004","94304",24,"20180619004","94304"]
["180619-005","4","8","1","5","1","20180619005","48151",25,"20180619005","48151"]
["180619-006","0","2","7","7","6","20180619006","02776",26,"20180619006","02776"]
["180619-007","6","8","8","0","5","20180619007","68805",27,"20180619007","68805"]
["180619-008","0","0","2","6","3","20180619008","00263",28,"20180619008","00263"]
["180619-009","7","3","4","6","4","20180619009","73464",29,"20180619009","73464"]
["180619-010","5","6","1","8","8","20180619010","56188",30,"20180619010","56188"]
["180619-011","3","3","2","0","9","20180619011","33209",31,"20180619011","33209"]
["180619-012","2","6","5","1","3","20180619012","26513",32,"20180619012","26513"]
["180619-013","0","5","8","2","5","20180619013","05825",33,"20180619013","05825"]
["180619-014","0","9","9","1","6","20180619014","09916",34,"20180619014","09916"]
["180619-015","5","3","6","2","7","20180619015","53627",35,"20180619015","53627"]
["180619-016","3","0","8","6","8","20180619016","30868",36,"20180619016","30868"]
["180619-017","3","7","9","3","6","20180619017","37936",37,"20180619017","37936"]
["180619-018","7","4","4","7","2","20180619018","74472",38,"20180619018","74472"]
["180619-019","1","6","8","2","3","20180619019","16823",39,"20180619019","16823"]
["180619-020","2","5","6","1","2","20180619020","25612",40,"20180619020","25612"]
["180619-021","9","0","4","3","8","20180619021","90438",41,"20180619021","90438"]
["180619-022","0","1","7","0","1","20180619022","01701",42,"20180619022","01701"]
["180619-023","1","8","5","6","1","20180619023","18561",43,"20180619023","18561"]
["180619-024","5","5","7","1","0","20180619024","55710",44,"20180619024","55710"]
["180619-025","1","4","2","9","7","20180619025","14297",45,"20180619025","14297"]
["180619-026","9","2","9","1","1","20180619026","92911",46,"20180619026","92911"]
["180619-027","7","3","5","9","6","20180619027","73596",47,"20180619027","73596"]
["180619-028","8","8","7","8","3","20180619028","88783",48,"20180619028","88783"]
["180619-029","1","6","8","6","9","20180619029","16869",49,"20180619029","16869"]
["180619-030","3","3","3","4","1","20180619030","33341",50,"20180619030","33341"]
["180619-031","1","0","1","9","4","20180619031","10194",51,"20180619031","10194"]
["180619-032","1","3","6","4","5","20180619032","13645",52,"20180619032","13645"]
["180619-033","1","9","4","9","3","20180619033","19493",53,"20180619033","19493"]
["180619-034","4","7","1","6","3","20180619034","47163",54,"20180619034","47163"]
["180619-035","2","8","9","1","2","20180619035","28912",55,"20180619035","28912"]
["180619-036","8","1","7","7","0","20180619036","81770",56,"20180619036","81770"]
["180619-037","7","7","2","8","9","20180619037","77289",57,"20180619037","77289"]
["180619-038","7","3","7","4","5","20180619038","73745",58,"20180619038","73745"]
["180619-039","0","8","4","5","7","20180619039","08457",59,"20180619039","08457"]
["180619-040","6","0","7","0","5","20180619040","60705",60,"20180619040","60705"]
["180619-041","9","9","2","7","9","20180619041","99279",61,"20180619041","99279"]
["180619-042","6","5","4","9","5","20180619042","65495",62,"20180619042","65495"]
["180619-043","1","5","2","6","5","20180619043","15265",63,"20180619043","15265"]
["180619-044","2","4","3","5","5","20180619044","24355",64,"20180619044","24355"]
["180619-045","9","9","8","5","9","20180619045","99859",65,"20180619045","99859"]
["180619-046","8","3","7","2","0","20180619046","83720",66,"20180619046","83720"]
["180619-047","7","7","6","7","2","20180619047","77672",67,"20180619047","77672"]
["180619-048","8","4","1","3","1",{"$f":"\"20\"&SUBSTITUTE(A69,\"-\",\"\")+0","v":"20180619048"},"84131",{"$f":"ROW()-$I$1006-1","v":68},{"$f":"OFFSET(G$1,$I69,)","v":"20180619048"},{"$f":"OFFSET(H$1,$I69,)","v":"84131"}]
["180619-049","9","3","2","1","7","20180619049",{"$f":"B70&C70&D70&E70&F70","v":"93217"},69,"20180619049","93217"]
["180619-050","0","4","0","2","2","20180619050","04022",70,"20180619050","04022"]
["180619-051","3","0","4","9","7","20180619051","30497",71,"20180619051","30497"]
["180619-052","8","4","2","1","6","20180619052","84216",72,"20180619052","84216"]
["180619-053","8","2","8","4","2","20180619053","82842",73,"20180619053","82842"]
["180619-054","1","0","6","2","6","20180619054","10626",74,"20180619054","10626"]
["180619-055","7","7","0","4","9","20180619055","77049",75,"20180619055","77049"]
["180619-056","3","4","6","5","2","20180619056","34652",76,"20180619056","34652"]
["180619-057","4","7","9","9","5","20180619057","47995",77,"20180619057","47995"]
["180619-058","6","7","6","0","4","20180619058","67604",78,"20180619058","67604"]
["180619-059","8","5","3","7","1","20180619059","85371",79,"20180619059","85371"]
["180619-060","6","3","6","0","3","20180619060","63603",80,"20180619060","63603"]
["180619-061","1","1","2","8","6","20180619061","11286",81,"20180619061","11286"]
["180619-062","2","3","5","9","6","20180619062","23596",82,"20180619062","23596"]
["180619-063","4","8","3","3","4","20180619063","48334",83,"20180619063","48334"]
["180619-064","6","3","5","9","4","20180619064","63594",84,"20180619064","63594"]
["180619-065","1","3","6","7","1","20180619065","13671",85,"20180619065","13671"]
["180619-066","2","5","4","1","5","20180619066","25415",86,"20180619066","25415"]
["180619-067","8","1","6","6","9","20180619067","81669",87,"20180619067","81669"]
["180619-068","4","1","8","0","0","20180619068","41800",88,"20180619068","41800"]
["180619-069","3","6","8","0","8","20180619069","36808",89,"20180619069","36808"]
["180619-070","0","9","8","5","0","20180619070","09850",90,"20180619070","09850"]
["180619-071","1","6","0","1","6","20180619071","16016",91,"20180619071","16016"]
["180619-072","9","2","7","3","0","20180619072","92730",92,"20180619072","92730"]
["180619-073","5","0","8","1","3","20180619073","50813",93,"20180619073","50813"]
["180619-074","4","4","1","2","5","20180619074","44125",94,"20180619074","44125"]
["180619-075","3","3","4","5","6","20180619075","33456",95,"20180619075","33456"]
["180619-076","6","0","4","4","5","20180619076","60445",96,"20180619076","60445"]
["180619-077","7","5","2","9","6","20180619077","75296",97,"20180619077","75296"]
["180619-078","6","0","4","3","3","20180619078","60433",98,"20180619078","60433"]
["180619-079","4","2","7","7","5","20180619079","42775",99,"20180619079","42775"]
["180619-080","5","6","7","3","8","20180619080","56738",100,"20180619080","56738"]
["180619-081","9","0","8","1","6","20180619081","90816",101,"20180619081","90816"]
["180619-082","5","9","7","7","1","20180619082","59771",102,"20180619082","59771"]
["180619-083","2","0","0","0","1","20180619083","20001",103,"20180619083","20001"]
["180619-084","0","7","2","0","7","20180619084","07207",104,"20180619084","07207"]
["180619-085","5","6","9","4","4","20180619085","56944",105,"20180619085","56944"]
["180619-086","6","0","0","3","4","20180619086","60034",106,"20180619086","60034"]
["180619-087","5","6","5","0","0","20180619087","56500",107,"20180619087","56500"]
["180619-088","2","7","4","2","1","20180619088","27421",108,"20180619088","27421"]
["180619-089","6","0","1","2","8","20180619089","60128",109,"20180619089","60128"]
["180619-090","3","6","2","3","5","20180619090","36235",110,"20180619090","36235"]
["180619-091","0","6","5","3","5","20180619091","06535",111,"20180619091","06535"]
["180619-092","0","5","7","7","9","20180619092","05779",112,"20180619092","05779"]
["180619-093","1","2","1","1","8","20180619093","12118",113,"20180619093","12118"]
["180619-094","4","3","8","9","7","20180619094","43897",114,"20180619094","43897"]
["180619-095","6","6","9","3","3","20180619095","66933",115,"20180619095","66933"]
["180619-096","5","3","9","1","0","20180619096","53910",116,"20180619096","53910"]
["180619-097","0","7","3","5","4","20180619097","07354",117,"20180619097","07354"]
["180619-098","3","4","2","6","3","20180619098","34263",118,"20180619098","34263"]
["180619-099","7","8","9","7","9","20180619099","78979",119,"20180619099","78979"]
["180619-100","5","5","1","9","5","20180619100","55195",120,"20180619100","55195"]
["180619-101","3","6","5","3","0","20180619101","36530",121,"20180619101","36530"]
["180619-102","5","5","2","5","6","20180619102","55256",122,"20180619102","55256"]
["180619-103","2","0","1","6","5","20180619103","20165",123,"20180619103","20165"]
["180619-104","3","1","7","3","2","20180619104","31732",124,"20180619104","31732"]
["180619-105","6","7","7","0","2","20180619105","67702",125,"20180619105","67702"]
["180619-106","0","2","5","9","2","20180619106","02592",126,"20180619106","02592"]
["180619-107","2","5","8","6","8","20180619107","25868",127,"20180619107","25868"]
["180619-108","0","6","1","6","4","20180619108","06164",128,"20180619108","06164"]
["180619-109","6","3","9","7","1","20180619109","63971",129,"20180619109","63971"]
["180619-110","7","3","4","5","4","20180619110","73454",130,"20180619110","73454"]
["180619-111","3","6","8","2","5","20180619111","36825",131,"20180619111","36825"]
["180619-112","3","1","7","6","2",{"$f":"\"20\"&SUBSTITUTE(A133,\"-\",\"\")+0","v":"20180619112"},"31762",{"$f":"ROW()-$I$1006-1","v":132},{"$f":"OFFSET(G$1,$I133,)","v":"20180619112"},{"$f":"OFFSET(H$1,$I133,)","v":"31762"}]
["180619-113","6","7","8","3","9","20180619113",{"$f":"B134&C134&D134&E134&F134","v":"67839"},133,"20180619113","67839"]
["180619-114","1","8","7","7","3","20180619114","18773",134,"20180619114","18773"]
["180619-115","9","8","0","5","8","20180619115","98058",135,"20180619115","98058"]
["180619-116","1","2","6","0","7","20180619116","12607",136,"20180619116","12607"]
["180619-117","0","4","7","1","7","20180619117","04717",137,"20180619117","04717"]
["180619-118","8","1","9","9","6","20180619118","81996",138,"20180619118","81996"]
["180619-119","8","5","2","2","1","20180619119","85221",139,"20180619119","85221"]
["180619-120","6","8","8","7","8","20180619120","68878",140,"20180619120","68878"]
["180620-001","4","9","6","8","3","20180620001","49683",141,"20180620001","49683"]
["180620-002","4","8","4","5","8","20180620002","48458",142,"20180620002","48458"]
["180620-003","6","7","0","8","2","20180620003","67082",143,"20180620003","67082"]
["180620-004","4","9","6","7","6","20180620004","49676",144,"20180620004","49676"]
["180620-005","5","5","7","6","3","20180620005","55763",145,"20180620005","55763"]
["180620-006","8","3","0","7","6","20180620006","83076",146,"20180620006","83076"]
["180620-007","6","6","3","1","1","20180620007","66311",147,"20180620007","66311"]
["180620-008","1","7","4","0","9","20180620008","17409",148,"20180620008","17409"]
["180620-009","2","6","3","9","4","20180620009","26394",149,"20180620009","26394"]
["180620-010","4","0","9","3","6","20180620010","40936",150,"20180620010","40936"]
["180620-011","9","8","9","9","2","20180620011","98992",151,"20180620011","98992"]
["180620-012","3","4","3","8","0","20180620012","34380",152,"20180620012","34380"]
["180620-013","4","8","7","5","9","20180620013","48759",153,"20180620013","48759"]
["180620-014","4","9","1","2","6","20180620014","49126",154,"20180620014","49126"]
["180620-015","3","7","3","5","4","20180620015","37354",155,"20180620015","37354"]
["180620-016","8","5","5","7","3","20180620016","85573",156,"20180620016","85573"]
["180620-017","4","7","2","0","2","20180620017","47202",157,"20180620017","47202"]
["180620-018","6","5","4","1","0","20180620018","65410",158,"20180620018","65410"]
["180620-019","5","3","2","0","1","20180620019","53201",159,"20180620019","53201"]
["180620-020","6","5","5","0","5","20180620020","65505",160,"20180620020","65505"]
["180620-021","0","2","1","1","2","20180620021","02112",161,"20180620021","02112"]
["180620-022","3","0","0","1","8","20180620022","30018",162,"20180620022","30018"]
["180620-023","7","2","8","4","8","20180620023","72848",163,"20180620023","72848"]
["180620-024","7","3","9","7","8","20180620024","73978",164,"20180620024","73978"]
["180620-025","5","9","3","0","5","20180620025","59305",165,"20180620025","59305"]
["180620-026","4","6","8","1","3","20180620026","46813",166,"20180620026","46813"]
["180620-027","4","7","7","3","3","20180620027","47733",167,"20180620027","47733"]
["180620-028","9","0","8","1","5","20180620028","90815",168,"20180620028","90815"]
["180620-029","4","2","7","3","5","20180620029","42735",169,"20180620029","42735"]
["180620-030","4","9","6","8","8","20180620030","49688",170,"20180620030","49688"]
["180620-031","3","5","7","7","6","20180620031","35776",171,"20180620031","35776"]
["180620-032","2","0","1","1","7","20180620032","20117",172,"20180620032","20117"]
["180620-033","8","4","0","2","5","20180620033","84025",173,"20180620033","84025"]
["180620-034","4","6","2","6","3","20180620034","46263",174,"20180620034","46263"]
["180620-035","7","9","5","7","0","20180620035","79570",175,"20180620035","79570"]
["180620-036","4","6","5","5","9","20180620036","46559",176,"20180620036","46559"]
["180620-037","3","9","0","8","5","20180620037","39085",177,"20180620037","39085"]
["180620-038","3","9","7","8","0","20180620038","39780",178,"20180620038","39780"]
["180620-039","0","3","3","1","7","20180620039","03317",179,"20180620039","03317"]
["180620-040","0","0","0","3","5","20180620040","00035",180,"20180620040","00035"]
["180620-041","1","7","8","1","9","20180620041","17819",181,"20180620041","17819"]
["180620-042","4","9","0","7","9","20180620042","49079",182,"20180620042","49079"]
["180620-043","7","1","8","5","1","20180620043","71851",183,"20180620043","71851"]
["180620-044","8","2","9","9","9","20180620044","82999",184,"20180620044","82999"]
["180620-045","7","0","2","2","2","20180620045","70222",185,"20180620045","70222"]
["180620-046","9","5","1","0","6","20180620046","95106",186,"20180620046","95106"]
["180620-047","0","6","4","1","7","20180620047","06417",187,"20180620047","06417"]
["180620-048","4","4","7","5","7","20180620048","44757",188,"20180620048","44757"]
["180620-049","0","4","2","1","8","20180620049","04218",189,"20180620049","04218"]
["180620-050","1","4","1","0","9","20180620050","14109",190,"20180620050","14109"]
["180620-051","3","2","2","5","5","20180620051","32255",191,"20180620051","32255"]
["180620-052","5","7","0","1","2","20180620052","57012",192,"20180620052","57012"]
["180620-053","8","2","8","8","7","20180620053","82887",193,"20180620053","82887"]
["180620-054","8","6","9","0","7","20180620054","86907",194,"20180620054","86907"]
["180620-055","8","1","2","8","0","20180620055","81280",195,"20180620055","81280"]
["180620-056","7","0","2","5","2",{"$f":"\"20\"&SUBSTITUTE(A197,\"-\",\"\")+0","v":"20180620056"},"70252",{"$f":"ROW()-$I$1006-1","v":196},{"$f":"OFFSET(G$1,$I197,)","v":"20180620056"},{"$f":"OFFSET(H$1,$I197,)","v":"70252"}]
["180620-057","3","9","0","9","1","20180620057",{"$f":"B198&C198&D198&E198&F198","v":"39091"},197,"20180620057","39091"]
["180620-058","1","3","6","7","9","20180620058","13679",198,"20180620058","13679"]
["180620-059","3","8","7","1","4","20180620059","38714",199,"20180620059","38714"]
["180620-060","7","7","8","9","9","20180620060","77899",200,"20180620060","77899"]
["180620-061","0","0","6","2","2","20180620061","00622",201,"20180620061","00622"]
["180620-062","0","4","8","0","3","20180620062","04803",202,"20180620062","04803"]
["180620-063","9","7","1","5","1","20180620063","97151",203,"20180620063","97151"]
["180620-064","8","9","5","8","8","20180620064","89588",204,"20180620064","89588"]
["180620-065","4","0","2","6","1","20180620065","40261",205,"20180620065","40261"]
["180620-066","3","5","9","9","0","20180620066","35990",206,"20180620066","35990"]
["180620-067","6","6","8","0","2","20180620067","66802",207,"20180620067","66802"]
["180620-068","4","9","0","2","8","20180620068","49028",208,"20180620068","49028"]
["180620-069","9","5","3","5","2","20180620069","95352",209,"20180620069","95352"]
["180620-070","3","3","5","8","4","20180620070","33584",210,"20180620070","33584"]
["180620-071","6","9","0","1","6","20180620071","69016",211,"20180620071","69016"]
["180620-072","0","7","2","6","8","20180620072","07268",212,"20180620072","07268"]
["180620-073","1","5","2","1","3","20180620073","15213",213,"20180620073","15213"]
["180620-074","6","8","7","1","8","20180620074","68718",214,"20180620074","68718"]
["180620-075","0","1","5","1","5","20180620075","01515",215,"20180620075","01515"]
["180620-076","2","5","6","8","7","20180620076","25687",216,"20180620076","25687"]
["180620-077","4","1","0","5","3","20180620077","41053",217,"20180620077","41053"]
["180620-078","0","3","0","7","0","20180620078","03070",218,"20180620078","03070"]
["180620-079","7","2","4","6","6","20180620079","72466",219,"20180620079","72466"]
["180620-080","3","0","2","4","7","20180620080","30247",220,"20180620080","30247"]
["180620-081","4","2","9","1","9","20180620081","42919",221,"20180620081","42919"]
["180620-082","1","1","1","0","3","20180620082","11103",222,"20180620082","11103"]
["180620-083","6","6","8","2","4","20180620083","66824",223,"20180620083","66824"]
["180620-084","6","1","6","6","1","20180620084","61661",224,"20180620084","61661"]
["180620-085","9","3","4","7","7","20180620085","93477",225,"20180620085","93477"]
["180620-086","1","7","0","7","6","20180620086","17076",226,"20180620086","17076"]
["180620-087","7","6","8","0","2","20180620087","76802",227,"20180620087","76802"]
["180620-088","3","5","7","0","3","20180620088","35703",228,"20180620088","35703"]
["180620-089","9","3","6","4","4","20180620089","93644",229,"20180620089","93644"]
["180620-090","1","2","5","7","4","20180620090","12574",230,"20180620090","12574"]
["180620-091","1","8","2","7","7","20180620091","18277",231,"20180620091","18277"]
["180620-092","0","9","4","0","8","20180620092","09408",232,"20180620092","09408"]
["180620-093","4","2","5","8","7","20180620093","42587",233,"20180620093","42587"]
["180620-094","2","9","8","9","7","20180620094","29897",234,"20180620094","29897"]
["180620-095","8","9","1","4","0","20180620095","89140",235,"20180620095","89140"]
["180620-096","0","3","7","8","6","20180620096","03786",236,"20180620096","03786"]
["180620-097","4","9","5","7","3","20180620097","49573",237,"20180620097","49573"]
["180620-098","3","1","5","8","4","20180620098","31584",238,"20180620098","31584"]
["180620-099","8","2","9","1","4","20180620099","82914",239,"20180620099","82914"]
["180620-100","9","8","7","2","6","20180620100","98726",240,"20180620100","98726"]
["180620-101","0","0","5","9","4","20180620101","00594",241,"20180620101","00594"]
["180620-102","0","4","5","2","7","20180620102","04527",242,"20180620102","04527"]
["180620-103","4","2","8","3","7","20180620103","42837",243,"20180620103","42837"]
["180620-104","3","0","9","5","1","20180620104","30951",244,"20180620104","30951"]
["180620-105","0","3","9","7","1","20180620105","03971",245,"20180620105","03971"]
["180620-106","5","1","9","8","8","20180620106","51988",246,"20180620106","51988"]
["180620-107","6","6","6","4","5","20180620107","66645",247,"20180620107","66645"]
["180620-108","6","3","3","5","4","20180620108","63354",248,"20180620108","63354"]
["180620-109","6","0","9","0","6","20180620109","60906",249,"20180620109","60906"]
["180620-110","3","6","5","5","3","20180620110","36553",250,"20180620110","36553"]
["180620-111","0","9","6","5","7","20180620111","09657",251,"20180620111","09657"]
["180620-112","7","7","2","7","8","20180620112","77278",252,"20180620112","77278"]
["180620-113","3","8","0","9","6","20180620113","38096",253,"20180620113","38096"]
["180620-114","6","5","0","4","2","20180620114","65042",254,"20180620114","65042"]
["180620-115","8","0","6","7","3","20180620115","80673",255,"20180620115","80673"]
["180620-116","2","1","0","8","6","20180620116","21086",256,"20180620116","21086"]
["180620-117","8","7","4","7","4","20180620117","87474",257,"20180620117","87474"]
["180620-118","6","1","9","4","8","20180620118","61948",258,"20180620118","61948"]
["180620-119","4","2","8","4","1","20180620119","42841",259,"20180620119","42841"]
["180620-120","1","2","7","2","6",{"$f":"\"20\"&SUBSTITUTE(A261,\"-\",\"\")+0","v":"20180620120"},"12726",{"$f":"ROW()-$I$1006-1","v":260},{"$f":"OFFSET(G$1,$I261,)","v":"20180620120"},{"$f":"OFFSET(H$1,$I261,)","v":"12726"}]
["180621-001","9","8","1","0","3","20180621001",{"$f":"B262&C262&D262&E262&F262","v":"98103"},261,"20180621001","98103"]
["180621-002","6","7","3","0","8","20180621002","67308",262,"20180621002","67308"]
["180621-003","0","2","5","4","0","20180621003","02540",263,"20180621003","02540"]
["180621-004","2","6","6","6","9","20180621004","26669",264,"20180621004","26669"]
["180621-005","0","5","3","6","2","20180621005","05362",265,"20180621005","05362"]
["180621-006","3","7","4","3","2","20180621006","37432",266,"20180621006","37432"]
["180621-007","5","1","6","3","2","20180621007","51632",267,"20180621007","51632"]
["180621-008","0","7","7","0","7","20180621008","07707",268,"20180621008","07707"]
["180621-009","9","2","2","0","3","20180621009","92203",269,"20180621009","92203"]
["180621-010","6","1","3","6","6","20180621010","61366",270,"20180621010","61366"]
["180621-011","7","8","5","9","5","20180621011","78595",271,"20180621011","78595"]
["180621-012","9","2","6","1","2","20180621012","92612",272,"20180621012","92612"]
["180621-013","2","6","1","5","1","20180621013","26151",273,"20180621013","26151"]
["180621-014","2","0","8","9","3","20180621014","20893",274,"20180621014","20893"]
["180621-015","6","6","9","2","6","20180621015","66926",275,"20180621015","66926"]
["180621-016","7","9","1","1","0","20180621016","79110",276,"20180621016","79110"]
["180621-017","3","7","2","2","7","20180621017","37227",277,"20180621017","37227"]
["180621-018","7","0","9","4","1","20180621018","70941",278,"20180621018","70941"]
["180621-019","7","7","7","3","7","20180621019","77737",279,"20180621019","77737"]
["180621-020","0","3","9","0","8","20180621020","03908",280,"20180621020","03908"]
["180621-021","2","0","7","8","9","20180621021","20789",281,"20180621021","20789"]
["180621-022","6","9","1","2","1","20180621022","69121",282,"20180621022","69121"]
["180621-023","8","3","9","7","6","20180621023","83976",283,"20180621023","83976"]
["180621-024","0","9","0","5","6","20180621024","09056",284,"20180621024","09056"]
["180621-025","2","8","3","7","8","20180621025","28378",285,"20180621025","28378"]
["180621-026","7","9","4","1","1","20180621026","79411",286,"20180621026","79411"]
["180621-027","8","1","4","4","9","20180621027","81449",287,"20180621027","81449"]
["180621-028","3","5","2","3","4","20180621028","35234",288,"20180621028","35234"]
["180621-029","1","9","2","4","2","20180621029","19242",289,"20180621029","19242"]
["180621-030","9","8","8","2","3","20180621030","98823",290,"20180621030","98823"]
["180621-031","8","3","2","8","3","20180621031","83283",291,"20180621031","83283"]
["180621-032","8","9","8","7","9","20180621032","89879",292,"20180621032","89879"]
["180621-033","2","1","0","9","2","20180621033","21092",293,"20180621033","21092"]
["180621-034","1","2","0","2","4","20180621034","12024",294,"20180621034","12024"]
["180621-035","9","3","1","4","4","20180621035","93144",295,"20180621035","93144"]
["180621-036","9","9","8","3","4","20180621036","99834",296,"20180621036","99834"]
["180621-037","3","2","6","9","6","20180621037","32696",297,"20180621037","32696"]
["180621-038","7","9","4","4","3","20180621038","79443",298,"20180621038","79443"]
["180621-039","9","1","6","5","5","20180621039","91655",299,"20180621039","91655"]
["180621-040","8","5","2","3","8","20180621040","85238",300,"20180621040","85238"]
["180621-041","1","0","0","0","3","20180621041","10003",301,"20180621041","10003"]
["180621-042","5","8","7","0","1","20180621042","58701",302,"20180621042","58701"]
["180621-043","4","6","5","7","0","20180621043","46570",303,"20180621043","46570"]
["180621-044","7","3","0","8","7","20180621044","73087",304,"20180621044","73087"]
["180621-045","1","2","4","8","9","20180621045","12489",305,"20180621045","12489"]
["180621-046","2","5","3","1","9","20180621046","25319",306,"20180621046","25319"]
["180621-047","5","4","1","5","4","20180621047","54154",307,"20180621047","54154"]
["180621-048","0","8","9","5","7","20180621048","08957",308,"20180621048","08957"]
["180621-049","8","2","6","4","8","20180621049","82648",309,"20180621049","82648"]
["180621-050","2","6","5","7","3","20180621050","26573",310,"20180621050","26573"]
["180621-051","7","8","2","5","9","20180621051","78259",311,"20180621051","78259"]
["180621-052","0","7","4","5","1","20180621052","07451",312,"20180621052","07451"]
["180621-053","2","0","0","6","8","20180621053","20068",313,"20180621053","20068"]
["180621-054","7","8","2","0","7","20180621054","78207",314,"20180621054","78207"]
["180621-055","6","7","0","4","8","20180621055","67048",315,"20180621055","67048"]
["180621-056","9","8","2","5","4","20180621056","98254",316,"20180621056","98254"]
["180621-057","5","1","4","7","2","20180621057","51472",317,"20180621057","51472"]
["180621-058","0","1","8","6","0","20180621058","01860",318,"20180621058","01860"]
["180621-059","0","3","8","2","1","20180621059","03821",319,"20180621059","03821"]
["180621-060","4","9","5","0","6","20180621060","49506",320,"20180621060","49506"]
["180621-061","0","1","7","3","5","20180621061","01735",321,"20180621061","01735"]
["180621-062","4","8","1","7","2","20180621062","48172",322,"20180621062","48172"]
["180621-063","6","7","2","6","8","20180621063","67268",323,"20180621063","67268"]
["180621-064","0","7","8","8","2",{"$f":"\"20\"&SUBSTITUTE(A325,\"-\",\"\")+0","v":"20180621064"},"07882",{"$f":"ROW()-$I$1006-1","v":324},{"$f":"OFFSET(G$1,$I325,)","v":"20180621064"},{"$f":"OFFSET(H$1,$I325,)","v":"07882"}]
["180621-065","9","6","0","9","8","20180621065",{"$f":"B326&C326&D326&E326&F326","v":"96098"},325,"20180621065","96098"]
["180621-066","3","0","4","6","5","20180621066","30465",326,"20180621066","30465"]
["180621-067","4","2","1","7","2","20180621067","42172",327,"20180621067","42172"]
["180621-068","0","0","8","5","0","20180621068","00850",328,"20180621068","00850"]
["180621-069","6","9","4","8","7","20180621069","69487",329,"20180621069","69487"]
["180621-070","5","6","3","4","8","20180621070","56348",330,"20180621070","56348"]
["180621-071","4","2","6","4","5","20180621071","42645",331,"20180621071","42645"]
["180621-072","8","2","1","5","8","20180621072","82158",332,"20180621072","82158"]
["180621-073","0","5","7","7","9","20180621073","05779",333,"20180621073","05779"]
["180621-074","0","5","1","7","2","20180621074","05172",334,"20180621074","05172"]
["180621-075","1","8","2","5","7","20180621075","18257",335,"20180621075","18257"]
["180621-076","9","8","6","8","4","20180621076","98684",336,"20180621076","98684"]
["180621-077","9","4","8","8","3","20180621077","94883",337,"20180621077","94883"]
["180621-078","8","8","1","3","1","20180621078","88131",338,"20180621078","88131"]
["180621-079","2","6","2","6","3","20180621079","26263",339,"20180621079","26263"]
["180621-080","0","0","1","4","7","20180621080","00147",340,"20180621080","00147"]
["180621-081","1","2","3","3","0","20180621081","12330",341,"20180621081","12330"]
["180621-082","4","9","1","3","7","20180621082","49137",342,"20180621082","49137"]
["180621-083","0","7","6","5","1","20180621083","07651",343,"20180621083","07651"]
["180621-084","9","6","3","9","2","20180621084","96392",344,"20180621084","96392"]
["180621-085","8","1","2","4","8","20180621085","81248",345,"20180621085","81248"]
["180621-086","3","0","6","5","0","20180621086","30650",346,"20180621086","30650"]
["180621-087","4","1","0","3","6","20180621087","41036",347,"20180621087","41036"]
["180621-088","0","6","0","9","0","20180621088","06090",348,"20180621088","06090"]
["180621-089","9","3","4","1","7","20180621089","93417",349,"20180621089","93417"]
["180621-090","0","5","7","6","0","20180621090","05760",350,"20180621090","05760"]
["180621-091","7","8","7","9","5","20180621091","78795",351,"20180621091","78795"]
["180621-092","7","6","9","4","1","20180621092","76941",352,"20180621092","76941"]
["180621-093","3","2","3","2","4","20180621093","32324",353,"20180621093","32324"]
["180621-094","0","9","6","3","7","20180621094","09637",354,"20180621094","09637"]
["180621-095","5","2","2","9","2","20180621095","52292",355,"20180621095","52292"]
["180621-096","6","7","9","4","7","20180621096","67947",356,"20180621096","67947"]
["180621-097","2","3","8","1","0","20180621097","23810",357,"20180621097","23810"]
["180621-098","5","7","0","0","4","20180621098","57004",358,"20180621098","57004"]
["180621-099","2","0","9","6","3","20180621099","20963",359,"20180621099","20963"]
["180621-100","1","3","3","1","1","20180621100","13311",360,"20180621100","13311"]
["180621-101","2","0","7","1","5","20180621101","20715",361,"20180621101","20715"]
["180621-102","7","7","8","2","1","20180621102","77821",362,"20180621102","77821"]
["180621-103","6","5","8","7","7","20180621103","65877",363,"20180621103","65877"]
["180621-104","4","0","0","5","3","20180621104","40053",364,"20180621104","40053"]
["180621-105","9","0","6","1","4","20180621105","90614",365,"20180621105","90614"]
["180621-106","9","5","0","2","3","20180621106","95023",366,"20180621106","95023"]
["180621-107","7","7","3","0","5","20180621107","77305",367,"20180621107","77305"]
["180621-108","7","6","7","8","9","20180621108","76789",368,"20180621108","76789"]
["180621-109","0","6","1","1","4","20180621109","06114",369,"20180621109","06114"]
["180621-110","9","1","9","6","1","20180621110","91961",370,"20180621110","91961"]
["180621-111","4","4","8","4","4","20180621111","44844",371,"20180621111","44844"]
["180621-112","4","6","9","9","1","20180621112","46991",372,"20180621112","46991"]
["180621-113","9","1","8","9","5","20180621113","91895",373,"20180621113","91895"]
["180621-114","1","1","6","0","8","20180621114","11608",374,"20180621114","11608"]
["180621-115","4","9","2","5","3","20180621115","49253",375,"20180621115","49253"]
["180621-116","8","9","2","0","5","20180621116","89205",376,"20180621116","89205"]
["180621-117","1","3","7","9","1","20180621117","13791",377,"20180621117","13791"]
["180621-118","4","0","8","9","8","20180621118","40898",378,"20180621118","40898"]
["180621-119","5","0","8","7","1","20180621119","50871",379,"20180621119","50871"]
["180621-120","6","0","8","7","9","20180621120","60879",380,"20180621120","60879"]
["180622-001","3","4","3","3","8","20180622001","34338",381,"20180622001","34338"]
["180622-002","3","2","5","1","7","20180622002","32517",382,"20180622002","32517"]
["180622-003","7","2","3","5","3","20180622003","72353",383,"20180622003","72353"]
["180622-004","5","7","8","9","5","20180622004","57895",384,"20180622004","57895"]
["180622-005","2","3","2","5","0","20180622005","23250",385,"20180622005","23250"]
["180622-006","4","4","1","1","3","20180622006","44113",386,"20180622006","44113"]
["180622-007","1","0","3","4","4","20180622007","10344",387,"20180622007","10344"]
["180622-008","4","1","3","1","3",{"$f":"\"20\"&SUBSTITUTE(A389,\"-\",\"\")+0","v":"20180622008"},"41313",{"$f":"ROW()-$I$1006-1","v":388},{"$f":"OFFSET(G$1,$I389,)","v":"20180622008"},{"$f":"OFFSET(H$1,$I389,)","v":"41313"}]
["180622-009","4","9","2","9","8","20180622009",{"$f":"B390&C390&D390&E390&F390","v":"49298"},389,"20180622009","49298"]
["180622-010","5","9","9","0","7","20180622010","59907",390,"20180622010","59907"]
["180622-011","8","5","2","3","0","20180622011","85230",391,"20180622011","85230"]
["180622-012","0","8","8","7","3","20180622012","08873",392,"20180622012","08873"]
["180622-013","3","9","3","8","8","20180622013","39388",393,"20180622013","39388"]
["180622-014","2","0","8","8","4","20180622014","20884",394,"20180622014","20884"]
["180622-015","4","8","5","6","1","20180622015","48561",395,"20180622015","48561"]
["180622-016","5","7","4","6","4","20180622016","57464",396,"20180622016","57464"]
["180622-017","9","0","2","2","9","20180622017","90229",397,"20180622017","90229"]
["180622-018","8","1","9","4","3","20180622018","81943",398,"20180622018","81943"]
["180622-019","7","5","7","3","4","20180622019","75734",399,"20180622019","75734"]
["180622-020","2","2","8","2","9","20180622020","22829",400,"20180622020","22829"]
["180622-021","1","4","7","2","1","20180622021","14721",401,"20180622021","14721"]
["180622-022","9","3","7","3","5","20180622022","93735",402,"20180622022","93735"]
["180622-023","9","8","8","5","5","20180622023","98855",403,"20180622023","98855"]
["180622-024","1","3","7","1","8","20180622024","13718",404,"20180622024","13718"]
["180622-025","3","4","3","8","9","20180622025","34389",405,"20180622025","34389"]
["180622-026","9","1","0","2","1","20180622026","91021",406,"20180622026","91021"]
["180622-027","5","8","6","8","6","20180622027","58686",407,"20180622027","58686"]
["180622-028","1","0","5","9","3","20180622028","10593",408,"20180622028","10593"]
["180622-029","9","6","2","8","4","20180622029","96284",409,"20180622029","96284"]
["180622-030","4","3","6","3","2","20180622030","43632",410,"20180622030","43632"]
["180622-031","4","9","5","7","5","20180622031","49575",411,"20180622031","49575"]
["180622-032","6","7","6","6","9","20180622032","67669",412,"20180622032","67669"]
["180622-033","8","8","7","3","4","20180622033","88734",413,"20180622033","88734"]
["180622-034","7","6","0","7","9","20180622034","76079",414,"20180622034","76079"]
["180622-035","9","8","3","5","6","20180622035","98356",415,"20180622035","98356"]
["180622-036","9","8","9","2","9","20180622036","98929",416,"20180622036","98929"]
["180622-037","0","9","4","8","4","20180622037","09484",417,"20180622037","09484"]
["180622-038","3","4","5","7","9","20180622038","34579",418,"20180622038","34579"]
["180622-039","3","3","9","0","0","20180622039","33900",419,"20180622039","33900"]
["180622-040","4","7","2","5","1","20180622040","47251",420,"20180622040","47251"]
["180622-041","1","0","9","7","6","20180622041","10976",421,"20180622041","10976"]
["180622-042","3","2","9","4","2","20180622042","32942",422,"20180622042","32942"]
["180622-043","0","8","1","3","6","20180622043","08136",423,"20180622043","08136"]
["180622-044","2","0","2","5","6","20180622044","20256",424,"20180622044","20256"]
["180622-045","5","7","5","2","9","20180622045","57529",425,"20180622045","57529"]
["180622-046","5","9","3","1","9","20180622046","59319",426,"20180622046","59319"]
["180622-047","3","4","5","9","8","20180622047","34598",427,"20180622047","34598"]
["180622-048","5","0","7","6","5","20180622048","50765",428,"20180622048","50765"]
["180622-049","4","0","3","8","4","20180622049","40384",429,"20180622049","40384"]
["180622-050","9","4","0","8","2","20180622050","94082",430,"20180622050","94082"]
["180622-051","8","3","6","1","6","20180622051","83616",431,"20180622051","83616"]
["180622-052","9","8","4","2","0","20180622052","98420",432,"20180622052","98420"]
["180622-053","4","0","3","5","0","20180622053","40350",433,"20180622053","40350"]
["180622-054","2","3","8","1","1","20180622054","23811",434,"20180622054","23811"]
["180622-055","0","2","5","1","9","20180622055","02519",435,"20180622055","02519"]
["180622-056","8","8","2","4","4","20180622056","88244",436,"20180622056","88244"]
["180622-057","9","5","7","0","6","20180622057","95706",437,"20180622057","95706"]
["180622-058","2","7","7","2","6","20180622058","27726",438,"20180622058","27726"]
["180622-059","5","1","4","4","5","20180622059","51445",439,"20180622059","51445"]
["180622-060","7","7","9","1","3","20180622060","77913",440,"20180622060","77913"]
["180622-061","4","7","9","1","7","20180622061","47917",441,"20180622061","47917"]
["180622-062","1","1","0","9","6","20180622062","11096",442,"20180622062","11096"]
["180622-063","4","3","9","2","5","20180622063","43925",443,"20180622063","43925"]
["180622-064","7","7","6","1","1","20180622064","77611",444,"20180622064","77611"]
["180622-065","4","9","4","8","3","20180622065","49483",445,"20180622065","49483"]
["180622-066","4","5","4","1","0","20180622066","45410",446,"20180622066","45410"]
["180622-067","0","5","3","0","3","20180622067","05303",447,"20180622067","05303"]
["180622-068","1","3","9","6","0","20180622068","13960",448,"20180622068","13960"]
["180622-069","5","0","6","9","7","20180622069","50697",449,"20180622069","50697"]
["180622-070","7","0","5","0","3","20180622070","70503",450,"20180622070","70503"]
["180622-071","8","3","7","1","0","20180622071","83710",451,"20180622071","83710"]
["180622-072","6","7","7","5","2",{"$f":"\"20\"&SUBSTITUTE(A453,\"-\",\"\")+0","v":"20180622072"},"67752",{"$f":"ROW()-$I$1006-1","v":452},{"$f":"OFFSET(G$1,$I453,)","v":"20180622072"},{"$f":"OFFSET(H$1,$I453,)","v":"67752"}]
["180622-073","9","0","2","1","1","20180622073",{"$f":"B454&C454&D454&E454&F454","v":"90211"},453,"20180622073","90211"]
["180622-074","9","5","2","2","0","20180622074","95220",454,"20180622074","95220"]
["180622-075","4","7","9","9","6","20180622075","47996",455,"20180622075","47996"]
["180622-076","1","2","4","1","5","20180622076","12415",456,"20180622076","12415"]
["180622-077","6","4","8","1","0","20180622077","64810",457,"20180622077","64810"]
["180622-078","6","6","3","5","7","20180622078","66357",458,"20180622078","66357"]
["180622-079","6","5","2","4","9","20180622079","65249",459,"20180622079","65249"]
["180622-080","4","4","6","2","5","20180622080","44625",460,"20180622080","44625"]
["180622-081","0","8","2","9","7","20180622081","08297",461,"20180622081","08297"]
["180622-082","1","2","8","1","1","20180622082","12811",462,"20180622082","12811"]
["180622-083","1","0","2","9","6","20180622083","10296",463,"20180622083","10296"]
["180622-084","3","9","9","2","3","20180622084","39923",464,"20180622084","39923"]
["180622-085","9","3","6","8","4","20180622085","93684",465,"20180622085","93684"]
["180622-086","3","1","7","2","0","20180622086","31720",466,"20180622086","31720"]
["180622-087","0","0","3","8","1","20180622087","00381",467,"20180622087","00381"]
["180622-088","0","1","5","2","2","20180622088","01522",468,"20180622088","01522"]
["180622-089","1","4","2","6","0","20180622089","14260",469,"20180622089","14260"]
["180622-090","7","9","6","1","2","20180622090","79612",470,"20180622090","79612"]
["180622-091","7","9","8","4","4","20180622091","79844",471,"20180622091","79844"]
["180622-092","3","8","2","8","3","20180622092","38283",472,"20180622092","38283"]
["180622-093","4","9","0","8","3","20180622093","49083",473,"20180622093","49083"]
["180622-094","6","0","1","8","9","20180622094","60189",474,"20180622094","60189"]
["180622-095","1","0","2","3","2","20180622095","10232",475,"20180622095","10232"]
["180622-096","4","2","4","7","9","20180622096","42479",476,"20180622096","42479"]
["180622-097","1","6","3","4","9","20180622097","16349",477,"20180622097","16349"]
["180622-098","0","7","5","3","5","20180622098","07535",478,"20180622098","07535"]
["180622-099","5","6","3","3","8","20180622099","56338",479,"20180622099","56338"]
["180622-100","4","6","2","3","9","20180622100","46239",480,"20180622100","46239"]
["180622-101","8","5","3","2","6","20180622101","85326",481,"20180622101","85326"]
["180622-102","3","5","8","1","5","20180622102","35815",482,"20180622102","35815"]
["180622-103","9","2","2","3","0","20180622103","92230",483,"20180622103","92230"]
["180622-104","6","2","3","2","7","20180622104","62327",484,"20180622104","62327"]
["180622-105","8","2","8","3","0","20180622105","82830",485,"20180622105","82830"]
["180622-106","2","0","8","5","8","20180622106","20858",486,"20180622106","20858"]
["180622-107","3","7","1","9","6","20180622107","37196",487,"20180622107","37196"]
["180622-108","9","2","8","6","8","20180622108","92868",488,"20180622108","92868"]
["180622-109","0","4","1","0","3","20180622109","04103",489,"20180622109","04103"]
["180622-110","6","6","4","1","4","20180622110","66414",490,"20180622110","66414"]
["180622-111","7","1","5","3","1","20180622111","71531",491,"20180622111","71531"]
["180622-112","9","0","8","5","7","20180622112","90857",492,"20180622112","90857"]
["180622-113","5","9","4","5","5","20180622113","59455",493,"20180622113","59455"]
["180622-114","5","4","5","1","3","20180622114","54513",494,"20180622114","54513"]
["180622-115","6","5","0","4","6","20180622115","65046",495,"20180622115","65046"]
["180622-116","5","9","0","7","2","20180622116","59072",496,"20180622116","59072"]
["180622-117","3","7","2","2","0","20180622117","37220",497,"20180622117","37220"]
["180622-118","6","8","0","0","9","20180622118","68009",498,"20180622118","68009"]
["180622-119","0","1","2","6","7","20180622119","01267",499,"20180622119","01267"]
["180622-120","8","9","0","8","4","20180622120","89084",500,"20180622120","89084"]
["180623-001","3","2","6","1","1","20180623001","32611",501,"20180623001","32611"]
["180623-002","1","1","5","1","7","20180623002","11517",502,"20180623002","11517"]
["180623-003","8","2","0","7","1","20180623003","82071",503,"20180623003","82071"]
["180623-004","6","3","6","6","2","20180623004","63662",504,"20180623004","63662"]
["180623-005","1","2","8","0","0","20180623005","12800",505,"20180623005","12800"]
["180623-006","6","7","8","9","4","20180623006","67894",506,"20180623006","67894"]
["180623-007","1","8","4","2","1","20180623007","18421",507,"20180623007","18421"]
["180623-008","3","1","6","1","5","20180623008","31615",508,"20180623008","31615"]
["180623-009","4","1","7","6","5","20180623009","41765",509,"20180623009","41765"]
["180623-010","9","8","6","9","7","20180623010","98697",510,"20180623010","98697"]
["180623-011","4","6","6","1","8","20180623011","46618",511,"20180623011","46618"]
["180623-012","3","4","6","4","3","20180623012","34643",512,"20180623012","34643"]
["180623-013","2","8","3","2","6","20180623013","28326",513,"20180623013","28326"]
["180623-014","7","7","5","6","8","20180623014","77568",514,"20180623014","77568"]
["180623-015","5","0","6","4","0","20180623015","50640",515,"20180623015","50640"]
["180623-016","0","2","0","7","0",{"$f":"\"20\"&SUBSTITUTE(A517,\"-\",\"\")+0","v":"20180623016"},"02070",{"$f":"ROW()-$I$1006-1","v":516},{"$f":"OFFSET(G$1,$I517,)","v":"20180623016"},{"$f":"OFFSET(H$1,$I517,)","v":"02070"}]
["180623-017","7","9","0","0","5","20180623017",{"$f":"B518&C518&D518&E518&F518","v":"79005"},517,"20180623017","79005"]
["180623-018","8","4","4","5","2","20180623018","84452",518,"20180623018","84452"]
["180623-019","8","7","6","3","6","20180623019","87636",519,"20180623019","87636"]
["180623-020","6","4","2","4","1","20180623020","64241",520,"20180623020","64241"]
["180623-021","5","2","7","5","7","20180623021","52757",521,"20180623021","52757"]
["180623-022","2","2","2","0","6","20180623022","22206",522,"20180623022","22206"]
["180623-023","0","8","2","9","2","20180623023","08292",523,"20180623023","08292"]
["180623-024","9","7","2","7","8","20180623024","97278",524,"20180623024","97278"]
["180623-025","3","4","2","2","3","20180623025","34223",525,"20180623025","34223"]
["180623-026","3","5","7","4","0","20180623026","35740",526,"20180623026","35740"]
["180623-027","3","2","6","3","6","20180623027","32636",527,"20180623027","32636"]
["180623-028","2","8","6","2","1","20180623028","28621",528,"20180623028","28621"]
["180623-029","9","7","1","9","4","20180623029","97194",529,"20180623029","97194"]
["180623-030","6","8","7","9","1","20180623030","68791",530,"20180623030","68791"]
["180623-031","1","0","7","9","1","20180623031","10791",531,"20180623031","10791"]
["180623-032","1","9","9","1","1","20180623032","19911",532,"20180623032","19911"]
["180623-033","6","4","0","6","0","20180623033","64060",533,"20180623033","64060"]
["180623-034","9","6","6","8","1","20180623034","96681",534,"20180623034","96681"]
["180623-035","5","5","2","1","8","20180623035","55218",535,"20180623035","55218"]
["180623-036","3","6","2","9","1","20180623036","36291",536,"20180623036","36291"]
["180623-037","1","2","6","6","8","20180623037","12668",537,"20180623037","12668"]
["180623-038","1","4","4","2","2","20180623038","14422",538,"20180623038","14422"]
["180623-039","8","8","6","5","1","20180623039","88651",539,"20180623039","88651"]
["180623-040","2","6","6","0","7","20180623040","26607",540,"20180623040","26607"]
["180623-041","2","7","9","1","2","20180623041","27912",541,"20180623041","27912"]
["180623-042","0","1","0","4","3","20180623042","01043",542,"20180623042","01043"]
["180623-043","5","9","5","9","3","20180623043","59593",543,"20180623043","59593"]
["180623-044","0","4","5","0","4","20180623044","04504",544,"20180623044","04504"]
["180623-045","1","4","0","6","1","20180623045","14061",545,"20180623045","14061"]
["180623-046","3","7","2","2","5","20180623046","37225",546,"20180623046","37225"]
["180623-047","0","9","6","0","9","20180623047","09609",547,"20180623047","09609"]
["180623-048","7","6","4","6","2","20180623048","76462",548,"20180623048","76462"]
["180623-049","1","1","2","0","5","20180623049","11205",549,"20180623049","11205"]
["180623-050","2","3","5","0","6","20180623050","23506",550,"20180623050","23506"]
["180623-051","3","0","8","2","4","20180623051","30824",551,"20180623051","30824"]
["180623-052","3","1","9","2","7","20180623052","31927",552,"20180623052","31927"]
["180623-053","5","3","2","5","5","20180623053","53255",553,"20180623053","53255"]
["180623-054","5","2","0","0","3","20180623054","52003",554,"20180623054","52003"]
["180623-055","8","9","4","3","4","20180623055","89434",555,"20180623055","89434"]
["180623-056","4","3","8","4","4","20180623056","43844",556,"20180623056","43844"]
["180623-057","5","3","1","8","9","20180623057","53189",557,"20180623057","53189"]
["180623-058","9","9","2","2","8","20180623058","99228",558,"20180623058","99228"]
["180623-059","4","4","2","5","3","20180623059","44253",559,"20180623059","44253"]
["180623-060","7","4","7","0","0","20180623060","74700",560,"20180623060","74700"]
["180623-061","4","5","3","4","9","20180623061","45349",561,"20180623061","45349"]
["180623-062","1","5","8","6","4","20180623062","15864",562,"20180623062","15864"]
["180623-063","3","7","0","5","3","20180623063","37053",563,"20180623063","37053"]
["180623-064","0","6","8","7","5","20180623064","06875",564,"20180623064","06875"]
["180623-065","2","9","1","6","6","20180623065","29166",565,"20180623065","29166"]
["180623-066","0","9","8","3","7","20180623066","09837",566,"20180623066","09837"]
["180623-067","8","2","1","0","0","20180623067","82100",567,"20180623067","82100"]
["180623-068","6","8","5","8","6","20180623068","68586",568,"20180623068","68586"]
["180623-069","7","0","5","1","6","20180623069","70516",569,"20180623069","70516"]
["180623-070","7","4","1","2","3","20180623070","74123",570,"20180623070","74123"]
["180623-071","2","4","8","8","3","20180623071","24883",571,"20180623071","24883"]
["180623-072","5","3","8","0","2","20180623072","53802",572,"20180623072","53802"]
["180623-073","6","9","5","7","9","20180623073","69579",573,"20180623073","69579"]
["180623-074","5","9","8","1","8","20180623074","59818",574,"20180623074","59818"]
["180623-075","4","5","6","5","1","20180623075","45651",575,"20180623075","45651"]
["180623-076","5","0","0","6","6","20180623076","50066",576,"20180623076","50066"]
["180623-077","1","7","9","0","7","20180623077","17907",577,"20180623077","17907"]
["180623-078","4","9","9","6","6","20180623078","49966",578,"20180623078","49966"]
["180623-079","3","0","3","1","7","20180623079","30317",579,"20180623079","30317"]
["180623-080","1","5","6","6","7",{"$f":"\"20\"&SUBSTITUTE(A581,\"-\",\"\")+0","v":"20180623080"},"15667",{"$f":"ROW()-$I$1006-1","v":580},{"$f":"OFFSET(G$1,$I581,)","v":"20180623080"},{"$f":"OFFSET(H$1,$I581,)","v":"15667"}]
["180623-081","5","6","8","9","8","20180623081",{"$f":"B582&C582&D582&E582&F582","v":"56898"},581,"20180623081","56898"]
["180623-082","8","2","6","2","0","20180623082","82620",582,"20180623082","82620"]
["180623-083","5","9","7","0","8","20180623083","59708",583,"20180623083","59708"]
["180623-084","8","0","3","6","0","20180623084","80360",584,"20180623084","80360"]
["180623-085","1","9","9","6","4","20180623085","19964",585,"20180623085","19964"]
["180623-086","5","3","8","5","4","20180623086","53854",586,"20180623086","53854"]
["180623-087","5","3","2","2","2","20180623087","53222",587,"20180623087","53222"]
["180623-088","5","3","4","0","9","20180623088","53409",588,"20180623088","53409"]
["180623-089","3","0","2","5","9","20180623089","30259",589,"20180623089","30259"]
["180623-090","8","7","7","0","4","20180623090","87704",590,"20180623090","87704"]
["180623-091","6","1","0","1","4","20180623091","61014",591,"20180623091","61014"]
["180623-092","1","3","6","7","9","20180623092","13679",592,"20180623092","13679"]
["180623-093","1","7","5","2","4","20180623093","17524",593,"20180623093","17524"]
["180623-094","2","6","7","2","6","20180623094","26726",594,"20180623094","26726"]
["180623-095","8","6","5","1","7","20180623095","86517",595,"20180623095","86517"]
["180623-096","2","3","0","2","7","20180623096","23027",596,"20180623096","23027"]
["180623-097","3","7","4","7","4","20180623097","37474",597,"20180623097","37474"]
["180623-098","2","7","5","4","8","20180623098","27548",598,"20180623098","27548"]
["180623-099","8","1","4","2","5","20180623099","81425",599,"20180623099","81425"]
["180623-100","9","9","9","0","7","20180623100","99907",600,"20180623100","99907"]
["180623-101","9","4","3","7","7","20180623101","94377",601,"20180623101","94377"]
["180623-102","1","7","7","7","6","20180623102","17776",602,"20180623102","17776"]
["180623-103","8","5","3","8","9","20180623103","85389",603,"20180623103","85389"]
["180623-104","2","2","6","3","7","20180623104","22637",604,"20180623104","22637"]
["180623-105","2","1","7","6","7","20180623105","21767",605,"20180623105","21767"]
["180623-106","9","5","2","3","1","20180623106","95231",606,"20180623106","95231"]
["180623-107","5","2","2","2","0","20180623107","52220",607,"20180623107","52220"]
["180623-108","9","0","4","5","0","20180623108","90450",608,"20180623108","90450"]
["180623-109","9","3","1","9","3","20180623109","93193",609,"20180623109","93193"]
["180623-110","9","6","2","3","5","20180623110","96235",610,"20180623110","96235"]
["180623-111","1","2","3","9","1","20180623111","12391",611,"20180623111","12391"]
["180623-112","8","6","4","5","0","20180623112","86450",612,"20180623112","86450"]
["180623-113","5","0","2","9","6","20180623113","50296",613,"20180623113","50296"]
["180623-114","7","6","2","4","3","20180623114","76243",614,"20180623114","76243"]
["180623-115","0","0","3","3","9","20180623115","00339",615,"20180623115","00339"]
["180623-116","8","4","3","2","3","20180623116","84323",616,"20180623116","84323"]
["180623-117","9","0","2","5","7","20180623117","90257",617,"20180623117","90257"]
["180623-118","8","5","0","3","5","20180623118","85035",618,"20180623118","85035"]
["180623-119","7","8","9","1","6","20180623119","78916",619,"20180623119","78916"]
["180623-120","5","7","8","2","9","20180623120","57829",620,"20180623120","57829"]
["180624-001","2","3","1","8","7","20180624001","23187",621,"20180624001","23187"]
["180624-002","2","1","9","3","9","20180624002","21939",622,"20180624002","21939"]
["180624-003","6","8","4","2","5","20180624003","68425",623,"20180624003","68425"]
["180624-004","6","5","1","6","2","20180624004","65162",624,"20180624004","65162"]
["180624-005","0","5","4","2","5","20180624005","05425",625,"20180624005","05425"]
["180624-006","0","4","0","2","5","20180624006","04025",626,"20180624006","04025"]
["180624-007","7","8","1","5","2","20180624007","78152",627,"20180624007","78152"]
["180624-008","3","4","2","3","1","20180624008","34231",628,"20180624008","34231"]
["180624-009","5","3","6","8","4","20180624009","53684",629,"20180624009","53684"]
["180624-010","8","6","4","8","7","20180624010","86487",630,"20180624010","86487"]
["180624-011","4","3","9","0","1","20180624011","43901",631,"20180624011","43901"]
["180624-012","2","8","8","3","2","20180624012","28832",632,"20180624012","28832"]
["180624-013","1","5","3","0","5","20180624013","15305",633,"20180624013","15305"]
["180624-014","2","9","2","8","8","20180624014","29288",634,"20180624014","29288"]
["180624-015","7","7","7","6","0","20180624015","77760",635,"20180624015","77760"]
["180624-016","3","9","4","5","4","20180624016","39454",636,"20180624016","39454"]
["180624-017","3","7","3","9","7","20180624017","37397",637,"20180624017","37397"]
["180624-018","0","7","7","7","1","20180624018","07771",638,"20180624018","07771"]
["180624-019","7","2","0","6","4","20180624019","72064",639,"20180624019","72064"]
["180624-020","2","3","1","5","9","20180624020","23159",640,"20180624020","23159"]
["180624-021","6","7","0","7","1","20180624021","67071",641,"20180624021","67071"]
["180624-022","9","3","3","2","4","20180624022","93324",642,"20180624022","93324"]
["180624-023","8","5","3","0","8","20180624023","85308",643,"20180624023","85308"]
["180624-024","8","2","4","2","6",{"$f":"\"20\"&SUBSTITUTE(A645,\"-\",\"\")+0","v":"20180624024"},"82426",{"$f":"ROW()-$I$1006-1","v":644},{"$f":"OFFSET(G$1,$I645,)","v":"20180624024"},{"$f":"OFFSET(H$1,$I645,)","v":"82426"}]
["180624-025","9","9","0","7","6","20180624025",{"$f":"B646&C646&D646&E646&F646","v":"99076"},645,"20180624025","99076"]
["180624-026","0","4","9","1","5","20180624026","04915",646,"20180624026","04915"]
["180624-027","6","5","1","0","7","20180624027","65107",647,"20180624027","65107"]
["180624-028","9","4","2","2","8","20180624028","94228",648,"20180624028","94228"]
["180624-029","7","9","9","1","4","20180624029","79914",649,"20180624029","79914"]
["180624-030","4","0","2","3","2","20180624030","40232",650,"20180624030","40232"]
["180624-031","0","2","6","4","7","20180624031","02647",651,"20180624031","02647"]
["180624-032","0","3","2","9","1","20180624032","03291",652,"20180624032","03291"]
["180624-033","0","3","8","7","3","20180624033","03873",653,"20180624033","03873"]
["180624-034","1","3","1","3","6","20180624034","13136",654,"20180624034","13136"]
["180624-035","8","1","7","7","4","20180624035","81774",655,"20180624035","81774"]
["180624-036","9","2","3","7","4","20180624036","92374",656,"20180624036","92374"]
["180624-037","7","9","9","4","1","20180624037","79941",657,"20180624037","79941"]
["180624-038","7","4","4","4","6","20180624038","74446",658,"20180624038","74446"]
["180624-039","2","9","2","6","6","20180624039","29266",659,"20180624039","29266"]
["180624-040","9","7","2","3","7","20180624040","97237",660,"20180624040","97237"]
["180624-041","3","4","5","9","0","20180624041","34590",661,"20180624041","34590"]
["180624-042","9","5","3","5","8","20180624042","95358",662,"20180624042","95358"]
["180624-043","0","8","1","5","0","20180624043","08150",663,"20180624043","08150"]
["180624-044","9","8","2","4","7","20180624044","98247",664,"20180624044","98247"]
["180624-045","2","9","7","4","1","20180624045","29741",665,"20180624045","29741"]
["180624-046","4","8","2","3","8","20180624046","48238",666,"20180624046","48238"]
["180624-047","9","8","2","6","1","20180624047","98261",667,"20180624047","98261"]
["180624-048","6","3","0","4","0","20180624048","63040",668,"20180624048","63040"]
["180624-049","1","4","4","2","2","20180624049","14422",669,"20180624049","14422"]
["180624-050","1","6","1","3","4","20180624050","16134",670,"20180624050","16134"]
["180624-051","9","1","6","1","2","20180624051","91612",671,"20180624051","91612"]
["180624-052","4","7","5","8","0","20180624052","47580",672,"20180624052","47580"]
["180624-053","3","2","9","1","8","20180624053","32918",673,"20180624053","32918"]
["180624-054","8","8","3","7","7","20180624054","88377",674,"20180624054","88377"]
["180624-055","9","2","4","4","6","20180624055","92446",675,"20180624055","92446"]
["180624-056","1","4","9","8","9","20180624056","14989",676,"20180624056","14989"]
["180624-057","7","2","6","1","7","20180624057","72617",677,"20180624057","72617"]
["180624-058","5","4","8","8","8","20180624058","54888",678,"20180624058","54888"]
["180624-059","6","5","5","5","9","20180624059","65559",679,"20180624059","65559"]
["180624-060","3","1","9","1","0","20180624060","31910",680,"20180624060","31910"]
["180624-061","6","9","6","2","9","20180624061","69629",681,"20180624061","69629"]
["180624-062","1","2","0","9","8","20180624062","12098",682,"20180624062","12098"]
["180624-063","0","9","2","7","8","20180624063","09278",683,"20180624063","09278"]
["180624-064","2","3","4","7","2","20180624064","23472",684,"20180624064","23472"]
["180624-065","3","5","8","9","7","20180624065","35897",685,"20180624065","35897"]
["180624-066","3","8","9","4","5","20180624066","38945",686,"20180624066","38945"]
["180624-067","8","2","3","3","4","20180624067","82334",687,"20180624067","82334"]
["180624-068","4","4","7","9","9","20180624068","44799",688,"20180624068","44799"]
["180624-069","8","8","4","3","1","20180624069","88431",689,"20180624069","88431"]
["180624-070","5","2","6","6","8","20180624070","52668",690,"20180624070","52668"]
["180624-071","7","2","4","4","5","20180624071","72445",691,"20180624071","72445"]
["180624-072","0","9","3","6","7","20180624072","09367",692,"20180624072","09367"]
["180624-073","0","6","6","3","5","20180624073","06635",693,"20180624073","06635"]
["180624-074","2","5","3","9","2","20180624074","25392",694,"20180624074","25392"]
["180624-075","8","4","6","2","9","20180624075","84629",695,"20180624075","84629"]
["180624-076","0","4","8","1","6","20180624076","04816",696,"20180624076","04816"]
["180624-077","8","8","1","9","8","20180624077","88198",697,"20180624077","88198"]
["180624-078","2","6","0","1","6","20180624078","26016",698,"20180624078","26016"]
["180624-079","8","9","6","1","6","20180624079","89616",699,"20180624079","89616"]
["180624-080","1","1","0","1","8","20180624080","11018",700,"20180624080","11018"]
["180624-081","1","8","1","0","8","20180624081","18108",701,"20180624081","18108"]
["180624-082","0","8","2","6","8","20180624082","08268",702,"20180624082","08268"]
["180624-083","0","6","1","4","5","20180624083","06145",703,"20180624083","06145"]
["180624-084","4","4","3","8","8","20180624084","44388",704,"20180624084","44388"]
["180624-085","3","4","4","4","4","20180624085","34444",705,"20180624085","34444"]
["180624-086","9","1","1","8","9","20180624086","91189",706,"20180624086","91189"]
["180624-087","9","1","9","1","0","20180624087","91910",707,"20180624087","91910"]
["180624-088","5","5","5","1","9",{"$f":"\"20\"&SUBSTITUTE(A709,\"-\",\"\")+0","v":"20180624088"},"55519",{"$f":"ROW()-$I$1006-1","v":708},{"$f":"OFFSET(G$1,$I709,)","v":"20180624088"},{"$f":"OFFSET(H$1,$I709,)","v":"55519"}]
["180624-089","1","4","8","3","5","20180624089",{"$f":"B710&C710&D710&E710&F710","v":"14835"},709,"20180624089","14835"]
["180624-090","5","1","8","8","5","20180624090","51885",710,"20180624090","51885"]
["180624-091","6","7","9","9","2","20180624091","67992",711,"20180624091","67992"]
["180624-092","3","6","6","9","1","20180624092","36691",712,"20180624092","36691"]
["180624-093","6","6","6","7","7","20180624093","66677",713,"20180624093","66677"]
["180624-094","6","6","6","7","5","20180624094","66675",714,"20180624094","66675"]
["180624-095","6","7","6","5","5","20180624095","67655",715,"20180624095","67655"]
["180624-096","4","0","1","9","8","20180624096","40198",716,"20180624096","40198"]
["180624-097","4","1","2","4","0","20180624097","41240",717,"20180624097","41240"]
["180624-098","0","4","1","6","5","20180624098","04165",718,"20180624098","04165"]
["180624-099","9","7","5","6","0","20180624099","97560",719,"20180624099","97560"]
["180624-100","1","1","7","8","0","20180624100","11780",720,"20180624100","11780"]
["180624-101","4","8","1","8","2","20180624101","48182",721,"20180624101","48182"]
["180624-102","6","6","3","6","5","20180624102","66365",722,"20180624102","66365"]
["180624-103","2","0","7","9","6","20180624103","20796",723,"20180624103","20796"]
["180624-104","8","7","2","9","5","20180624104","87295",724,"20180624104","87295"]
["180624-105","3","7","2","8","3","20180624105","37283",725,"20180624105","37283"]
["180624-106","0","3","9","2","8","20180624106","03928",726,"20180624106","03928"]
["180624-107","8","0","8","0","5","20180624107","80805",727,"20180624107","80805"]
["180624-108","1","5","3","8","9","20180624108","15389",728,"20180624108","15389"]
["180624-109","3","7","0","3","9","20180624109","37039",729,"20180624109","37039"]
["180624-110","0","1","8","7","5","20180624110","01875",730,"20180624110","01875"]
["180624-111","0","4","9","9","8","20180624111","04998",731,"20180624111","04998"]
["180624-112","9","3","2","3","4","20180624112","93234",732,"20180624112","93234"]
["180624-113","0","9","5","0","5","20180624113","09505",733,"20180624113","09505"]
["180624-114","3","3","7","2","9","20180624114","33729",734,"20180624114","33729"]
["180624-115","9","9","5","4","6","20180624115","99546",735,"20180624115","99546"]
["180624-116","4","1","8","1","0","20180624116","41810",736,"20180624116","41810"]
["180624-117","0","1","6","2","1","20180624117","01621",737,"20180624117","01621"]
["180624-118","0","8","5","1","5","20180624118","08515",738,"20180624118","08515"]
["180624-119","3","2","8","7","5","20180624119","32875",739,"20180624119","32875"]
["180624-120","7","9","3","1","9","20180624120","79319",740,"20180624120","79319"]
["180625-001","1","5","2","3","6","20180625001","15236",741,"20180625001","15236"]
["180625-002","5","7","1","6","8","20180625002","57168",742,"20180625002","57168"]
["180625-003","6","1","0","2","4","20180625003","61024",743,"20180625003","61024"]
["180625-004","4","7","5","8","5","20180625004","47585",744,"20180625004","47585"]
["180625-005","8","5","1","3","8","20180625005","85138",745,"20180625005","85138"]
["180625-006","3","2","0","9","0","20180625006","32090",746,"20180625006","32090"]
["180625-007","6","8","3","8","1","20180625007","68381",747,"20180625007","68381"]
["180625-008","8","4","2","6","7","20180625008","84267",748,"20180625008","84267"]
["180625-009","5","5","0","6","7","20180625009","55067",749,"20180625009","55067"]
["180625-010","5","5","4","7","9","20180625010","55479",750,"20180625010","55479"]
["180625-011","0","7","5","7","2","20180625011","07572",751,"20180625011","07572"]
["180625-012","1","0","4","7","8","20180625012","10478",752,"20180625012","10478"]
["180625-013","8","9","2","7","9","20180625013","89279",753,"20180625013","89279"]
["180625-014","2","5","9","8","6","20180625014","25986",754,"20180625014","25986"]
["180625-015","3","0","6","0","0","20180625015","30600",755,"20180625015","30600"]
["180625-016","7","3","2","2","3","20180625016","73223",756,"20180625016","73223"]
["180625-017","4","0","6","2","3","20180625017","40623",757,"20180625017","40623"]
["180625-018","9","4","7","9","3","20180625018","94793",758,"20180625018","94793"]
["180625-019","9","8","0","6","1","20180625019","98061",759,"20180625019","98061"]
["180625-020","6","4","5","4","8","20180625020","64548",760,"20180625020","64548"]
["180625-021","8","1","8","2","9","20180625021","81829",761,"20180625021","81829"]
["180625-022","3","7","4","0","2","20180625022","37402",762,"20180625022","37402"]
["180625-023","3","9","7","3","2","20180625023","39732",763,"20180625023","39732"]
["180625-024","2","5","4","9","8","20180625024","25498",764,"20180625024","25498"]
["180625-025","2","1","6","4","9","20180625025","21649",765,"20180625025","21649"]
["180625-026","4","4","8","5","1","20180625026","44851",766,"20180625026","44851"]
["180625-027","2","4","7","4","0","20180625027","24740",767,"20180625027","24740"]
["180625-028","3","7","8","3","8","20180625028","37838",768,"20180625028","37838"]
["180625-029","3","5","9","5","0","20180625029","35950",769,"20180625029","35950"]
["180625-030","2","0","1","0","4","20180625030","20104",770,"20180625030","20104"]
["180625-031","5","3","9","5","9","20180625031","53959",771,"20180625031","53959"]
["180625-032","9","7","3","3","3",{"$f":"\"20\"&SUBSTITUTE(A773,\"-\",\"\")+0","v":"20180625032"},"97333",{"$f":"ROW()-$I$1006-1","v":772},{"$f":"OFFSET(G$1,$I773,)","v":"20180625032"},{"$f":"OFFSET(H$1,$I773,)","v":"97333"}]
["180625-033","2","0","1","0","3","20180625033",{"$f":"B774&C774&D774&E774&F774","v":"20103"},773,"20180625033","20103"]
["180625-034","3","9","3","5","3","20180625034","39353",774,"20180625034","39353"]
["180625-035","7","3","8","9","3","20180625035","73893",775,"20180625035","73893"]
["180625-036","5","0","8","5","8","20180625036","50858",776,"20180625036","50858"]
["180625-037","1","5","0","5","1","20180625037","15051",777,"20180625037","15051"]
["180625-038","9","0","3","7","7","20180625038","90377",778,"20180625038","90377"]
["180625-039","5","1","6","4","5","20180625039","51645",779,"20180625039","51645"]
["180625-040","6","0","5","9","3","20180625040","60593",780,"20180625040","60593"]
["180625-041","4","6","0","4","5","20180625041","46045",781,"20180625041","46045"]
["180625-042","8","6","9","5","8","20180625042","86958",782,"20180625042","86958"]
["180625-043","1","8","0","2","5","20180625043","18025",783,"20180625043","18025"]
["180625-044","9","1","9","4","7","20180625044","91947",784,"20180625044","91947"]
["180625-045","0","9","6","1","8","20180625045","09618",785,"20180625045","09618"]
["180625-046","4","7","6","5","5","20180625046","47655",786,"20180625046","47655"]
["180625-047","2","2","2","4","6","20180625047","22246",787,"20180625047","22246"]
["180625-048","1","2","3","9","5","20180625048","12395",788,"20180625048","12395"]
["180625-049","4","7","4","7","6","20180625049","47476",789,"20180625049","47476"]
["180625-050","1","7","6","2","4","20180625050","17624",790,"20180625050","17624"]
["180625-051","2","3","7","7","3","20180625051","23773",791,"20180625051","23773"]
["180625-052","8","0","9","8","6","20180625052","80986",792,"20180625052","80986"]
["180625-053","6","2","6","2","1","20180625053","62621",793,"20180625053","62621"]
["180625-054","8","1","2","5","4","20180625054","81254",794,"20180625054","81254"]
["180625-055","3","6","9","4","9","20180625055","36949",795,"20180625055","36949"]
["180625-056","2","4","1","0","4","20180625056","24104",796,"20180625056","24104"]
["180625-057","7","8","7","7","3","20180625057","78773",797,"20180625057","78773"]
["180625-058","8","6","4","6","0","20180625058","86460",798,"20180625058","86460"]
["180625-059","5","1","2","2","3","20180625059","51223",799,"20180625059","51223"]
["180625-060","1","9","9","6","8","20180625060","19968",800,"20180625060","19968"]
["180625-061","1","4","0","0","4","20180625061","14004",801,"20180625061","14004"]
["180625-062","0","7","8","4","6","20180625062","07846",802,"20180625062","07846"]
["180625-063","6","8","6","2","5","20180625063","68625",803,"20180625063","68625"]
["180625-064","4","8","1","5","8","20180625064","48158",804,"20180625064","48158"]
["180625-065","8","9","9","2","8","20180625065","89928",805,"20180625065","89928"]
["180625-066","6","8","5","5","3","20180625066","68553",806,"20180625066","68553"]
["180625-067","2","8","6","9","8","20180625067","28698",807,"20180625067","28698"]
["180625-068","9","5","8","8","0","20180625068","95880",808,"20180625068","95880"]
["180625-069","5","4","8","4","1","20180625069","54841",809,"20180625069","54841"]
["180625-070","9","8","5","9","2","20180625070","98592",810,"20180625070","98592"]
["180625-071","2","2","7","1","3","20180625071","22713",811,"20180625071","22713"]
["180625-072","4","1","4","0","4","20180625072","41404",812,"20180625072","41404"]
["180625-073","5","0","2","0","4","20180625073","50204",813,"20180625073","50204"]
["180625-074","2","1","2","2","4","20180625074","21224",814,"20180625074","21224"]
["180625-075","0","6","4","6","8","20180625075","06468",815,"20180625075","06468"]
["180625-076","7","8","0","7","6","20180625076","78076",816,"20180625076","78076"]
["180625-077","0","9","8","2","1","20180625077","09821",817,"20180625077","09821"]
["180625-078","7","4","5","7","2","20180625078","74572",818,"20180625078","74572"]
["180625-079","8","5","7","1","5","20180625079","85715",819,"20180625079","85715"]
["180625-080","0","1","0","1","5","20180625080","01015",820,"20180625080","01015"]
["180625-081","6","1","2","6","6","20180625081","61266",821,"20180625081","61266"]
["180625-082","9","8","9","7","8","20180625082","98978",822,"20180625082","98978"]
["180625-083","3","6","6","5","4","20180625083","36654",823,"20180625083","36654"]
["180625-084","7","3","8","0","7","20180625084","73807",824,"20180625084","73807"]
["180625-085","1","8","3","2","0","20180625085","18320",825,"20180625085","18320"]
["180625-086","1","4","3","3","0","20180625086","14330",826,"20180625086","14330"]
["180625-087","4","2","8","6","2","20180625087","42862",827,"20180625087","42862"]
["180625-088","2","7","7","9","3","20180625088","27793",828,"20180625088","27793"]
["180625-089","9","4","1","7","0","20180625089","94170",829,"20180625089","94170"]
["180625-090","0","7","9","6","3","20180625090","07963",830,"20180625090","07963"]
["180625-091","1","9","1","1","6","20180625091","19116",831,"20180625091","19116"]
["180625-092","5","5","5","5","8","20180625092","55558",832,"20180625092","55558"]
["180625-093","4","3","0","6","0","20180625093","43060",833,"20180625093","43060"]
["180625-094","1","5","6","7","3","20180625094","15673",834,"20180625094","15673"]
["180625-095","9","2","3","8","3","20180625095","92383",835,"20180625095","92383"]
["180625-096","2","1","2","0","0",{"$f":"\"20\"&SUBSTITUTE(A837,\"-\",\"\")+0","v":"20180625096"},"21200",{"$f":"ROW()-$I$1006-1","v":836},{"$f":"OFFSET(G$1,$I837,)","v":"20180625096"},{"$f":"OFFSET(H$1,$I837,)","v":"21200"}]
["180625-097","4","4","4","5","9","20180625097",{"$f":"B838&C838&D838&E838&F838","v":"44459"},837,"20180625097","44459"]
["180625-098","9","1","4","1","0","20180625098","91410",838,"20180625098","91410"]
["180625-099","5","9","6","0","5","20180625099","59605",839,"20180625099","59605"]
["180625-100","2","1","4","5","6","20180625100","21456",840,"20180625100","21456"]
["180625-101","1","8","7","0","8","20180625101","18708",841,"20180625101","18708"]
["180625-102","2","2","6","3","5","20180625102","22635",842,"20180625102","22635"]
["180625-103","6","2","5","0","4","20180625103","62504",843,"20180625103","62504"]
["180625-104","5","4","1","8","4","20180625104","54184",844,"20180625104","54184"]
["180625-105","0","5","0","7","3","20180625105","05073",845,"20180625105","05073"]
["180625-106","0","9","7","1","9","20180625106","09719",846,"20180625106","09719"]
["180625-107","0","3","4","1","1","20180625107","03411",847,"20180625107","03411"]
["180625-108","2","2","1","8","8","20180625108","22188",848,"20180625108","22188"]
["180625-109","2","3","0","6","0","20180625109","23060",849,"20180625109","23060"]
["180625-110","7","7","4","3","6","20180625110","77436",850,"20180625110","77436"]
["180625-111","1","1","1","7","4","20180625111","11174",851,"20180625111","11174"]
["180625-112","6","9","9","1","4","20180625112","69914",852,"20180625112","69914"]
["180625-113","2","5","5","4","8","20180625113","25548",853,"20180625113","25548"]
["180625-114","2","3","9","4","4","20180625114","23944",854,"20180625114","23944"]
["180625-115","7","8","5","2","1","20180625115","78521",855,"20180625115","78521"]
["180625-116","7","9","4","8","7","20180625116","79487",856,"20180625116","79487"]
["180625-117","6","1","3","8","5","20180625117","61385",857,"20180625117","61385"]
["180625-118","6","3","5","4","1","20180625118","63541",858,"20180625118","63541"]
["180625-119","2","0","3","8","9","20180625119","20389",859,"20180625119","20389"]
["180625-120","5","7","2","5","2","20180625120","57252",860,"20180625120","57252"]
["180626-001","3","9","4","9","9","20180626001","39499",861,"20180626001","39499"]
["180626-002","1","3","9","0","5","20180626002","13905",862,"20180626002","13905"]
["180626-003","2","9","6","9","6","20180626003","29696",863,"20180626003","29696"]
["180626-004","8","1","3","4","1","20180626004","81341",864,"20180626004","81341"]
["180626-005","1","6","8","4","2","20180626005","16842",865,"20180626005","16842"]
["180626-006","6","2","3","9","7","20180626006","62397",866,"20180626006","62397"]
["180626-007","8","7","1","2","0","20180626007","87120",867,"20180626007","87120"]
["180626-008","2","5","0","0","9","20180626008","25009",868,"20180626008","25009"]
["180626-009","8","3","8","5","5","20180626009","83855",869,"20180626009","83855"]
["180626-010","9","0","9","8","6","20180626010","90986",870,"20180626010","90986"]
["180626-011","9","2","9","0","3","20180626011","92903",871,"20180626011","92903"]
["180626-012","7","4","0","0","1","20180626012","74001",872,"20180626012","74001"]
["180626-013","8","5","8","3","9","20180626013","85839",873,"20180626013","85839"]
["180626-014","2","0","7","4","0","20180626014","20740",874,"20180626014","20740"]
["180626-015","6","8","5","5","4","20180626015","68554",875,"20180626015","68554"]
["180626-016","6","6","3","7","1","20180626016","66371",876,"20180626016","66371"]
["180626-017","2","3","5","8","0","20180626017","23580",877,"20180626017","23580"]
["180626-018","4","5","7","2","8","20180626018","45728",878,"20180626018","45728"]
["180626-019","3","4","5","9","4","20180626019","34594",879,"20180626019","34594"]
["180626-020","0","1","5","3","6","20180626020","01536",880,"20180626020","01536"]
["180626-021","6","9","5","7","8","20180626021","69578",881,"20180626021","69578"]
["180626-022","1","5","4","6","4","20180626022","15464",882,"20180626022","15464"]
["180626-023","6","5","7","4","6","20180626023","65746",883,"20180626023","65746"]
["180626-024","3","8","5","9","3","20180626024","38593",884,"20180626024","38593"]
["180626-025","5","7","1","3","3","20180626025","57133",885,"20180626025","57133"]
["180626-026","4","5","8","7","8","20180626026","45878",886,"20180626026","45878"]
["180626-027","1","8","0","9","5","20180626027","18095",887,"20180626027","18095"]
["180626-028","7","9","3","8","9","20180626028","79389",888,"20180626028","79389"]
["180626-029","5","5","2","3","7","20180626029","55237",889,"20180626029","55237"]
["180626-030","3","2","6","0","2","20180626030","32602",890,"20180626030","32602"]
["180626-031","3","9","6","9","8","20180626031","39698",891,"20180626031","39698"]
["180626-032","0","5","5","8","7","20180626032","05587",892,"20180626032","05587"]
["180626-033","4","7","4","1","7","20180626033","47417",893,"20180626033","47417"]
["180626-034","1","3","4","7","7","20180626034","13477",894,"20180626034","13477"]
["180626-035","6","0","9","7","8","20180626035","60978",895,"20180626035","60978"]
["180626-036","0","3","3","2","8","20180626036","03328",896,"20180626036","03328"]
["180626-037","0","6","4","7","7","20180626037","06477",897,"20180626037","06477"]
["180626-038","9","0","3","3","4","20180626038","90334",898,"20180626038","90334"]
["180626-039","4","0","1","0","9","20180626039","40109",899,"20180626039","40109"]
["180626-040","2","7","6","9","7",{"$f":"\"20\"&SUBSTITUTE(A901,\"-\",\"\")+0","v":"20180626040"},"27697",{"$f":"ROW()-$I$1006-1","v":900},{"$f":"OFFSET(G$1,$I901,)","v":"20180626040"},{"$f":"OFFSET(H$1,$I901,)","v":"27697"}]
["180626-041","9","7","2","0","5","20180626041",{"$f":"B902&C902&D902&E902&F902","v":"97205"},901,"20180626041","97205"]
["180626-042","4","6","4","1","6","20180626042","46416",902,"20180626042","46416"]
["180626-043","3","4","6","8","6","20180626043","34686",903,"20180626043","34686"]
["180626-044","9","6","8","2","3","20180626044","96823",904,"20180626044","96823"]
["180626-045","6","9","1","6","9","20180626045","69169",905,"20180626045","69169"]
["180626-046","5","2","5","6","7","20180626046","52567",906,"20180626046","52567"]
["180626-047","6","5","6","3","7","20180626047","65637",907,"20180626047","65637"]
["180626-048","1","1","3","0","1","20180626048","11301",908,"20180626048","11301"]
["180626-049","8","8","7","1","2","20180626049","88712",909,"20180626049","88712"]
["180626-050","9","9","8","1","9","20180626050","99819",910,"20180626050","99819"]
["180626-051","5","5","7","1","4","20180626051","55714",911,"20180626051","55714"]
["180626-052","4","8","8","1","2","20180626052","48812",912,"20180626052","48812"]
["180626-053","4","6","7","7","2","20180626053","46772",913,"20180626053","46772"]
["180626-054","7","7","8","9","9","20180626054","77899",914,"20180626054","77899"]
["180626-055","8","0","6","8","7","20180626055","80687",915,"20180626055","80687"]
["180626-056","0","9","3","0","0","20180626056","09300",916,"20180626056","09300"]
["180626-057","4","1","2","3","4","20180626057","41234",917,"20180626057","41234"]
["180626-058","8","3","7","8","1","20180626058","83781",918,"20180626058","83781"]
["180626-059","9","3","1","6","1","20180626059","93161",919,"20180626059","93161"]
["180626-060","3","9","2","4","9","20180626060","39249",920,"20180626060","39249"]
["180626-061","9","2","2","9","4","20180626061","92294",921,"20180626061","92294"]
["180626-062","6","8","8","8","9","20180626062","68889",922,"20180626062","68889"]
["180626-063","7","5","0","9","3","20180626063","75093",923,"20180626063","75093"]
["180626-064","7","1","4","6","4","20180626064","71464",924,"20180626064","71464"]
["180626-065","1","3","7","0","2","20180626065","13702",925,"20180626065","13702"]
["180626-066","7","6","8","7","1","20180626066","76871",926,"20180626066","76871"]
["180626-067","4","9","5","6","8","20180626067","49568",927,"20180626067","49568"]
["180626-068","6","9","2","2","9","20180626068","69229",928,"20180626068","69229"]
["180626-069","0","8","4","9","7","20180626069","08497",929,"20180626069","08497"]
["180626-070","6","1","5","3","9","20180626070","61539",930,"20180626070","61539"]
["180626-071","2","6","2","4","5","20180626071","26245",931,"20180626071","26245"]
["180626-072","5","9","7","2","0","20180626072","59720",932,"20180626072","59720"]
["180626-073","7","1","9","8","1","20180626073","71981",933,"20180626073","71981"]
["180626-074","0","7","4","4","2","20180626074","07442",934,"20180626074","07442"]
["180626-075","4","7","7","7","7","20180626075","47777",935,"20180626075","47777"]
["180626-076","4","3","6","0","2","20180626076","43602",936,"20180626076","43602"]
["180626-077","5","3","9","1","4","20180626077","53914",937,"20180626077","53914"]
["180626-078","8","4","2","5","3","20180626078","84253",938,"20180626078","84253"]
["180626-079","1","9","0","5","6","20180626079","19056",939,"20180626079","19056"]
["180626-080","2","6","3","0","6","20180626080","26306",940,"20180626080","26306"]
["180626-081","8","2","2","0","9","20180626081","82209",941,"20180626081","82209"]
["180626-082","5","8","8","2","5","20180626082","58825",942,"20180626082","58825"]
["180626-083","3","9","7","0","3","20180626083","39703",943,"20180626083","39703"]
["180626-084","6","3","5","3","1","20180626084","63531",944,"20180626084","63531"]
["180626-085","1","6","2","0","5","20180626085","16205",945,"20180626085","16205"]
["180626-086","8","0","7","4","3","20180626086","80743",946,"20180626086","80743"]
["180626-087","1","3","7","6","7","20180626087","13767",947,"20180626087","13767"]
["180626-088","7","1","2","0","2","20180626088","71202",948,"20180626088","71202"]
["180626-089","3","2","8","7","7","20180626089","32877",949,"20180626089","32877"]
["180626-090","0","6","1","3","6","20180626090","06136",950,"20180626090","06136"]
["180626-091","4","8","3","2","0","20180626091","48320",951,"20180626091","48320"]
["180626-092","1","0","6","4","4","20180626092","10644",952,"20180626092","10644"]
["180626-093","7","6","2","3","1","20180626093","76231",953,"20180626093","76231"]
["180626-094","6","0","1","1","4","20180626094","60114",954,"20180626094","60114"]
["180626-095","3","8","0","9","4","20180626095","38094",955,"20180626095","38094"]
["180626-096","3","1","9","3","8","20180626096","31938",956,"20180626096","31938"]
["180626-097","4","0","8","7","2","20180626097","40872",957,"20180626097","40872"]
["180626-098","6","3","5","4","7","20180626098","63547",958,"20180626098","63547"]
["180626-099","3","9","4","2","7","20180626099","39427",959,"20180626099","39427"]
["180626-100","2","6","7","6","0","20180626100","26760",960,"20180626100","26760"]
["180626-101","5","7","2","1","5","20180626101","57215",961,"20180626101","57215"]
["180626-102","0","2","0","4","5","20180626102","02045",962,"20180626102","02045"]
["180626-103","2","3","4","7","8","20180626103","23478",963,"20180626103","23478"]
["180626-104","7","6","1","8","4",{"$f":"\"20\"&SUBSTITUTE(A965,\"-\",\"\")+0","v":"20180626104"},"76184",{"$f":"ROW()-$I$1006-1","v":964},{"$f":"OFFSET(G$1,$I965,)","v":"20180626104"},{"$f":"OFFSET(H$1,$I965,)","v":"76184"}]
["180626-105","1","5","4","1","1","20180626105",{"$f":"B966&C966&D966&E966&F966","v":"15411"},965,"20180626105","15411"]
["180626-106","1","3","4","8","8","20180626106","13488",966,"20180626106","13488"]
["180626-107","4","6","3","9","3","20180626107","46393",967,"20180626107","46393"]
["180626-108","1","1","7","8","7","20180626108","11787",968,"20180626108","11787"]
["180626-109","9","1","0","4","0","20180626109","91040",969,"20180626109","91040"]
["180626-110","6","7","6","1","4","20180626110","67614",970,"20180626110","67614"]
["180626-111","2","5","0","1","0","20180626111","25010",971,"20180626111","25010"]
["180626-112","5","9","2","7","4","20180626112","59274",972,"20180626112","59274"]
["180626-113","9","3","8","2","5","20180626113","93825",973,"20180626113","93825"]
["180626-114","8","3","5","7","4","20180626114","83574",974,"20180626114","83574"]
["180626-115","3","7","0","4","9","20180626115","37049",975,"20180626115","37049"]
["180626-116","8","6","5","5","0","20180626116","86550",976,"20180626116","86550"]
["180626-117","2","8","3","0","5","20180626117","28305",977,"20180626117","28305"]
["180626-118","3","5","8","5","1","20180626118","35851",978,"20180626118","35851"]
["180626-119","4","3","9","9","5","20180626119","43995",979,"20180626119","43995"]
["180626-120","3","4","8","3","8",{"$f":"\"20\"&SUBSTITUTE(A981,\"-\",\"\")","v":"20180626120"},"34838",980,"20180626120","34838"]
["180627-001","1","7","6","5","6","20180627001","17656",981,"20180627001","17656"]
["180627-002","9","7","4","8","4","20180627002","97484",982,"20180627002","97484"]
["180627-003","0","1","4","1","1","20180627003","01411",983,"20180627003","01411"]
["180627-004","1","9","4","5","8","20180627004","19458",984,"20180627004","19458"]
["180627-005","8","8","1","0","9","20180627005","88109",985,"20180627005","88109"]
["180627-006","7","7","3","3","5","20180627006","77335",986,"20180627006","77335"]
["180627-007","8","3","8","9","0","20180627007","83890",987,"20180627007","83890"]
["180627-008","9","2","6","1","3","20180627008","92613",988,"20180627008","92613"]
["180627-009","7","3","1","1","5","20180627009","73115",989,"20180627009","73115"]
["180627-010","8","1","4","9","6","20180627010","81496",990,"20180627010","81496"]
["180627-011","3","0","0","6","1","20180627011","30061",991,"20180627011","30061"]
["180627-012","7","8","2","0","8","20180627012","78208",992,"20180627012","78208"]
["180627-013","1","0","1","9","7","20180627013","10197",993,"20180627013","10197"]
["180627-014","3","0","1","6","1","20180627014","30161",994,"20180627014","30161"]
["180627-015","3","0","2","7","0","20180627015","30270",995,"20180627015","30270"]
["180627-016","3","7","1","0","6","20180627016","37106",996,"20180627016","37106"]
["180627-017","6","7","3","6","2","20180627017","67362",997,"20180627017","67362"]
["180627-018","5","1","8","4","9","20180627018","51849",998,"20180627018","51849"]
["180627-019","7","0","7","6","0","20180627019","70760",999,"20180627019","70760"]
["180627-020","0","4","2","1","3","20180627020","04213",1000,"20180627020","04213"]
["180627-021","7","5","1","8","3","20180627021","75183",1001,"20180627021","75183"]
["180627-022","2","6","6","6","6","20180627022","26666",1002,"20180627022","26666"]
["180627-023","1","8","7","0","9",{"$f":"\"20\"&SUBSTITUTE(A1004,\"-\",\"\")","v":"20180627023"},"18709",1003,"20180627023","18709"]
[null,null,null,null,null,null,{"$f":"G1004+1*1","v":20180627024},"待待待待待",{"$f":"ROW()-$I$1006-1","v":1004},{"$f":"OFFSET(G$1,$I1005,)","v":20180627024},{"$f":"OFFSET(H$1,$I1005,)","v":"待待待待待"}]
[null,null,null,null,null,null,null,null,{"$f":"分析!$I$218","v":0}]

{"sheet":"360福彩","index":2,"n_rows":1004,"n_cols":6,"rows_kept":1004,"cut":false,"hidden":true,"merged":[]}
[]
[]
["2015246 2015-09-10 3 1 3",{"$f":"MID(A3,1,FIND(\" \",A3)-1)","v":"2015246"},{"$f":"\"00\"&RIGHT(SUBSTITUTE(A3,\" \",\"\"),3)","v":"00313"},{"$f":"ROW()-$D$1004-1","v":2},{"$f":"OFFSET($B$1,$D3,)","v":"2015246"},{"$f":"OFFSET($C$1,$D3,)","v":"00313"}]
["2015247 2015-09-11 4 9 8",{"$f":"MID(A4,1,FIND(\" \",A4)-1)","v":"2015247"},"00498",3,"2015247","00498"]
["2015248 2015-09-12 9 9 5","2015248","00995",4,"2015248","00995"]
["2015249 2015-09-13 3 1 9","2015249","00319",5,"2015249","00319"]
["2015250 2015-09-14 8 7 3","2015250","00873",6,"2015250","00873"]
["2015251 2015-09-15 6 6 8","2015251","00668",7,"2015251","00668"]
["2015252 2015-09-16 9 6 7","2015252","00967",8,"2015252","00967"]
["2015253 2015-09-17 5 1 4","2015253","00514",9,"2015253","00514"]
["2015254 2015-09-18 1 7 8","2015254","00178",10,"2015254","00178"]
["2015255 2015-09-19 8 3 5","2015255","00835",11,"2015255","00835"]
["2015256 2015-09-20 7 2 2","2015256","00722",12,"2015256","00722"]
["2015257 2015-09-21 8 8 9","2015257","00889",13,"2015257","00889"]
["2015258 2015-09-22 5 5 5","2015258","00555",14,"2015258","00555"]
["2015259 2015-09-23 0 6 4","2015259","00064",15,"2015259","00064"]
["2015260 2015-09-24 1 1 8","2015260","00118",16,"2015260","00118"]
["2015261 2015-09-25 3 2 0","2015261","00320",17,"2015261","00320"]
["2015262 2015-09-26 9 6 3","2015262","00963",18,"2015262","00963"]
["2015263 2015-09-27 0 8 2","2015263","00082",19,"2015263","00082"]
["2015264 2015-09-28 9 1 4","2015264","00914",20,"2015264","00914"]
["2015265 2015-09-29 0 1 9","2015265","00019",21,"2015265","00019"]
["2015266 2015-09-30 7 5 2","2015266","00752",22,"2015266","00752"]
["2015267 2015-10-01 7 8 7","2015267","00787",23,"2015267","00787"]
["2015268 2015-10-02 3 3 4","2015268","00334",24,"2015268","00334"]
["2015269 2015-10-03 7 7 7","2015269","00777",25,"2015269","00777"]
["2015270 2015-10-04 7 0 5","2015270","00705",26,"2015270","00705"]
["2015271 2015-10-05 1 9 1","2015271","00191",27,"2015271","00191"]
["2015272 2015-10-06 8 2 8","2015272","00828",28,"2015272","00828"]
["2015273 2015-10-07 7 9 0","2015273","00790",29,"2015273","00790"]
["2015274 2015-10-08 7 5 5","2015274","00755",30,"2015274","00755"]
["2015275 2015-10-09 4 4 6","2015275","00446",31,"2015275","00446"]
["2015276 2015-10-10 0 1 1","2015276","00011",32,"2015276","00011"]
["2015277 2015-10-11 7 0 6","2015277","00706",33,"2015277","00706"]
["2015278 2015-10-12 8 4 5","2015278","00845",34,"2015278","00845"]
["2015279 2015-10-13 6 1 2","2015279","00612",35,"2015279","00612"]
["2015280 2015-10-14 9 8 1","2015280","00981",36,"2015280","00981"]
["2015281 2015-10-15 1 4 4","2015281","00144",37,"2015281","00144"]
["2015282 2015-10-16 8 6 4","2015282","00864",38,"2015282","00864"]
["2015283 2015-10-17 9 1 5","2015283","00915",39,"2015283","00915"]
["2015284 2015-10-18 5 7 7","2015284","00577",40,"2015284","00577"]
["2015285 2015-10-19 5 0 8","2015285","00508",41,"2015285","00508"]
["2015286 2015-10-20 0 2 0","2015286","00020",42,"2015286","00020"]
["2015287 2015-10-21 9 7 7","2015287","00977",43,"2015287","00977"]
["2015288 2015-10-22 9 9 9","2015288","00999",44,"2015288","00999"]
["2015289 2015-10-23 6 9 6","2015289","00696",45,"2015289","00696"]
["2015290 2015-10-24 7 9 5","2015290","00795",46,"2015290","00795"]
["2015291 2015-10-25 8 9 6","2015291","00896",47,"2015291","00896"]
["2015292 2015-10-26 1 0 0","2015292","00100",48,"2015292","00100"]
["2015293 2015-10-27 9 2 0","2015293","00920",49,"2015293","00920"]
["2015294 2015-10-28 6 2 8","2015294","00628",50,"2015294","00628"]
["2015295 2015-10-29 2 3 2","2015295","00232",51,"2015295","00232"]
["2015296 2015-10-30 3 6 1","2015296","00361",52,"2015296","00361"]
["2015297 2015-10-31 8 8 8","2015297","00888",53,"2015297","00888"]
["2015298 2015-11-01 2 3 6","2015298","00236",54,"2015298","00236"]
["2015299 2015-11-02 6 5 7","2015299","00657",55,"2015299","00657"]
["2015300 2015-11-03 2 5 6","2015300","00256",56,"2015300","00256"]
["2015301 2015-11-04 2 7 1","2015301","00271",57,"2015301","00271"]
["2015302 2015-11-05 1 2 0","2015302","00120",58,"2015302","00120"]
["2015303 2015-11-06 4 7 5","2015303","00475",59,"2015303","00475"]
["2015304 2015-11-07 7 5 1","2015304","00751",60,"2015304","00751"]
["2015305 2015-11-08 6 0 2","2015305","00602",61,"2015305","00602"]
["2015306 2015-11-09 3 9 2","2015306","00392",62,"2015306","00392"]
["2015307 2015-11-10 4 7 3","2015307","00473",63,"2015307","00473"]
["2015308 2015-11-11 8 4 9","2015308","00849",64,"2015308","00849"]
["2015309 2015-11-12 8 9 9","2015309","00899",65,"2015309","00899"]
["2015310 2015-11-13 5 1 6","2015310",{"$f":"\"00\"&RIGHT(SUBSTITUTE(A67,\" \",\"\"),3)","v":"00516"},{"$f":"ROW()-$D$1004-1","v":66},{"$f":"OFFSET($B$1,$D67,)","v":"2015310"},{"$f":"OFFSET($C$1,$D67,)","v":"00516"}]
["2015311 2015-11-14 6 5 6",{"$f":"MID(A68,1,FIND(\" \",A68)-1)","v":"2015311"},"00656",67,"2015311","00656"]
["2015312 2015-11-15 3 1 8","2015312","00318",68,"2015312","00318"]
["2015313 2015-11-16 0 0 8","2015313","00008",69,"2015313","00008"]
["2015314 2015-11-17 0 1 0","2015314","00010",70,"2015314","00010"]
["2015315 2015-11-18 4 0 3","2015315","00403",71,"2015315","00403"]
["2015316 2015-11-19 8 6 9","2015316","00869",72,"2015316","00869"]
["2015317 2015-11-20 6 2 8","2015317","00628",73,"2015317","00628"]
["2015318 2015-11-21 1 1 1","2015318","00111",74,"2015318","00111"]
["2015319 2015-11-22 8 6 0","2015319","00860",75,"2015319","00860"]
["2015320 2015-11-23 7 8 5","2015320","00785",76,"2015320","00785"]
["2015321 2015-11-24 2 8 6","2015321","00286",77,"2015321","00286"]
["2015322 2015-11-25 9 3 9","2015322","00939",78,"2015322","00939"]
["2015323 2015-11-26 7 6 4","2015323","00764",79,"2015323","00764"]
["2015324 2015-11-27 6 9 8","2015324","00698",80,"2015324","00698"]
["2015325 2015-11-28 6 0 7","2015325","00607",81,"2015325","00607"]
["2015326 2015-11-29 8 1 8","2015326","00818",82,"2015326","00818"]
["2015327 2015-11-30 8 1 9","2015327","00819",83,"2015327","00819"]
["2015328 2015-12-01 3 7 3","2015328","00373",84,"2015328","00373"]
["2015329 2015-12-02 4 5 1","2015329","00451",85,"2015329","00451"]
["2015330 2015-12-03 3 6 9","2015330","00369",86,"2015330","00369"]
["2015331 2015-12-04 0 7 0","2015331","00070",87,"2015331","00070"]
["2015332 2015-12-05 4 3 4","2015332","00434",88,"2015332","00434"]
["2015333 2015-12-06 9 8 0","2015333","00980",89,"2015333","00980"]
["2015334 2015-12-07 2 6 1","2015334","00261",90,"2015334","00261"]
["2015335 2015-12-08 9 9 6","2015335","00996",91,"2015335","00996"]
["2015336 2015-12-09 3 6 9","2015336","00369",92,"2015336","00369"]
["2015337 2015-12-10 6 2 4","2015337","00624",93,"2015337","00624"]
["2015338 2015-12-11 2 5 4","2015338","00254",94,"2015338","00254"]
["2015339 2015-12-12 0 1 4","2015339","00014",95,"2015339","00014"]
["2015340 2015-12-13 0 7 9","2015340","00079",96,"2015340","00079"]
["2015341 2015-12-14 0 7 0","2015341","00070",97,"2015341","00070"]
["2015342 2015-12-15 6 4 2","2015342","00642",98,"2015342","00642"]
["2015343 2015-12-16 6 5 5","2015343","00655",99,"2015343","00655"]
["2015344 2015-12-17 1 3 4","2015344","00134",100,"2015344","00134"]
["2015345 2015-12-18 6 1 2","2015345","00612",101,"2015345","00612"]
["2015346 2015-12-19 2 2 9","2015346","00229",102,"2015346","00229"]
["2015347 2015-12-20 2 3 2","2015347","00232",103,"2015347","00232"]
["2015348 2015-12-21 9 9 7","2015348","00997",104,"2015348","00997"]
["2015349 2015-12-22 6 8 0","2015349","00680",105,"2015349","00680"]
["2015350 2015-12-23 4 6 1","2015350","00461",106,"2015350","00461"]
["2015351 2015-12-24 9 9 3","2015351","00993",107,"2015351","00993"]
["2015352 2015-12-25 4 3 8","2015352","00438",108,"2015352","00438"]
["2015353 2015-12-26 3 9 1","2015353","00391",109,"2015353","00391"]
["2015354 2015-12-27 3 5 6","2015354","00356",110,"2015354","00356"]
["2015355 2015-12-28 3 4 4","2015355","00344",111,"2015355","00344"]
["2015356 2015-12-29 4 7 5","2015356","00475",112,"2015356","00475"]
["2015357 2015-12-30 2 5 8","2015357","00258",113,"2015357","00258"]
["2015358 2015-12-31 2 6 1","2015358","00261",114,"2015358","00261"]
["2016001 2016-01-01 8 7 9","2016001","00879",115,"2016001","00879"]
["2016002 2016-01-02 2 7 3","2016002","00273",116,"2016002","00273"]
["2016003 2016-01-03 1 5 9","2016003","00159",117,"2016003","00159"]
["2016004 2016-01-04 6 7 1","2016004","00671",118,"2016004","00671"]
["2016005 2016-01-05 5 8 1","2016005","00581",119,"2016005","00581"]
["2016006 2016-01-06 7 0 9","2016006","00709",120,"2016006","00709"]
["2016007 2016-01-07 9 5 2","2016007","00952",121,"2016007","00952"]
["2016008 2016-01-08 5 8 3","2016008","00583",122,"2016008","00583"]
["2016009 2016-01-09 3 5 3","2016009","00353",123,"2016009","00353"]
["2016010 2016-01-10 8 0 2","2016010","00802",124,"2016010","00802"]
["2016011 2016-01-11 8 1 5","2016011","00815",125,"2016011","00815"]
["2016012 2016-01-12 1 8 0","2016012","00180",126,"2016012","00180"]
["2016013 2016-01-13 3 2 4","2016013","00324",127,"2016013","00324"]
["2016014 2016-01-14 9 3 8","2016014","00938",128,"2016014","00938"]
["2016015 2016-01-15 3 4 9","2016015","00349",129,"2016015","00349"]
["2016016 2016-01-16 4 4 7","2016016",{"$f":"\"00\"&RIGHT(SUBSTITUTE(A131,\" \",\"\"),3)","v":"00447"},{"$f":"ROW()-$D$1004-1","v":130},{"$f":"OFFSET($B$1,$D131,)","v":"2016016"},{"$f":"OFFSET($C$1,$D131,)","v":"00447"}]
["2016017 2016-01-17 5 3 1",{"$f":"MID(A132,1,FIND(\" \",A132)-1)","v":"2016017"},"00531",131,"2016017","00531"]
["2016018 2016-01-18 5 6 3","2016018","00563",132,"2016018","00563"]
["2016019 2016-01-19 2 7 8","2016019","00278",133,"2016019","00278"]
["2016020 2016-01-20 5 2 1","2016020","00521",134,"2016020","00521"]
["2016021 2016-01-21 6 9 9","2016021","00699",135,"2016021","00699"]
["2016022 2016-01-22 9 1 6","2016022","00916",136,"2016022","00916"]
["2016023 2016-01-23 7 2 9","2016023","00729",137,"2016023","00729"]
["2016024 2016-01-24 6 2 4","2016024","00624",138,"2016024","00624"]
["2016025 2016-01-25 1 1 0","2016025","00110",139,"2016025","00110"]
["2016026 2016-01-26 3 2 4","2016026","00324",140,"2016026","00324"]
["2016027 2016-01-27 2 8 0","2016027","00280",141,"2016027","00280"]
["2016028 2016-01-28 4 1 6","2016028","00416",142,"2016028","00416"]
["2016029 2016-01-29 0 2 6","2016029","00026",143,"2016029","00026"]
["2016030 2016-01-30 2 9 3","2016030","00293",144,"2016030","00293"]
["2016031 2016-01-31 5 9 2","2016031","00592",145,"2016031","00592"]
["2016032 2016-02-01 7 7 8","2016032","00778",146,"2016032","00778"]
["2016033 2016-02-02 3 8 7","2016033","00387",147,"2016033","00387"]
["2016034 2016-02-03 6 0 6","2016034","00606",148,"2016034","00606"]
["2016035 2016-02-04 9 8 1","2016035","00981",149,"2016035","00981"]
["2016036 2016-02-05 9 6 8","2016036","00968",150,"2016036","00968"]
["2016037 2016-02-06 4 6 8","2016037","00468",151,"2016037","00468"]
["2016038 2016-02-14 9 6 0","2016038","00960",152,"2016038","00960"]
["2016039 2016-02-15 2 4 8","2016039","00248",153,"2016039","00248"]
["2016040 2016-02-16 1 4 3","2016040","00143",154,"2016040","00143"]
["2016041 2016-02-17 5 1 9","2016041","00519",155,"2016041","00519"]
["2016042 2016-02-18 7 0 1","2016042","00701",156,"2016042","00701"]
["2016043 2016-02-19 5 5 7","2016043","00557",157,"2016043","00557"]
["2016044 2016-02-20 0 1 0","2016044","00010",158,"2016044","00010"]
["2016045 2016-02-21 6 9 2","2016045","00692",159,"2016045","00692"]
["2016046 2016-02-22 3 8 3","2016046","00383",160,"2016046","00383"]
["2016047 2016-02-23 6 0 6","2016047","00606",161,"2016047","00606"]
["2016048 2016-02-24 8 5 1","2016048","00851",162,"2016048","00851"]
["2016049 2016-02-25 7 3 9","2016049","00739",163,"2016049","00739"]
["2016050 2016-02-26 7 3 1","2016050","00731",164,"2016050","00731"]
["2016051 2016-02-27 5 2 8","2016051","00528",165,"2016051","00528"]
["2016052 2016-02-28 6 4 1","2016052","00641",166,"2016052","00641"]
["2016053 2016-02-29 9 4 9","2016053","00949",167,"2016053","00949"]
["2016054 2016-03-01 3 2 8","2016054","00328",168,"2016054","00328"]
["2016055 2016-03-02 5 5 3","2016055","00553",169,"2016055","00553"]
["2016056 2016-03-03 9 4 1","2016056","00941",170,"2016056","00941"]
["2016057 2016-03-04 5 4 3","2016057","00543",171,"2016057","00543"]
["2016058 2016-03-05 1 2 6","2016058","00126",172,"2016058","00126"]
["2016059 2016-03-06 7 4 1","2016059","00741",173,"2016059","00741"]
["2016060 2016-03-07 0 3 9","2016060","00039",174,"2016060","00039"]
["2016061 2016-03-08 7 5 4","2016061","00754",175,"2016061","00754"]
["2016062 2016-03-09 8 0 3","2016062","00803",176,"2016062","00803"]
["2016063 2016-03-10 3 5 6","2016063","00356",177,"2016063","00356"]
["2016064 2016-03-11 0 6 2","2016064","00062",178,"2016064","00062"]
["2016065 2016-03-12 4 5 0","2016065","00450",179,"2016065","00450"]
["2016066 2016-03-13 1 8 1","2016066","00181",180,"2016066","00181"]
["2016067 2016-03-14 0 0 1","2016067","00001",181,"2016067","00001"]
["2016068 2016-03-15 0 7 5","2016068","00075",182,"2016068","00075"]
["2016069 2016-03-16 6 4 3","2016069","00643",183,"2016069","00643"]
["2016070 2016-03-17 8 9 6","2016070","00896",184,"2016070","00896"]
["2016071 2016-03-18 6 5 0","2016071","00650",185,"2016071","00650"]
["2016072 2016-03-19 0 2 0","2016072","00020",186,"2016072","00020"]
["2016073 2016-03-20 8 1 5","2016073","00815",187,"2016073","00815"]
["2016074 2016-03-21 7 7 7","2016074","00777",188,"2016074","00777"]
["2016075 2016-03-22 8 4 5","2016075","00845",189,"2016075","00845"]
["2016076 2016-03-23 6 4 4","2016076","00644",190,"2016076","00644"]
["2016077 2016-03-24 7 1 7","2016077","00717",191,"2016077","00717"]
["2016078 2016-03-25 9 0 8","2016078","00908",192,"2016078","00908"]
["2016079 2016-03-26 0 7 5","2016079","00075",193,"2016079","00075"]
["2016080 2016-03-27 2 6 1","2016080",{"$f":"\"00\"&RIGHT(SUBSTITUTE(A195,\" \",\"\"),3)","v":"00261"},{"$f":"ROW()-$D$1004-1","v":194},{"$f":"OFFSET($B$1,$D195,)","v":"2016080"},{"$f":"OFFSET($C$1,$D195,)","v":"00261"}]
["2016081 2016-03-28 6 3 5",{"$f":"MID(A196,1,FIND(\" \",A196)-1)","v":"2016081"},"00635",195,"2016081","00635"]
["2016082 2016-03-29 6 4 0","2016082","00640",196,"2016082","00640"]
["2016083 2016-03-30 2 8 9","2016083","00289",197,"2016083","00289"]
["2016084 2016-03-31 2 8 2","2016084","00282",198,"2016084","00282"]
["2016085 2016-04-01 9 6 7","2016085","00967",199,"2016085","00967"]
["2016086 2016-04-02 2 4 9","2016086","00249",200,"2016086","00249"]
["2016087 2016-04-03 0 9 9","2016087","00099",201,"2016087","00099"]
["2016088 2016-04-04 4 7 3","2016088","00473",202,"2016088","00473"]
["2016089 2016-04-05 1 1 1","2016089","00111",203,"2016089","00111"]
["2016090 2016-04-06 9 5 4","2016090","00954",204,"2016090","00954"]
["2016091 2016-04-07 4 0 5","2016091","00405",205,"2016091","00405"]
["2016092 2016-04-08 8 7 5","2016092","00875",206,"2016092","00875"]
["2016093 2016-04-09 6 2 2","2016093","00622",207,"2016093","00622"]
["2016094 2016-04-10 8 2 4","2016094","00824",208,"2016094","00824"]
["2016095 2016-04-11 7 0 4","2016095","00704",209,"2016095","00704"]
["2016096 2016-04-12 3 4 8","2016096","00348",210,"2016096","00348"]
["2016097 2016-04-13 5 3 2","2016097","00532",211,"2016097","00532"]
["2016098 2016-04-14 4 1 4","2016098","00414",212,"2016098","00414"]
["2016099 2016-04-15 2 1 7","2016099","00217",213,"2016099","00217"]
["2016100 2016-04-16 5 5 1","2016100","00551",214,"2016100","00551"]
["2016101 2016-04-17 0 6 1","2016101","00061",215,"2016101","00061"]
["2016102 2016-04-18 2 8 2","2016102","00282",216,"2016102","00282"]
["2016103 2016-04-19 1 2 6","2016103","00126",217,"2016103","00126"]
["2016104 2016-04-20 9 0 0","2016104","00900",218,"2016104","00900"]
["2016105 2016-04-21 6 9 9","2016105","00699",219,"2016105","00699"]
["2016106 2016-04-22 0 4 3","2016106","00043",220,"2016106","00043"]
["2016107 2016-04-23 2 3 8","2016107","00238",221,"2016107","00238"]
["2016108 2016-04-24 4 8 0","2016108","00480",222,"2016108","00480"]
["2016109 2016-04-25 1 0 0","2016109","00100",223,"2016109","00100"]
["2016110 2016-04-26 6 5 0","2016110","00650",224,"2016110","00650"]
["2016111 2016-04-27 3 3 6","2016111","00336",225,"2016111","00336"]
["2016112 2016-04-28 3 4 0","2016112","00340",226,"2016112","00340"]
["2016113 2016-04-29 6 7 9","2016113","00679",227,"2016113","00679"]
["2016114 2016-04-30 9 8 1","2016114","00981",228,"2016114","00981"]
["2016115 2016-05-01 6 3 1","2016115","00631",229,"2016115","00631"]
["2016116 2016-05-02 4 2 5","2016116","00425",230,"2016116","00425"]
["2016117 2016-05-03 3 2 6","2016117","00326",231,"2016117","00326"]
["2016118 2016-05-04 7 0 3","2016118","00703",232,"2016118","00703"]
["2016119 2016-05-05 3 0 8","2016119","00308",233,"2016119","00308"]
["2016120 2016-05-06 9 3 6","2016120","00936",234,"2016120","00936"]
["2016121 2016-05-07 8 4 3","2016121","00843",235,"2016121","00843"]
["2016122 2016-05-08 7 6 2","2016122","00762",236,"2016122","00762"]
["2016123 2016-05-09 7 0 8","2016123","00708",237,"2016123","00708"]
["2016124 2016-05-10 9 1 4","2016124","00914",238,"2016124","00914"]
["2016125 2016-05-11 5 9 4","2016125","00594",239,"2016125","00594"]
["2016126 2016-05-12 1 3 4","2016126","00134",240,"2016126","00134"]
["2016127 2016-05-13 9 5 7","2016127","00957",241,"2016127","00957"]
["2016128 2016-05-14 1 2 3","2016128","00123",242,"2016128","00123"]
["2016129 2016-05-15 6 4 1","2016129","00641",243,"2016129","00641"]
["2016130 2016-05-16 8 6 2","2016130","00862",244,"2016130","00862"]
["2016131 2016-05-17 7 5 3","2016131","00753",245,"2016131","00753"]
["2016132 2016-05-18 4 5 3","2016132","00453",246,"2016132","00453"]
["2016133 2016-05-19 6 9 1","2016133","00691",247,"2016133","00691"]
["2016134 2016-05-20 1 0 7","2016134","00107",248,"2016134","00107"]
["2016135 2016-05-21 7 3 2","2016135","00732",249,"2016135","00732"]
["2016136 2016-05-22 6 1 9","2016136","00619",250,"2016136","00619"]
["2016137 2016-05-23 3 9 3","2016137","00393",251,"2016137","00393"]
["2016138 2016-05-24 5 6 0","2016138","00560",252,"2016138","00560"]
["2016139 2016-05-25 2 5 0","2016139","00250",253,"2016139","00250"]
["2016140 2016-05-26 7 8 7","2016140","00787",254,"2016140","00787"]
["2016141 2016-05-27 6 8 8","2016141","00688",255,"2016141","00688"]
["2016142 2016-05-28 4 3 5","2016142","00435",256,"2016142","00435"]
["2016143 2016-05-29 5 0 3","2016143","00503",257,"2016143","00503"]
["2016144 2016-05-30 6 2 5","2016144",{"$f":"\"00\"&RIGHT(SUBSTITUTE(A259,\" \",\"\"),3)","v":"00625"},{"$f":"ROW()-$D$1004-1","v":258},{"$f":"OFFSET($B$1,$D259,)","v":"2016144"},{"$f":"OFFSET($C$1,$D259,)","v":"00625"}]
["2016145 2016-05-31 9 4 1",{"$f":"MID(A260,1,FIND(\" \",A260)-1)","v":"2016145"},"00941",259,"2016145","00941"]
["2016146 2016-06-01 7 6 1","2016146","00761",260,"2016146","00761"]
["2016147 2016-06-02 9 8 9","2016147","00989",261,"2016147","00989"]
["2016148 2016-06-03 8 1 3","2016148","00813",262,"2016148","00813"]
["2016149 2016-06-04 7 5 3","2016149","00753",263,"2016149","00753"]
["2016150 2016-06-05 9 1 2","2016150","00912",264,"2016150","00912"]
["2016151 2016-06-06 3 3 6","2016151","00336",265,"2016151","00336"]
["2016152 2016-06-07 4 9 8","2016152","00498",266,"2016152","00498"]
["2016153 2016-06-08 1 7 4","2016153","00174",267,"2016153","00174"]
["2016154 2016-06-09 8 3 9","2016154","00839",268,"2016154","00839"]
["2016155 2016-06-10 7 8 4","2016155","00784",269,"2016155","00784"]
["2016156 2016-06-11 2 7 8","2016156","00278",270,"2016156","00278"]
["2016157 2016-06-12 1 5 1","2016157","00151",271,"2016157","00151"]
["2016158 2016-06-13 9 2 0","2016158","00920",272,"2016158","00920"]
["2016159 2016-06-14 6 9 1","2016159","00691",273,"2016159","00691"]
["2016160 2016-06-15 0 1 7","2016160","00017",274,"2016160","00017"]
["2016161 2016-06-16 0 4 1","2016161","00041",275,"2016161","00041"]
["2016162 2016-06-17 6 3 4","2016162","00634",276,"2016162","00634"]
["2016163 2016-06-18 0 3 3","2016163","00033",277,"2016163","00033"]
["2016164 2016-06-19 2 7 3","2016164","00273",278,"2016164","00273"]
["2016165 2016-06-20 0 4 1","2016165","00041",279,"2016165","00041"]
["2016166 2016-06-21 3 9 6","2016166","00396",280,"2016166","00396"]
["2016167 2016-06-22 2 4 9","2016167","00249",281,"2016167","00249"]
["2016168 2016-06-23 1 1 9","2016168","00119",282,"2016168","00119"]
["2016169 2016-06-24 7 0 6","2016169","00706",283,"2016169","00706"]
["2016170 2016-06-25 9 0 9","2016170","00909",284,"2016170","00909"]
["2016171 2016-06-26 5 9 8","2016171","00598",285,"2016171","00598"]
["2016172 2016-06-27 3 2 3","2016172","00323",286,"2016172","00323"]
["2016173 2016-06-28 6 9 5","2016173","00695",287,"2016173","00695"]
["2016174 2016-06-29 0 0 7","2016174","00007",288,"2016174","00007"]
["2016175 2016-06-30 6 4 1","2016175","00641",289,"2016175","00641"]
["2016176 2016-07-01 7 1 2","2016176","00712",290,"2016176","00712"]
["2016177 2016-07-02 1 9 5","2016177","00195",291,"2016177","00195"]
["2016178 2016-07-03 2 4 4","2016178","00244",292,"2016178","00244"]
["2016179 2016-07-04 3 8 7","2016179","00387",293,"2016179","00387"]
["2016180 2016-07-05 6 5 9","2016180","00659",294,"2016180","00659"]
["2016181 2016-07-06 8 6 9","2016181","00869",295,"2016181","00869"]
["2016182 2016-07-07 4 8 9","2016182","00489",296,"2016182","00489"]
["2016183 2016-07-08 6 9 5","2016183","00695",297,"2016183","00695"]
["2016184 2016-07-09 7 0 3","2016184","00703",298,"2016184","00703"]
["2016185 2016-07-10 3 8 0","2016185","00380",299,"2016185","00380"]
["2016186 2016-07-11 6 1 8","2016186","00618",300,"2016186","00618"]
["2016187 2016-07-12 1 3 9","2016187","00139",301,"2016187","00139"]
["2016188 2016-07-13 0 9 9","2016188","00099",302,"2016188","00099"]
["2016189 2016-07-14 7 9 0","2016189","00790",303,"2016189","00790"]
["2016190 2016-07-15 8 2 3","2016190","00823",304,"2016190","00823"]
["2016191 2016-07-16 3 0 8","2016191","00308",305,"2016191","00308"]
["2016192 2016-07-17 6 6 1","2016192","00661",306,"2016192","00661"]
["2016193 2016-07-18 6 9 5","2016193","00695",307,"2016193","00695"]
["2016194 2016-07-19 4 0 7","2016194","00407",308,"2016194","00407"]
["2016195 2016-07-20 6 1 0","2016195","00610",309,"2016195","00610"]
["2016196 2016-07-21 9 0 7","2016196","00907",310,"2016196","00907"]
["2016197 2016-07-22 9 1 5","2016197","00915",311,"2016197","00915"]
["2016198 2016-07-23 3 0 3","2016198","00303",312,"2016198","00303"]
["2016199 2016-07-24 3 4 7","2016199","00347",313,"2016199","00347"]
["2016200 2016-07-25 9 3 2","2016200","00932",314,"2016200","00932"]
["2016201 2016-07-26 3 2 0","2016201","00320",315,"2016201","00320"]
["2016202 2016-07-27 7 8 4","2016202","00784",316,"2016202","00784"]
["2016203 2016-07-28 9 7 5","2016203","00975",317,"2016203","00975"]
["2016204 2016-07-29 3 2 9","2016204","00329",318,"2016204","00329"]
["2016205 2016-07-30 4 9 9","2016205","00499",319,"2016205","00499"]
["2016206 2016-07-31 1 7 3","2016206","00173",320,"2016206","00173"]
["2016207 2016-08-01 5 9 6","2016207","00596",321,"2016207","00596"]
["2016208 2016-08-02 9 5 0","2016208",{"$f":"\"00\"&RIGHT(SUBSTITUTE(A323,\" \",\"\"),3)","v":"00950"},{"$f":"ROW()-$D$1004-1","v":322},{"$f":"OFFSET($B$1,$D323,)","v":"2016208"},{"$f":"OFFSET($C$1,$D323,)","v":"00950"}]
["2016209 2016-08-03 0 2 3",{"$f":"MID(A324,1,FIND(\" \",A324)-1)","v":"2016209"},"00023",323,"2016209","00023"]
["2016210 2016-08-04 2 7 9","2016210","00279",324,"2016210","00279"]
["2016211 2016-08-05 6 3 4","2016211","00634",325,"2016211","00634"]
["2016212 2016-08-06 0 3 8","2016212","00038",326,"2016212","00038"]
["2016213 2016-08-07 1 7 3","2016213","00173",327,"2016213","00173"]
["2016214 2016-08-08 9 4 2","2016214","00942",328,"2016214","00942"]
["2016215 2016-08-09 1 4 4","2016215","00144",329,"2016215","00144"]
["2016216 2016-08-10 3 3 4","2016216","00334",330,"2016216","00334"]
["2016217 2016-08-11 0 3 8","2016217","00038",331,"2016217","00038"]
["2016218 2016-08-12 2 3 3","2016218","00233",332,"2016218","00233"]
["2016219 2016-08-13 4 1 0","2016219","00410",333,"2016219","00410"]
["2016220 2016-08-14 3 6 7","2016220","00367",334,"2016220","00367"]
["2016221 2016-08-15 8 0 8","2016221","00808",335,"2016221","00808"]
["2016222 2016-08-16 4 0 4","2016222","00404",336,"2016222","00404"]
["2016223 2016-08-17 2 9 7","2016223","00297",337,"2016223","00297"]
["2016224 2016-08-18 2 7 8","2016224","00278",338,"2016224","00278"]
["2016225 2016-08-19 2 1 2","2016225","00212",339,"2016225","00212"]
["2016226 2016-08-20 2 8 9","2016226","00289",340,"2016226","00289"]
["2016227 2016-08-21 6 9 8","2016227","00698",341,"2016227","00698"]
["2016228 2016-08-22 1 8 8","2016228","00188",342,"2016228","00188"]
["2016229 2016-08-23 3 7 8","2016229","00378",343,"2016229","00378"]
["2016230 2016-08-24 4 9 7","2016230","00497",344,"2016230","00497"]
["2016231 2016-08-25 4 5 8","2016231","00458",345,"2016231","00458"]
["2016232 2016-08-26 1 3 2","2016232","00132",346,"2016232","00132"]
["2016233 2016-08-27 6 9 4","2016233","00694",347,"2016233","00694"]
["2016234 2016-08-28 2 0 4","2016234","00204",348,"2016234","00204"]
["2016235 2016-08-29 5 5 4","2016235","00554",349,"2016235","00554"]
["2016236 2016-08-30 8 9 1","2016236","00891",350,"2016236","00891"]
["2016237 2016-08-31 5 3 1","2016237","00531",351,"2016237","00531"]
["2016238 2016-09-01 0 3 7","2016238","00037",352,"2016238","00037"]
["2016239 2016-09-02 5 6 0","2016239","00560",353,"2016239","00560"]
["2016240 2016-09-03 0 8 7","2016240","00087",354,"2016240","00087"]
["2016241 2016-09-04 4 9 9","2016241","00499",355,"2016241","00499"]
["2016242 2016-09-05 3 9 5","2016242","00395",356,"2016242","00395"]
["2016243 2016-09-06 4 4 6","2016243","00446",357,"2016243","00446"]
["2016244 2016-09-07 6 9 9","2016244","00699",358,"2016244","00699"]
["2016245 2016-09-08 7 6 0","2016245","00760",359,"2016245","00760"]
["2016246 2016-09-09 3 1 9","2016246","00319",360,"2016246","00319"]
["2016247 2016-09-10 4 4 1","2016247","00441",361,"2016247","00441"]
["2016248 2016-09-11 1 3 9","2016248","00139",362,"2016248","00139"]
["2016249 2016-09-12 1 0 9","2016249","00109",363,"2016249","00109"]
["2016250 2016-09-13 4 1 6","2016250","00416",364,"2016250","00416"]
["2016251 2016-09-14 8 6 0","2016251","00860",365,"2016251","00860"]
["2016252 2016-09-15 0 5 2","2016252","00052",366,"2016252","00052"]
["2016253 2016-09-16 2 6 5","2016253","00265",367,"2016253","00265"]
["2016254 2016-09-17 5 6 4","2016254","00564",368,"2016254","00564"]
["2016255 2016-09-18 4 5 1","2016255","00451",369,"2016255","00451"]
["2016256 2016-09-19 6 2 8","2016256","00628",370,"2016256","00628"]
["2016257 2016-09-20 9 7 6","2016257","00976",371,"2016257","00976"]
["2016258 2016-09-21 2 6 6","2016258","00266",372,"2016258","00266"]
["2016259 2016-09-22 3 2 8","2016259","00328",373,"2016259","00328"]
["2016260 2016-09-23 0 6 1","2016260","00061",374,"2016260","00061"]
["2016261 2016-09-24 0 4 9","2016261","00049",375,"2016261","00049"]
["2016262 2016-09-25 6 5 9","2016262","00659",376,"2016262","00659"]
["2016263 2016-09-26 4 8 9","2016263","00489",377,"2016263","00489"]
["2016264 2016-09-27 8 9 8","2016264","00898",378,"2016264","00898"]
["2016265 2016-09-28 5 2 5","2016265","00525",379,"2016265","00525"]
["2016266 2016-09-29 9 1 4","2016266","00914",380,"2016266","00914"]
["2016267 2016-09-30 9 8 9","2016267","00989",381,"2016267","00989"]
["2016268 2016-10-01 1 0 5","2016268","00105",382,"2016268","00105"]
["2016269 2016-10-02 8 6 0","2016269","00860",383,"2016269","00860"]
["2016270 2016-10-03 4 1 1","2016270","00411",384,"2016270","00411"]
["2016271 2016-10-04 4 4 3","2016271","00443",385,"2016271","00443"]
["2016272 2016-10-05 3 7 3","2016272",{"$f":"\"00\"&RIGHT(SUBSTITUTE(A387,\" \",\"\"),3)","v":"00373"},{"$f":"ROW()-$D$1004-1","v":386},{"$f":"OFFSET($B$1,$D387,)","v":"2016272"},{"$f":"OFFSET($C$1,$D387,)","v":"00373"}]
["2016273 2016-10-06 5 6 5",{"$f":"MID(A388,1,FIND(\" \",A388)-1)","v":"2016273"},"00565",387,"2016273","00565"]
["2016274 2016-10-07 8 8 3","2016274","00883",388,"2016274","00883"]
["2016275 2016-10-08 8 7 4","2016275","00874",389,"2016275","00874"]
["2016276 2016-10-09 2 7 7","2016276","00277",390,"2016276","00277"]
["2016277 2016-10-10 0 8 5","2016277","00085",391,"2016277","00085"]
["2016278 2016-10-11 4 3 5","2016278","00435",392,"2016278","00435"]
["2016279 2016-10-12 6 2 4","2016279","00624",393,"2016279","00624"]
["2016280 2016-10-13 3 7 8","2016280","00378",394,"2016280","00378"]
["2016281 2016-10-14 9 9 8","2016281","00998",395,"2016281","00998"]
["2016282 2016-10-15 6 2 6","2016282","00626",396,"2016282","00626"]
["2016283 2016-10-16 7 4 0","2016283","00740",397,"2016283","00740"]
["2016284 2016-10-17 1 4 3","2016284","00143",398,"2016284","00143"]
["2016285 2016-10-18 8 4 8","2016285","00848",399,"2016285","00848"]
["2016286 2016-10-19 9 0 7","2016286","00907",400,"2016286","00907"]
["2016287 2016-10-20 6 2 1","2016287","00621",401,"2016287","00621"]
["2016288 2016-10-21 0 1 0","2016288","00010",402,"2016288","00010"]
["2016289 2016-10-22 3 5 9","2016289","00359",403,"2016289","00359"]
["2016290 2016-10-23 4 3 0","2016290","00430",404,"2016290","00430"]
["2016291 2016-10-24 1 3 7","2016291","00137",405,"2016291","00137"]
["2016292 2016-10-25 5 0 7","2016292","00507",406,"2016292","00507"]
["2016293 2016-10-26 3 2 6","2016293","00326",407,"2016293","00326"]
["2016294 2016-10-27 3 3 4","2016294","00334",408,"2016294","00334"]
["2016295 2016-10-28 7 8 9","2016295","00789",409,"2016295","00789"]
["2016296 2016-10-29 7 8 4","2016296","00784",410,"2016296","00784"]
["2016297 2016-10-30 1 6 0","2016297","00160",411,"2016297","00160"]
["2016298 2016-10-31 6 5 1","2016298","00651",412,"2016298","00651"]
["2016299 2016-11-01 0 4 5","2016299","00045",413,"2016299","00045"]
["2016300 2016-11-02 8 0 5","2016300","00805",414,"2016300","00805"]
["2016301 2016-11-03 5 7 2","2016301","00572",415,"2016301","00572"]
["2016302 2016-11-04 6 5 6","2016302","00656",416,"2016302","00656"]
["2016303 2016-11-05 8 0 1","2016303","00801",417,"2016303","00801"]
["2016304 2016-11-06 8 5 6","2016304","00856",418,"2016304","00856"]
["2016305 2016-11-07 7 4 4","2016305","00744",419,"2016305","00744"]
["2016306 2016-11-08 0 7 3","2016306","00073",420,"2016306","00073"]
["2016307 2016-11-09 9 9 7","2016307","00997",421,"2016307","00997"]
["2016308 2016-11-10 7 4 3","2016308","00743",422,"2016308","00743"]
["2016309 2016-11-11 8 3 0","2016309","00830",423,"2016309","00830"]
["2016310 2016-11-12 0 4 5","2016310","00045",424,"2016310","00045"]
["2016311 2016-11-13 3 9 8","2016311","00398",425,"2016311","00398"]
["2016312 2016-11-14 1 1 3","2016312","00113",426,"2016312","00113"]
["2016313 2016-11-15 3 7 3","2016313","00373",427,"2016313","00373"]
["2016314 2016-11-16 1 5 7","2016314","00157",428,"2016314","00157"]
["2016315 2016-11-17 8 8 8","2016315","00888",429,"2016315","00888"]
["2016316 2016-11-18 7 7 4","2016316","00774",430,"2016316","00774"]
["2016317 2016-11-19 2 4 3","2016317","00243",431,"2016317","00243"]
["2016318 2016-11-20 4 7 0","2016318","00470",432,"2016318","00470"]
["2016319 2016-11-21 5 5 7","2016319","00557",433,"2016319","00557"]
["2016320 2016-11-22 5 2 9","2016320","00529",434,"2016320","00529"]
["2016321 2016-11-23 8 3 2","2016321","00832",435,"2016321","00832"]
["2016322 2016-11-24 1 5 3","2016322","00153",436,"2016322","00153"]
["2016323 2016-11-25 8 7 7","2016323","00877",437,"2016323","00877"]
["2016324 2016-11-26 6 6 3","2016324","00663",438,"2016324","00663"]
["2016325 2016-11-27 9 6 1","2016325","00961",439,"2016325","00961"]
["2016326 2016-11-28 6 9 0","2016326","00690",440,"2016326","00690"]
["2016327 2016-11-29 8 3 1","2016327","00831",441,"2016327","00831"]
["2016328 2016-11-30 7 0 9","2016328","00709",442,"2016328","00709"]
["2016329 2016-12-01 2 4 4","2016329","00244",443,"2016329","00244"]
["2016330 2016-12-02 3 1 8","2016330","00318",444,"2016330","00318"]
["2016331 2016-12-03 9 8 3","2016331","00983",445,"2016331","00983"]
["2016332 2016-12-04 7 7 6","2016332","00776",446,"2016332","00776"]
["2016333 2016-12-05 0 5 4","2016333","00054",447,"2016333","00054"]
["2016334 2016-12-06 1 8 9","2016334","00189",448,"2016334","00189"]
["2016335 2016-12-07 5 5 0","2016335","00550",449,"2016335","00550"]
["2016336 2016-12-08 0 9 7","2016336",{"$f":"\"00\"&RIGHT(SUBSTITUTE(A451,\" \",\"\"),3)","v":"00097"},{"$f":"ROW()-$D$1004-1","v":450},{"$f":"OFFSET($B$1,$D451,)","v":"2016336"},{"$f":"OFFSET($C$1,$D451,)","v":"00097"}]
["2016337 2016-12-09 2 9 9",{"$f":"MID(A452,1,FIND(\" \",A452)-1)","v":"2016337"},"00299",451,"2016337","00299"]
["2016338 2016-12-10 3 0 1","2016338","00301",452,"2016338","00301"]
["2016339 2016-12-11 2 6 2","2016339","00262",453,"2016339","00262"]
["2016340 2016-12-12 4 9 3","2016340","00493",454,"2016340","00493"]
["2016341 2016-12-13 1 5 1","2016341","00151",455,"2016341","00151"]
["2016342 2016-12-14 4 4 8","2016342","00448",456,"2016342","00448"]
["2016343 2016-12-15 2 2 5","2016343","00225",457,"2016343","00225"]
["2016344 2016-12-16 3 6 7","2016344","00367",458,"2016344","00367"]
["2016345 2016-12-17 5 5 9","2016345","00559",459,"2016345","00559"]
["2016346 2016-12-18 0 2 9","2016346","00029",460,"2016346","00029"]
["2016347 2016-12-19 8 0 6","2016347","00806",461,"2016347","00806"]
["2016348 2016-12-20 2 8 9","2016348","00289",462,"2016348","00289"]
["2016349 2016-12-21 0 4 9","2016349","00049",463,"2016349","00049"]
["2016350 2016-12-22 3 8 3","2016350","00383",464,"2016350","00383"]
["2016351 2016-12-23 8 1 8","2016351","00818",465,"2016351","00818"]
["2016352 2016-12-24 0 1 6","2016352","00016",466,"2016352","00016"]
["2016353 2016-12-25 0 8 4","2016353","00084",467,"2016353","00084"]
["2016354 2016-12-26 4 2 8","2016354","00428",468,"2016354","00428"]
["2016355 2016-12-27 9 4 2","2016355","00942",469,"2016355","00942"]
["2016356 2016-12-28 1 2 5","2016356","00125",470,"2016356","00125"]
["2016357 2016-12-29 4 1 5","2016357","00415",471,"2016357","00415"]
["2016358 2016-12-30 1 1 0","2016358","00110",472,"2016358","00110"]
["2016359 2016-12-31 8 8 3","2016359","00883",473,"2016359","00883"]
["2017001 2017-01-01 3 6 9","2017001","00369",474,"2017001","00369"]
["2017002 2017-01-02 7 7 9","2017002","00779",475,"2017002","00779"]
["2017003 2017-01-03 6 5 0","2017003","00650",476,"2017003","00650"]
["2017004 2017-01-04 3 1 7","2017004","00317",477,"2017004","00317"]
["2017005 2017-01-05 2 4 6","2017005","00246",478,"2017005","00246"]
["2017006 2017-01-06 8 8 8","2017006","00888",479,"2017006","00888"]
["2017007 2017-01-07 7 8 3","2017007","00783",480,"2017007","00783"]
["2017008 2017-01-08 1 6 9","2017008","00169",481,"2017008","00169"]
["2017009 2017-01-09 2 0 2","2017009","00202",482,"2017009","00202"]
["2017010 2017-01-10 9 7 6","2017010","00976",483,"2017010","00976"]
["2017011 2017-01-11 9 0 9","2017011","00909",484,"2017011","00909"]
["2017012 2017-01-12 1 2 5","2017012","00125",485,"2017012","00125"]
["2017013 2017-01-13 5 8 2","2017013","00582",486,"2017013","00582"]
["2017014 2017-01-14 2 2 1","2017014","00221",487,"2017014","00221"]
["2017015 2017-01-15 9 5 0","2017015","00950",488,"2017015","00950"]
["2017016 2017-01-16 4 6 9","2017016","00469",489,"2017016","00469"]
["2017017 2017-01-17 8 1 7","2017017","00817",490,"2017017","00817"]
["2017018 2017-01-18 3 1 5","2017018","00315",491,"2017018","00315"]
["2017019 2017-01-19 6 0 6","2017019","00606",492,"2017019","00606"]
["2017020 2017-01-20 8 9 3","2017020","00893",493,"2017020","00893"]
["2017021 2017-01-21 8 5 4","2017021","00854",494,"2017021","00854"]
["2017022 2017-01-22 0 2 8","2017022","00028",495,"2017022","00028"]
["2017023 2017-01-23 2 5 0","2017023","00250",496,"2017023","00250"]
["2017024 2017-01-24 7 0 9","2017024","00709",497,"2017024","00709"]
["2017025 2017-01-25 3 5 9","2017025","00359",498,"2017025","00359"]
["2017026 2017-01-26 2 5 9","2017026","00259",499,"2017026","00259"]
["2017027 2017-02-03 8 7 3","2017027","00873",500,"2017027","00873"]
["2017028 2017-02-04 1 9 3","2017028","00193",501,"2017028","00193"]
["2017029 2017-02-05 2 7 2","2017029","00272",502,"2017029","00272"]
["2017030 2017-02-06 1 0 7","2017030","00107",503,"2017030","00107"]
["2017031 2017-02-07 3 7 6","2017031","00376",504,"2017031","00376"]
["2017032 2017-02-08 2 3 7","2017032","00237",505,"2017032","00237"]
["2017033 2017-02-09 1 1 4","2017033","00114",506,"2017033","00114"]
["2017034 2017-02-10 3 4 8","2017034","00348",507,"2017034","00348"]
["2017035 2017-02-11 6 2 4","2017035","00624",508,"2017035","00624"]
["2017036 2017-02-12 6 5 0","2017036","00650",509,"2017036","00650"]
["2017037 2017-02-13 8 9 7","2017037","00897",510,"2017037","00897"]
["2017038 2017-02-14 1 3 4","2017038","00134",511,"2017038","00134"]
["2017039 2017-02-15 3 9 5","2017039","00395",512,"2017039","00395"]
["2017040 2017-02-16 8 9 9","2017040","00899",513,"2017040","00899"]
["2017041 2017-02-17 4 8 0","2017041",{"$f":"\"00\"&RIGHT(SUBSTITUTE(A515,\" \",\"\"),3)","v":"00480"},{"$f":"ROW()-$D$1004-1","v":514},{"$f":"OFFSET($B$1,$D515,)","v":"2017041"},{"$f":"OFFSET($C$1,$D515,)","v":"00480"}]
["2017042 2017-02-18 0 0 0",{"$f":"MID(A516,1,FIND(\" \",A516)-1)","v":"2017042"},"00000",515,"2017042","00000"]
["2017043 2017-02-19 0 5 0","2017043","00050",516,"2017043","00050"]
["2017044 2017-02-20 8 6 1","2017044","00861",517,"2017044","00861"]
["2017045 2017-02-21 6 7 9","2017045","00679",518,"2017045","00679"]
["2017046 2017-02-22 5 7 0","2017046","00570",519,"2017046","00570"]
["2017047 2017-02-23 9 4 5","2017047","00945",520,"2017047","00945"]
["2017048 2017-02-24 5 5 7","2017048","00557",521,"2017048","00557"]
["2017049 2017-02-25 0 3 6","2017049","00036",522,"2017049","00036"]
["2017050 2017-02-26 2 7 8","2017050","00278",523,"2017050","00278"]
["2017051 2017-02-27 7 0 2","2017051","00702",524,"2017051","00702"]
["2017052 2017-02-28 7 3 1","2017052","00731",525,"2017052","00731"]
["2017053 2017-03-01 6 5 2","2017053","00652",526,"2017053","00652"]
["2017054 2017-03-02 7 5 4","2017054","00754",527,"2017054","00754"]
["2017055 2017-03-03 2 7 6","2017055","00276",528,"2017055","00276"]
["2017056 2017-03-04 1 0 2","2017056","00102",529,"2017056","00102"]
["2017057 2017-03-05 2 4 2","2017057","00242",530,"2017057","00242"]
["2017058 2017-03-06 2 6 2","2017058","00262",531,"2017058","00262"]
["2017059 2017-03-07 1 4 3","2017059","00143",532,"2017059","00143"]
["2017060 2017-03-08 8 6 8","2017060","00868",533,"2017060","00868"]
["2017061 2017-03-09 4 5 4","2017061","00454",534,"2017061","00454"]
["2017062 2017-03-10 9 7 5","2017062","00975",535,"2017062","00975"]
["2017063 2017-03-11 8 6 4","2017063","00864",536,"2017063","00864"]
["2017064 2017-03-12 1 5 8","2017064","00158",537,"2017064","00158"]
["2017065 2017-03-13 5 7 7","2017065","00577",538,"2017065","00577"]
["2017066 2017-03-14 3 2 2","2017066","00322",539,"2017066","00322"]
["2017067 2017-03-15 6 4 4","2017067","00644",540,"2017067","00644"]
["2017068 2017-03-16 9 1 0","2017068","00910",541,"2017068","00910"]
["2017069 2017-03-17 5 1 8","2017069","00518",542,"2017069","00518"]
["2017070 2017-03-18 2 3 1","2017070","00231",543,"2017070","00231"]
["2017071 2017-03-19 8 8 2","2017071","00882",544,"2017071","00882"]
["2017072 2017-03-20 1 7 4","2017072","00174",545,"2017072","00174"]
["2017073 2017-03-21 0 7 5","2017073","00075",546,"2017073","00075"]
["2017074 2017-03-22 5 7 6","2017074","00576",547,"2017074","00576"]
["2017075 2017-03-23 7 8 7","2017075","00787",548,"2017075","00787"]
["2017076 2017-03-24 0 7 4","2017076","00074",549,"2017076","00074"]
["2017077 2017-03-25 0 2 0","2017077","00020",550,"2017077","00020"]
["2017078 2017-03-26 4 4 9","2017078","00449",551,"2017078","00449"]
["2017079 2017-03-27 4 8 7","2017079","00487",552,"2017079","00487"]
["2017080 2017-03-28 7 3 5","2017080","00735",553,"2017080","00735"]
["2017081 2017-03-29 1 2 9","2017081","00129",554,"2017081","00129"]
["2017082 2017-03-30 6 2 5","2017082","00625",555,"2017082","00625"]
["2017083 2017-03-31 1 0 5","2017083","00105",556,"2017083","00105"]
["2017084 2017-04-01 8 2 2","2017084","00822",557,"2017084","00822"]
["2017085 2017-04-02 5 6 0","2017085","00560",558,"2017085","00560"]
["2017086 2017-04-03 6 9 7","2017086","00697",559,"2017086","00697"]
["2017087 2017-04-04 3 7 7","2017087","00377",560,"2017087","00377"]
["2017088 2017-04-05 3 6 6","2017088","00366",561,"2017088","00366"]
["2017089 2017-04-06 5 1 8","2017089","00518",562,"2017089","00518"]
["2017090 2017-04-07 3 9 0","2017090","00390",563,"2017090","00390"]
["2017091 2017-04-08 3 4 1","2017091","00341",564,"2017091","00341"]
["2017092 2017-04-09 3 0 5","2017092","00305",565,"2017092","00305"]
["2017093 2017-04-10 8 4 0","2017093","00840",566,"2017093","00840"]
["2017094 2017-04-11 5 7 3","2017094","00573",567,"2017094","00573"]
["2017095 2017-04-12 5 9 3","2017095","00593",568,"2017095","00593"]
["2017096 2017-04-13 4 7 0","2017096","00470",569,"2017096","00470"]
["2017097 2017-04-14 7 4 9","2017097","00749",570,"2017097","00749"]
["2017098 2017-04-15 4 0 7","2017098","00407",571,"2017098","00407"]
["2017099 2017-04-16 0 4 6","2017099","00046",572,"2017099","00046"]
["2017100 2017-04-17 5 9 6","2017100","00596",573,"2017100","00596"]
["2017101 2017-04-18 8 0 9","2017101","00809",574,"2017101","00809"]
["2017102 2017-04-19 6 9 8","2017102","00698",575,"2017102","00698"]
["2017103 2017-04-20 3 5 0","2017103","00350",576,"2017103","00350"]
["2017104 2017-04-21 5 2 4","2017104","00524",577,"2017104","00524"]
["2017105 2017-04-22 4 2 1","2017105",{"$f":"\"00\"&RIGHT(SUBSTITUTE(A579,\" \",\"\"),3)","v":"00421"},{"$f":"ROW()-$D$1004-1","v":578},{"$f":"OFFSET($B$1,$D579,)","v":"2017105"},{"$f":"OFFSET($C$1,$D579,)","v":"00421"}]
["2017106 2017-04-23 9 3 6",{"$f":"MID(A580,1,FIND(\" \",A580)-1)","v":"2017106"},"00936",579,"2017106","00936"]
["2017107 2017-04-24 7 2 5","2017107","00725",580,"2017107","00725"]
["2017108 2017-04-25 5 5 7","2017108","00557",581,"2017108","00557"]
["2017109 2017-04-26 4 8 8","2017109","00488",582,"2017109","00488"]
["2017110 2017-04-27 2 6 6","2017110","00266",583,"2017110","00266"]
["2017111 2017-04-28 3 3 1","2017111","00331",584,"2017111","00331"]
["2017112 2017-04-29 6 9 5","2017112","00695",585,"2017112","00695"]
["2017113 2017-04-30 7 4 5","2017113","00745",586,"2017113","00745"]
["2017114 2017-05-01 1 6 7","2017114","00167",587,"2017114","00167"]
["2017115 2017-05-02 1 6 0","2017115","00160",588,"2017115","00160"]
["2017116 2017-05-03 8 1 4","2017116","00814",589,"2017116","00814"]
["2017117 2017-05-04 7 3 1","2017117","00731",590,"2017117","00731"]
["2017118 2017-05-05 6 0 5","2017118","00605",591,"2017118","00605"]
["2017119 2017-05-06 5 0 9","2017119","00509",592,"2017119","00509"]
["2017120 2017-05-07 2 8 4","2017120","00284",593,"2017120","00284"]
["2017121 2017-05-08 4 3 9","2017121","00439",594,"2017121","00439"]
["2017122 2017-05-09 0 4 5","2017122","00045",595,"2017122","00045"]
["2017123 2017-05-10 0 0 8","2017123","00008",596,"2017123","00008"]
["2017124 2017-05-11 0 1 5","2017124","00015",597,"2017124","00015"]
["2017125 2017-05-12 8 7 8","2017125","00878",598,"2017125","00878"]
["2017126 2017-05-13 4 9 9","2017126","00499",599,"2017126","00499"]
["2017127 2017-05-14 6 2 3","2017127","00623",600,"2017127","00623"]
["2017128 2017-05-15 0 5 5","2017128","00055",601,"2017128","00055"]
["2017129 2017-05-16 5 6 6","2017129","00566",602,"2017129","00566"]
["2017130 2017-05-17 6 7 6","2017130","00676",603,"2017130","00676"]
["2017131 2017-05-18 4 8 2","2017131","00482",604,"2017131","00482"]
["2017132 2017-05-19 5 5 6","2017132","00556",605,"2017132","00556"]
["2017133 2017-05-20 9 2 0","2017133","00920",606,"2017133","00920"]
["2017134 2017-05-21 3 5 9","2017134","00359",607,"2017134","00359"]
["2017135 2017-05-22 0 7 7","2017135","00077",608,"2017135","00077"]
["2017136 2017-05-23 8 8 8","2017136","00888",609,"2017136","00888"]
["2017137 2017-05-24 1 1 9","2017137","00119",610,"2017137","00119"]
["2017138 2017-05-25 1 8 1","2017138","00181",611,"2017138","00181"]
["2017139 2017-05-26 6 9 5","2017139","00695",612,"2017139","00695"]
["2017140 2017-05-27 6 1 4","2017140","00614",613,"2017140","00614"]
["2017141 2017-05-28 1 1 5","2017141","00115",614,"2017141","00115"]
["2017142 2017-05-29 8 7 7","2017142","00877",615,"2017142","00877"]
["2017143 2017-05-30 6 9 8","2017143","00698",616,"2017143","00698"]
["2017144 2017-05-31 5 8 5","2017144","00585",617,"2017144","00585"]
["2017145 2017-06-01 9 4 5","2017145","00945",618,"2017145","00945"]
["2017146 2017-06-02 5 4 9","2017146","00549",619,"2017146","00549"]
["2017147 2017-06-03 2 9 9","2017147","00299",620,"2017147","00299"]
["2017148 2017-06-04 7 3 9","2017148","00739",621,"2017148","00739"]
["2017149 2017-06-05 7 3 9","2017149","00739",622,"2017149","00739"]
["2017150 2017-06-06 1 1 3","2017150","00113",623,"2017150","00113"]
["2017151 2017-06-07 0 7 6","2017151","00076",624,"2017151","00076"]
["2017152 2017-06-08 7 0 7","2017152","00707",625,"2017152","00707"]
["2017153 2017-06-09 6 0 8","2017153","00608",626,"2017153","00608"]
["2017154 2017-06-10 3 6 3","2017154","00363",627,"2017154","00363"]
["2017155 2017-06-11 9 3 5","2017155","00935",628,"2017155","00935"]
["2017156 2017-06-12 2 4 8","2017156","00248",629,"2017156","00248"]
["2017157 2017-06-13 1 7 3","2017157","00173",630,"2017157","00173"]
["2017158 2017-06-14 2 8 5","2017158","00285",631,"2017158","00285"]
["2017159 2017-06-15 8 7 2","2017159","00872",632,"2017159","00872"]
["2017160 2017-06-16 2 1 0","2017160","00210",633,"2017160","00210"]
["2017161 2017-06-17 7 9 7","2017161","00797",634,"2017161","00797"]
["2017162 2017-06-18 3 9 8","2017162","00398",635,"2017162","00398"]
["2017163 2017-06-19 0 0 8","2017163","00008",636,"2017163","00008"]
["2017164 2017-06-20 3 1 2","2017164","00312",637,"2017164","00312"]
["2017165 2017-06-21 3 3 3","2017165","00333",638,"2017165","00333"]
["2017166 2017-06-22 4 9 6","2017166","00496",639,"2017166","00496"]
["2017167 2017-06-23 4 7 1","2017167","00471",640,"2017167","00471"]
["2017168 2017-06-24 1 3 6","2017168","00136",641,"2017168","00136"]
["2017169 2017-06-25 8 5 4","2017169",{"$f":"\"00\"&RIGHT(SUBSTITUTE(A643,\" \",\"\"),3)","v":"00854"},{"$f":"ROW()-$D$1004-1","v":642},{"$f":"OFFSET($B$1,$D643,)","v":"2017169"},{"$f":"OFFSET($C$1,$D643,)","v":"00854"}]
["2017170 2017-06-26 8 8 1",{"$f":"MID(A644,1,FIND(\" \",A644)-1)","v":"2017170"},"00881",643,"2017170","00881"]
["2017171 2017-06-27 3 4 6","2017171","00346",644,"2017171","00346"]
["2017172 2017-06-28 5 5 8","2017172","00558",645,"2017172","00558"]
["2017173 2017-06-29 6 9 4","2017173","00694",646,"2017173","00694"]
["2017174 2017-06-30 4 1 4","2017174","00414",647,"2017174","00414"]
["2017175 2017-07-01 0 0 1","2017175","00001",648,"2017175","00001"]
["2017176 2017-07-02 2 7 6","2017176","00276",649,"2017176","00276"]
["2017177 2017-07-03 9 7 5","2017177","00975",650,"2017177","00975"]
["2017178 2017-07-04 7 4 4","2017178","00744",651,"2017178","00744"]
["2017179 2017-07-05 1 5 9","2017179","00159",652,"2017179","00159"]
["2017180 2017-07-06 3 6 4","2017180","00364",653,"2017180","00364"]
["2017181 2017-07-07 5 6 9","2017181","00569",654,"2017181","00569"]
["2017182 2017-07-08 1 4 8","2017182","00148",655,"2017182","00148"]
["2017183 2017-07-09 9 9 4","2017183","00994",656,"2017183","00994"]
["2017184 2017-07-10 8 9 9","2017184","00899",657,"2017184","00899"]
["2017185 2017-07-11 2 2 8","2017185","00228",658,"2017185","00228"]
["2017186 2017-07-12 0 3 3","2017186","00033",659,"2017186","00033"]
["2017187 2017-07-13 6 1 3","2017187","00613",660,"2017187","00613"]
["2017188 2017-07-14 7 4 1","2017188","00741",661,"2017188","00741"]
["2017189 2017-07-15 5 6 2","2017189","00562",662,"2017189","00562"]
["2017190 2017-07-16 8 8 3","2017190","00883",663,"2017190","00883"]
["2017191 2017-07-17 5 6 7","2017191","00567",664,"2017191","00567"]
["2017192 2017-07-18 4 0 6","2017192","00406",665,"2017192","00406"]
["2017193 2017-07-19 3 5 2","2017193","00352",666,"2017193","00352"]
["2017194 2017-07-20 4 6 6","2017194","00466",667,"2017194","00466"]
["2017195 2017-07-21 6 8 6","2017195","00686",668,"2017195","00686"]
["2017196 2017-07-22 1 7 4","2017196","00174",669,"2017196","00174"]
["2017197 2017-07-23 6 8 1","2017197","00681",670,"2017197","00681"]
["2017198 2017-07-24 7 0 3","2017198","00703",671,"2017198","00703"]
["2017199 2017-07-25 3 6 7","2017199","00367",672,"2017199","00367"]
["2017200 2017-07-26 8 2 7","2017200","00827",673,"2017200","00827"]
["2017201 2017-07-27 3 5 8","2017201","00358",674,"2017201","00358"]
["2017202 2017-07-28 9 9 6","2017202","00996",675,"2017202","00996"]
["2017203 2017-07-29 0 7 0","2017203","00070",676,"2017203","00070"]
["2017204 2017-07-30 0 5 3","2017204","00053",677,"2017204","00053"]
["2017205 2017-07-31 7 7 0","2017205","00770",678,"2017205","00770"]
["2017206 2017-08-01 3 4 4","2017206","00344",679,"2017206","00344"]
["2017207 2017-08-02 3 3 1","2017207","00331",680,"2017207","00331"]
["2017208 2017-08-03 8 2 2","2017208","00822",681,"2017208","00822"]
["2017209 2017-08-04 3 5 4","2017209","00354",682,"2017209","00354"]
["2017210 2017-08-05 2 5 6","2017210","00256",683,"2017210","00256"]
["2017211 2017-08-06 1 2 4","2017211","00124",684,"2017211","00124"]
["2017212 2017-08-07 7 1 6","2017212","00716",685,"2017212","00716"]
["2017213 2017-08-08 9 8 6","2017213","00986",686,"2017213","00986"]
["2017214 2017-08-09 3 1 3","2017214","00313",687,"2017214","00313"]
["2017215 2017-08-10 3 6 9","2017215","00369",688,"2017215","00369"]
["2017216 2017-08-11 0 6 3","2017216","00063",689,"2017216","00063"]
["2017217 2017-08-12 8 1 2","2017217","00812",690,"2017217","00812"]
["2017218 2017-08-13 9 1 1","2017218","00911",691,"2017218","00911"]
["2017219 2017-08-14 5 1 3","2017219","00513",692,"2017219","00513"]
["2017220 2017-08-15 2 8 7","2017220","00287",693,"2017220","00287"]
["2017221 2017-08-16 8 5 7","2017221","00857",694,"2017221","00857"]
["2017222 2017-08-17 7 3 1","2017222","00731",695,"2017222","00731"]
["2017223 2017-08-18 7 7 8","2017223","00778",696,"2017223","00778"]
["2017224 2017-08-19 2 6 5","2017224","00265",697,"2017224","00265"]
["2017225 2017-08-20 8 0 1","2017225","00801",698,"2017225","00801"]
["2017226 2017-08-21 9 0 3","2017226","00903",699,"2017226","00903"]
["2017227 2017-08-22 8 8 5","2017227","00885",700,"2017227","00885"]
["2017228 2017-08-23 5 3 5","2017228","00535",701,"2017228","00535"]
["2017229 2017-08-24 7 0 7","2017229","00707",702,"2017229","00707"]
["2017230 2017-08-25 5 9 8","2017230","00598",703,"2017230","00598"]
["2017231 2017-08-26 7 4 8","2017231","00748",704,"2017231","00748"]
["2017232 2017-08-27 0 9 1","2017232","00091",705,"2017232","00091"]
["2017233 2017-08-28 9 5 2","2017233",{"$f":"\"00\"&RIGHT(SUBSTITUTE(A707,\" \",\"\"),3)","v":"00952"},{"$f":"ROW()-$D$1004-1","v":706},{"$f":"OFFSET($B$1,$D707,)","v":"2017233"},{"$f":"OFFSET($C$1,$D707,)","v":"00952"}]
["2017234 2017-08-29 8 9 5",{"$f":"MID(A708,1,FIND(\" \",A708)-1)","v":"2017234"},"00895",707,"2017234","00895"]
["2017235 2017-08-30 3 6 2","2017235","00362",708,"2017235","00362"]
["2017236 2017-08-31 9 3 7","2017236","00937",709,"2017236","00937"]
["2017237 2017-09-01 1 3 5","2017237","00135",710,"2017237","00135"]
["2017238 2017-09-02 5 1 7","2017238","00517",711,"2017238","00517"]
["2017239 2017-09-03 3 8 9","2017239","00389",712,"2017239","00389"]
["2017240 2017-09-04 5 9 1","2017240","00591",713,"2017240","00591"]
["2017241 2017-09-05 6 6 4","2017241","00664",714,"2017241","00664"]
["2017242 2017-09-06 2 3 7","2017242","00237",715,"2017242","00237"]
["2017243 2017-09-07 7 5 1","2017243","00751",716,"2017243","00751"]
["2017244 2017-09-08 0 4 8","2017244","00048",717,"2017244","00048"]
["2017245 2017-09-09 2 8 4","2017245","00284",718,"2017245","00284"]
["2017246 2017-09-10 7 7 8","2017246","00778",719,"2017246","00778"]
["2017247 2017-09-11 3 7 0","2017247","00370",720,"2017247","00370"]
["2017248 2017-09-12 8 5 6","2017248","00856",721,"2017248","00856"]
["2017249 2017-09-13 3 0 2","2017249","00302",722,"2017249","00302"]
["2017250 2017-09-14 1 4 2","2017250","00142",723,"2017250","00142"]
["2017251 2017-09-15 9 5 1","2017251","00951",724,"2017251","00951"]
["2017252 2017-09-16 3 8 7","2017252","00387",725,"2017252","00387"]
["2017253 2017-09-17 3 2 6","2017253","00326",726,"2017253","00326"]
["2017254 2017-09-18 6 3 9","2017254","00639",727,"2017254","00639"]
["2017255 2017-09-19 5 2 1","2017255","00521",728,"2017255","00521"]
["2017256 2017-09-20 3 6 2","2017256","00362",729,"2017256","00362"]
["2017257 2017-09-21 2 3 4","2017257","00234",730,"2017257","00234"]
["2017258 2017-09-22 3 6 1","2017258","00361",731,"2017258","00361"]
["2017259 2017-09-23 4 8 1","2017259","00481",732,"2017259","00481"]
["2017260 2017-09-24 0 9 5","2017260","00095",733,"2017260","00095"]
["2017261 2017-09-25 6 8 6","2017261","00686",734,"2017261","00686"]
["2017262 2017-09-26 9 1 2","2017262","00912",735,"2017262","00912"]
["2017263 2017-09-27 6 7 2","2017263","00672",736,"2017263","00672"]
["2017264 2017-09-28 9 3 3","2017264","00933",737,"2017264","00933"]
["2017265 2017-09-29 3 7 2","2017265","00372",738,"2017265","00372"]
["2017266 2017-09-30 2 0 3","2017266","00203",739,"2017266","00203"]
["2017267 2017-10-01 7 7 0","2017267","00770",740,"2017267","00770"]
["2017268 2017-10-02 5 7 8","2017268","00578",741,"2017268","00578"]
["2017269 2017-10-03 9 3 8","2017269","00938",742,"2017269","00938"]
["2017270 2017-10-04 1 3 5","2017270","00135",743,"2017270","00135"]
["2017271 2017-10-05 4 2 8","2017271","00428",744,"2017271","00428"]
["2017272 2017-10-06 9 3 4","2017272","00934",745,"2017272","00934"]
["2017273 2017-10-07 2 6 7","2017273","00267",746,"2017273","00267"]
["2017274 2017-10-08 9 4 4","2017274","00944",747,"2017274","00944"]
["2017275 2017-10-09 8 9 8","2017275","00898",748,"2017275","00898"]
["2017276 2017-10-10 8 8 7","2017276","00887",749,"2017276","00887"]
["2017277 2017-10-11 5 5 7","2017277","00557",750,"2017277","00557"]
["2017278 2017-10-12 9 0 2","2017278","00902",751,"2017278","00902"]
["2017279 2017-10-13 4 5 3","2017279","00453",752,"2017279","00453"]
["2017280 2017-10-14 6 5 8","2017280","00658",753,"2017280","00658"]
["2017281 2017-10-15 6 0 9","2017281","00609",754,"2017281","00609"]
["2017282 2017-10-16 5 6 8","2017282","00568",755,"2017282","00568"]
["2017283 2017-10-17 3 5 5","2017283","00355",756,"2017283","00355"]
["2017284 2017-10-18 1 3 1","2017284","00131",757,"2017284","00131"]
["2017285 2017-10-19 4 3 4","2017285","00434",758,"2017285","00434"]
["2017286 2017-10-20 5 1 2","2017286","00512",759,"2017286","00512"]
["2017287 2017-10-21 2 8 5","2017287","00285",760,"2017287","00285"]
["2017288 2017-10-22 3 0 0","2017288","00300",761,"2017288","00300"]
["2017289 2017-10-23 2 3 6","2017289","00236",762,"2017289","00236"]
["2017290 2017-10-24 2 8 5","2017290","00285",763,"2017290","00285"]
["2017291 2017-10-25 7 6 5","2017291","00765",764,"2017291","00765"]
["2017292 2017-10-26 7 1 5","2017292","00715",765,"2017292","00715"]
["2017293 2017-10-27 6 6 9","2017293","00669",766,"2017293","00669"]
["2017294 2017-10-28 7 5 7","2017294","00757",767,"2017294","00757"]
["2017295 2017-10-29 7 2 3","2017295","00723",768,"2017295","00723"]
["2017296 2017-10-30 9 5 9","2017296","00959",769,"2017296","00959"]
["2017297 2017-10-31 4 6 2","2017297",{"$f":"\"00\"&RIGHT(SUBSTITUTE(A771,\" \",\"\"),3)","v":"00462"},{"$f":"ROW()-$D$1004-1","v":770},{"$f":"OFFSET($B$1,$D771,)","v":"2017297"},{"$f":"OFFSET($C$1,$D771,)","v":"00462"}]
["2017298 2017-11-01 2 1 8",{"$f":"MID(A772,1,FIND(\" \",A772)-1)","v":"2017298"},"00218",771,"2017298","00218"]
["2017299 2017-11-02 9 2 1","2017299","00921",772,"2017299","00921"]
["2017300 2017-11-03 0 5 0","2017300","00050",773,"2017300","00050"]
["2017301 2017-11-04 3 9 1","2017301","00391",774,"2017301","00391"]
["2017302 2017-11-05 2 4 1","2017302","00241",775,"2017302","00241"]
["2017303 2017-11-06 4 9 7","2017303","00497",776,"2017303","00497"]
["2017304 2017-11-07 1 0 9","2017304","00109",777,"2017304","00109"]
["2017305 2017-11-08 4 2 0","2017305","00420",778,"2017305","00420"]
["2017306 2017-11-09 8 1 7","2017306","00817",779,"2017306","00817"]
["2017307 2017-11-10 5 1 7","2017307","00517",780,"2017307","00517"]
["2017308 2017-11-11 7 1 0","2017308","00710",781,"2017308","00710"]
["2017309 2017-11-12 8 7 9","2017309","00879",782,"2017309","00879"]
["2017310 2017-11-13 1 3 6","2017310","00136",783,"2017310","00136"]
["2017311 2017-11-14 9 7 9","2017311","00979",784,"2017311","00979"]
["2017312 2017-11-15 1 1 4","2017312","00114",785,"2017312","00114"]
["2017313 2017-11-16 2 3 2","2017313","00232",786,"2017313","00232"]
["2017314 2017-11-17 3 0 0","2017314","00300",787,"2017314","00300"]
["2017315 2017-11-18 7 9 1","2017315","00791",788,"2017315","00791"]
["2017316 2017-11-19 7 2 3","2017316","00723",789,"2017316","00723"]
["2017317 2017-11-20 7 7 1","2017317","00771",790,"2017317","00771"]
["2017318 2017-11-21 8 5 6","2017318","00856",791,"2017318","00856"]
["2017319 2017-11-22 1 0 5","2017319","00105",792,"2017319","00105"]
["2017320 2017-11-23 5 4 3","2017320","00543",793,"2017320","00543"]
["2017321 2017-11-24 1 8 8","2017321","00188",794,"2017321","00188"]
["2017322 2017-11-25 4 1 9","2017322","00419",795,"2017322","00419"]
["2017323 2017-11-26 2 8 0","2017323","00280",796,"2017323","00280"]
["2017324 2017-11-27 6 3 7","2017324","00637",797,"2017324","00637"]
["2017325 2017-11-28 4 0 6","2017325","00406",798,"2017325","00406"]
["2017326 2017-11-29 4 9 0","2017326","00490",799,"2017326","00490"]
["2017327 2017-11-30 3 5 1","2017327","00351",800,"2017327","00351"]
["2017328 2017-12-01 0 3 0","2017328","00030",801,"2017328","00030"]
["2017329 2017-12-02 9 1 3","2017329","00913",802,"2017329","00913"]
["2017330 2017-12-03 4 3 0","2017330","00430",803,"2017330","00430"]
["2017331 2017-12-04 7 8 2","2017331","00782",804,"2017331","00782"]
["2017332 2017-12-05 8 0 4","2017332","00804",805,"2017332","00804"]
["2017333 2017-12-06 4 4 2","2017333","00442",806,"2017333","00442"]
["2017334 2017-12-07 9 0 5","2017334","00905",807,"2017334","00905"]
["2017335 2017-12-08 7 0 5","2017335","00705",808,"2017335","00705"]
["2017336 2017-12-09 7 7 5","2017336","00775",809,"2017336","00775"]
["2017337 2017-12-10 4 4 4","2017337","00444",810,"2017337","00444"]
["2017338 2017-12-11 9 0 1","2017338","00901",811,"2017338","00901"]
["2017339 2017-12-12 8 5 3","2017339","00853",812,"2017339","00853"]
["2017340 2017-12-13 7 1 4","2017340","00714",813,"2017340","00714"]
["2017341 2017-12-14 1 6 2","2017341","00162",814,"2017341","00162"]
["2017342 2017-12-15 9 6 0","2017342","00960",815,"2017342","00960"]
["2017343 2017-12-16 8 6 1","2017343","00861",816,"2017343","00861"]
["2017344 2017-12-17 6 9 8","2017344","00698",817,"2017344","00698"]
["2017345 2017-12-18 1 7 3","2017345","00173",818,"2017345","00173"]
["2017346 2017-12-19 8 6 1","2017346","00861",819,"2017346","00861"]
["2017347 2017-12-20 6 6 6","2017347","00666",820,"2017347","00666"]
["2017348 2017-12-21 3 1 1","2017348","00311",821,"2017348","00311"]
["2017349 2017-12-22 5 3 7","2017349","00537",822,"2017349","00537"]
["2017350 2017-12-23 7 2 6","2017350","00726",823,"2017350","00726"]
["2017351 2017-12-24 1 0 9","2017351","00109",824,"2017351","00109"]
["2017352 2017-12-25 8 5 5","2017352","00855",825,"2017352","00855"]
["2017353 2017-12-26 0 9 4","2017353","00094",826,"2017353","00094"]
["2017354 2017-12-27 2 9 4","2017354","00294",827,"2017354","00294"]
["2017355 2017-12-28 0 3 1","2017355","00031",828,"2017355","00031"]
["2017356 2017-12-29 6 4 7","2017356","00647",829,"2017356","00647"]
["2017357 2017-12-30 6 6 5","2017357","00665",830,"2017357","00665"]
["2017358 2017-12-31 6 1 2","2017358","00612",831,"2017358","00612"]
["2018001 2018-01-01 3 2 6","2018001","00326",832,"2018001","00326"]
["2018002 2018-01-02 9 2 8","2018002","00928",833,"2018002","00928"]
["2018003 2018-01-03 7 3 6","2018003",{"$f":"\"00\"&RIGHT(SUBSTITUTE(A835,\" \",\"\"),3)","v":"00736"},{"$f":"ROW()-$D$1004-1","v":834},{"$f":"OFFSET($B$1,$D835,)","v":"2018003"},{"$f":"OFFSET($C$1,$D835,)","v":"00736"}]
["2018004 2018-01-04 3 9 3",{"$f":"MID(A836,1,FIND(\" \",A836)-1)","v":"2018004"},"00393",835,"2018004","00393"]
["2018005 2018-01-05 8 2 8","2018005","00828",836,"2018005","00828"]
["2018006 2018-01-06 7 2 0","2018006","00720",837,"2018006","00720"]
["2018007 2018-01-07 0 2 1","2018007","00021",838,"2018007","00021"]
["2018008 2018-01-08 5 8 3","2018008","00583",839,"2018008","00583"]
["2018009 2018-01-09 8 1 3","2018009","00813",840,"2018009","00813"]
["2018010 2018-01-10 8 5 8","2018010","00858",841,"2018010","00858"]
["2018011 2018-01-11 0 7 8","2018011","00078",842,"2018011","00078"]
["2018012 2018-01-12 8 9 1","2018012","00891",843,"2018012","00891"]
["2018013 2018-01-13 7 4 6","2018013","00746",844,"2018013","00746"]
["2018014 2018-01-14 0 8 4","2018014","00084",845,"2018014","00084"]
["2018015 2018-01-15 8 7 5","2018015","00875",846,"2018015","00875"]
["2018016 2018-01-16 4 0 1","2018016","00401",847,"2018016","00401"]
["2018017 2018-01-17 6 5 9","2018017","00659",848,"2018017","00659"]
["2018018 2018-01-18 8 1 0","2018018","00810",849,"2018018","00810"]
["2018019 2018-01-19 1 7 9","2018019","00179",850,"2018019","00179"]
["2018020 2018-01-20 7 4 9","2018020","00749",851,"2018020","00749"]
["2018021 2018-01-21 2 7 2","2018021","00272",852,"2018021","00272"]
["2018022 2018-01-22 9 9 2","2018022","00992",853,"2018022","00992"]
["2018023 2018-01-23 1 0 2","2018023","00102",854,"2018023","00102"]
["2018024 2018-01-24 6 6 4","2018024","00664",855,"2018024","00664"]
["2018025 2018-01-25 6 4 7","2018025","00647",856,"2018025","00647"]
["2018026 2018-01-26 9 3 2","2018026","00932",857,"2018026","00932"]
["2018027 2018-01-27 9 7 3","2018027","00973",858,"2018027","00973"]
["2018028 2018-01-28 8 2 8","2018028","00828",859,"2018028","00828"]
["2018029 2018-01-29 3 1 3","2018029","00313",860,"2018029","00313"]
["2018030 2018-01-30 6 8 2","2018030","00682",861,"2018030","00682"]
["2018031 2018-01-31 3 2 8","2018031","00328",862,"2018031","00328"]
["2018032 2018-02-01 7 1 2","2018032","00712",863,"2018032","00712"]
["2018033 2018-02-02 7 6 7","2018033","00767",864,"2018033","00767"]
["2018034 2018-02-03 6 7 6","2018034","00676",865,"2018034","00676"]
["2018035 2018-02-04 8 5 6","2018035","00856",866,"2018035","00856"]
["2018036 2018-02-05 3 6 5","2018036","00365",867,"2018036","00365"]
["2018037 2018-02-06 6 9 5","2018037","00695",868,"2018037","00695"]
["2018038 2018-02-07 8 5 9","2018038","00859",869,"2018038","00859"]
["2018039 2018-02-08 7 0 6","2018039","00706",870,"2018039","00706"]
["2018040 2018-02-09 6 8 4","2018040","00684",871,"2018040","00684"]
["2018041 2018-02-10 6 5 1","2018041","00651",872,"2018041","00651"]
["2018042 2018-02-11 1 3 1","2018042","00131",873,"2018042","00131"]
["2018043 2018-02-12 5 2 7","2018043","00527",874,"2018043","00527"]
["2018044 2018-02-13 9 0 2","2018044","00902",875,"2018044","00902"]
["2018045 2018-02-14 2 0 3","2018045","00203",876,"2018045","00203"]
["2018046 2018-02-22 3 4 7","2018046","00347",877,"2018046","00347"]
["2018047 2018-02-23 5 5 8","2018047","00558",878,"2018047","00558"]
["2018048 2018-02-24 6 9 3","2018048","00693",879,"2018048","00693"]
["2018049 2018-02-25 5 4 1","2018049","00541",880,"2018049","00541"]
["2018050 2018-02-26 8 7 5","2018050","00875",881,"2018050","00875"]
["2018051 2018-02-27 6 2 0","2018051","00620",882,"2018051","00620"]
["2018052 2018-02-28 3 6 9","2018052","00369",883,"2018052","00369"]
["2018053 2018-03-01 1 5 4","2018053","00154",884,"2018053","00154"]
["2018054 2018-03-02 3 2 5","2018054","00325",885,"2018054","00325"]
["2018055 2018-03-03 1 6 0","2018055","00160",886,"2018055","00160"]
["2018056 2018-03-04 9 0 8","2018056","00908",887,"2018056","00908"]
["2018057 2018-03-05 9 7 7","2018057","00977",888,"2018057","00977"]
["2018058 2018-03-06 7 2 3","2018058","00723",889,"2018058","00723"]
["2018059 2018-03-07 9 4 7","2018059","00947",890,"2018059","00947"]
["2018060 2018-03-08 7 6 7","2018060","00767",891,"2018060","00767"]
["2018061 2018-03-09 5 2 5","2018061","00525",892,"2018061","00525"]
["2018062 2018-03-10 7 9 2","2018062","00792",893,"2018062","00792"]
["2018063 2018-03-11 6 1 3","2018063","00613",894,"2018063","00613"]
["2018064 2018-03-12 3 3 9","2018064","00339",895,"2018064","00339"]
["2018065 2018-03-13 8 4 8","2018065","00848",896,"2018065","00848"]
["2018066 2018-03-14 0 9 5","2018066","00095",897,"2018066","00095"]
["2018067 2018-03-15 8 5 8","2018067",{"$f":"\"00\"&RIGHT(SUBSTITUTE(A899,\" \",\"\"),3)","v":"00858"},{"$f":"ROW()-$D$1004-1","v":898},{"$f":"OFFSET($B$1,$D899,)","v":"2018067"},{"$f":"OFFSET($C$1,$D899,)","v":"00858"}]
["2018068 2018-03-16 4 4 8",{"$f":"MID(A900,1,FIND(\" \",A900)-1)","v":"2018068"},"00448",899,"2018068","00448"]
["2018069 2018-03-17 1 1 9","2018069","00119",900,"2018069","00119"]
["2018070 2018-03-18 5 6 7","2018070","00567",901,"2018070","00567"]
["2018071 2018-03-19 7 7 9","2018071","00779",902,"2018071","00779"]
["2018072 2018-03-20 4 7 3","2018072","00473",903,"2018072","00473"]
["2018073 2018-03-21 2 7 5","2018073","00275",904,"2018073","00275"]
["2018074 2018-03-22 8 1 5","2018074","00815",905,"2018074","00815"]
["2018075 2018-03-23 8 6 1","2018075","00861",906,"2018075","00861"]
["2018076 2018-03-24 7 8 5","2018076","00785",907,"2018076","00785"]
["2018077 2018-03-25 2 4 6","2018077","00246",908,"2018077","00246"]
["2018078 2018-03-26 6 1 6","2018078","00616",909,"2018078","00616"]
["2018079 2018-03-27 3 6 9","2018079","00369",910,"2018079","00369"]
["2018080 2018-03-28 8 7 9","2018080","00879",911,"2018080","00879"]
["2018081 2018-03-29 7 5 8","2018081","00758",912,"2018081","00758"]
["2018082 2018-03-30 5 4 9","2018082","00549",913,"2018082","00549"]
["2018083 2018-03-31 2 6 6","2018083","00266",914,"2018083","00266"]
["2018084 2018-04-01 5 1 9","2018084","00519",915,"2018084","00519"]
["2018085 2018-04-02 9 0 3","2018085","00903",916,"2018085","00903"]
["2018086 2018-04-03 1 8 6","2018086","00186",917,"2018086","00186"]
["2018087 2018-04-04 5 1 3","2018087","00513",918,"2018087","00513"]
["2018088 2018-04-05 0 9 9","2018088","00099",919,"2018088","00099"]
["2018089 2018-04-06 6 6 8","2018089","00668",920,"2018089","00668"]
["2018090 2018-04-07 6 7 1","2018090","00671",921,"2018090","00671"]
["2018091 2018-04-08 1 0 2","2018091","00102",922,"2018091","00102"]
["2018092 2018-04-09 2 3 1","2018092","00231",923,"2018092","00231"]
["2018093 2018-04-10 2 0 9","2018093","00209",924,"2018093","00209"]
["2018094 2018-04-11 1 3 6","2018094","00136",925,"2018094","00136"]
["2018095 2018-04-12 2 4 1","2018095","00241",926,"2018095","00241"]
["2018096 2018-04-13 2 4 3","2018096","00243",927,"2018096","00243"]
["2018097 2018-04-14 0 3 8","2018097","00038",928,"2018097","00038"]
["2018098 2018-04-15 6 6 5","2018098","00665",929,"2018098","00665"]
["2018099 2018-04-16 9 1 9","2018099","00919",930,"2018099","00919"]
["2018100 2018-04-17 2 7 0","2018100","00270",931,"2018100","00270"]
["2018101 2018-04-18 3 4 5","2018101","00345",932,"2018101","00345"]
["2018102 2018-04-19 5 7 3","2018102","00573",933,"2018102","00573"]
["2018103 2018-04-20 2 2 2","2018103","00222",934,"2018103","00222"]
["2018104 2018-04-21 7 1 7","2018104","00717",935,"2018104","00717"]
["2018105 2018-04-22 8 4 7","2018105","00847",936,"2018105","00847"]
["2018106 2018-04-23 3 3 6","2018106","00336",937,"2018106","00336"]
["2018107 2018-04-24 6 6 3","2018107","00663",938,"2018107","00663"]
["2018108 2018-04-25 6 9 2","2018108","00692",939,"2018108","00692"]
["2018109 2018-04-26 2 1 8","2018109","00218",940,"2018109","00218"]
["2018110 2018-04-27 9 4 0","2018110","00940",941,"2018110","00940"]
["2018111 2018-04-28 7 2 0","2018111","00720",942,"2018111","00720"]
["2018112 2018-04-29 9 5 5","2018112","00955",943,"2018112","00955"]
["2018113 2018-04-30 6 1 5","2018113","00615",944,"2018113","00615"]
["2018114 2018-05-01 4 4 1","2018114","00441",945,"2018114","00441"]
["2018115 2018-05-02 9 9 9","2018115","00999",946,"2018115","00999"]
["2018116 2018-05-03 0 0 3","2018116","00003",947,"2018116","00003"]
["2018117 2018-05-04 0 4 3","2018117","00043",948,"2018117","00043"]
["2018118 2018-05-05 9 3 0","2018118","00930",949,"2018118","00930"]
["2018119 2018-05-06 9 7 8","2018119","00978",950,"2018119","00978"]
["2018120 2018-05-07 4 9 8","2018120","00498",951,"2018120","00498"]
["2018121 2018-05-08 7 6 1","2018121","00761",952,"2018121","00761"]
["2018122 2018-05-09 1 8 1","2018122","00181",953,"2018122","00181"]
["2018123 2018-05-10 9 0 6","2018123","00906",954,"2018123","00906"]
["2018124 2018-05-11 6 8 9","2018124","00689",955,"2018124","00689"]
["2018125 2018-05-12 8 3 2","2018125","00832",956,"2018125","00832"]
["2018126 2018-05-13 3 6 1","2018126","00361",957,"2018126","00361"]
["2018127 2018-05-14 0 2 0","2018127","00020",958,"2018127","00020"]
["2018128 2018-05-15 0 3 3","2018128","00033",959,"2018128","00033"]
["2018129 2018-05-16 3 5 6","2018129","00356",960,"2018129","00356"]
["2018130 2018-05-17 2 4 5","2018130","00245",961,"2018130","00245"]
["2018131 2018-05-18 2 9 7","2018131",{"$f":"\"00\"&RIGHT(SUBSTITUTE(A963,\" \",\"\"),3)","v":"00297"},{"$f":"ROW()-$D$1004-1","v":962},{"$f":"OFFSET($B$1,$D963,)","v":"2018131"},{"$f":"OFFSET($C$1,$D963,)","v":"00297"}]
["2018132 2018-05-19 9 6 6",{"$f":"MID(A964,1,FIND(\" \",A964)-1)","v":"2018132"},"00966",963,"2018132","00966"]
["2018133 2018-05-20 6 9 1","2018133","00691",964,"2018133","00691"]
["2018134 2018-05-21 6 1 7","2018134","00617",965,"2018134","00617"]
["2018135 2018-05-22 6 9 8","2018135","00698",966,"2018135","00698"]
["2018136 2018-05-23 6 4 3","2018136","00643",967,"2018136","00643"]
["2018137 2018-05-24 5 3 7","2018137","00537",968,"2018137","00537"]
["2018138 2018-05-25 0 6 8","2018138","00068",969,"2018138","00068"]
["2018139 2018-05-26 4 4 7","2018139","00447",970,"2018139","00447"]
["2018140 2018-05-27 1 3 3","2018140","00133",971,"2018140","00133"]
["2018141 2018-05-28 5 3 6","2018141","00536",972,"2018141","00536"]
["2018142 2018-05-29 9 3 7","2018142","00937",973,"2018142","00937"]
["2018143 2018-05-30 4 5 4","2018143","00454",974,"2018143","00454"]
["2018144 2018-05-31 0 9 1","2018144","00091",975,"2018144","00091"]
["2018145 2018-06-01 3 8 6","2018145","00386",976,"2018145","00386"]
["2018146 2018-06-02 5 6 9","2018146","00569",977,"2018146","00569"]
["2018147 2018-06-03 6 3 6","2018147","00636",978,"2018147","00636"]
["2018148 2018-06-04 0 8 7","2018148","00087",979,"2018148","00087"]
["2018149 2018-06-05 9 2 3","2018149","00923",980,"2018149","00923"]
["2018150 2018-06-06 3 3 5","2018150","00335",981,"2018150","00335"]
["2018151 2018-06-07 5 1 4","2018151","00514",982,"2018151","00514"]
["2018152 2018-06-08 2 5 8","2018152","00258",983,"2018152","00258"]
["2018153 2018-06-09 3 2 9","2018153","00329",984,"2018153","00329"]
["2018154 2018-06-10 6 6 9","2018154","00669",985,"2018154","00669"]
["2018155 2018-06-11 2 8 9","2018155","00289",986,"2018155","00289"]
["2018156 2018-06-12 3 2 4","2018156","00324",987,"2018156","00324"]
["2018157 2018-06-13 0 2 2","2018157","00022",988,"2018157","00022"]
["2018158 2018-06-14 3 6 3","2018158","00363",989,"2018158","00363"]
["2018159 2018-06-15 3 4 0","2018159","00340",990,"2018159","00340"]
["2018160 2018-06-16 4 7 7","2018160","00477",991,"2018160","00477"]
["2018161 2018-06-17 7 9 4","2018161","00794",992,"2018161","00794"]
["2018162 2018-06-18 1 3 7","2018162","00137",993,"2018162","00137"]
["2018163 2018-06-19 8 6 9","2018163","00869",994,"2018163","00869"]
["2018164 2018-06-20 1 5 7","2018164","00157",995,"2018164","00157"]
["2018165 2018-06-21 9 0 2","2018165","00902",996,"2018165","00902"]
["2018166 2018-06-22 9 4 1","2018166","00941",997,"2018166","00941"]
["2018167 2018-06-23 4 8 9","2018167","00489",998,"2018167","00489"]
["2018168 2018-06-24 1 7 4","2018168","00174",999,"2018168","00174"]
["2018169 2018-06-25 5 3 0","2018169","00530",1000,"2018169","00530"]
["2018170 2018-06-26 1 1 7","2018170",{"$f":"\"00\"&RIGHT(SUBSTITUTE(A1002,\" \",\"\"),3)","v":"00117"},1001,"2018170","00117"]
[" ",{"$f":"B1002+1*1","v":2018171},"待待待待待",{"$f":"ROW()-$D$1004-1","v":1002},2018171,"待待待待待"]
[null,null,null,{"$f":"分析!$I$218","v":0}]

{"sheet":"Sheet1","index":3,"n_rows":203,"n_cols":9,"rows_kept":203,"cut":false,"hidden":true,"merged":[]}
["expect","opencode","opentime"]
[20180625093,"4,3,0,6,0","2018-6-25 21:32:00",null,{"$f":"OFFSET($H$1,$G2,)","v":20180625093},{"$f":"OFFSET($I$1,$G2,)","v":"43060"},{"$f":"ROW()-$G$203-1","v":1},{"$f":"表1[[#This Row],[expect]]*1","v":20180625093},{"$f":"SUBSTITUTE(表1[[#This Row],[opencode]],\",\",\"\")","v":"43060"}]
[20180625094,"1,5,6,7,3","2018-6-25 21:42:00",null,20180625094,"15673",2,{"$f":"表1[[#This Row],[expect]]*1","v":20180625094},{"$f":"SUBSTITUTE(表1[[#This Row],[opencode]],\",\",\"\")","v":"15673"}]
[20180625095,"9,2,3,8,3","2018-6-25 21:52:00",null,20180625095,"92383",3,{"$f":"表1[[#This Row],[expect]]*1","v":20180625095},{"$f":"SUBSTITUTE(表1[[#This Row],[opencode]],\",\",\"\")","v":"92383"}]
[20180625096,"2,1,2,0,0","2018-6-25 22:02:00",null,20180625096,"21200",4,{"$f":"表1[[#This Row],[expect]]*1","v":20180625096},{"$f":"SUBSTITUTE(表1[[#This Row],[opencode]],\",\",\"\")","v":"21200"}]
[20180625097,"4,4,4,5,9","2018-6-25 22:07:00",null,20180625097,"44459",5,{"$f":"表1[[#This Row],[expect]]*1","v":20180625097},{"$f":"SUBSTITUTE(表1[[#This Row],[opencode]],\",\",\"\")","v":"44459"}]
[20180625098,"9,1,4,1,0","2018-6-25 22:12:00",null,20180625098,"91410",6,{"$f":"表1[[#This Row],[expect]]*1","v":20180625098},{"$f":"SUBSTITUTE(表1[[#This Row],[opencode]],\",\",\"\")","v":"91410"}]
[20180625099,"5,9,6,0,5","2018-6-25 22:17:00",null,20180625099,"59605",7,{"$f":"表1[[#This Row],[expect]]*1","v":20180625099},{"$f":"SUBSTITUTE(表1[[#This Row],[opencode]],\",\",\"\")","v":"59605"}]
[20180625100,"2,1,4,5,6","2018-6-25 22:22:00",null,20180625100,"21456",8,{"$f":"表1[[#This Row],[expect]]*1","v":20180625100},{"$f":"SUBSTITUTE(表1[[#This Row],[opencode]],\",\",\"\")","v":"21456"}]
[20180625101,"1,8,7,0,8","2018-6-25 22:27:00",null,20180625101,"18708",9,{"$f":"表1[[#This Row],[expect]]*1","v":20180625101},{"$f":"SUBSTITUTE(表1[[#This Row],[opencode]],\",\",\"\")","v":"18708"}]
[20180625102,"2,2,6,3,5","2018-6-25 22:32:00",null,20180625102,"22635",10,{"$f":"表1[[#This Row],[expect]]*1","v":20180625102},{"$f":"SUBSTITUTE(表1[[#This Row],[opencode]],\",\",\"\")","v":"22635"}]
[20180625103,"6,2,5,0,4","2018-6-25 22:37:00",null,20180625103,"62504",11,{"$f":"表1[[#This Row],[expect]]*1","v":20180625103},{"$f":"SUBSTITUTE(表1[[#This Row],[opencode]],\",\",\"\")","v":"62504"}]
[20180625104,"5,4,1,8,4","2018-6-25 22:42:00",null,20180625104,"54184",12,{"$f":"表1[[#This Row],[expect]]*1","v":20180625104},{"$f":"SUBSTITUTE(表1[[#This Row],[opencode]],\",\",\"\")","v":"54184"}]
[20180625105,"0,5,0,7,3","2018-6-25 22:47:00",null,20180625105,"05073",13,{"$f":"表1[[#This Row],[expect]]*1","v":20180625105},{"$f":"SUBSTITUTE(表1[[#This Row],[opencode]],\",\",\"\")","v":"05073"}]
[20180625106,"0,9,7,1,9","2018-6-25 22:52:00",null,20180625106,"09719",14,{"$f":"表1[[#This Row],[expect]]*1","v":20180625106},{"$f":"SUBSTITUTE(表1[[#This Row],[opencode]],\",\",\"\")","v":"09719"}]
[20180625107,"0,3,4,1,1","2018-6-25 22:57:00",null,20180625107,"03411",15,{"$f":"表1[[#This Row],[expect]]*1","v":20180625107},{"$f":"SUBSTITUTE(表1[[#This Row],[opencode]],\",\",\"\")","v":"03411"}]
[20180625108,"2,2,1,8,8","2018-6-25 23:02:00",null,20180625108,"22188",16,{"$f":"表1[[#This Row],[expect]]*1","v":20180625108},{"$f":"SUBSTITUTE(表1[[#This Row],[opencode]],\",\",\"\")","v":"22188"}]
[20180625109,"2,3,0,6,0","2018-6-25 23:07:00",null,20180625109,"23060",17,{"$f":"表1[[#This Row],[expect]]*1","v":20180625109},{"$f":"SUBSTITUTE(表1[[#This Row],[opencode]],\",\",\"\")","v":"23060"}]
[20180625110,"7,7,4,3,6","2018-6-25 23:12:00",null,20180625110,"77436",18,{"$f":"表1[[#This Row],[expect]]*1","v":20180625110},{"$f":"SUBSTITUTE(表1[[#This Row],[opencode]],\",\",\"\")","v":"77436"}]
[20180625111,"1,1,1,7,4","2018-6-25 23:17:00",null,20180625111,"11174",19,{"$f":"表1[[#This Row],[expect]]*1","v":20180625111},{"$f":"SUBSTITUTE(表1[[#This Row],[opencode]],\",\",\"\")","v":"11174"}]
[20180625112,"6,9,9,1,4","2018-6-25 23:22:00",null,20180625112,"69914",20,{"$f":"表1[[#This Row],[expect]]*1","v":20180625112},{"$f":"SUBSTITUTE(表1[[#This Row],[opencode]],\",\",\"\")","v":"69914"}]
[20180625113,"2,5,5,4,8","2018-6-25 23:27:00",null,20180625113,"25548",21,{"$f":"表1[[#This Row],[expect]]*1","v":20180625113},{"$f":"SUBSTITUTE(表1[[#This Row],[opencode]],\",\",\"\")","v":"25548"}]
[20180625114,"2,3,9,4,4","2018-6-25 23:32:00",null,20180625114,"23944",22,{"$f":"表1[[#This Row],[expect]]*1","v":20180625114},{"$f":"SUBSTITUTE(表1[[#This Row],[opencode]],\",\",\"\")","v":"23944"}]
[20180625115,"7,8,5,2,1","2018-6-25 23:37:00",null,20180625115,"78521",23,{"$f":"表1[[#This Row],[expect]]*1","v":20180625115},{"$f":"SUBSTITUTE(表1[[#This Row],[opencode]],\",\",\"\")","v":"78521"}]
[20180625116,"7,9,4,8,7","2018-6-25 23:42:00",null,20180625116,"79487",24,{"$f":"表1[[#This Row],[expect]]*1","v":20180625116},{"$f":"SUBSTITUTE(表1[[#This Row],[opencode]],\",\",\"\")","v":"79487"}]
[20180625117,"6,1,3,8,5","2018-6-25 23:47:00",null,20180625117,"61385",25,{"$f":"表1[[#This Row],[expect]]*1","v":20180625117},{"$f":"SUBSTITUTE(表1[[#This Row],[opencode]],\",\",\"\")","v":"61385"}]
[20180625118,"6,3,5,4,1","2018-6-25 23:52:00",null,20180625118,"63541",26,{"$f":"表1[[#This Row],[expect]]*1","v":20180625118},{"$f":"SUBSTITUTE(表1[[#This Row],[opencode]],\",\",\"\")","v":"63541"}]
[20180625119,"2,0,3,8,9","2018-6-25 23:57:00",null,20180625119,"20389",27,{"$f":"表1[[#This Row],[expect]]*1","v":20180625119},{"$f":"SUBSTITUTE(表1[[#This Row],[opencode]],\",\",\"\")","v":"20389"}]
[20180625120,"5,7,2,5,2","2018-6-26 0:02:00",null,20180625120,"57252",28,{"$f":"表1[[#This Row],[expect]]*1","v":20180625120},{"$f":"SUBSTITUTE(表1[[#This Row],[opencode]],\",\",\"\")","v":"57252"}]
[20180626001,"3,9,4,9,9","2018-6-26 0:07:00",null,20180626001,"39499",29,{"$f":"表1[[#This Row],[expect]]*1","v":20180626001},{"$f":"SUBSTITUTE(表1[[#This Row],[opencode]],\",\",\"\")","v":"39499"}]
[20180626002,"1,3,9,0,5","2018-6-26 0:12:00",null,20180626002,"13905",30,{"$f":"表1[[#This Row],[expect]]*1","v":20180626002},{"$f":"SUBSTITUTE(表1[[#This Row],[opencode]],\",\",\"\")","v":"13905"}]
[20180626003,"2,9,6,9,6","2018-6-26 0:17:00",null,20180626003,"29696",31,{"$f":"表1[[#This Row],[expect]]*1","v":20180626003},{"$f":"SUBSTITUTE(表1[[#This Row],[opencode]],\",\",\"\")","v":"29696"}]
[20180626004,"8,1,3,4,1","2018-6-26 0:22:00",null,20180626004,"81341",32,{"$f":"表1[[#This Row],[expect]]*1","v":20180626004},{"$f":"SUBSTITUTE(表1[[#This Row],[opencode]],\",\",\"\")","v":"81341"}]
[20180626005,"1,6,8,4,2","2018-6-26 0:27:00",null,20180626005,"16842",33,{"$f":"表1[[#This Row],[expect]]*1","v":20180626005},{"$f":"SUBSTITUTE(表1[[#This Row],[opencode]],\",\",\"\")","v":"16842"}]
[20180626006,"6,2,3,9,7","2018-6-26 0:32:00",null,20180626006,"62397",34,{"$f":"表1[[#This Row],[expect]]*1","v":20180626006},{"$f":"SUBSTITUTE(表1[[#This Row],[opencode]],\",\",\"\")","v":"62397"}]
[20180626007,"8,7,1,2,0","2018-6-26 0:37:00",null,20180626007,"87120",35,{"$f":"表1[[#This Row],[expect]]*1","v":20180626007},{"$f":"SUBSTITUTE(表1[[#This Row],[opencode]],\",\",\"\")","v":"87120"}]
[20180626008,"2,5,0,0,9","2018-6-26 0:42:00",null,20180626008,"25009",36,{"$f":"表1[[#This Row],[expect]]*1","v":20180626008},{"$f":"SUBSTITUTE(表1[[#This Row],[opencode]],\",\",\"\")","v":"25009"}]
[20180626009,"8,3,8,5,5","2018-6-26 0:47:00",null,20180626009,"83855",37,{"$f":"表1[[#This Row],[expect]]*1","v":20180626009},{"$f":"SUBSTITUTE(表1[[#This Row],[opencode]],\",\",\"\")","v":"83855"}]
[20180626010,"9,0,9,8,6","2018-6-26 0:52:00",null,20180626010,"90986",38,{"$f":"表1[[#This Row],[expect]]*1","v":20180626010},{"$f":"SUBSTITUTE(表1[[#This Row],[opencode]],\",\",\"\")","v":"90986"}]
[20180626011,"9,2,9,0,3","2018-6-26 0:57:00",null,20180626011,"92903",39,{"$f":"表1[[#This Row],[expect]]*1","v":20180626011},{"$f":"SUBSTITUTE(表1[[#This Row],[opencode]],\",\",\"\")","v":"92903"}]
[20180626012,"7,4,0,0,1","2018-6-26 1:02:00",null,20180626012,"74001",40,{"$f":"表1[[#This Row],[expect]]*1","v":20180626012},{"$f":"SUBSTITUTE(表1[[#This Row],[opencode]],\",\",\"\")","v":"74001"}]
[20180626013,"8,5,8,3,9","2018-6-26 1:07:00",null,20180626013,"85839",41,{"$f":"表1[[#This Row],[expect]]*1","v":20180626013},{"$f":"SUBSTITUTE(表1[[#This Row],[opencode]],\",\",\"\")","v":"85839"}]
[20180626014,"2,0,7,4,0","2018-6-26 1:12:00",null,20180626014,"20740",42,{"$f":"表1[[#This Row],[expect]]*1","v":20180626014},{"$f":"SUBSTITUTE(表1[[#This Row],[opencode]],\",\",\"\")","v":"20740"}]
[20180626015,"6,8,5,5,4","2018-6-26 1:17:00",null,20180626015,"68554",43,{"$f":"表1[[#This Row],[expect]]*1","v":20180626015},{"$f":"SUBSTITUTE(表1[[#This Row],[opencode]],\",\",\"\")","v":"68554"}]
[20180626016,"6,6,3,7,1","2018-6-26 1:22:00",null,20180626016,"66371",44,{"$f":"表1[[#This Row],[expect]]*1","v":20180626016},{"$f":"SUBSTITUTE(表1[[#This Row],[opencode]],\",\",\"\")","v":"66371"}]
[20180626017,"2,3,5,8,0","2018-6-26 1:27:00",null,20180626017,"23580",45,{"$f":"表1[[#This Row],[expect]]*1","v":20180626017},{"$f":"SUBSTITUTE(表1[[#This Row],[opencode]],\",\",\"\")","v":"23580"}]
[20180626018,"4,5,7,2,8","2018-6-26 1:32:00",null,20180626018,"45728",46,{"$f":"表1[[#This Row],[expect]]*1","v":20180626018},{"$f":"SUBSTITUTE(表1[[#This Row],[opencode]],\",\",\"\")","v":"45728"}]
[20180626019,"3,4,5,9,4","2018-6-26 1:37:00",null,20180626019,"34594",47,{"$f":"表1[[#This Row],[expect]]*1","v":20180626019},{"$f":"SUBSTITUTE(表1[[#This Row],[opencode]],\",\",\"\")","v":"34594"}]
[20180626020,"0,1,5,3,6","2018-6-26 1:42:00",null,20180626020,"01536",48,{"$f":"表1[[#This Row],[expect]]*1","v":20180626020},{"$f":"SUBSTITUTE(表1[[#This Row],[opencode]],\",\",\"\")","v":"01536"}]
[20180626021,"6,9,5,7,8","2018-6-26 1:47:00",null,20180626021,"69578",49,{"$f":"表1[[#This Row],[expect]]*1","v":20180626021},{"$f":"SUBSTITUTE(表1[[#This Row],[opencode]],\",\",\"\")","v":"69578"}]
[20180626022,"1,5,4,6,4","2018-6-26 1:52:00",null,20180626022,"15464",50,{"$f":"表1[[#This Row],[expect]]*1","v":20180626022},{"$f":"SUBSTITUTE(表1[[#This Row],[opencode]],\",\",\"\")","v":"15464"}]
[20180626023,"6,5,7,4,6","2018-6-26 1:57:00",null,20180626023,"65746",51,{"$f":"表1[[#This Row],[expect]]*1","v":20180626023},{"$f":"SUBSTITUTE(表1[[#This Row],[opencode]],\",\",\"\")","v":"65746"}]
[20180626024,"3,8,5,9,3","2018-6-26 10:02:00",null,20180626024,"38593",52,{"$f":"表1[[#This Row],[expect]]*1","v":20180626024},{"$f":"SUBSTITUTE(表1[[#This Row],[opencode]],\",\",\"\")","v":"38593"}]
[20180626025,"5,7,1,3,3","2018-6-26 10:12:00",null,20180626025,"57133",53,{"$f":"表1[[#This Row],[expect]]*1","v":20180626025},{"$f":"SUBSTITUTE(表1[[#This Row],[opencode]],\",\",\"\")","v":"57133"}]
[20180626026,"4,5,8,7,8","2018-6-26 10:22:00",null,20180626026,"45878",54,{"$f":"表1[[#This Row],[expect]]*1","v":20180626026},{"$f":"SUBSTITUTE(表1[[#This Row],[opencode]],\",\",\"\")","v":"45878"}]
[20180626027,"1,8,0,9,5","2018-6-26 10:32:00",null,20180626027,"18095",55,{"$f":"表1[[#This Row],[expect]]*1","v":20180626027},{"$f":"SUBSTITUTE(表1[[#This Row],[opencode]],\",\",\"\")","v":"18095"}]
[20180626028,"7,9,3,8,9","2018-6-26 10:42:00",null,20180626028,"79389",56,{"$f":"表1[[#This Row],[expect]]*1","v":20180626028},{"$f":"SUBSTITUTE(表1[[#This Row],[opencode]],\",\",\"\")","v":"79389"}]
[20180626029,"5,5,2,3,7","2018-6-26 10:52:00",null,20180626029,"55237",57,{"$f":"表1[[#This Row],[expect]]*1","v":20180626029},{"$f":"SUBSTITUTE(表1[[#This Row],[opencode]],\",\",\"\")","v":"55237"}]
[20180626030,"3,2,6,0,2","2018-6-26 11:02:00",null,20180626030,"32602",58,{"$f":"表1[[#This Row],[expect]]*1","v":20180626030},{"$f":"SUBSTITUTE(表1[[#This Row],[opencode]],\",\",\"\")","v":"32602"}]
[20180626031,"3,9,6,9,8","2018-6-26 11:12:00",null,20180626031,"39698",59,{"$f":"表1[[#This Row],[expect]]*1","v":20180626031},{"$f":"SUBSTITUTE(表1[[#This Row],[opencode]],\",\",\"\")","v":"39698"}]
[20180626032,"0,5,5,8,7","2018-6-26 11:22:00",null,20180626032,"05587",60,{"$f":"表1[[#This Row],[expect]]*1","v":20180626032},{"$f":"SUBSTITUTE(表1[[#This Row],[opencode]],\",\",\"\")","v":"05587"}]
[20180626033,"4,7,4,1,7","2018-6-26 11:32:00",null,20180626033,"47417",61,{"$f":"表1[[#This Row],[expect]]*1","v":20180626033},{"$f":"SUBSTITUTE(表1[[#This Row],[opencode]],\",\",\"\")","v":"47417"}]
[20180626034,"1,3,4,7,7","2018-6-26 11:42:00",null,20180626034,"13477",62,{"$f":"表1[[#This Row],[expect]]*1","v":20180626034},{"$f":"SUBSTITUTE(表1[[#This Row],[opencode]],\",\",\"\")","v":"13477"}]
[20180626035,"6,0,9,7,8","2018-6-26 11:52:00",null,20180626035,"60978",63,{"$f":"表1[[#This Row],[expect]]*1","v":20180626035},{"$f":"SUBSTITUTE(表1[[#This Row],[opencode]],\",\",\"\")","v":"60978"}]
[20180626036,"0,3,3,2,8","2018-6-26 12:02:00",null,20180626036,"03328",64,{"$f":"表1[[#This Row],[expect]]*1","v":20180626036},{"$f":"SUBSTITUTE(表1[[#This Row],[opencode]],\",\",\"\")","v":"03328"}]
[20180626037,"0,6,4,7,7","2018-6-26 12:12:00",null,{"$f":"OFFSET($H$1,$G66,)","v":20180626037},{"$f":"OFFSET($I$1,$G66,)","v":"06477"},{"$f":"ROW()-$G$203-1","v":65},{"$f":"表1[[#This Row],[expect]]*1","v":20180626037},{"$f":"SUBSTITUTE(表1[[#This Row],[opencode]],\",\",\"\")","v":"06477"}]
[20180626038,"9,0,3,3,4","2018-6-26 12:22:00",null,20180626038,"90334",66,{"$f":"表1[[#This Row],[expect]]*1","v":20180626038},{"$f":"SUBSTITUTE(表1[[#This Row],[opencode]],\",\",\"\")","v":"90334"}]
[20180626039,"4,0,1,0,9","2018-6-26 12:32:00",null,20180626039,"40109",67,{"$f":"表1[[#This Row],[expect]]*1","v":20180626039},{"$f":"SUBSTITUTE(表1[[#This Row],[opencode]],\",\",\"\")","v":"40109"}]
[20180626040,"2,7,6,9,7","2018-6-26 12:42:00",null,20180626040,"27697",68,{"$f":"表1[[#This Row],[expect]]*1","v":20180626040},{"$f":"SUBSTITUTE(表1[[#This Row],[opencode]],\",\",\"\")","v":"27697"}]
[20180626041,"9,7,2,0,5","2018-6-26 12:52:00",null,20180626041,"97205",69,{"$f":"表1[[#This Row],[expect]]*1","v":20180626041},{"$f":"SUBSTITUTE(表1[[#This Row],[opencode]],\",\",\"\")","v":"97205"}]
[20180626042,"4,6,4,1,6","2018-6-26 13:02:00",null,20180626042,"46416",70,{"$f":"表1[[#This Row],[expect]]*1","v":20180626042},{"$f":"SUBSTITUTE(表1[[#This Row],[opencode]],\",\",\"\")","v":"46416"}]
[20180626043,"3,4,6,8,6","2018-6-26 13:12:00",null,20180626043,"34686",71,{"$f":"表1[[#This Row],[expect]]*1","v":20180626043},{"$f":"SUBSTITUTE(表1[[#This Row],[opencode]],\",\",\"\")","v":"34686"}]
[20180626044,"9,6,8,2,3","2018-6-26 13:22:00",null,20180626044,"96823",72,{"$f":"表1[[#This Row],[expect]]*1","v":20180626044},{"$f":"SUBSTITUTE(表1[[#This Row],[opencode]],\",\",\"\")","v":"96823"}]
[20180626045,"6,9,1,6,9","2018-6-26 13:32:00",null,20180626045,"69169",73,{"$f":"表1[[#This Row],[expect]]*1","v":20180626045},{"$f":"SUBSTITUTE(表1[[#This Row],[opencode]],\",\",\"\")","v":"69169"}]
[20180626046,"5,2,5,6,7","2018-6-26 13:42:00",null,20180626046,"52567",74,{"$f":"表1[[#This Row],[expect]]*1","v":20180626046},{"$f":"SUBSTITUTE(表1[[#This Row],[opencode]],\",\",\"\")","v":"52567"}]
[20180626047,"6,5,6,3,7","2018-6-26 13:52:00",null,20180626047,"65637",75,{"$f":"表1[[#This Row],[expect]]*1","v":20180626047},{"$f":"SUBSTITUTE(表1[[#This Row],[opencode]],\",\",\"\")","v":"65637"}]
[20180626048,"1,1,3,0,1","2018-6-26 14:02:00",null,20180626048,"11301",76,{"$f":"表1[[#This Row],[expect]]*1","v":20180626048},{"$f":"SUBSTITUTE(表1[[#This Row],[opencode]],\",\",\"\")","v":"11301"}]
[20180626049,"8,8,7,1,2","2018-6-26 14:12:00",null,20180626049,"88712",77,{"$f":"表1[[#This Row],[expect]]*1","v":20180626049},{"$f":"SUBSTITUTE(表1[[#This Row],[opencode]],\",\",\"\")","v":"88712"}]
[20180626050,"9,9,8,1,9","2018-6-26 14:22:00",null,20180626050,"99819",78,{"$f":"表1[[#This Row],[expect]]*1","v":20180626050},{"$f":"SUBSTITUTE(表1[[#This Row],[opencode]],\",\",\"\")","v":"99819"}]
[20180626051,"5,5,7,1,4","2018-6-26 14:32:00",null,20180626051,"55714",79,{"$f":"表1[[#This Row],[expect]]*1","v":20180626051},{"$f":"SUBSTITUTE(表1[[#This Row],[opencode]],\",\",\"\")","v":"55714"}]
[20180626052,"4,8,8,1,2","2018-6-26 14:42:00",null,20180626052,"48812",80,{"$f":"表1[[#This Row],[expect]]*1","v":20180626052},{"$f":"SUBSTITUTE(表1[[#This Row],[opencode]],\",\",\"\")","v":"48812"}]
[20180626053,"4,6,7,7,2","2018-6-26 14:52:00",null,20180626053,"46772",81,{"$f":"表1[[#This Row],[expect]]*1","v":20180626053},{"$f":"SUBSTITUTE(表1[[#This Row],[opencode]],\",\",\"\")","v":"46772"}]
[20180626054,"7,7,8,9,9","2018-6-26 15:02:00",null,20180626054,"77899",82,{"$f":"表1[[#This Row],[expect]]*1","v":20180626054},{"$f":"SUBSTITUTE(表1[[#This Row],[opencode]],\",\",\"\")","v":"77899"}]
[20180626055,"8,0,6,8,7","2018-6-26 15:12:00",null,20180626055,"80687",83,{"$f":"表1[[#This Row],[expect]]*1","v":20180626055},{"$f":"SUBSTITUTE(表1[[#This Row],[opencode]],\",\",\"\")","v":"80687"}]
[20180626056,"0,9,3,0,0","2018-6-26 15:22:00",null,20180626056,"09300",84,{"$f":"表1[[#This Row],[expect]]*1","v":20180626056},{"$f":"SUBSTITUTE(表1[[#This Row],[opencode]],\",\",\"\")","v":"09300"}]
[20180626057,"4,1,2,3,4","2018-6-26 15:32:00",null,20180626057,"41234",85,{"$f":"表1[[#This Row],[expect]]*1","v":20180626057},{"$f":"SUBSTITUTE(表1[[#This Row],[opencode]],\",\",\"\")","v":"41234"}]
[20180626058,"8,3,7,8,1","2018-6-26 15:42:00",null,20180626058,"83781",86,{"$f":"表1[[#This Row],[expect]]*1","v":20180626058},{"$f":"SUBSTITUTE(表1[[#This Row],[opencode]],\",\",\"\")","v":"83781"}]
[20180626059,"9,3,1,6,1","2018-6-26 15:52:00",null,20180626059,"93161",87,{"$f":"表1[[#This Row],[expect]]*1","v":20180626059},{"$f":"SUBSTITUTE(表1[[#This Row],[opencode]],\",\",\"\")","v":"93161"}]
[20180626060,"3,9,2,4,9","2018-6-26 16:02:00",null,20180626060,"39249",88,{"$f":"表1[[#This Row],[expect]]*1","v":20180626060},{"$f":"SUBSTITUTE(表1[[#This Row],[opencode]],\",\",\"\")","v":"39249"}]
[20180626061,"9,2,2,9,4","2018-6-26 16:12:00",null,20180626061,"92294",89,{"$f":"表1[[#This Row],[expect]]*1","v":20180626061},{"$f":"SUBSTITUTE(表1[[#This Row],[opencode]],\",\",\"\")","v":"92294"}]
[20180626062,"6,8,8,8,9","2018-6-26 16:22:00",null,20180626062,"68889",90,{"$f":"表1[[#This Row],[expect]]*1","v":20180626062},{"$f":"SUBSTITUTE(表1[[#This Row],[opencode]],\",\",\"\")","v":"68889"}]
[20180626063,"7,5,0,9,3","2018-6-26 16:32:00",null,20180626063,"75093",91,{"$f":"表1[[#This Row],[expect]]*1","v":20180626063},{"$f":"SUBSTITUTE(表1[[#This Row],[opencode]],\",\",\"\")","v":"75093"}]
[20180626064,"7,1,4,6,4","2018-6-26 16:42:00",null,20180626064,"71464",92,{"$f":"表1[[#This Row],[expect]]*1","v":20180626064},{"$f":"SUBSTITUTE(表1[[#This Row],[opencode]],\",\",\"\")","v":"71464"}]
[20180626065,"1,3,7,0,2","2018-6-26 16:52:00",null,20180626065,"13702",93,{"$f":"表1[[#This Row],[expect]]*1","v":20180626065},{"$f":"SUBSTITUTE(表1[[#This Row],[opencode]],\",\",\"\")","v":"13702"}]
[20180626066,"7,6,8,7,1","2018-6-26 17:02:00",null,20180626066,"76871",94,{"$f":"表1[[#This Row],[expect]]*1","v":20180626066},{"$f":"SUBSTITUTE(表1[[#This Row],[opencode]],\",\",\"\")","v":"76871"}]
[20180626067,"4,9,5,6,8","2018-6-26 17:12:00",null,20180626067,"49568",95,{"$f":"表1[[#This Row],[expect]]*1","v":20180626067},{"$f":"SUBSTITUTE(表1[[#This Row],[opencode]],\",\",\"\")","v":"49568"}]
[20180626068,"6,9,2,2,9","2018-6-26 17:22:00",null,20180626068,"69229",96,{"$f":"表1[[#This Row],[expect]]*1","v":20180626068},{"$f":"SUBSTITUTE(表1[[#This Row],[opencode]],\",\",\"\")","v":"69229"}]
[20180626069,"0,8,4,9,7","2018-6-26 17:32:00",null,20180626069,"08497",97,{"$f":"表1[[#This Row],[expect]]*1","v":20180626069},{"$f":"SUBSTITUTE(表1[[#This Row],[opencode]],\",\",\"\")","v":"08497"}]
[20180626070,"6,1,5,3,9","2018-6-26 17:42:00",null,20180626070,"61539",98,{"$f":"表1[[#This Row],[expect]]*1","v":20180626070},{"$f":"SUBSTITUTE(表1[[#This Row],[opencode]],\",\",\"\")","v":"61539"}]
[20180626071,"2,6,2,4,5","2018-6-26 17:52:00",null,20180626071,"26245",99,{"$f":"表1[[#This Row],[expect]]*1","v":20180626071},{"$f":"SUBSTITUTE(表1[[#This Row],[opencode]],\",\",\"\")","v":"26245"}]
[20180626072,"5,9,7,2,0","2018-6-26 18:02:00",null,20180626072,"59720",100,{"$f":"表1[[#This Row],[expect]]*1","v":20180626072},{"$f":"SUBSTITUTE(表1[[#This Row],[opencode]],\",\",\"\")","v":"59720"}]
[20180626073,"7,1,9,8,1","2018-6-26 18:12:00",null,20180626073,"71981",101,{"$f":"表1[[#This Row],[expect]]*1","v":20180626073},{"$f":"SUBSTITUTE(表1[[#This Row],[opencode]],\",\",\"\")","v":"71981"}]
[20180626074,"0,7,4,4,2","2018-6-26 18:22:00",null,20180626074,"07442",102,{"$f":"表1[[#This Row],[expect]]*1","v":20180626074},{"$f":"SUBSTITUTE(表1[[#This Row],[opencode]],\",\",\"\")","v":"07442"}]
[20180626075,"4,7,7,7,7","2018-6-26 18:32:00",null,20180626075,"47777",103,{"$f":"表1[[#This Row],[expect]]*1","v":20180626075},{"$f":"SUBSTITUTE(表1[[#This Row],[opencode]],\",\",\"\")","v":"47777"}]
[20180626076,"4,3,6,0,2","2018-6-26 18:42:00",null,20180626076,"43602",104,{"$f":"表1[[#This Row],[expect]]*1","v":20180626076},{"$f":"SUBSTITUTE(表1[[#This Row],[opencode]],\",\",\"\")","v":"43602"}]
[20180626077,"5,3,9,1,4","2018-6-26 18:52:00",null,20180626077,"53914",105,{"$f":"表1[[#This Row],[expect]]*1","v":20180626077},{"$f":"SUBSTITUTE(表1[[#This Row],[opencode]],\",\",\"\")","v":"53914"}]
[20180626078,"8,4,2,5,3","2018-6-26 19:02:00",null,20180626078,"84253",106,{"$f":"表1[[#This Row],[expect]]*1","v":20180626078},{"$f":"SUBSTITUTE(表1[[#This Row],[opencode]],\",\",\"\")","v":"84253"}]
[20180626079,"1,9,0,5,6","2018-6-26 19:12:00",null,20180626079,"19056",107,{"$f":"表1[[#This Row],[expect]]*1","v":20180626079},{"$f":"SUBSTITUTE(表1[[#This Row],[opencode]],\",\",\"\")","v":"19056"}]
[20180626080,"2,6,3,0,6","2018-6-26 19:22:00",null,20180626080,"26306",108,{"$f":"表1[[#This Row],[expect]]*1","v":20180626080},{"$f":"SUBSTITUTE(表1[[#This Row],[opencode]],\",\",\"\")","v":"26306"}]
[20180626081,"8,2,2,0,9","2018-6-26 19:32:00",null,20180626081,"82209",109,{"$f":"表1[[#This Row],[expect]]*1","v":20180626081},{"$f":"SUBSTITUTE(表1[[#This Row],[opencode]],\",\",\"\")","v":"82209"}]
[20180626082,"5,8,8,2,5","2018-6-26 19:42:00",null,20180626082,"58825",110,{"$f":"表1[[#This Row],[expect]]*1","v":20180626082},{"$f":"SUBSTITUTE(表1[[#This Row],[opencode]],\",\",\"\")","v":"58825"}]
[20180626083,"3,9,7,0,3","2018-6-26 19:52:00",null,20180626083,"39703",111,{"$f":"表1[[#This Row],[expect]]*1","v":20180626083},{"$f":"SUBSTITUTE(表1[[#This Row],[opencode]],\",\",\"\")","v":"39703"}]
[20180626084,"6,3,5,3,1","2018-6-26 20:02:00",null,20180626084,"63531",112,{"$f":"表1[[#This Row],[expect]]*1","v":20180626084},{"$f":"SUBSTITUTE(表1[[#This Row],[opencode]],\",\",\"\")","v":"63531"}]
[20180626085,"1,6,2,0,5","2018-6-26 20:12:00",null,20180626085,"16205",113,{"$f":"表1[[#This Row],[expect]]*1","v":20180626085},{"$f":"SUBSTITUTE(表1[[#This Row],[opencode]],\",\",\"\")","v":"16205"}]
[20180626086,"8,0,7,4,3","2018-6-26 20:22:00",null,20180626086,"80743",114,{"$f":"表1[[#This Row],[expect]]*1","v":20180626086},{"$f":"SUBSTITUTE(表1[[#This Row],[opencode]],\",\",\"\")","v":"80743"}]
[20180626087,"1,3,7,6,7","2018-6-26 20:32:00",null,20180626087,"13767",115,{"$f":"表1[[#This Row],[expect]]*1","v":20180626087},{"$f":"SUBSTITUTE(表1[[#This Row],[opencode]],\",\",\"\")","v":"13767"}]
[20180626088,"7,1,2,0,2","2018-6-26 20:42:00",null,20180626088,"71202",116,{"$f":"表1[[#This Row],[expect]]*1","v":20180626088},{"$f":"SUBSTITUTE(表1[[#This Row],[opencode]],\",\",\"\")","v":"71202"}]
[20180626089,"3,2,8,7,7","2018-6-26 20:52:00",null,20180626089,"32877",117,{"$f":"表1[[#This Row],[expect]]*1","v":20180626089},{"$f":"SUBSTITUTE(表1[[#This Row],[opencode]],\",\",\"\")","v":"32877"}]
[20180626090,"0,6,1,3,6","2018-6-26 21:02:00",null,20180626090,"06136",118,{"$f":"表1[[#This Row],[expect]]*1","v":20180626090},{"$f":"SUBSTITUTE(表1[[#This Row],[opencode]],\",\",\"\")","v":"06136"}]
[20180626091,"4,8,3,2,0","2018-6-26 21:12:00",null,20180626091,"48320",119,{"$f":"表1[[#This Row],[expect]]*1","v":20180626091},{"$f":"SUBSTITUTE(表1[[#This Row],[opencode]],\",\",\"\")","v":"48320"}]
[20180626092,"1,0,6,4,4","2018-6-26 21:22:00",null,20180626092,"10644",120,{"$f":"表1[[#This Row],[expect]]*1","v":20180626092},{"$f":"SUBSTITUTE(表1[[#This Row],[opencode]],\",\",\"\")","v":"10644"}]
[20180626093,"7,6,2,3,1","2018-6-26 21:32:00",null,20180626093,"76231",121,{"$f":"表1[[#This Row],[expect]]*1","v":20180626093},{"$f":"SUBSTITUTE(表1[[#This Row],[opencode]],\",\",\"\")","v":"76231"}]
[20180626094,"6,0,1,1,4","2018-6-26 21:42:00",null,20180626094,"60114",122,{"$f":"表1[[#This Row],[expect]]*1","v":20180626094},{"$f":"SUBSTITUTE(表1[[#This Row],[opencode]],\",\",\"\")","v":"60114"}]
[20180626095,"3,8,0,9,4","2018-6-26 21:52:00",null,20180626095,"38094",123,{"$f":"表1[[#This Row],[expect]]*1","v":20180626095},{"$f":"SUBSTITUTE(表1[[#This Row],[opencode]],\",\",\"\")","v":"38094"}]
[20180626096,"3,1,9,3,8","2018-6-26 22:02:00",null,20180626096,"31938",124,{"$f":"表1[[#This Row],[expect]]*1","v":20180626096},{"$f":"SUBSTITUTE(表1[[#This Row],[opencode]],\",\",\"\")","v":"31938"}]
[20180626097,"4,0,8,7,2","2018-6-26 22:07:00",null,20180626097,"40872",125,{"$f":"表1[[#This Row],[expect]]*1","v":20180626097},{"$f":"SUBSTITUTE(表1[[#This Row],[opencode]],\",\",\"\")","v":"40872"}]
[20180626098,"6,3,5,4,7","2018-6-26 22:12:00",null,20180626098,"63547",126,{"$f":"表1[[#This Row],[expect]]*1","v":20180626098},{"$f":"SUBSTITUTE(表1[[#This Row],[opencode]],\",\",\"\")","v":"63547"}]
[20180626099,"3,9,4,2,7","2018-6-26 22:17:00",null,20180626099,"39427",127,{"$f":"表1[[#This Row],[expect]]*1","v":20180626099},{"$f":"SUBSTITUTE(表1[[#This Row],[opencode]],\",\",\"\")","v":"39427"}]
[20180626100,"2,6,7,6,0","2018-6-26 22:22:00",null,20180626100,"26760",128,{"$f":"表1[[#This Row],[expect]]*1","v":20180626100},{"$f":"SUBSTITUTE(表1[[#This Row],[opencode]],\",\",\"\")","v":"26760"}]
[20180626101,"5,7,2,1,5","2018-6-26 22:27:00",null,{"$f":"OFFSET($H$1,$G130,)","v":20180626101},{"$f":"OFFSET($I$1,$G130,)","v":"57215"},{"$f":"ROW()-$G$203-1","v":129},{"$f":"表1[[#This Row],[expect]]*1","v":20180626101},{"$f":"SUBSTITUTE(表1[[#This Row],[opencode]],\",\",\"\")","v":"57215"}]
[20180626102,"0,2,0,4,5","2018-6-26 22:32:00",null,20180626102,"02045",130,{"$f":"表1[[#This Row],[expect]]*1","v":20180626102},{"$f":"SUBSTITUTE(表1[[#This Row],[opencode]],\",\",\"\")","v":"02045"}]
[20180626103,"2,3,4,7,8","2018-6-26 22:37:00",null,20180626103,"23478",131,{"$f":"表1[[#This Row],[expect]]*1","v":20180626103},{"$f":"SUBSTITUTE(表1[[#This Row],[opencode]],\",\",\"\")","v":"23478"}]
[20180626104,"7,6,1,8,4","2018-6-26 22:42:00",null,20180626104,"76184",132,{"$f":"表1[[#This Row],[expect]]*1","v":20180626104},{"$f":"SUBSTITUTE(表1[[#This Row],[opencode]],\",\",\"\")","v":"76184"}]
[20180626105,"1,5,4,1,1","2018-6-26 22:47:00",null,20180626105,"15411",133,{"$f":"表1[[#This Row],[expect]]*1","v":20180626105},{"$f":"SUBSTITUTE(表1[[#This Row],[opencode]],\",\",\"\")","v":"15411"}]
[20180626106,"1,3,4,8,8","2018-6-26 22:52:00",null,20180626106,"13488",134,{"$f":"表1[[#This Row],[expect]]*1","v":20180626106},{"$f":"SUBSTITUTE(表1[[#This Row],[opencode]],\",\",\"\")","v":"13488"}]
[20180626107,"4,6,3,9,3","2018-6-26 22:57:00",null,20180626107,"46393",135,{"$f":"表1[[#This Row],[expect]]*1","v":20180626107},{"$f":"SUBSTITUTE(表1[[#This Row],[opencode]],\",\",\"\")","v":"46393"}]
[20180626108,"1,1,7,8,7","2018-6-26 23:02:00",null,20180626108,"11787",136,{"$f":"表1[[#This Row],[expect]]*1","v":20180626108},{"$f":"SUBSTITUTE(表1[[#This Row],[opencode]],\",\",\"\")","v":"11787"}]
[20180626109,"9,1,0,4,0","2018-6-26 23:07:00",null,20180626109,"91040",137,{"$f":"表1[[#This Row],[expect]]*1","v":20180626109},{"$f":"SUBSTITUTE(表1[[#This Row],[opencode]],\",\",\"\")","v":"91040"}]
[20180626110,"6,7,6,1,4","2018-6-26 23:12:00",null,20180626110,"67614",138,{"$f":"表1[[#This Row],[expect]]*1","v":20180626110},{"$f":"SUBSTITUTE(表1[[#This Row],[opencode]],\",\",\"\")","v":"67614"}]
[20180626111,"2,5,0,1,0","2018-6-26 23:17:00",null,20180626111,"25010",139,{"$f":"表1[[#This Row],[expect]]*1","v":20180626111},{"$f":"SUBSTITUTE(表1[[#This Row],[opencode]],\",\",\"\")","v":"25010"}]
[20180626112,"5,9,2,7,4","2018-6-26 23:22:00",null,20180626112,"59274",140,{"$f":"表1[[#This Row],[expect]]*1","v":20180626112},{"$f":"SUBSTITUTE(表1[[#This Row],[opencode]],\",\",\"\")","v":"59274"}]
[20180626113,"9,3,8,2,5","2018-6-26 23:27:00",null,20180626113,"93825",141,{"$f":"表1[[#This Row],[expect]]*1","v":20180626113},{"$f":"SUBSTITUTE(表1[[#This Row],[opencode]],\",\",\"\")","v":"93825"}]
[20180626114,"8,3,5,7,4","2018-6-26 23:32:00",null,20180626114,"83574",142,{"$f":"表1[[#This Row],[expect]]*1","v":20180626114},{"$f":"SUBSTITUTE(表1[[#This Row],[opencode]],\",\",\"\")","v":"83574"}]
[20180626115,"3,7,0,4,9","2018-6-26 23:37:00",null,20180626115,"37049",143,{"$f":"表1[[#This Row],[expect]]*1","v":20180626115},{"$f":"SUBSTITUTE(表1[[#This Row],[opencode]],\",\",\"\")","v":"37049"}]
[20180626116,"8,6,5,5,0","2018-6-26 23:42:00",null,20180626116,"86550",144,{"$f":"表1[[#This Row],[expect]]*1","v":20180626116},{"$f":"SUBSTITUTE(表1[[#This Row],[opencode]],\",\",\"\")","v":"86550"}]
[20180626117,"2,8,3,0,5","2018-6-26 23:47:00",null,20180626117,"28305",145,{"$f":"表1[[#This Row],[expect]]*1","v":20180626117},{"$f":"SUBSTITUTE(表1[[#This Row],[opencode]],\",\",\"\")","v":"28305"}]
[20180626118,"3,5,8,5,1","2018-6-26 23:52:00",null,20180626118,"35851",146,{"$f":"表1[[#This Row],[expect]]*1","v":20180626118},{"$f":"SUBSTITUTE(表1[[#This Row],[opencode]],\",\",\"\")","v":"35851"}]
[20180626119,"4,3,9,9,5","2018-6-26 23:57:00",null,20180626119,"43995",147,{"$f":"表1[[#This Row],[expect]]*1","v":20180626119},{"$f":"SUBSTITUTE(表1[[#This Row],[opencode]],\",\",\"\")","v":"43995"}]
[20180626120,"3,4,8,3,8","2018-6-27 0:02:00",null,20180626120,"34838",148,{"$f":"表1[[#This Row],[expect]]*1","v":20180626120},{"$f":"SUBSTITUTE(表1[[#This Row],[opencode]],\",\",\"\")","v":"34838"}]
[20180627001,"1,7,6,5,6","2018-6-27 0:07:00",null,20180627001,"17656",149,{"$f":"表1[[#This Row],[expect]]*1","v":20180627001},{"$f":"SUBSTITUTE(表1[[#This Row],[opencode]],\",\",\"\")","v":"17656"}]
[20180627002,"9,7,4,8,4","2018-6-27 0:12:00",null,20180627002,"97484",150,{"$f":"表1[[#This Row],[expect]]*1","v":20180627002},{"$f":"SUBSTITUTE(表1[[#This Row],[opencode]],\",\",\"\")","v":"97484"}]
[20180627003,"0,1,4,1,1","2018-6-27 0:17:00",null,20180627003,"01411",151,{"$f":"表1[[#This Row],[expect]]*1","v":20180627003},{"$f":"SUBSTITUTE(表1[[#This Row],[opencode]],\",\",\"\")","v":"01411"}]
[20180627004,"1,9,4,5,8","2018-6-27 0:22:00",null,20180627004,"19458",152,{"$f":"表1[[#This Row],[expect]]*1","v":20180627004},{"$f":"SUBSTITUTE(表1[[#This Row],[opencode]],\",\",\"\")","v":"19458"}]
[20180627005,"8,8,1,0,9","2018-6-27 0:27:00",null,20180627005,"88109",153,{"$f":"表1[[#This Row],[expect]]*1","v":20180627005},{"$f":"SUBSTITUTE(表1[[#This Row],[opencode]],\",\",\"\")","v":"88109"}]
[20180627006,"7,7,3,3,5","2018-6-27 0:32:00",null,20180627006,"77335",154,{"$f":"表1[[#This Row],[expect]]*1","v":20180627006},{"$f":"SUBSTITUTE(表1[[#This Row],[opencode]],\",\",\"\")","v":"77335"}]
[20180627007,"8,3,8,9,0","2018-6-27 0:37:00",null,20180627007,"83890",155,{"$f":"表1[[#This Row],[expect]]*1","v":20180627007},{"$f":"SUBSTITUTE(表1[[#This Row],[opencode]],\",\",\"\")","v":"83890"}]
[20180627008,"9,2,6,1,3","2018-6-27 0:42:00",null,20180627008,"92613",156,{"$f":"表1[[#This Row],[expect]]*1","v":20180627008},{"$f":"SUBSTITUTE(表1[[#This Row],[opencode]],\",\",\"\")","v":"92613"}]
[20180627009,"7,3,1,1,5","2018-6-27 0:47:00",null,20180627009,"73115",157,{"$f":"表1[[#This Row],[expect]]*1","v":20180627009},{"$f":"SUBSTITUTE(表1[[#This Row],[opencode]],\",\",\"\")","v":"73115"}]
[20180627010,"8,1,4,9,6","2018-6-27 0:52:00",null,20180627010,"81496",158,{"$f":"表1[[#This Row],[expect]]*1","v":20180627010},{"$f":"SUBSTITUTE(表1[[#This Row],[opencode]],\",\",\"\")","v":"81496"}]
[20180627011,"3,0,0,6,1","2018-6-27 0:57:00",null,20180627011,"30061",159,{"$f":"表1[[#This Row],[expect]]*1","v":20180627011},{"$f":"SUBSTITUTE(表1[[#This Row],[opencode]],\",\",\"\")","v":"30061"}]
[20180627012,"7,8,2,0,8","2018-6-27 1:02:00",null,20180627012,"78208",160,{"$f":"表1[[#This Row],[expect]]*1","v":20180627012},{"$f":"SUBSTITUTE(表1[[#This Row],[opencode]],\",\",\"\")","v":"78208"}]
[20180627013,"1,0,1,9,7","2018-6-27 1:07:00",null,20180627013,"10197",161,{"$f":"表1[[#This Row],[expect]]*1","v":20180627013},{"$f":"SUBSTITUTE(表1[[#This Row],[opencode]],\",\",\"\")","v":"10197"}]
[20180627014,"3,0,1,6,1","2018-6-27 1:12:00",null,20180627014,"30161",162,{"$f":"表1[[#This Row],[expect]]*1","v":20180627014},{"$f":"SUBSTITUTE(表1[[#This Row],[opencode]],\",\",\"\")","v":"30161"}]
[20180627015,"3,0,2,7,0","2018-6-27 1:17:00",null,20180627015,"30270",163,{"$f":"表1[[#This Row],[expect]]*1","v":20180627015},{"$f":"SUBSTITUTE(表1[[#This Row],[opencode]],\",\",\"\")","v":"30270"}]
[20180627016,"3,7,1,0,6","2018-6-27 1:22:00",null,20180627016,"37106",164,{"$f":"表1[[#This Row],[expect]]*1","v":20180627016},{"$f":"SUBSTITUTE(表1[[#This Row],[opencode]],\",\",\"\")","v":"37106"}]
[20180627017,"6,7,3,6,2","2018-6-27 1:27:00",null,20180627017,"67362",165,{"$f":"表1[[#This Row],[expect]]*1","v":20180627017},{"$f":"SUBSTITUTE(表1[[#This Row],[opencode]],\",\",\"\")","v":"67362"}]
[20180627018,"5,1,8,4,9","2018-6-27 1:32:00",null,20180627018,"51849",166,{"$f":"表1[[#This Row],[expect]]*1","v":20180627018},{"$f":"SUBSTITUTE(表1[[#This Row],[opencode]],\",\",\"\")","v":"51849"}]
[20180627019,"7,0,7,6,0","2018-6-27 1:37:00",null,20180627019,"70760",167,{"$f":"表1[[#This Row],[expect]]*1","v":20180627019},{"$f":"SUBSTITUTE(表1[[#This Row],[opencode]],\",\",\"\")","v":"70760"}]
[20180627020,"0,4,2,1,3","2018-6-27 1:42:00",null,20180627020,"04213",168,{"$f":"表1[[#This Row],[expect]]*1","v":20180627020},{"$f":"SUBSTITUTE(表1[[#This Row],[opencode]],\",\",\"\")","v":"04213"}]
[20180627021,"7,5,1,8,3","2018-6-27 1:47:00",null,20180627021,"75183",169,{"$f":"表1[[#This Row],[expect]]*1","v":20180627021},{"$f":"SUBSTITUTE(表1[[#This Row],[opencode]],\",\",\"\")","v":"75183"}]
[20180627022,"2,6,6,6,6","2018-6-27 1:52:00",null,20180627022,"26666",170,{"$f":"表1[[#This Row],[expect]]*1","v":20180627022},{"$f":"SUBSTITUTE(表1[[#This Row],[opencode]],\",\",\"\")","v":"26666"}]
[20180627023,"1,8,7,0,9","2018-6-27 1:57:00",null,20180627023,"18709",171,{"$f":"表1[[#This Row],[expect]]*1","v":20180627023},{"$f":"SUBSTITUTE(表1[[#This Row],[opencode]],\",\",\"\")","v":"18709"}]
[20180627024,"4,8,0,9,5","2018-6-27 10:02:00",null,20180627024,"48095",172,{"$f":"表1[[#This Row],[expect]]*1","v":20180627024},{"$f":"SUBSTITUTE(表1[[#This Row],[opencode]],\",\",\"\")","v":"48095"}]
[20180627025,"2,4,6,4,4","2018-6-27 10:12:00",null,20180627025,"24644",173,{"$f":"表1[[#This Row],[expect]]*1","v":20180627025},{"$f":"SUBSTITUTE(表1[[#This Row],[opencode]],\",\",\"\")","v":"24644"}]
[20180627026,"6,4,7,5,4","2018-6-27 10:22:00",null,20180627026,"64754",174,{"$f":"表1[[#This Row],[expect]]*1","v":20180627026},{"$f":"SUBSTITUTE(表1[[#This Row],[opencode]],\",\",\"\")","v":"64754"}]
[20180627027,"9,8,9,9,6","2018-6-27 10:32:00",null,20180627027,"98996",175,{"$f":"表1[[#This Row],[expect]]*1","v":20180627027},{"$f":"SUBSTITUTE(表1[[#This Row],[opencode]],\",\",\"\")","v":"98996"}]
[20180627028,"9,8,4,2,1","2018-6-27 10:42:00",null,20180627028,"98421",176,{"$f":"表1[[#This Row],[expect]]*1","v":20180627028},{"$f":"SUBSTITUTE(表1[[#This Row],[opencode]],\",\",\"\")","v":"98421"}]
[20180627029,"1,4,5,8,7","2018-6-27 10:52:00",null,20180627029,"14587",177,{"$f":"表1[[#This Row],[expect]]*1","v":20180627029},{"$f":"SUBSTITUTE(表1[[#This Row],[opencode]],\",\",\"\")","v":"14587"}]
[20180627030,"6,4,4,4,1","2018-6-27 11:02:00",null,20180627030,"64441",178,{"$f":"表1[[#This Row],[expect]]*1","v":20180627030},{"$f":"SUBSTITUTE(表1[[#This Row],[opencode]],\",\",\"\")","v":"64441"}]
[20180627031,"2,9,2,4,8","2018-6-27 11:12:00",null,20180627031,"29248",179,{"$f":"表1[[#This Row],[expect]]*1","v":20180627031},{"$f":"SUBSTITUTE(表1[[#This Row],[opencode]],\",\",\"\")","v":"29248"}]
[20180627032,"8,4,4,4,1","2018-6-27 11:22:00",null,20180627032,"84441",180,{"$f":"表1[[#This Row],[expect]]*1","v":20180627032},{"$f":"SUBSTITUTE(表1[[#This Row],[opencode]],\",\",\"\")","v":"84441"}]
[20180627033,"7,6,2,9,8","2018-6-27 11:32:00",null,20180627033,"76298",181,{"$f":"表1[[#This Row],[expect]]*1","v":20180627033},{"$f":"SUBSTITUTE(表1[[#This Row],[opencode]],\",\",\"\")","v":"76298"}]
[20180627034,"6,3,5,7,8","2018-6-27 11:42:00",null,20180627034,"63578",182,{"$f":"表1[[#This Row],[expect]]*1","v":20180627034},{"$f":"SUBSTITUTE(表1[[#This Row],[opencode]],\",\",\"\")","v":"63578"}]
[20180627035,"5,6,9,5,4","2018-6-27 11:52:00",null,20180627035,"56954",183,{"$f":"表1[[#This Row],[expect]]*1","v":20180627035},{"$f":"SUBSTITUTE(表1[[#This Row],[opencode]],\",\",\"\")","v":"56954"}]
[20180627036,"8,6,9,6,2","2018-6-27 12:02:00",null,20180627036,"86962",184,{"$f":"表1[[#This Row],[expect]]*1","v":20180627036},{"$f":"SUBSTITUTE(表1[[#This Row],[opencode]],\",\",\"\")","v":"86962"}]
[20180627037,"2,7,2,1,4","2018-6-27 12:12:00",null,20180627037,"27214",185,{"$f":"表1[[#This Row],[expect]]*1","v":20180627037},{"$f":"SUBSTITUTE(表1[[#This Row],[opencode]],\",\",\"\")","v":"27214"}]
[20180627038,"1,9,1,1,8","2018-6-27 12:22:00",null,20180627038,"19118",186,{"$f":"表1[[#This Row],[expect]]*1","v":20180627038},{"$f":"SUBSTITUTE(表1[[#This Row],[opencode]],\",\",\"\")","v":"19118"}]
[20180627039,"8,8,1,4,4","2018-6-27 12:32:00",null,20180627039,"88144",187,{"$f":"表1[[#This Row],[expect]]*1","v":20180627039},{"$f":"SUBSTITUTE(表1[[#This Row],[opencode]],\",\",\"\")","v":"88144"}]
[20180627040,"3,8,7,0,3","2018-6-27 12:42:00",null,20180627040,"38703",188,{"$f":"表1[[#This Row],[expect]]*1","v":20180627040},{"$f":"SUBSTITUTE(表1[[#This Row],[opencode]],\",\",\"\")","v":"38703"}]
[20180627041,"6,3,1,2,4","2018-6-27 12:52:00",null,20180627041,"63124",189,{"$f":"表1[[#This Row],[expect]]*1","v":20180627041},{"$f":"SUBSTITUTE(表1[[#This Row],[opencode]],\",\",\"\")","v":"63124"}]
[20180627042,"2,5,8,9,6","2018-6-27 13:02:00",null,20180627042,"25896",190,{"$f":"表1[[#This Row],[expect]]*1","v":20180627042},{"$f":"SUBSTITUTE(表1[[#This Row],[opencode]],\",\",\"\")","v":"25896"}]
[20180627043,"5,0,9,9,6","2018-6-27 13:12:00",null,20180627043,"50996",191,{"$f":"表1[[#This Row],[expect]]*1","v":20180627043},{"$f":"SUBSTITUTE(表1[[#This Row],[opencode]],\",\",\"\")","v":"50996"}]
[20180627044,"9,5,1,7,3","2018-6-27 13:22:00",null,20180627044,"95173",192,{"$f":"表1[[#This Row],[expect]]*1","v":20180627044},{"$f":"SUBSTITUTE(表1[[#This Row],[opencode]],\",\",\"\")","v":"95173"}]
[20180627045,"6,7,3,5,1","2018-6-27 13:32:00",null,{"$f":"OFFSET($H$1,$G194,)","v":20180627045},{"$f":"OFFSET($I$1,$G194,)","v":"67351"},{"$f":"ROW()-$G$203-1","v":193},{"$f":"表1[[#This Row],[expect]]*1","v":20180627045},{"$f":"SUBSTITUTE(表1[[#This Row],[opencode]],\",\",\"\")","v":"67351"}]
[20180627046,"9,1,7,7,4","2018-6-27 13:42:00",null,20180627046,"91774",194,{"$f":"表1[[#This Row],[expect]]*1","v":20180627046},{"$f":"SUBSTITUTE(表1[[#This Row],[opencode]],\",\",\"\")","v":"91774"}]
[20180627047,"6,2,1,7,9","2018-6-27 13:52:00",null,20180627047,"62179",195,{"$f":"表1[[#This Row],[expect]]*1","v":20180627047},{"$f":"SUBSTITUTE(表1[[#This Row],[opencode]],\",\",\"\")","v":"62179"}]
[20180627048,"3,8,2,9,9","2018-6-27 14:02:00",null,20180627048,"38299",196,{"$f":"表1[[#This Row],[expect]]*1","v":20180627048},{"$f":"SUBSTITUTE(表1[[#This Row],[opencode]],\",\",\"\")","v":"38299"}]
[20180627049,"6,2,0,6,0","2018-6-27 14:12:00",null,20180627049,"62060",197,{"$f":"表1[[#This Row],[expect]]*1","v":20180627049},{"$f":"SUBSTITUTE(表1[[#This Row],[opencode]],\",\",\"\")","v":"62060"}]
[20180627050,"4,0,3,2,4","2018-6-27 14:22:00",null,20180627050,"40324",198,{"$f":"表1[[#This Row],[expect]]*1","v":20180627050},{"$f":"SUBSTITUTE(表1[[#This Row],[opencode]],\",\",\"\")","v":"40324"}]
[20180627051,"1,6,6,9,2","2018-6-27 14:32:00",null,20180627051,"16692",199,{"$f":"表1[[#This Row],[expect]]*1","v":20180627051},{"$f":"SUBSTITUTE(表1[[#This Row],[opencode]],\",\",\"\")","v":"16692"}]
[20180627052,"5,3,6,5,0","2018-6-27 14:42:00",null,20180627052,"53650",{"$f":"ROW()-$G$203-1","v":200},{"$f":"表1[[#This Row],[expect]]*1","v":20180627052},{"$f":"SUBSTITUTE(表1[[#This Row],[opencode]],\",\",\"\")","v":"53650"}]
[null,null,null,null,20180627053,"待待待待待",{"$f":"ROW()-$G$203-1","v":201},{"$f":"H201+1*1","v":20180627053},"待待待待待"]
[null,null,null,null,null,null,{"$f":"分析!I218","v":0}]

{"sheet":"胆对九补序","index":4,"n_rows":212,"n_cols":60,"rows_kept":212,"cut":false,"hidden":false,"merged":[]}
[null,{"$f":"199-COUNTBLANK(C13:C211)+13","v":14},null,null,true,null,null,null,null,null,null,null,null,null,null,null,{"$f":"199-COUNTBLANK(#REF!)+13","v":{"$error":"#REF!"}},true,null,null,null,null,null,null,null,null,null,null,null,{"$f":"199-COUNTBLANK(#REF!)+13","v":{"$error":"#REF!"}},true,null,null,null,null,null,null,null,null,null,null,null,{"$f":"199-COUNTBLANK(#REF!)+13","v":{"$error":"#REF!"}},false,null,null,null,null,null,null,null,null,null,null,null,"下期序",{"$f":"TRIM(INDEX(BE13:BE211,199-COUNTBLANK(BE13:BE211)))","v":"4567890123"},{"$f":"TRIM(INDEX(BF13:BF211,199-COUNTBLANK(BF13:BF211)))","v":"1234567890"},"4567890123","1234567890"]
[null,null,null,null,null,null,null,null,null,null,null,null,null,null,null,null,null,null,null,null,null,null,null,null,null,null,null,null,null,null,null,null,null,null,null,null,null,null,null,null,null,null,null,null,null,null,null,null,null,null,null,null,null,null,null,"提取位置",12345,12346,12347,12348]
[null,null,null,null,null,null,null,null,null,null,null,null,null,null,null,null,null,null,null,null,null,null,null,null,null,null,null,null,null,null,null,null,null,null,null,null,null,null,null,null,null,null,null,null,null,null,null,null,null,null,null,null,null,null,null,"组号条件",{"$f":"IF(SUMPRODUCT(--ISNUMBER(FIND(1,BE2)))>=1,MID(BE1,1,1),\"\")&IF(SUMPRODUCT(--ISNUMBER(FIND(2,BE2)))>=1,MID(BE1,2,1),\"\")&IF(SUMPRODUCT(--ISNUMBER(FIND(3,BE2)))>=1,MID(BE1,3,1),\"\")&IF(SUMPRODUCT(--ISNUMBER(FIND(4,BE2)))>=1,MID(BE1,4,1),\"\")&IF(SUMPRODUCT(--ISNUMBER(FIND(5,BE2)))>=1,MID(BE1,5,1),\"\")&IF(SUMPRODUCT(--ISNUMBER(FIND(6,BE2)))>=1,MID(BE1,6,1),\"\")&IF(SUMPRODUCT(--ISNUMBER(FIND(7,BE2)))>=1,MID(BE1,7,1),\"\")&IF(SUMPRODUCT(--ISNUMBER(FIND(8,BE2)))>=1,MID(BE1,8,1),\"\")&IF(SUMPRODUCT(--ISNUMBER(FIND(9,BE2)))>=1,MID(BE1,9,1),\"\")&IF(SUMPRODUCT(--ISNUMBER(FIND(0,BE2)))>=1,MID(BE1,10,1),\"\")","v":"45678"},{"$f":"IF(SUMPRODUCT(--ISNUMBER(FIND(1,BF2)))>=1,MID(BF1,1,1),\"\")&IF(SUMPRODUCT(--ISNUMBER(FIND(2,BF2)))>=1,MID(BF1,2,1),\"\")&IF(SUMPRODUCT(--ISNUMBER(FIND(3,BF2)))>=1,MID(BF1,3,1),\"\")&IF(SUMPRODUCT(--ISNUMBER(FIND(4,BF2)))>=1,MID(BF1,4,1),\"\")&IF(SUMPRODUCT(--ISNUMBER(FIND(5,BF2)))>=1,MID(BF1,5,1),\"\")&IF(SUMPRODUCT(--ISNUMBER(FIND(6,BF2)))>=1,MID(BF1,6,1),\"\")&IF(SUMPRODUCT(--ISNUMBER(FIND(7,BF2)))>=1,MID(BF1,7,1),\"\")&IF(SUMPRODUCT(--ISNUMBER(FIND(8,BF2)))>=1,MID(BF1,8,1),\"\")&IF(SUMPRODUCT(--ISNUMBER(FIND(9,BF2)))>=1,MID(BF1,9,1),\"\")&IF(SUMPRODUCT(--ISNUMBER(FIND(0,BF2)))>=1,MID(BF1,10,1),\"\")","v":"12346"},"45670","12348"]
[null,null,null,null,null,null,null,null,null,null,null,null,null,null,null,null,null,null,null,null,null,null,null,null,null,null,null,null,null,null,null,null,null,null,null,null,null,null,null,null,null,null,null,null,null,null,null,null,null,null,null,null,null,null,null,45678,"复制","复制","复制","复制"]
[]
[]
[]
[]
[]
[]
[]
[null,null,"期数","开奖",{"$f":"P12&\" 序\"","v":"胆对九 序"},0,1,2,3,4,5,6,7,8,9,"胆对九",null,{"$f":"AC12&\" 序\"","v":"胆对补 序"},0,1,2,3,4,5,6,7,8,9,"胆对补",null,{"$f":"AP12&\" 序\"","v":"胆九补 序"},0,1,2,3,4,5,6,7,8,9,"胆九补",null,{"$f":"BC12&\" 序\"","v":"对九补 序"},0,1,2,3,4,5,6,7,8,9,"对九补",null,{"$f":"IF(E12=\"\",\"\",E12)","v":"胆对九 序"},{"$f":"IF(R12=\"\",\"\",R12)","v":"胆对补 序"},{"$f":"IF(AE12=\"\",\"\",AE12)","v":"胆九补 序"},{"$f":"IF(AR12=\"\",\"\",AR12)","v":"对九补 序"}]
[null,null,"23","001","1234567890",{"$f":"IF($E13=\"\",\"\",MID($E13,F$12+1,1))","v":"1"},{"$f":"IF($E13=\"\",\"\",MID($E13,G$12+1,1))","v":"2"},"3","4","5","6","7","8","9","0",{"$f":"IF($D13=\"\",\"\",VLOOKUP($D13,数据库!$B$4:$AD$1003,MATCH(P$12,数据库!$C$2:$R$2,)+1,0))","v":"001556998"},null,"1234567890",{"$f":"IF($R13=\"\",\"\",MID($R13,S$12+1,1))","v":"1"},{"$f":"IF($R13=\"\",\"\",MID($R13,T$12+1,1))","v":"2"},"3","4","5","6","7","8","9","0",{"$f":"IF($D13=\"\",\"\",VLOOKUP($D13,数据库!$B$4:$AD$1003,MATCH(AC$12,数据库!$C$2:$R$2,)+1,0))","v":"001556009"},null,"1234567890",{"$f":"IF($AE13=\"\",\"\",MID($AE13,AF$12+1,1))","v":"1"},{"$f":"IF($AE13=\"\",\"\",MID($AE13,AG$12+1,1))","v":"2"},"3","4","5","6","7","8","9","0",{"$f":"IF($D13=\"\",\"\",VLOOKUP($D13,数据库!$B$4:$AD$1003,MATCH(AP$12,数据库!$C$2:$R$2,)+1,0))","v":"001998009"},null,"1234567890",{"$f":"IF($AR13=\"\",\"\",MID($AR13,AS$12+1,1))","v":"1"},{"$f":"IF($AR13=\"\",\"\",MID($AR13,AT$12+1,1))","v":"2"},"3","4","5","6","7","8","9","0",{"$f":"IF($D13=\"\",\"\",VLOOKUP($D13,数据库!$B$4:$AD$1003,MATCH(BC$12,数据库!$C$2:$R$2,)+1,0))","v":"556998009"},1,{"$f":"IF(E13=\"\",\"\",E13)","v":"1234567890"},{"$f":"IF(R13=\"\",\"\",R13)","v":"1234567890"},{"$f":"IF(AE13=\"\",\"\",AE13)","v":"1234567890"},{"$f":"IF(AR13=\"\",\"\",AR13)","v":"1234567890"}]
[null,null,"","","4567890123",{"$f":"IF($E14=\"\",\"\",MID($E14,F$12+1,1))","v":"4"},"5","6","7","8","9","0","1","2","3",{"$f":"IF($D14=\"\",\"\",VLOOKUP($D14,数据库!$B$4:$AD$1003,MATCH(P$12,数据库!$C$2:$R$2,)+1,0))","v":""},null,"",{"$f":"IF($R14=\"\",\"\",MID($R14,S$12+1,1))","v":""},"","","","","","","","","",{"$f":"IF($D14=\"\",\"\",VLOOKUP($D14,数据库!$B$4:$AD$1003,MATCH(AC$12,数据库!$C$2:$R$2,)+1,0))","v":""},null,"4567890123",{"$f":"IF($AE14=\"\",\"\",MID($AE14,AF$12+1,1))","v":"4"},"5","6","7","8","9","0","1","2","3",{"$f":"IF($D14=\"\",\"\",VLOOKUP($D14,数据库!$B$4:$AD$1003,MATCH(AP$12,数据库!$C$2:$R$2,)+1,0))","v":""},null,"",{"$f":"IF($AR14=\"\",\"\",MID($AR14,AS$12+1,1))","v":""},"","","","","","","","","",{"$f":"IF($D14=\"\",\"\",VLOOKUP($D14,数据库!$B$4:$AD$1003,MATCH(BC$12,数据库!$C$2:$R$2,)+1,0))","v":""},2,{"$f":"IF(E14=\"\",\"\",E14)","v":"4567890123"},{"$f":"IF(R14=\"\",\"\",R14)","v":""},{"$f":"IF(AE14=\"\",\"\",AE14)","v":"4567890123"},{"$f":"IF(AR14=\"\",\"\",AR14)","v":""}]
[null,null,"","","","","","","","","","","","","",{"$f":"IF($D15=\"\",\"\",VLOOKUP($D15,数据库!$B$4:$AD$1003,MATCH(P$12,数据库!$C$2:$R$2,)+1,0))","v":""},null,"","","","","","","","","","","",{"$f":"IF($D15=\"\",\"\",VLOOKUP($D15,数据库!$B$4:$AD$1003,MATCH(AC$12,数据库!$C$2:$R$2,)+1,0))","v":""},null,"","","","","","","","","","","",{"$f":"IF($D15=\"\",\"\",VLOOKUP($D15,数据库!$B$4:$AD$1003,MATCH(AP$12,数据库!$C$2:$R$2,)+1,0))","v":""},null,"","","","","","","","","","","",{"$f":"IF($D15=\"\",\"\",VLOOKUP($D15,数据库!$B$4:$AD$1003,MATCH(BC$12,数据库!$C$2:$R$2,)+1,0))","v":""},3,"","","",""]
[null,null,"","","","","","","","","","","","","",{"$f":"IF($D16=\"\",\"\",VLOOKUP($D16,数据库!$B$4:$AD$1003,MATCH(P$12,数据库!$C$2:$R$2,)+1,0))","v":""},null,"","","","","","","","","","","",{"$f":"IF($D16=\"\",\"\",VLOOKUP($D16,数据库!$B$4:$AD$1003,MATCH(AC$12,数据库!$C$2:$R$2,)+1,0))","v":""},null,"","","","","","","","","","","",{"$f":"IF($D16=\"\",\"\",VLOOKUP($D16,数据库!$B$4:$AD$1003,MATCH(AP$12,数据库!$C$2:$R$2,)+1,0))","v":""},null,"","","","","","","","","","","",{"$f":"IF($D16=\"\",\"\",VLOOKUP($D16,数据库!$B$4:$AD$1003,MATCH(BC$12,数据库!$C$2:$R$2,)+1,0))","v":""},4,"","","",""]
[null,null,"","","","","","","","","","","","","",{"$f":"IF($D17=\"\",\"\",VLOOKUP($D17,数据库!$B$4:$AD$1003,MATCH(P$12,数据库!$C$2:$R$2,)+1,0))","v":""},null,"","","","","","","","","","","",{"$f":"IF($D17=\"\",\"\",VLOOKUP($D17,数据库!$B$4:$AD$1003,MATCH(AC$12,数据库!$C$2:$R$2,)+1,0))","v":""},null,"","","","","","","","","","","",{"$f":"IF($D17=\"\",\"\",VLOOKUP($D17,数据库!$B$4:$AD$1003,MATCH(AP$12,数据库!$C$2:$R$2,)+1,0))","v":""},null,"","","","","","","","","","","",{"$f":"IF($D17=\"\",\"\",VLOOKUP($D17,数据库!$B$4:$AD$1003,MATCH(BC$12,数据库!$C$2:$R$2,)+1,0))","v":""},5,"","","",""]
[null,null,"","","","","","","","","","","","","",{"$f":"IF($D18=\"\",\"\",VLOOKUP($D18,数据库!$B$4:$AD$1003,MATCH(P$12,数据库!$C$2:$R$2,)+1,0))","v":""},null,"","","","","","","","","","","",{"$f":"IF($D18=\"\",\"\",VLOOKUP($D18,数据库!$B$4:$AD$1003,MATCH(AC$12,数据库!$C$2:$R$2,)+1,0))","v":""},null,"","","","","","","","","","","",{"$f":"IF($D18=\"\",\"\",VLOOKUP($D18,数据库!$B$4:$AD$1003,MATCH(AP$12,数据库!$C$2:$R$2,)+1,0))","v":""},null,"","","","","","","","","","","",{"$f":"IF($D18=\"\",\"\",VLOOKUP($D18,数据库!$B$4:$AD$1003,MATCH(BC$12,数据库!$C$2:$R$2,)+1,0))","v":""},6,"","","",""]
[null,null,"","","","","","","","","","","","","",{"$f":"IF($D19=\"\",\"\",VLOOKUP($D19,数据库!$B$4:$AD$1003,MATCH(P$12,数据库!$C$2:$R$2,)+1,0))","v":""},null,"","","","","","","","","","","",{"$f":"IF($D19=\"\",\"\",VLOOKUP($D19,数据库!$B$4:$AD$1003,MATCH(AC$12,数据库!$C$2:$R$2,)+1,0))","v":""},null,"","","","","","","","","","","",{"$f":"IF($D19=\"\",\"\",VLOOKUP($D19,数据库!$B$4:$AD$1003,MATCH(AP$12,数据库!$C$2:$R$2,)+1,0))","v":""},null,"","","","","","","","","","","",{"$f":"IF($D19=\"\",\"\",VLOOKUP($D19,数据库!$B$4:$AD$1003,MATCH(BC$12,数据库!$C$2:$R$2,)+1,0))","v":""},7,"","","",""]
[null,null,"","","","","","","","","","","","","",{"$f":"IF($D20=\"\",\"\",VLOOKUP($D20,数据库!$B$4:$AD$1003,MATCH(P$12,数据库!$C$2:$R$2,)+1,0))","v":""},null,"","","","","","","","","","","",{"$f":"IF($D20=\"\",\"\",VLOOKUP($D20,数据库!$B$4:$AD$1003,MATCH(AC$12,数据库!$C$2:$R$2,)+1,0))","v":""},null,"","","","","","","","","","","",{"$f":"IF($D20=\"\",\"\",VLOOKUP($D20,数据库!$B$4:$AD$1003,MATCH(AP$12,数据库!$C$2:$R$2,)+1,0))","v":""},null,"","","","","","","","","","","",{"$f":"IF($D20=\"\",\"\",VLOOKUP($D20,数据库!$B$4:$AD$1003,MATCH(BC$12,数据库!$C$2:$R$2,)+1,0))","v":""},8,"","","",""]
[null,null,"","","","","","","","","","","","","",{"$f":"IF($D21=\"\",\"\",VLOOKUP($D21,数据库!$B$4:$AD$1003,MATCH(P$12,数据库!$C$2:$R$2,)+1,0))","v":""},null,"","","","","","","","","","","",{"$f":"IF($D21=\"\",\"\",VLOOKUP($D21,数据库!$B$4:$AD$1003,MATCH(AC$12,数据库!$C$2:$R$2,)+1,0))","v":""},null,"","","","","","","","","","","",{"$f":"IF($D21=\"\",\"\",VLOOKUP($D21,数据库!$B$4:$AD$1003,MATCH(AP$12,数据库!$C$2:$R$2,)+1,0))","v":""},null,"","","","","","","","","","","",{"$f":"IF($D21=\"\",\"\",VLOOKUP($D21,数据库!$B$4:$AD$1003,MATCH(BC$12,数据库!$C$2:$R$2,)+1,0))","v":""},9,"","","",""]
[null,null,"","","","","","","","","","","","","",{"$f":"IF($D22=\"\",\"\",VLOOKUP($D22,数据库!$B$4:$AD$1003,MATCH(P$12,数据库!$C$2:$R$2,)+1,0))","v":""},null,"","","","","","","","","","","",{"$f":"IF($D22=\"\",\"\",VLOOKUP($D22,数据库!$B$4:$AD$1003,MATCH(AC$12,数据库!$C$2:$R$2,)+1,0))","v":""},null,"","","","","","","","","","","",{"$f":"IF($D22=\"\",\"\",VLOOKUP($D22,数据库!$B$4:$AD$1003,MATCH(AP$12,数据库!$C$2:$R$2,)+1,0))","v":""},null,"","","","","","","","","","","",{"$f":"IF($D22=\"\",\"\",VLOOKUP($D22,数据库!$B$4:$AD$1003,MATCH(BC$12,数据库!$C$2:$R$2,)+1,0))","v":""},10,"","","",""]
[null,null,"","","","","","","","","","","","","",{"$f":"IF($D23=\"\",\"\",VLOOKUP($D23,数据库!$B$4:$AD$1003,MATCH(P$12,数据库!$C$2:$R$2,)+1,0))","v":""},null,"","","","","","","","","","","",{"$f":"IF($D23=\"\",\"\",VLOOKUP($D23,数据库!$B$4:$AD$1003,MATCH(AC$12,数据库!$C$2:$R$2,)+1,0))","v":""},null,"","","","","","","","","","","",{"$f":"IF($D23=\"\",\"\",VLOOKUP($D23,数据库!$B$4:$AD$1003,MATCH(AP$12,数据库!$C$2:$R$2,)+1,0))","v":""},null,"","","","","","","","","","","",{"$f":"IF($D23=\"\",\"\",VLOOKUP($D23,数据库!$B$4:$AD$1003,MATCH(BC$12,数据库!$C$2:$R$2,)+1,0))","v":""},11,"","","",""]
[null,null,"","","","","","","","","","","","","",{"$f":"IF($D24=\"\",\"\",VLOOKUP($D24,数据库!$B$4:$AD$1003,MATCH(P$12,数据库!$C$2:$R$2,)+1,0))","v":""},null,"","","","","","","","","","","",{"$f":"IF($D24=\"\",\"\",VLOOKUP($D24,数据库!$B$4:$AD$1003,MATCH(AC$12,数据库!$C$2:$R$2,)+1,0))","v":""},null,"","","","","","","","","","","",{"$f":"IF($D24=\"\",\"\",VLOOKUP($D24,数据库!$B$4:$AD$1003,MATCH(AP$12,数据库!$C$2:$R$2,)+1,0))","v":""},null,"","","","","","","","","","","",{"$f":"IF($D24=\"\",\"\",VLOOKUP($D24,数据库!$B$4:$AD$1003,MATCH(BC$12,数据库!$C$2:$R$2,)+1,0))","v":""},12,"","","",""]
[null,null,"","","","","","","","","","","","","",{"$f":"IF($D25=\"\",\"\",VLOOKUP($D25,数据库!$B$4:$AD$1003,MATCH(P$12,数据库!$C$2:$R$2,)+1,0))","v":""},null,"","","","","","","","","","","",{"$f":"IF($D25=\"\",\"\",VLOOKUP($D25,数据库!$B$4:$AD$1003,MATCH(AC$12,数据库!$C$2:$R$2,)+1,0))","v":""},null,"","","","","","","","","","","",{"$f":"IF($D25=\"\",\"\",VLOOKUP($D25,数据库!$B$4:$AD$1003,MATCH(AP$12,数据库!$C$2:$R$2,)+1,0))","v":""},null,"","","","","","","","","","","",{"$f":"IF($D25=\"\",\"\",VLOOKUP($D25,数据库!$B$4:$AD$1003,MATCH(BC$12,数据库!$C$2:$R$2,)+1,0))","v":""},13,"","","",""]
[null,null,"","","","","","","","","","","","","",{"$f":"IF($D26=\"\",\"\",VLOOKUP($D26,数据库!$B$4:$AD$1003,MATCH(P$12,数据库!$C$2:$R$2,)+1,0))","v":""},null,"","","","","","","","","","","",{"$f":"IF($D26=\"\",\"\",VLOOKUP($D26,数据库!$B$4:$AD$1003,MATCH(AC$12,数据库!$C$2:$R$2,)+1,0))","v":""},null,"","","","","","","","","","","",{"$f":"IF($D26=\"\",\"\",VLOOKUP($D26,数据库!$B$4:$AD$1003,MATCH(AP$12,数据库!$C$2:$R$2,)+1,0))","v":""},null,"","","","","","","","","","","",{"$f":"IF($D26=\"\",\"\",VLOOKUP($D26,数据库!$B$4:$AD$1003,MATCH(BC$12,数据库!$C$2:$R$2,)+1,0))","v":""},14,"","","",""]
[null,null,"","","","","","","","","","","","","",{"$f":"IF($D27=\"\",\"\",VLOOKUP($D27,数据库!$B$4:$AD$1003,MATCH(P$12,数据库!$C$2:$R$2,)+1,0))","v":""},null,"","","","","","","","","","","",{"$f":"IF($D27=\"\",\"\",VLOOKUP($D27,数据库!$B$4:$AD$1003,MATCH(AC$12,数据库!$C$2:$R$2,)+1,0))","v":""},null,"","","","","","","","","","","",{"$f":"IF($D27=\"\",\"\",VLOOKUP($D27,数据库!$B$4:$AD$1003,MATCH(AP$12,数据库!$C$2:$R$2,)+1,0))","v":""},null,"","","","","","","","","","","",{"$f":"IF($D27=\"\",\"\",VLOOKUP($D27,数据库!$B$4:$AD$1003,MATCH(BC$12,数据库!$C$2:$R$2,)+1,0))","v":""},15,"","","",""]
[null,null,"","","","","","","","","","","","","",{"$f":"IF($D28=\"\",\"\",VLOOKUP($D28,数据库!$B$4:$AD$1003,MATCH(P$12,数据库!$C$2:$R$2,)+1,0))","v":""},null,"","","","","","","","","","","",{"$f":"IF($D28=\"\",\"\",VLOOKUP($D28,数据库!$B$4:$AD$1003,MATCH(AC$12,数据库!$C$2:$R$2,)+1,0))","v":""},null,"","","","","","","","","","","",{"$f":"IF($D28=\"\",\"\",VLOOKUP($D28,数据库!$B$4:$AD$1003,MATCH(AP$12,数据库!$C$2:$R$2,)+1,0))","v":""},null,"","","","","","","","","","","",{"$f":"IF($D28=\"\",\"\",VLOOKUP($D28,数据库!$B$4:$AD$1003,MATCH(BC$12,数据库!$C$2:$R$2,)+1,0))","v":""},16,"","","",""]
[null,null,"","","","","","","","","","","","","",{"$f":"IF($D29=\"\",\"\",VLOOKUP($D29,数据库!$B$4:$AD$1003,MATCH(P$12,数据库!$C$2:$R$2,)+1,0))","v":""},null,"","","","","","","","","","","",{"$f":"IF($D29=\"\",\"\",VLOOKUP($D29,数据库!$B$4:$AD$1003,MATCH(AC$12,数据库!$C$2:$R$2,)+1,0))","v":""},null,"","","","","","","","","","","",{"$f":"IF($D29=\"\",\"\",VLOOKUP($D29,数据库!$B$4:$AD$1003,MATCH(AP$12,数据库!$C$2:$R$2,)+1,0))","v":""},null,"","","","","","","","","","","",{"$f":"IF($D29=\"\",\"\",VLOOKUP($D29,数据库!$B$4:$AD$1003,MATCH(BC$12,数据库!$C$2:$R$2,)+1,0))","v":""},17,"","","",""]
[null,null,"","","","","","","","","","","","","",{"$f":"IF($D30=\"\",\"\",VLOOKUP($D30,数据库!$B$4:$AD$1003,MATCH(P$12,数据库!$C$2:$R$2,)+1,0))","v":""},null,"","","","","","","","","","","",{"$f":"IF($D30=\"\",\"\",VLOOKUP($D30,数据库!$B$4:$AD$1003,MATCH(AC$12,数据库!$C$2:$R$2,)+1,0))","v":""},null,"","","","","","","","","","","",{"$f":"IF($D30=\"\",\"\",VLOOKUP($D30,数据库!$B$4:$AD$1003,MATCH(AP$12,数据库!$C$2:$R$2,)+1,0))","v":""},null,"","","","","","","","","","","",{"$f":"IF($D30=\"\",\"\",VLOOKUP($D30,数据库!$B$4:$AD$1003,MATCH(BC$12,数据库!$C$2:$R$2,)+1,0))","v":""},18,"","","",""]
[null,null,"","","","","","","","","","","","","",{"$f":"IF($D31=\"\",\"\",VLOOKUP($D31,数据库!$B$4:$AD$1003,MATCH(P$12,数据库!$C$2:$R$2,)+1,0))","v":""},null,"","","","","","","","","","","",{"$f":"IF($D31=\"\",\"\",VLOOKUP($D31,数据库!$B$4:$AD$1003,MATCH(AC$12,数据库!$C$2:$R$2,)+1,0))","v":""},null,"","","","","","","","","","","",{"$f":"IF($D31=\"\",\"\",VLOOKUP($D31,数据库!$B$4:$AD$1003,MATCH(AP$12,数据库!$C$2:$R$2,)+1,0))","v":""},null,"","","","","","","","","","","",{"$f":"IF($D31=\"\",\"\",VLOOKUP($D31,数据库!$B$4:$AD$1003,MATCH(BC$12,数据库!$C$2:$R$2,)+1,0))","v":""},19,"","","",""]
[null,null,"","","","","","","","","","","","","",{"$f":"IF($D32=\"\",\"\",VLOOKUP($D32,数据库!$B$4:$AD$1003,MATCH(P$12,数据库!$C$2:$R$2,)+1,0))","v":""},null,"","","","","","","","","","","",{"$f":"IF($D32=\"\",\"\",VLOOKUP($D32,数据库!$B$4:$AD$1003,MATCH(AC$12,数据库!$C$2:$R$2,)+1,0))","v":""},null,"","","","","","","","","","","",{"$f":"IF($D32=\"\",\"\",VLOOKUP($D32,数据库!$B$4:$AD$1003,MATCH(AP$12,数据库!$C$2:$R$2,)+1,0))","v":""},null,"","","","","","","","","","","",{"$f":"IF($D32=\"\",\"\",VLOOKUP($D32,数据库!$B$4:$AD$1003,MATCH(BC$12,数据库!$C$2:$R$2,)+1,0))","v":""},20,"","","",""]
[null,null,"","","","","","","","","","","","","",{"$f":"IF($D33=\"\",\"\",VLOOKUP($D33,数据库!$B$4:$AD$1003,MATCH(P$12,数据库!$C$2:$R$2,)+1,0))","v":""},null,"","","","","","","","","","","",{"$f":"IF($D33=\"\",\"\",VLOOKUP($D33,数据库!$B$4:$AD$1003,MATCH(AC$12,数据库!$C$2:$R$2,)+1,0))","v":""},null,"","","","","","","","","","","",{"$f":"IF($D33=\"\",\"\",VLOOKUP($D33,数据库!$B$4:$AD$1003,MATCH(AP$12,数据库!$C$2:$R$2,)+1,0))","v":""},null,"","","","","","","","","","","",{"$f":"IF($D33=\"\",\"\",VLOOKUP($D33,数据库!$B$4:$AD$1003,MATCH(BC$12,数据库!$C$2:$R$2,)+1,0))","v":""},21,"","","",""]
[null,null,"","","","","","","","","","","","","",{"$f":"IF($D34=\"\",\"\",VLOOKUP($D34,数据库!$B$4:$AD$1003,MATCH(P$12,数据库!$C$2:$R$2,)+1,0))","v":""},null,"","","","","","","","","","","",{"$f":"IF($D34=\"\",\"\",VLOOKUP($D34,数据库!$B$4:$AD$1003,MATCH(AC$12,数据库!$C$2:$R$2,)+1,0))","v":""},null,"","","","","","","","","","","",{"$f":"IF($D34=\"\",\"\",VLOOKUP($D34,数据库!$B$4:$AD$1003,MATCH(AP$12,数据库!$C$2:$R$2,)+1,0))","v":""},null,"","","","","","","","","","","",{"$f":"IF($D34=\"\",\"\",VLOOKUP($D34,数据库!$B$4:$AD$1003,MATCH(BC$12,数据库!$C$2:$R$2,)+1,0))","v":""},22,"","","",""]
[null,null,"","","","","","","","","","","","","",{"$f":"IF($D35=\"\",\"\",VLOOKUP($D35,数据库!$B$4:$AD$1003,MATCH(P$12,数据库!$C$2:$R$2,)+1,0))","v":""},null,"","","","","","","","","","","",{"$f":"IF($D35=\"\",\"\",VLOOKUP($D35,数据库!$B$4:$AD$1003,MATCH(AC$12,数据库!$C$2:$R$2,)+1,0))","v":""},null,"","","","","","","","","","","",{"$f":"IF($D35=\"\",\"\",VLOOKUP($D35,数据库!$B$4:$AD$1003,MATCH(AP$12,数据库!$C$2:$R$2,)+1,0))","v":""},null,"","","","","","","","","","","",{"$f":"IF($D35=\"\",\"\",VLOOKUP($D35,数据库!$B$4:$AD$1003,MATCH(BC$12,数据库!$C$2:$R$2,)+1,0))","v":""},23,"","","",""]
[null,null,"","","","","","","","","","","","","",{"$f":"IF($D36=\"\",\"\",VLOOKUP($D36,数据库!$B$4:$AD$1003,MATCH(P$12,数据库!$C$2:$R$2,)+1,0))","v":""},null,"","","","","","","","","","","",{"$f":"IF($D36=\"\",\"\",VLOOKUP($D36,数据库!$B$4:$AD$1003,MATCH(AC$12,数据库!$C$2:$R$2,)+1,0))","v":""},null,"","","","","","","","","","","",{"$f":"IF($D36=\"\",\"\",VLOOKUP($D36,数据库!$B$4:$AD$1003,MATCH(AP$12,数据库!$C$2:$R$2,)+1,0))","v":""},null,"","","","","","","","","","","",{"$f":"IF($D36=\"\",\"\",VLOOKUP($D36,数据库!$B$4:$AD$1003,MATCH(BC$12,数据库!$C$2:$R$2,)+1,0))","v":""},24,"","","",""]
[null,null,"","","","","","","","","","","","","",{"$f":"IF($D37=\"\",\"\",VLOOKUP($D37,数据库!$B$4:$AD$1003,MATCH(P$12,数据库!$C$2:$R$2,)+1,0))","v":""},null,"","","","","","","","","","","",{"$f":"IF($D37=\"\",\"\",VLOOKUP($D37,数据库!$B$4:$AD$1003,MATCH(AC$12,数据库!$C$2:$R$2,)+1,0))","v":""},null,"","","","","","","","","","","",{"$f":"IF($D37=\"\",\"\",VLOOKUP($D37,数据库!$B$4:$AD$1003,MATCH(AP$12,数据库!$C$2:$R$2,)+1,0))","v":""},null,"","","","","","","","","","","",{"$f":"IF($D37=\"\",\"\",VLOOKUP($D37,数据库!$B$4:$AD$1003,MATCH(BC$12,数据库!$C$2:$R$2,)+1,0))","v":""},25,"","","",""]
[null,null,"","","","","","","","","","","","","",{"$f":"IF($D38=\"\",\"\",VLOOKUP($D38,数据库!$B$4:$AD$1003,MATCH(P$12,数据库!$C$2:$R$2,)+1,0))","v":""},null,"","","","","","","","","","","",{"$f":"IF($D38=\"\",\"\",VLOOKUP($D38,数据库!$B$4:$AD$1003,MATCH(AC$12,数据库!$C$2:$R$2,)+1,0))","v":""},null,"","","","","","","","","","","",{"$f":"IF($D38=\"\",\"\",VLOOKUP($D38,数据库!$B$4:$AD$1003,MATCH(AP$12,数据库!$C$2:$R$2,)+1,0))","v":""},null,"","","","","","","","","","","",{"$f":"IF($D38=\"\",\"\",VLOOKUP($D38,数据库!$B$4:$AD$1003,MATCH(BC$12,数据库!$C$2:$R$2,)+1,0))","v":""},26,"","","",""]
[null,null,"","","","","","","","","","","","","",{"$f":"IF($D39=\"\",\"\",VLOOKUP($D39,数据库!$B$4:$AD$1003,MATCH(P$12,数据库!$C$2:$R$2,)+1,0))","v":""},null,"","","","","","","","","","","",{"$f":"IF($D39=\"\",\"\",VLOOKUP($D39,数据库!$B$4:$AD$1003,MATCH(AC$12,数据库!$C$2:$R$2,)+1,0))","v":""},null,"","","","","","","","","","","",{"$f":"IF($D39=\"\",\"\",VLOOKUP($D39,数据库!$B$4:$AD$1003,MATCH(AP$12,数据库!$C$2:$R$2,)+1,0))","v":""},null,"","","","","","","","","","","",{"$f":"IF($D39=\"\",\"\",VLOOKUP($D39,数据库!$B$4:$AD$1003,MATCH(BC$12,数据库!$C$2:$R$2,)+1,0))","v":""},27,"","","",""]
[null,null,"","","","","","","","","","","","","",{"$f":"IF($D40=\"\",\"\",VLOOKUP($D40,数据库!$B$4:$AD$1003,MATCH(P$12,数据库!$C$2:$R$2,)+1,0))","v":""},null,"","","","","","","","","","","",{"$f":"IF($D40=\"\",\"\",VLOOKUP($D40,数据库!$B$4:$AD$1003,MATCH(AC$12,数据库!$C$2:$R$2,)+1,0))","v":""},null,"","","","","","","","","","","",{"$f":"IF($D40=\"\",\"\",VLOOKUP($D40,数据库!$B$4:$AD$1003,MATCH(AP$12,数据库!$C$2:$R$2,)+1,0))","v":""},null,"","","","","","","","","","","",{"$f":"IF($D40=\"\",\"\",VLOOKUP($D40,数据库!$B$4:$AD$1003,MATCH(BC$12,数据库!$C$2:$R$2,)+1,0))","v":""},28,"","","",""]
[null,null,"","","","","","","","","","","","","",{"$f":"IF($D41=\"\",\"\",VLOOKUP($D41,数据库!$B$4:$AD$1003,MATCH(P$12,数据库!$C$2:$R$2,)+1,0))","v":""},null,"","","","","","","","","","","",{"$f":"IF($D41=\"\",\"\",VLOOKUP($D41,数据库!$B$4:$AD$1003,MATCH(AC$12,数据库!$C$2:$R$2,)+1,0))","v":""},null,"","","","","","","","","","","",{"$f":"IF($D41=\"\",\"\",VLOOKUP($D41,数据库!$B$4:$AD$1003,MATCH(AP$12,数据库!$C$2:$R$2,)+1,0))","v":""},null,"","","","","","","","","","","",{"$f":"IF($D41=\"\",\"\",VLOOKUP($D41,数据库!$B$4:$AD$1003,MATCH(BC$12,数据库!$C$2:$R$2,)+1,0))","v":""},29,"","","",""]
[null,null,"","","","","","","","","","","","","",{"$f":"IF($D42=\"\",\"\",VLOOKUP($D42,数据库!$B$4:$AD$1003,MATCH(P$12,数据库!$C$2:$R$2,)+1,0))","v":""},null,"","","","","","","","","","","",{"$f":"IF($D42=\"\",\"\",VLOOKUP($D42,数据库!$B$4:$AD$1003,MATCH(AC$12,数据库!$C$2:$R$2,)+1,0))","v":""},null,"","","","","","","","","","","",{"$f":"IF($D42=\"\",\"\",VLOOKUP($D42,数据库!$B$4:$AD$1003,MATCH(AP$12,数据库!$C$2:$R$2,)+1,0))","v":""},null,"","","","","","","","","","","",{"$f":"IF($D42=\"\",\"\",VLOOKUP($D42,数据库!$B$4:$AD$1003,MATCH(BC$12,数据库!$C$2:$R$2,)+1,0))","v":""},30,"","","",""]
[null,null,"","","","","","","","","","","","","",{"$f":"IF($D43=\"\",\"\",VLOOKUP($D43,数据库!$B$4:$AD$1003,MATCH(P$12,数据库!$C$2:$R$2,)+1,0))","v":""},null,"","","","","","","","","","","",{"$f":"IF($D43=\"\",\"\",VLOOKUP($D43,数据库!$B$4:$AD$1003,MATCH(AC$12,数据库!$C$2:$R$2,)+1,0))","v":""},null,"","","","","","","","","","","",{"$f":"IF($D43=\"\",\"\",VLOOKUP($D43,数据库!$B$4:$AD$1003,MATCH(AP$12,数据库!$C$2:$R$2,)+1,0))","v":""},null,"","","","","","","","","","","",{"$f":"IF($D43=\"\",\"\",VLOOKUP($D43,数据库!$B$4:$AD$1003,MATCH(BC$12,数据库!$C$2:$R$2,)+1,0))","v":""},31,"","","",""]
[null,null,"","","","","","","","","","","","","",{"$f":"IF($D44=\"\",\"\",VLOOKUP($D44,数据库!$B$4:$AD$1003,MATCH(P$12,数据库!$C$2:$R$2,)+1,0))","v":""},null,"","","","","","","","","","","",{"$f":"IF($D44=\"\",\"\",VLOOKUP($D44,数据库!$B$4:$AD$1003,MATCH(AC$12,数据库!$C$2:$R$2,)+1,0))","v":""},null,"","","","","","","","","","","",{"$f":"IF($D44=\"\",\"\",VLOOKUP($D44,数据库!$B$4:$AD$1003,MATCH(AP$12,数据库!$C$2:$R$2,)+1,0))","v":""},null,"","","","","","","","","","","",{"$f":"IF($D44=\"\",\"\",VLOOKUP($D44,数据库!$B$4:$AD$1003,MATCH(BC$12,数据库!$C$2:$R$2,)+1,0))","v":""},32,"","","",""]
[null,null,"","","","","","","","","","","","","",{"$f":"IF($D45=\"\",\"\",VLOOKUP($D45,数据库!$B$4:$AD$1003,MATCH(P$12,数据库!$C$2:$R$2,)+1,0))","v":""},null,"","","","","","","","","","","",{"$f":"IF($D45=\"\",\"\",VLOOKUP($D45,数据库!$B$4:$AD$1003,MATCH(AC$12,数据库!$C$2:$R$2,)+1,0))","v":""},null,"","","","","","","","","","","",{"$f":"IF($D45=\"\",\"\",VLOOKUP($D45,数据库!$B$4:$AD$1003,MATCH(AP$12,数据库!$C$2:$R$2,)+1,0))","v":""},null,"","","","","","","","","","","",{"$f":"IF($D45=\"\",\"\",VLOOKUP($D45,数据库!$B$4:$AD$1003,MATCH(BC$12,数据库!$C$2:$R$2,)+1,0))","v":""},33,"","","",""]
[null,null,"","","",{"$f":"IF($E46=\"\",\"\",MID($E46,F$12+1,1))","v":""},"","","","","","","","","",{"$f":"IF($D46=\"\",\"\",VLOOKUP($D46,数据库!$B$4:$AD$1003,MATCH(P$12,数据库!$C$2:$R$2,)+1,0))","v":""},null,"",{"$f":"IF($R46=\"\",\"\",MID($R46,S$12+1,1))","v":""},"","","","","","","","","",{"$f":"IF($D46=\"\",\"\",VLOOKUP($D46,数据库!$B$4:$AD$1003,MATCH(AC$12,数据库!$C$2:$R$2,)+1,0))","v":""},null,"",{"$f":"IF($AE46=\"\",\"\",MID($AE46,AF$12+1,1))","v":""},"","","","","","","","","",{"$f":"IF($D46=\"\",\"\",VLOOKUP($D46,数据库!$B$4:$AD$1003,MATCH(AP$12,数据库!$C$2:$R$2,)+1,0))","v":""},null,"",{"$f":"IF($AR46=\"\",\"\",MID($AR46,AS$12+1,1))","v":""},"","","","","","","","","",{"$f":"IF($D46=\"\",\"\",VLOOKUP($D46,数据库!$B$4:$AD$1003,MATCH(BC$12,数据库!$C$2:$R$2,)+1,0))","v":""},34,"","","",""]
[null,null,"","","","","","","","","","","","","",{"$f":"IF($D47=\"\",\"\",VLOOKUP($D47,数据库!$B$4:$AD$1003,MATCH(P$12,数据库!$C$2:$R$2,)+1,0))","v":""},null,"","","","","","","","","","","",{"$f":"IF($D47=\"\",\"\",VLOOKUP($D47,数据库!$B$4:$AD$1003,MATCH(AC$12,数据库!$C$2:$R$2,)+1,0))","v":""},null,"","","","","","","","","","","",{"$f":"IF($D47=\"\",\"\",VLOOKUP($D47,数据库!$B$4:$AD$1003,MATCH(AP$12,数据库!$C$2:$R$2,)+1,0))","v":""},null,"","","","","","","","","","","",{"$f":"IF($D47=\"\",\"\",VLOOKUP($D47,数据库!$B$4:$AD$1003,MATCH(BC$12,数据库!$C$2:$R$2,)+1,0))","v":""},35,"","","",""]
[null,null,"","","","","","","","","","","","","",{"$f":"IF($D48=\"\",\"\",VLOOKUP($D48,数据库!$B$4:$AD$1003,MATCH(P$12,数据库!$C$2:$R$2,)+1,0))","v":""},null,"","","","","","","","","","","",{"$f":"IF($D48=\"\",\"\",VLOOKUP($D48,数据库!$B$4:$AD$1003,MATCH(AC$12,数据库!$C$2:$R$2,)+1,0))","v":""},null,"","","","","","","","","","","",{"$f":"IF($D48=\"\",\"\",VLOOKUP($D48,数据库!$B$4:$AD$1003,MATCH(AP$12,数据库!$C$2:$R$2,)+1,0))","v":""},null,"","","","","","","","","","","",{"$f":"IF($D48=\"\",\"\",VLOOKUP($D48,数据库!$B$4:$AD$1003,MATCH(BC$12,数据库!$C$2:$R$2,)+1,0))","v":""},36,"","","",""]
[null,null,"","","","","","","","","","","","","",{"$f":"IF($D49=\"\",\"\",VLOOKUP($D49,数据库!$B$4:$AD$1003,MATCH(P$12,数据库!$C$2:$R$2,)+1,0))","v":""},null,"","","","","","","","","","","",{"$f":"IF($D49=\"\",\"\",VLOOKUP($D49,数据库!$B$4:$AD$1003,MATCH(AC$12,数据库!$C$2:$R$2,)+1,0))","v":""},null,"","","","","","","","","","","",{"$f":"IF($D49=\"\",\"\",VLOOKUP($D49,数据库!$B$4:$AD$1003,MATCH(AP$12,数据库!$C$2:$R$2,)+1,0))","v":""},null,"","","","","","","","","","","",{"$f":"IF($D49=\"\",\"\",VLOOKUP($D49,数据库!$B$4:$AD$1003,MATCH(BC$12,数据库!$C$2:$R$2,)+1,0))","v":""},37,"","","",""]
[null,null,"","","","","","","","","","","","","",{"$f":"IF($D50=\"\",\"\",VLOOKUP($D50,数据库!$B$4:$AD$1003,MATCH(P$12,数据库!$C$2:$R$2,)+1,0))","v":""},null,"","","","","","","","","","","",{"$f":"IF($D50=\"\",\"\",VLOOKUP($D50,数据库!$B$4:$AD$1003,MATCH(AC$12,数据库!$C$2:$R$2,)+1,0))","v":""},null,"","","","","","","","","","","",{"$f":"IF($D50=\"\",\"\",VLOOKUP($D50,数据库!$B$4:$AD$1003,MATCH(AP$12,数据库!$C$2:$R$2,)+1,0))","v":""},null,"","","","","","","","","","","",{"$f":"IF($D50=\"\",\"\",VLOOKUP($D50,数据库!$B$4:$AD$1003,MATCH(BC$12,数据库!$C$2:$R$2,)+1,0))","v":""},38,"","","",""]
[null,null,"","","","","","","","","","","","","",{"$f":"IF($D51=\"\",\"\",VLOOKUP($D51,数据库!$B$4:$AD$1003,MATCH(P$12,数据库!$C$2:$R$2,)+1,0))","v":""},null,"","","","","","","","","","","",{"$f":"IF($D51=\"\",\"\",VLOOKUP($D51,数据库!$B$4:$AD$1003,MATCH(AC$12,数据库!$C$2:$R$2,)+1,0))","v":""},null,"","","","","","","","","","","",{"$f":"IF($D51=\"\",\"\",VLOOKUP($D51,数据库!$B$4:$AD$1003,MATCH(AP$12,数据库!$C$2:$R$2,)+1,0))","v":""},null,"","","","","","","","","","","",{"$f":"IF($D51=\"\",\"\",VLOOKUP($D51,数据库!$B$4:$AD$1003,MATCH(BC$12,数据库!$C$2:$R$2,)+1,0))","v":""},39,"","","",""]
[null,null,"","","","","","","","","","","","","",{"$f":"IF($D52=\"\",\"\",VLOOKUP($D52,数据库!$B$4:$AD$1003,MATCH(P$12,数据库!$C$2:$R$2,)+1,0))","v":""},null,"","","","","","","","","","","",{"$f":"IF($D52=\"\",\"\",VLOOKUP($D52,数据库!$B$4:$AD$1003,MATCH(AC$12,数据库!$C$2:$R$2,)+1,0))","v":""},null,"","","","","","","","","","","",{"$f":"IF($D52=\"\",\"\",VLOOKUP($D52,数据库!$B$4:$AD$1003,MATCH(AP$12,数据库!$C$2:$R$2,)+1,0))","v":""},null,"","","","","","","","","","","",{"$f":"IF($D52=\"\",\"\",VLOOKUP($D52,数据库!$B$4:$AD$1003,MATCH(BC$12,数据库!$C$2:$R$2,)+1,0))","v":""},40,"","","",""]
[null,null,"","","","","","","","","","","","","",{"$f":"IF($D53=\"\",\"\",VLOOKUP($D53,数据库!$B$4:$AD$1003,MATCH(P$12,数据库!$C$2:$R$2,)+1,0))","v":""},null,"","","","","","","","","","","",{"$f":"IF($D53=\"\",\"\",VLOOKUP($D53,数据库!$B$4:$AD$1003,MATCH(AC$12,数据库!$C$2:$R$2,)+1,0))","v":""},null,"","","","","","","","","","","",{"$f":"IF($D53=\"\",\"\",VLOOKUP($D53,数据库!$B$4:$AD$1003,MATCH(AP$12,数据库!$C$2:$R$2,)+1,0))","v":""},null,"","","","","","","","","","","",{"$f":"IF($D53=\"\",\"\",VLOOKUP($D53,数据库!$B$4:$AD$1003,MATCH(BC$12,数据库!$C$2:$R$2,)+1,0))","v":""},41,"","","",""]
[null,null,"","","","","","","","","","","","","",{"$f":"IF($D54=\"\",\"\",VLOOKUP($D54,数据库!$B$4:$AD$1003,MATCH(P$12,数据库!$C$2:$R$2,)+1,0))","v":""},null,"","","","","","","","","","","",{"$f":"IF($D54=\"\",\"\",VLOOKUP($D54,数据库!$B$4:$AD$1003,MATCH(AC$12,数据库!$C$2:$R$2,)+1,0))","v":""},null,"","","","","","","","","","","",{"$f":"IF($D54=\"\",\"\",VLOOKUP($D54,数据库!$B$4:$AD$1003,MATCH(AP$12,数据库!$C$2:$R$2,)+1,0))","v":""},null,"","","","","","","","","","","",{"$f":"IF($D54=\"\",\"\",VLOOKUP($D54,数据库!$B$4:$AD$1003,MATCH(BC$12,数据库!$C$2:$R$2,)+1,0))","v":""},42,"","","",""]
[null,null,"","","","","","","","","","","","","",{"$f":"IF($D55=\"\",\"\",VLOOKUP($D55,数据库!$B$4:$AD$1003,MATCH(P$12,数据库!$C$2:$R$2,)+1,0))","v":""},null,"","","","","","","","","","","",{"$f":"IF($D55=\"\",\"\",VLOOKUP($D55,数据库!$B$4:$AD$1003,MATCH(AC$12,数据库!$C$2:$R$2,)+1,0))","v":""},null,"","","","","","","","","","","",{"$f":"IF($D55=\"\",\"\",VLOOKUP($D55,数据库!$B$4:$AD$1003,MATCH(AP$12,数据库!$C$2:$R$2,)+1,0))","v":""},null,"","","","","","","","","","","",{"$f":"IF($D55=\"\",\"\",VLOOKUP($D55,数据库!$B$4:$AD$1003,MATCH(BC$12,数据库!$C$2:$R$2,)+1,0))","v":""},43,"","","",""]
[null,null,"","","","","","","","","","","","","",{"$f":"IF($D56=\"\",\"\",VLOOKUP($D56,数据库!$B$4:$AD$1003,MATCH(P$12,数据库!$C$2:$R$2,)+1,0))","v":""},null,"","","","","","","","","","","",{"$f":"IF($D56=\"\",\"\",VLOOKUP($D56,数据库!$B$4:$AD$1003,MATCH(AC$12,数据库!$C$2:$R$2,)+1,0))","v":""},null,"","","","","","","","","","","",{"$f":"IF($D56=\"\",\"\",VLOOKUP($D56,数据库!$B$4:$AD$1003,MATCH(AP$12,数据库!$C$2:$R$2,)+1,0))","v":""},null,"","","","","","","","","","","",{"$f":"IF($D56=\"\",\"\",VLOOKUP($D56,数据库!$B$4:$AD$1003,MATCH(BC$12,数据库!$C$2:$R$2,)+1,0))","v":""},44,"","","",""]
[null,null,"","","","","","","","","","","","","",{"$f":"IF($D57=\"\",\"\",VLOOKUP($D57,数据库!$B$4:$AD$1003,MATCH(P$12,数据库!$C$2:$R$2,)+1,0))","v":""},null,"","","","","","","","","","","",{"$f":"IF($D57=\"\",\"\",VLOOKUP($D57,数据库!$B$4:$AD$1003,MATCH(AC$12,数据库!$C$2:$R$2,)+1,0))","v":""},null,"","","","","","","","","","","",{"$f":"IF($D57=\"\",\"\",VLOOKUP($D57,数据库!$B$4:$AD$1003,MATCH(AP$12,数据库!$C$2:$R$2,)+1,0))","v":""},null,"","","","","","","","","","","",{"$f":"IF($D57=\"\",\"\",VLOOKUP($D57,数据库!$B$4:$AD$1003,MATCH(BC$12,数据库!$C$2:$R$2,)+1,0))","v":""},45,"","","",""]
[null,null,"","","","","","","","","","","","","",{"$f":"IF($D58=\"\",\"\",VLOOKUP($D58,数据库!$B$4:$AD$1003,MATCH(P$12,数据库!$C$2:$R$2,)+1,0))","v":""},null,"","","","","","","","","","","",{"$f":"IF($D58=\"\",\"\",VLOOKUP($D58,数据库!$B$4:$AD$1003,MATCH(AC$12,数据库!$C$2:$R$2,)+1,0))","v":""},null,"","","","","","","","","","","",{"$f":"IF($D58=\"\",\"\",VLOOKUP($D58,数据库!$B$4:$AD$1003,MATCH(AP$12,数据库!$C$2:$R$2,)+1,0))","v":""},null,"","","","","","","","","","","",{"$f":"IF($D58=\"\",\"\",VLOOKUP($D58,数据库!$B$4:$AD$1003,MATCH(BC$12,数据库!$C$2:$R$2,)+1,0))","v":""},46,"","","",""]
[null,null,"","","","","","","","","","","","","",{"$f":"IF($D59=\"\",\"\",VLOOKUP($D59,数据库!$B$4:$AD$1003,MATCH(P$12,数据库!$C$2:$R$2,)+1,0))","v":""},null,"","","","","","","","","","","",{"$f":"IF($D59=\"\",\"\",VLOOKUP($D59,数据库!$B$4:$AD$1003,MATCH(AC$12,数据库!$C$2:$R$2,)+1,0))","v":""},null,"","","","","","","","","","","",{"$f":"IF($D59=\"\",\"\",VLOOKUP($D59,数据库!$B$4:$AD$1003,MATCH(AP$12,数据库!$C$2:$R$2,)+1,0))","v":""},null,"","","","","","","","","","","",{"$f":"IF($D59=\"\",\"\",VLOOKUP($D59,数据库!$B$4:$AD$1003,MATCH(BC$12,数据库!$C$2:$R$2,)+1,0))","v":""},47,"","","",""]
[null,null,"","","","","","","","","","","","","",{"$f":"IF($D60=\"\",\"\",VLOOKUP($D60,数据库!$B$4:$AD$1003,MATCH(P$12,数据库!$C$2:$R$2,)+1,0))","v":""},null,"","","","","","","","","","","",{"$f":"IF($D60=\"\",\"\",VLOOKUP($D60,数据库!$B$4:$AD$1003,MATCH(AC$12,数据库!$C$2:$R$2,)+1,0))","v":""},null,"","","","","","","","","","","",{"$f":"IF($D60=\"\",\"\",VLOOKUP($D60,数据库!$B$4:$AD$1003,MATCH(AP$12,数据库!$C$2:$R$2,)+1,0))","v":""},null,"","","","","","","","","","","",{"$f":"IF($D60=\"\",\"\",VLOOKUP($D60,数据库!$B$4:$AD$1003,MATCH(BC$12,数据库!$C$2:$R$2,)+1,0))","v":""},48,"","","",""]
[null,null,"","","","","","","","","","","","","",{"$f":"IF($D61=\"\",\"\",VLOOKUP($D61,数据库!$B$4:$AD$1003,MATCH(P$12,数据库!$C$2:$R$2,)+1,0))","v":""},null,"","","","","","","","","","","",{"$f":"IF($D61=\"\",\"\",VLOOKUP($D61,数据库!$B$4:$AD$1003,MATCH(AC$12,数据库!$C$2:$R$2,)+1,0))","v":""},null,"","","","","","","","","","","",{"$f":"IF($D61=\"\",\"\",VLOOKUP($D61,数据库!$B$4:$AD$1003,MATCH(AP$12,数据库!$C$2:$R$2,)+1,0))","v":""},null,"","","","","","","","","","","",{"$f":"IF($D61=\"\",\"\",VLOOKUP($D61,数据库!$B$4:$AD$1003,MATCH(BC$12,数据库!$C$2:$R$2,)+1,0))","v":""},49,"","","",""]
[null,null,"","","","","","","","","","","","","",{"$f":"IF($D62=\"\",\"\",VLOOKUP($D62,数据库!$B$4:$AD$1003,MATCH(P$12,数据库!$C$2:$R$2,)+1,0))","v":""},null,"","","","","","","","","","","",{"$f":"IF($D62=\"\",\"\",VLOOKUP($D62,数据库!$B$4:$AD$1003,MATCH(AC$12,数据库!$C$2:$R$2,)+1,0))","v":""},null,"","","","","","","","","","","",{"$f":"IF($D62=\"\",\"\",VLOOKUP($D62,数据库!$B$4:$AD$1003,MATCH(AP$12,数据库!$C$2:$R$2,)+1,0))","v":""},null,"","","","","","","","","","","",{"$f":"IF($D62=\"\",\"\",VLOOKUP($D62,数据库!$B$4:$AD$1003,MATCH(BC$12,数据库!$C$2:$R$2,)+1,0))","v":""},50,"","","",""]
[null,null,"","","","","","","","","","","","","",{"$f":"IF($D63=\"\",\"\",VLOOKUP($D63,数据库!$B$4:$AD$1003,MATCH(P$12,数据库!$C$2:$R$2,)+1,0))","v":""},null,"","","","","","","","","","","",{"$f":"IF($D63=\"\",\"\",VLOOKUP($D63,数据库!$B$4:$AD$1003,MATCH(AC$12,数据库!$C$2:$R$2,)+1,0))","v":""},null,"","","","","","","","","","","",{"$f":"IF($D63=\"\",\"\",VLOOKUP($D63,数据库!$B$4:$AD$1003,MATCH(AP$12,数据库!$C$2:$R$2,)+1,0))","v":""},null,"","","","","","","","","","","",{"$f":"IF($D63=\"\",\"\",VLOOKUP($D63,数据库!$B$4:$AD$1003,MATCH(BC$12,数据库!$C$2:$R$2,)+1,0))","v":""},51,"","","",""]
[null,null,"","","","","","","","","","","","","",{"$f":"IF($D64=\"\",\"\",VLOOKUP($D64,数据库!$B$4:$AD$1003,MATCH(P$12,数据库!$C$2:$R$2,)+1,0))","v":""},null,"","","","","","","","","","","",{"$f":"IF($D64=\"\",\"\",VLOOKUP($D64,数据库!$B$4:$AD$1003,MATCH(AC$12,数据库!$C$2:$R$2,)+1,0))","v":""},null,"","","","","","","","","","","",{"$f":"IF($D64=\"\",\"\",VLOOKUP($D64,数据库!$B$4:$AD$1003,MATCH(AP$12,数据库!$C$2:$R$2,)+1,0))","v":""},null,"","","","","","","","","","","",{"$f":"IF($D64=\"\",\"\",VLOOKUP($D64,数据库!$B$4:$AD$1003,MATCH(BC$12,数据库!$C$2:$R$2,)+1,0))","v":""},52,"","","",""]
[null,null,"","","","","","","","","","","","","",{"$f":"IF($D65=\"\",\"\",VLOOKUP($D65,数据库!$B$4:$AD$1003,MATCH(P$12,数据库!$C$2:$R$2,)+1,0))","v":""},null,"","","","","","","","","","","",{"$f":"IF($D65=\"\",\"\",VLOOKUP($D65,数据库!$B$4:$AD$1003,MATCH(AC$12,数据库!$C$2:$R$2,)+1,0))","v":""},null,"","","","","","","","","","","",{"$f":"IF($D65=\"\",\"\",VLOOKUP($D65,数据库!$B$4:$AD$1003,MATCH(AP$12,数据库!$C$2:$R$2,)+1,0))","v":""},null,"","","","","","","","","","","",{"$f":"IF($D65=\"\",\"\",VLOOKUP($D65,数据库!$B$4:$AD$1003,MATCH(BC$12,数据库!$C$2:$R$2,)+1,0))","v":""},53,"","","",""]
[null,null,"","","","","","","","","","","","","",{"$f":"IF($D66=\"\",\"\",VLOOKUP($D66,数据库!$B$4:$AD$1003,MATCH(P$12,数据库!$C$2:$R$2,)+1,0))","v":""},null,"","","","","","","","","","","",{"$f":"IF($D66=\"\",\"\",VLOOKUP($D66,数据库!$B$4:$AD$1003,MATCH(AC$12,数据库!$C$2:$R$2,)+1,0))","v":""},null,"","","","","","","","","","","",{"$f":"IF($D66=\"\",\"\",VLOOKUP($D66,数据库!$B$4:$AD$1003,MATCH(AP$12,数据库!$C$2:$R$2,)+1,0))","v":""},null,"","","","","","","","","","","",{"$f":"IF($D66=\"\",\"\",VLOOKUP($D66,数据库!$B$4:$AD$1003,MATCH(BC$12,数据库!$C$2:$R$2,)+1,0))","v":""},54,"","","",""]
[null,null,"","","","","","","","","","","","","",{"$f":"IF($D67=\"\",\"\",VLOOKUP($D67,数据库!$B$4:$AD$1003,MATCH(P$12,数据库!$C$2:$R$2,)+1,0))","v":""},null,"","","","","","","","","","","",{"$f":"IF($D67=\"\",\"\",VLOOKUP($D67,数据库!$B$4:$AD$1003,MATCH(AC$12,数据库!$C$2:$R$2,)+1,0))","v":""},null,"","","","","","","","","","","",{"$f":"IF($D67=\"\",\"\",VLOOKUP($D67,数据库!$B$4:$AD$1003,MATCH(AP$12,数据库!$C$2:$R$2,)+1,0))","v":""},null,"","","","","","","","","","","",{"$f":"IF($D67=\"\",\"\",VLOOKUP($D67,数据库!$B$4:$AD$1003,MATCH(BC$12,数据库!$C$2:$R$2,)+1,0))","v":""},55,"","","",""]
[null,null,"","","","","","","","","","","","","",{"$f":"IF($D68=\"\",\"\",VLOOKUP($D68,数据库!$B$4:$AD$1003,MATCH(P$12,数据库!$C$2:$R$2,)+1,0))","v":""},null,"","","","","","","","","","","",{"$f":"IF($D68=\"\",\"\",VLOOKUP($D68,数据库!$B$4:$AD$1003,MATCH(AC$12,数据库!$C$2:$R$2,)+1,0))","v":""},null,"","","","","","","","","","","",{"$f":"IF($D68=\"\",\"\",VLOOKUP($D68,数据库!$B$4:$AD$1003,MATCH(AP$12,数据库!$C$2:$R$2,)+1,0))","v":""},null,"","","","","","","","","","","",{"$f":"IF($D68=\"\",\"\",VLOOKUP($D68,数据库!$B$4:$AD$1003,MATCH(BC$12,数据库!$C$2:$R$2,)+1,0))","v":""},56,"","","",""]
[null,null,"","","","","","","","","","","","","",{"$f":"IF($D69=\"\",\"\",VLOOKUP($D69,数据库!$B$4:$AD$1003,MATCH(P$12,数据库!$C$2:$R$2,)+1,0))","v":""},null,"","","","","","","","","","","",{"$f":"IF($D69=\"\",\"\",VLOOKUP($D69,数据库!$B$4:$AD$1003,MATCH(AC$12,数据库!$C$2:$R$2,)+1,0))","v":""},null,"","","","","","","","","","","",{"$f":"IF($D69=\"\",\"\",VLOOKUP($D69,数据库!$B$4:$AD$1003,MATCH(AP$12,数据库!$C$2:$R$2,)+1,0))","v":""},null,"","","","","","","","","","","",{"$f":"IF($D69=\"\",\"\",VLOOKUP($D69,数据库!$B$4:$AD$1003,MATCH(BC$12,数据库!$C$2:$R$2,)+1,0))","v":""},57,"","","",""]
[null,null,"","","","","","","","","","","","","",{"$f":"IF($D70=\"\",\"\",VLOOKUP($D70,数据库!$B$4:$AD$1003,MATCH(P$12,数据库!$C$2:$R$2,)+1,0))","v":""},null,"","","","","","","","","","","",{"$f":"IF($D70=\"\",\"\",VLOOKUP($D70,数据库!$B$4:$AD$1003,MATCH(AC$12,数据库!$C$2:$R$2,)+1,0))","v":""},null,"","","","","","","","","","","",{"$f":"IF($D70=\"\",\"\",VLOOKUP($D70,数据库!$B$4:$AD$1003,MATCH(AP$12,数据库!$C$2:$R$2,)+1,0))","v":""},null,"","","","","","","","","","","",{"$f":"IF($D70=\"\",\"\",VLOOKUP($D70,数据库!$B$4:$AD$1003,MATCH(BC$12,数据库!$C$2:$R$2,)+1,0))","v":""},58,"","","",""]
[null,null,"","","","","","","","",{"$f":"IF($E71=\"\",\"\",MID($E71,K$12+1,1))","v":""},"","","","",{"$f":"IF($D71=\"\",\"\",VLOOKUP($D71,数据库!$B$4:$AD$1003,MATCH(P$12,数据库!$C$2:$R$2,)+1,0))","v":""},null,"","","","","","",{"$f":"IF($R71=\"\",\"\",MID($R71,X$12+1,1))","v":""},"","","","",{"$f":"IF($D71=\"\",\"\",VLOOKUP($D71,数据库!$B$4:$AD$1003,MATCH(AC$12,数据库!$C$2:$R$2,)+1,0))","v":""},null,"","","","","","",{"$f":"IF($AE71=\"\",\"\",MID($AE71,AK$12+1,1))","v":""},"","","","",{"$f":"IF($D71=\"\",\"\",VLOOKUP($D71,数据库!$B$4:$AD$1003,MATCH(AP$12,数据库!$C$2:$R$2,)+1,0))","v":""},null,"","","","","","",{"$f":"IF($AR71=\"\",\"\",MID($AR71,AX$12+1,1))","v":""},"","","","",{"$f":"IF($D71=\"\",\"\",VLOOKUP($D71,数据库!$B$4:$AD$1003,MATCH(BC$12,数据库!$C$2:$R$2,)+1,0))","v":""},59,"","","",""]
[null,null,"","","",{"$f":"IF($E72=\"\",\"\",MID($E72,F$12+1,1))","v":""},"","","","","","","","","",{"$f":"IF($D72=\"\",\"\",VLOOKUP($D72,数据库!$B$4:$AD$1003,MATCH(P$12,数据库!$C$2:$R$2,)+1,0))","v":""},null,"",{"$f":"IF($R72=\"\",\"\",MID($R72,S$12+1,1))","v":""},"","","","","","","","","",{"$f":"IF($D72=\"\",\"\",VLOOKUP($D72,数据库!$B$4:$AD$1003,MATCH(AC$12,数据库!$C$2:$R$2,)+1,0))","v":""},null,"",{"$f":"IF($AE72=\"\",\"\",MID($AE72,AF$12+1,1))","v":""},"","","","","","","","","",{"$f":"IF($D72=\"\",\"\",VLOOKUP($D72,数据库!$B$4:$AD$1003,MATCH(AP$12,数据库!$C$2:$R$2,)+1,0))","v":""},null,"",{"$f":"IF($AR72=\"\",\"\",MID($AR72,AS$12+1,1))","v":""},"","","","","","","","","",{"$f":"IF($D72=\"\",\"\",VLOOKUP($D72,数据库!$B$4:$AD$1003,MATCH(BC$12,数据库!$C$2:$R$2,)+1,0))","v":""},60,"","","",""]
[null,null,"","","","","","","","","","","","","",{"$f":"IF($D73=\"\",\"\",VLOOKUP($D73,数据库!$B$4:$AD$1003,MATCH(P$12,数据库!$C$2:$R$2,)+1,0))","v":""},null,"","","","","","","","","","","",{"$f":"IF($D73=\"\",\"\",VLOOKUP($D73,数据库!$B$4:$AD$1003,MATCH(AC$12,数据库!$C$2:$R$2,)+1,0))","v":""},null,"","","","","","","","","","","",{"$f":"IF($D73=\"\",\"\",VLOOKUP($D73,数据库!$B$4:$AD$1003,MATCH(AP$12,数据库!$C$2:$R$2,)+1,0))","v":""},null,"","","","","","","","","","","",{"$f":"IF($D73=\"\",\"\",VLOOKUP($D73,数据库!$B$4:$AD$1003,MATCH(BC$12,数据库!$C$2:$R$2,)+1,0))","v":""},61,"","","",""]
[null,null,"","","","","","","","","","","","","",{"$f":"IF($D74=\"\",\"\",VLOOKUP($D74,数据库!$B$4:$AD$1003,MATCH(P$12,数据库!$C$2:$R$2,)+1,0))","v":""},null,"","","","","","","","","","","",{"$f":"IF($D74=\"\",\"\",VLOOKUP($D74,数据库!$B$4:$AD$1003,MATCH(AC$12,数据库!$C$2:$R$2,)+1,0))","v":""},null,"","","","","","","","","","","",{"$f":"IF($D74=\"\",\"\",VLOOKUP($D74,数据库!$B$4:$AD$1003,MATCH(AP$12,数据库!$C$2:$R$2,)+1,0))","v":""},null,"","","","","","","","","","","",{"$f":"IF($D74=\"\",\"\",VLOOKUP($D74,数据库!$B$4:$AD$1003,MATCH(BC$12,数据库!$C$2:$R$2,)+1,0))","v":""},62,"","","",""]
[null,null,"","","","","","","","","","","","","",{"$f":"IF($D75=\"\",\"\",VLOOKUP($D75,数据库!$B$4:$AD$1003,MATCH(P$12,数据库!$C$2:$R$2,)+1,0))","v":""},null,"","","","","","","","","","","",{"$f":"IF($D75=\"\",\"\",VLOOKUP($D75,数据库!$B$4:$AD$1003,MATCH(AC$12,数据库!$C$2:$R$2,)+1,0))","v":""},null,"","","","","","","","","","","",{"$f":"IF($D75=\"\",\"\",VLOOKUP($D75,数据库!$B$4:$AD$1003,MATCH(AP$12,数据库!$C$2:$R$2,)+1,0))","v":""},null,"","","","","","","","","","","",{"$f":"IF($D75=\"\",\"\",VLOOKUP($D75,数据库!$B$4:$AD$1003,MATCH(BC$12,数据库!$C$2:$R$2,)+1,0))","v":""},63,"","","",""]
[null,null,"","","","","","","","","","","","","",{"$f":"IF($D76=\"\",\"\",VLOOKUP($D76,数据库!$B$4:$AD$1003,MATCH(P$12,数据库!$C$2:$R$2,)+1,0))","v":""},null,"","","","","","","","","","","",{"$f":"IF($D76=\"\",\"\",VLOOKUP($D76,数据库!$B$4:$AD$1003,MATCH(AC$12,数据库!$C$2:$R$2,)+1,0))","v":""},null,"","","","","","","","","","","",{"$f":"IF($D76=\"\",\"\",VLOOKUP($D76,数据库!$B$4:$AD$1003,MATCH(AP$12,数据库!$C$2:$R$2,)+1,0))","v":""},null,"","","","","","","","","","","",{"$f":"IF($D76=\"\",\"\",VLOOKUP($D76,数据库!$B$4:$AD$1003,MATCH(BC$12,数据库!$C$2:$R$2,)+1,0))","v":""},64,"","","",""]
[null,null,"","","","","","","","","","","","","",{"$f":"IF($D77=\"\",\"\",VLOOKUP($D77,数据库!$B$4:$AD$1003,MATCH(P$12,数据库!$C$2:$R$2,)+1,0))","v":""},null,"","","","","","","","","","","",{"$f":"IF($D77=\"\",\"\",VLOOKUP($D77,数据库!$B$4:$AD$1003,MATCH(AC$12,数据库!$C$2:$R$2,)+1,0))","v":""},null,"","","","","","","","","","","",{"$f":"IF($D77=\"\",\"\",VLOOKUP($D77,数据库!$B$4:$AD$1003,MATCH(AP$12,数据库!$C$2:$R$2,)+1,0))","v":""},null,"","","","","","","","","","","",{"$f":"IF($D77=\"\",\"\",VLOOKUP($D77,数据库!$B$4:$AD$1003,MATCH(BC$12,数据库!$C$2:$R$2,)+1,0))","v":""},65,"","","",""]
[null,null,"","","","","","","","","","","","","",{"$f":"IF($D78=\"\",\"\",VLOOKUP($D78,数据库!$B$4:$AD$1003,MATCH(P$12,数据库!$C$2:$R$2,)+1,0))","v":""},null,"","","","","","","","","","","",{"$f":"IF($D78=\"\",\"\",VLOOKUP($D78,数据库!$B$4:$AD$1003,MATCH(AC$12,数据库!$C$2:$R$2,)+1,0))","v":""},null,"","","","","","","","","","","",{"$f":"IF($D78=\"\",\"\",VLOOKUP($D78,数据库!$B$4:$AD$1003,MATCH(AP$12,数据库!$C$2:$R$2,)+1,0))","v":""},null,"","","","","","","","","","","",{"$f":"IF($D78=\"\",\"\",VLOOKUP($D78,数据库!$B$4:$AD$1003,MATCH(BC$12,数据库!$C$2:$R$2,)+1,0))","v":""},66,{"$f":"IF(E78=\"\",\"\",E78)","v":""},{"$f":"IF(R78=\"\",\"\",R78)","v":""},{"$f":"IF(AE78=\"\",\"\",AE78)","v":""},{"$f":"IF(AR78=\"\",\"\",AR78)","v":""}]
[null,null,"","","","","","","","","","","","","",{"$f":"IF($D79=\"\",\"\",VLOOKUP($D79,数据库!$B$4:$AD$1003,MATCH(P$12,数据库!$C$2:$R$2,)+1,0))","v":""},null,"","","","","","","","","","","",{"$f":"IF($D79=\"\",\"\",VLOOKUP($D79,数据库!$B$4:$AD$1003,MATCH(AC$12,数据库!$C$2:$R$2,)+1,0))","v":""},null,"","","","","","","","","","","",{"$f":"IF($D79=\"\",\"\",VLOOKUP($D79,数据库!$B$4:$AD$1003,MATCH(AP$12,数据库!$C$2:$R$2,)+1,0))","v":""},null,"","","","","","","","","","","",{"$f":"IF($D79=\"\",\"\",VLOOKUP($D79,数据库!$B$4:$AD$1003,MATCH(BC$12,数据库!$C$2:$R$2,)+1,0))","v":""},67,"","","",""]
[null,null,"","","","","","","","","","","","","",{"$f":"IF($D80=\"\",\"\",VLOOKUP($D80,数据库!$B$4:$AD$1003,MATCH(P$12,数据库!$C$2:$R$2,)+1,0))","v":""},null,"","","","","","","","","","","",{"$f":"IF($D80=\"\",\"\",VLOOKUP($D80,数据库!$B$4:$AD$1003,MATCH(AC$12,数据库!$C$2:$R$2,)+1,0))","v":""},null,"","","","","","","","","","","",{"$f":"IF($D80=\"\",\"\",VLOOKUP($D80,数据库!$B$4:$AD$1003,MATCH(AP$12,数据库!$C$2:$R$2,)+1,0))","v":""},null,"","","","","","","","","","","",{"$f":"IF($D80=\"\",\"\",VLOOKUP($D80,数据库!$B$4:$AD$1003,MATCH(BC$12,数据库!$C$2:$R$2,)+1,0))","v":""},68,"","","",""]
[null,null,"","","","","","","","","","","","","",{"$f":"IF($D81=\"\",\"\",VLOOKUP($D81,数据库!$B$4:$AD$1003,MATCH(P$12,数据库!$C$2:$R$2,)+1,0))","v":""},null,"","","","","","","","","","","",{"$f":"IF($D81=\"\",\"\",VLOOKUP($D81,数据库!$B$4:$AD$1003,MATCH(AC$12,数据库!$C$2:$R$2,)+1,0))","v":""},null,"","","","","","","","","","","",{"$f":"IF($D81=\"\",\"\",VLOOKUP($D81,数据库!$B$4:$AD$1003,MATCH(AP$12,数据库!$C$2:$R$2,)+1,0))","v":""},null,"","","","","","","","","","","",{"$f":"IF($D81=\"\",\"\",VLOOKUP($D81,数据库!$B$4:$AD$1003,MATCH(BC$12,数据库!$C$2:$R$2,)+1,0))","v":""},69,"","","",""]
[null,null,"","","","","","","","","","","","","",{"$f":"IF($D82=\"\",\"\",VLOOKUP($D82,数据库!$B$4:$AD$1003,MATCH(P$12,数据库!$C$2:$R$2,)+1,0))","v":""},null,"","","","","","","","","","","",{"$f":"IF($D82=\"\",\"\",VLOOKUP($D82,数据库!$B$4:$AD$1003,MATCH(AC$12,数据库!$C$2:$R$2,)+1,0))","v":""},null,"","","","","","","","","","","",{"$f":"IF($D82=\"\",\"\",VLOOKUP($D82,数据库!$B$4:$AD$1003,MATCH(AP$12,数据库!$C$2:$R$2,)+1,0))","v":""},null,"","","","","","","","","","","",{"$f":"IF($D82=\"\",\"\",VLOOKUP($D82,数据库!$B$4:$AD$1003,MATCH(BC$12,数据库!$C$2:$R$2,)+1,0))","v":""},70,"","","",""]
[null,null,"","","","","","","","","","","","","",{"$f":"IF($D83=\"\",\"\",VLOOKUP($D83,数据库!$B$4:$AD$1003,MATCH(P$12,数据库!$C$2:$R$2,)+1,0))","v":""},null,"","","","","","","","","","","",{"$f":"IF($D83=\"\",\"\",VLOOKUP($D83,数据库!$B$4:$AD$1003,MATCH(AC$12,数据库!$C$2:$R$2,)+1,0))","v":""},null,"","","","","","","","","","","",{"$f":"IF($D83=\"\",\"\",VLOOKUP($D83,数据库!$B$4:$AD$1003,MATCH(AP$12,数据库!$C$2:$R$2,)+1,0))","v":""},null,"","","","","","","","","","","",{"$f":"IF($D83=\"\",\"\",VLOOKUP($D83,数据库!$B$4:$AD$1003,MATCH(BC$12,数据库!$C$2:$R$2,)+1,0))","v":""},71,"","","",""]
[null,null,"","","","","","","","","","","","","",{"$f":"IF($D84=\"\",\"\",VLOOKUP($D84,数据库!$B$4:$AD$1003,MATCH(P$12,数据库!$C$2:$R$2,)+1,0))","v":""},null,"","","","","","","","","","","",{"$f":"IF($D84=\"\",\"\",VLOOKUP($D84,数据库!$B$4:$AD$1003,MATCH(AC$12,数据库!$C$2:$R$2,)+1,0))","v":""},null,"","","","","","","","","","","",{"$f":"IF($D84=\"\",\"\",VLOOKUP($D84,数据库!$B$4:$AD$1003,MATCH(AP$12,数据库!$C$2:$R$2,)+1,0))","v":""},null,"","","","","","","","","","","",{"$f":"IF($D84=\"\",\"\",VLOOKUP($D84,数据库!$B$4:$AD$1003,MATCH(BC$12,数据库!$C$2:$R$2,)+1,0))","v":""},72,"","","",""]
[null,null,"","","","","","","","","","","","","",{"$f":"IF($D85=\"\",\"\",VLOOKUP($D85,数据库!$B$4:$AD$1003,MATCH(P$12,数据库!$C$2:$R$2,)+1,0))","v":""},null,"","","","","","","","","","","",{"$f":"IF($D85=\"\",\"\",VLOOKUP($D85,数据库!$B$4:$AD$1003,MATCH(AC$12,数据库!$C$2:$R$2,)+1,0))","v":""},null,"","","","","","","","","","","",{"$f":"IF($D85=\"\",\"\",VLOOKUP($D85,数据库!$B$4:$AD$1003,MATCH(AP$12,数据库!$C$2:$R$2,)+1,0))","v":""},null,"","","","","","","","","","","",{"$f":"IF($D85=\"\",\"\",VLOOKUP($D85,数据库!$B$4:$AD$1003,MATCH(BC$12,数据库!$C$2:$R$2,)+1,0))","v":""},73,"","","",""]
[null,null,"","","","","","","","","","","","","",{"$f":"IF($D86=\"\",\"\",VLOOKUP($D86,数据库!$B$4:$AD$1003,MATCH(P$12,数据库!$C$2:$R$2,)+1,0))","v":""},null,"","","","","","","","","","","",{"$f":"IF($D86=\"\",\"\",VLOOKUP($D86,数据库!$B$4:$AD$1003,MATCH(AC$12,数据库!$C$2:$R$2,)+1,0))","v":""},null,"","","","","","","","","","","",{"$f":"IF($D86=\"\",\"\",VLOOKUP($D86,数据库!$B$4:$AD$1003,MATCH(AP$12,数据库!$C$2:$R$2,)+1,0))","v":""},null,"","","","","","","","","","","",{"$f":"IF($D86=\"\",\"\",VLOOKUP($D86,数据库!$B$4:$AD$1003,MATCH(BC$12,数据库!$C$2:$R$2,)+1,0))","v":""},74,"","","",""]
[null,null,"","","","","","","","","","","","","",{"$f":"IF($D87=\"\",\"\",VLOOKUP($D87,数据库!$B$4:$AD$1003,MATCH(P$12,数据库!$C$2:$R$2,)+1,0))","v":""},null,"","","","","","","","","","","",{"$f":"IF($D87=\"\",\"\",VLOOKUP($D87,数据库!$B$4:$AD$1003,MATCH(AC$12,数据库!$C$2:$R$2,)+1,0))","v":""},null,"","","","","","","","","","","",{"$f":"IF($D87=\"\",\"\",VLOOKUP($D87,数据库!$B$4:$AD$1003,MATCH(AP$12,数据库!$C$2:$R$2,)+1,0))","v":""},null,"","","","","","","","","","","",{"$f":"IF($D87=\"\",\"\",VLOOKUP($D87,数据库!$B$4:$AD$1003,MATCH(BC$12,数据库!$C$2:$R$2,)+1,0))","v":""},75,"","","",""]
[null,null,"","","","","","","","","","","","","",{"$f":"IF($D88=\"\",\"\",VLOOKUP($D88,数据库!$B$4:$AD$1003,MATCH(P$12,数据库!$C$2:$R$2,)+1,0))","v":""},null,"","","","","","","","","","","",{"$f":"IF($D88=\"\",\"\",VLOOKUP($D88,数据库!$B$4:$AD$1003,MATCH(AC$12,数据库!$C$2:$R$2,)+1,0))","v":""},null,"","","","","","","","","","","",{"$f":"IF($D88=\"\",\"\",VLOOKUP($D88,数据库!$B$4:$AD$1003,MATCH(AP$12,数据库!$C$2:$R$2,)+1,0))","v":""},null,"","","","","","","","","","","",{"$f":"IF($D88=\"\",\"\",VLOOKUP($D88,数据库!$B$4:$AD$1003,MATCH(BC$12,数据库!$C$2:$R$2,)+1,0))","v":""},76,"","","",""]
[null,null,"","","","","","","","","","","","","",{"$f":"IF($D89=\"\",\"\",VLOOKUP($D89,数据库!$B$4:$AD$1003,MATCH(P$12,数据库!$C$2:$R$2,)+1,0))","v":""},null,"","","","","","","","","","","",{"$f":"IF($D89=\"\",\"\",VLOOKUP($D89,数据库!$B$4:$AD$1003,MATCH(AC$12,数据库!$C$2:$R$2,)+1,0))","v":""},null,"","","","","","","","","","","",{"$f":"IF($D89=\"\",\"\",VLOOKUP($D89,数据库!$B$4:$AD$1003,MATCH(AP$12,数据库!$C$2:$R$2,)+1,0))","v":""},null,"","","","","","","","","","","",{"$f":"IF($D89=\"\",\"\",VLOOKUP($D89,数据库!$B$4:$AD$1003,MATCH(BC$12,数据库!$C$2:$R$2,)+1,0))","v":""},77,"","","",""]
[null,null,"","","","","","","","","","","","","",{"$f":"IF($D90=\"\",\"\",VLOOKUP($D90,数据库!$B$4:$AD$1003,MATCH(P$12,数据库!$C$2:$R$2,)+1,0))","v":""},null,"","","","","","","","","","","",{"$f":"IF($D90=\"\",\"\",VLOOKUP($D90,数据库!$B$4:$AD$1003,MATCH(AC$12,数据库!$C$2:$R$2,)+1,0))","v":""},null,"","","","","","","","","","","",{"$f":"IF($D90=\"\",\"\",VLOOKUP($D90,数据库!$B$4:$AD$1003,MATCH(AP$12,数据库!$C$2:$R$2,)+1,0))","v":""},null,"","","","","","","","","","","",{"$f":"IF($D90=\"\",\"\",VLOOKUP($D90,数据库!$B$4:$AD$1003,MATCH(BC$12,数据库!$C$2:$R$2,)+1,0))","v":""},78,"","","",""]
[null,null,"","","","","","","","","","","","","",{"$f":"IF($D91=\"\",\"\",VLOOKUP($D91,数据库!$B$4:$AD$1003,MATCH(P$12,数据库!$C$2:$R$2,)+1,0))","v":""},null,"","","","","","","","","","","",{"$f":"IF($D91=\"\",\"\",VLOOKUP($D91,数据库!$B$4:$AD$1003,MATCH(AC$12,数据库!$C$2:$R$2,)+1,0))","v":""},null,"","","","","","","","","","","",{"$f":"IF($D91=\"\",\"\",VLOOKUP($D91,数据库!$B$4:$AD$1003,MATCH(AP$12,数据库!$C$2:$R$2,)+1,0))","v":""},null,"","","","","","","","","","","",{"$f":"IF($D91=\"\",\"\",VLOOKUP($D91,数据库!$B$4:$AD$1003,MATCH(BC$12,数据库!$C$2:$R$2,)+1,0))","v":""},79,"","","",""]
[null,null,"","","","","","","","","","","","","",{"$f":"IF($D92=\"\",\"\",VLOOKUP($D92,数据库!$B$4:$AD$1003,MATCH(P$12,数据库!$C$2:$R$2,)+1,0))","v":""},null,"","","","","","","","","","","",{"$f":"IF($D92=\"\",\"\",VLOOKUP($D92,数据库!$B$4:$AD$1003,MATCH(AC$12,数据库!$C$2:$R$2,)+1,0))","v":""},null,"","","","","","","","","","","",{"$f":"IF($D92=\"\",\"\",VLOOKUP($D92,数据库!$B$4:$AD$1003,MATCH(AP$12,数据库!$C$2:$R$2,)+1,0))","v":""},null,"","","","","","","","","","","",{"$f":"IF($D92=\"\",\"\",VLOOKUP($D92,数据库!$B$4:$AD$1003,MATCH(BC$12,数据库!$C$2:$R$2,)+1,0))","v":""},80,"","","",""]
[null,null,"","","","","","","","","","","","","",{"$f":"IF($D93=\"\",\"\",VLOOKUP($D93,数据库!$B$4:$AD$1003,MATCH(P$12,数据库!$C$2:$R$2,)+1,0))","v":""},null,"","","","","","","","","","","",{"$f":"IF($D93=\"\",\"\",VLOOKUP($D93,数据库!$B$4:$AD$1003,MATCH(AC$12,数据库!$C$2:$R$2,)+1,0))","v":""},null,"","","","","","","","","","","",{"$f":"IF($D93=\"\",\"\",VLOOKUP($D93,数据库!$B$4:$AD$1003,MATCH(AP$12,数据库!$C$2:$R$2,)+1,0))","v":""},null,"","","","","","","","","","","",{"$f":"IF($D93=\"\",\"\",VLOOKUP($D93,数据库!$B$4:$AD$1003,MATCH(BC$12,数据库!$C$2:$R$2,)+1,0))","v":""},81,"","","",""]
[null,null,"","","","","","","","","","","","","",{"$f":"IF($D94=\"\",\"\",VLOOKUP($D94,数据库!$B$4:$AD$1003,MATCH(P$12,数据库!$C$2:$R$2,)+1,0))","v":""},null,"","","","","","","","","","","",{"$f":"IF($D94=\"\",\"\",VLOOKUP($D94,数据库!$B$4:$AD$1003,MATCH(AC$12,数据库!$C$2:$R$2,)+1,0))","v":""},null,"","","","","","","","","","","",{"$f":"IF($D94=\"\",\"\",VLOOKUP($D94,数据库!$B$4:$AD$1003,MATCH(AP$12,数据库!$C$2:$R$2,)+1,0))","v":""},null,"","","","","","","","","","","",{"$f":"IF($D94=\"\",\"\",VLOOKUP($D94,数据库!$B$4:$AD$1003,MATCH(BC$12,数据库!$C$2:$R$2,)+1,0))","v":""},82,"","","",""]
[null,null,"","","","","","","","","","","","","",{"$f":"IF($D95=\"\",\"\",VLOOKUP($D95,数据库!$B$4:$AD$1003,MATCH(P$12,数据库!$C$2:$R$2,)+1,0))","v":""},null,"","","","","","","","","","","",{"$f":"IF($D95=\"\",\"\",VLOOKUP($D95,数据库!$B$4:$AD$1003,MATCH(AC$12,数据库!$C$2:$R$2,)+1,0))","v":""},null,"","","","","","","","","","","",{"$f":"IF($D95=\"\",\"\",VLOOKUP($D95,数据库!$B$4:$AD$1003,MATCH(AP$12,数据库!$C$2:$R$2,)+1,0))","v":""},null,"","","","","","","","","","","",{"$f":"IF($D95=\"\",\"\",VLOOKUP($D95,数据库!$B$4:$AD$1003,MATCH(BC$12,数据库!$C$2:$R$2,)+1,0))","v":""},83,"","","",""]
[null,null,"","","","","","","","","","","","","",{"$f":"IF($D96=\"\",\"\",VLOOKUP($D96,数据库!$B$4:$AD$1003,MATCH(P$12,数据库!$C$2:$R$2,)+1,0))","v":""},null,"","","","","","","","","","","",{"$f":"IF($D96=\"\",\"\",VLOOKUP($D96,数据库!$B$4:$AD$1003,MATCH(AC$12,数据库!$C$2:$R$2,)+1,0))","v":""},null,"","","","","","","","","","","",{"$f":"IF($D96=\"\",\"\",VLOOKUP($D96,数据库!$B$4:$AD$1003,MATCH(AP$12,数据库!$C$2:$R$2,)+1,0))","v":""},null,"","","","","","","","","","","",{"$f":"IF($D96=\"\",\"\",VLOOKUP($D96,数据库!$B$4:$AD$1003,MATCH(BC$12,数据库!$C$2:$R$2,)+1,0))","v":""},84,"","","",""]
[null,null,"","","","","","","","","","","","","",{"$f":"IF($D97=\"\",\"\",VLOOKUP($D97,数据库!$B$4:$AD$1003,MATCH(P$12,数据库!$C$2:$R$2,)+1,0))","v":""},null,"","","","","","","","","","","",{"$f":"IF($D97=\"\",\"\",VLOOKUP($D97,数据库!$B$4:$AD$1003,MATCH(AC$12,数据库!$C$2:$R$2,)+1,0))","v":""},null,"","","","","","","","","","","",{"$f":"IF($D97=\"\",\"\",VLOOKUP($D97,数据库!$B$4:$AD$1003,MATCH(AP$12,数据库!$C$2:$R$2,)+1,0))","v":""},null,"","","","","","","","","","","",{"$f":"IF($D97=\"\",\"\",VLOOKUP($D97,数据库!$B$4:$AD$1003,MATCH(BC$12,数据库!$C$2:$R$2,)+1,0))","v":""},85,"","","",""]
[null,null,"","","","","","","","","","","","","",{"$f":"IF($D98=\"\",\"\",VLOOKUP($D98,数据库!$B$4:$AD$1003,MATCH(P$12,数据库!$C$2:$R$2,)+1,0))","v":""},null,"","","","","","","","","","","",{"$f":"IF($D98=\"\",\"\",VLOOKUP($D98,数据库!$B$4:$AD$1003,MATCH(AC$12,数据库!$C$2:$R$2,)+1,0))","v":""},null,"","","","","","","","","","","",{"$f":"IF($D98=\"\",\"\",VLOOKUP($D98,数据库!$B$4:$AD$1003,MATCH(AP$12,数据库!$C$2:$R$2,)+1,0))","v":""},null,"","","","","","","","","","","",{"$f":"IF($D98=\"\",\"\",VLOOKUP($D98,数据库!$B$4:$AD$1003,MATCH(BC$12,数据库!$C$2:$R$2,)+1,0))","v":""},86,"","","",""]
[null,null,"","","","","","","","","","","",{"$f":"IF($E99=\"\",\"\",MID($E99,N$12+1,1))","v":""},"",{"$f":"IF($D99=\"\",\"\",VLOOKUP($D99,数据库!$B$4:$AD$1003,MATCH(P$12,数据库!$C$2:$R$2,)+1,0))","v":""},null,"","","","","","","","","",{"$f":"IF($R99=\"\",\"\",MID($R99,AA$12+1,1))","v":""},"",{"$f":"IF($D99=\"\",\"\",VLOOKUP($D99,数据库!$B$4:$AD$1003,MATCH(AC$12,数据库!$C$2:$R$2,)+1,0))","v":""},null,"","","","","","","","","",{"$f":"IF($AE99=\"\",\"\",MID($AE99,AN$12+1,1))","v":""},"",{"$f":"IF($D99=\"\",\"\",VLOOKUP($D99,数据库!$B$4:$AD$1003,MATCH(AP$12,数据库!$C$2:$R$2,)+1,0))","v":""},null,"","","","","","","","","",{"$f":"IF($AR99=\"\",\"\",MID($AR99,BA$12+1,1))","v":""},"",{"$f":"IF($D99=\"\",\"\",VLOOKUP($D99,数据库!$B$4:$AD$1003,MATCH(BC$12,数据库!$C$2:$R$2,)+1,0))","v":""},87,"","","",""]
[null,null,"","","","","","","","","","","","","",{"$f":"IF($D100=\"\",\"\",VLOOKUP($D100,数据库!$B$4:$AD$1003,MATCH(P$12,数据库!$C$2:$R$2,)+1,0))","v":""},null,"","","","","","","","","","","",{"$f":"IF($D100=\"\",\"\",VLOOKUP($D100,数据库!$B$4:$AD$1003,MATCH(AC$12,数据库!$C$2:$R$2,)+1,0))","v":""},null,"","","","","","","","","","","",{"$f":"IF($D100=\"\",\"\",VLOOKUP($D100,数据库!$B$4:$AD$1003,MATCH(AP$12,数据库!$C$2:$R$2,)+1,0))","v":""},null,"","","","","","","","","","","",{"$f":"IF($D100=\"\",\"\",VLOOKUP($D100,数据库!$B$4:$AD$1003,MATCH(BC$12,数据库!$C$2:$R$2,)+1,0))","v":""},88,"","","",""]
[null,null,"","","","","","","","","","","","","",{"$f":"IF($D101=\"\",\"\",VLOOKUP($D101,数据库!$B$4:$AD$1003,MATCH(P$12,数据库!$C$2:$R$2,)+1,0))","v":""},null,"","","","","","","","","","","",{"$f":"IF($D101=\"\",\"\",VLOOKUP($D101,数据库!$B$4:$AD$1003,MATCH(AC$12,数据库!$C$2:$R$2,)+1,0))","v":""},null,"","","","","","","","","","","",{"$f":"IF($D101=\"\",\"\",VLOOKUP($D101,数据库!$B$4:$AD$1003,MATCH(AP$12,数据库!$C$2:$R$2,)+1,0))","v":""},null,"","","","","","","","","","","",{"$f":"IF($D101=\"\",\"\",VLOOKUP($D101,数据库!$B$4:$AD$1003,MATCH(BC$12,数据库!$C$2:$R$2,)+1,0))","v":""},89,"","","",""]
[null,null,"","","","","","","","","","","","","",{"$f":"IF($D102=\"\",\"\",VLOOKUP($D102,数据库!$B$4:$AD$1003,MATCH(P$12,数据库!$C$2:$R$2,)+1,0))","v":""},null,"","","","","","","","","","","",{"$f":"IF($D102=\"\",\"\",VLOOKUP($D102,数据库!$B$4:$AD$1003,MATCH(AC$12,数据库!$C$2:$R$2,)+1,0))","v":""},null,"","","","","","","","","","","",{"$f":"IF($D102=\"\",\"\",VLOOKUP($D102,数据库!$B$4:$AD$1003,MATCH(AP$12,数据库!$C$2:$R$2,)+1,0))","v":""},null,"","","","","","","","","","","",{"$f":"IF($D102=\"\",\"\",VLOOKUP($D102,数据库!$B$4:$AD$1003,MATCH(BC$12,数据库!$C$2:$R$2,)+1,0))","v":""},90,"","","",""]
[null,null,"","","","","","","","","","","","","",{"$f":"IF($D103=\"\",\"\",VLOOKUP($D103,数据库!$B$4:$AD$1003,MATCH(P$12,数据库!$C$2:$R$2,)+1,0))","v":""},null,"","","","","","","","","","","",{"$f":"IF($D103=\"\",\"\",VLOOKUP($D103,数据库!$B$4:$AD$1003,MATCH(AC$12,数据库!$C$2:$R$2,)+1,0))","v":""},null,"","","","","","","","","","","",{"$f":"IF($D103=\"\",\"\",VLOOKUP($D103,数据库!$B$4:$AD$1003,MATCH(AP$12,数据库!$C$2:$R$2,)+1,0))","v":""},null,"","","","","","","","","","","",{"$f":"IF($D103=\"\",\"\",VLOOKUP($D103,数据库!$B$4:$AD$1003,MATCH(BC$12,数据库!$C$2:$R$2,)+1,0))","v":""},91,"","","",""]
[null,null,"","","","","","","","","","","","","",{"$f":"IF($D104=\"\",\"\",VLOOKUP($D104,数据库!$B$4:$AD$1003,MATCH(P$12,数据库!$C$2:$R$2,)+1,0))","v":""},null,"","","","","","","","","","","",{"$f":"IF($D104=\"\",\"\",VLOOKUP($D104,数据库!$B$4:$AD$1003,MATCH(AC$12,数据库!$C$2:$R$2,)+1,0))","v":""},null,"","","","","","","","","","","",{"$f":"IF($D104=\"\",\"\",VLOOKUP($D104,数据库!$B$4:$AD$1003,MATCH(AP$12,数据库!$C$2:$R$2,)+1,0))","v":""},null,"","","","","","","","","","","",{"$f":"IF($D104=\"\",\"\",VLOOKUP($D104,数据库!$B$4:$AD$1003,MATCH(BC$12,数据库!$C$2:$R$2,)+1,0))","v":""},92,"","","",""]
[null,null,"","","","","","","","","","","","","",{"$f":"IF($D105=\"\",\"\",VLOOKUP($D105,数据库!$B$4:$AD$1003,MATCH(P$12,数据库!$C$2:$R$2,)+1,0))","v":""},null,"","","","","","","","","","","",{"$f":"IF($D105=\"\",\"\",VLOOKUP($D105,数据库!$B$4:$AD$1003,MATCH(AC$12,数据库!$C$2:$R$2,)+1,0))","v":""},null,"","","","","","","","","","","",{"$f":"IF($D105=\"\",\"\",VLOOKUP($D105,数据库!$B$4:$AD$1003,MATCH(AP$12,数据库!$C$2:$R$2,)+1,0))","v":""},null,"","","","","","","","","","","",{"$f":"IF($D105=\"\",\"\",VLOOKUP($D105,数据库!$B$4:$AD$1003,MATCH(BC$12,数据库!$C$2:$R$2,)+1,0))","v":""},93,"","","",""]
[null,null,"","","","","","","","","","","","","",{"$f":"IF($D106=\"\",\"\",VLOOKUP($D106,数据库!$B$4:$AD$1003,MATCH(P$12,数据库!$C$2:$R$2,)+1,0))","v":""},null,"","","","","","","","","","","",{"$f":"IF($D106=\"\",\"\",VLOOKUP($D106,数据库!$B$4:$AD$1003,MATCH(AC$12,数据库!$C$2:$R$2,)+1,0))","v":""},null,"","","","","","","","","","","",{"$f":"IF($D106=\"\",\"\",VLOOKUP($D106,数据库!$B$4:$AD$1003,MATCH(AP$12,数据库!$C$2:$R$2,)+1,0))","v":""},null,"","","","","","","","","","","",{"$f":"IF($D106=\"\",\"\",VLOOKUP($D106,数据库!$B$4:$AD$1003,MATCH(BC$12,数据库!$C$2:$R$2,)+1,0))","v":""},94,"","","",""]
[null,null,"","","","","","","","","","","","","",{"$f":"IF($D107=\"\",\"\",VLOOKUP($D107,数据库!$B$4:$AD$1003,MATCH(P$12,数据库!$C$2:$R$2,)+1,0))","v":""},null,"","","","","","","","","","","",{"$f":"IF($D107=\"\",\"\",VLOOKUP($D107,数据库!$B$4:$AD$1003,MATCH(AC$12,数据库!$C$2:$R$2,)+1,0))","v":""},null,"","","","","","","","","","","",{"$f":"IF($D107=\"\",\"\",VLOOKUP($D107,数据库!$B$4:$AD$1003,MATCH(AP$12,数据库!$C$2:$R$2,)+1,0))","v":""},null,"","","","","","","","","","","",{"$f":"IF($D107=\"\",\"\",VLOOKUP($D107,数据库!$B$4:$AD$1003,MATCH(BC$12,数据库!$C$2:$R$2,)+1,0))","v":""},95,"","","",""]
[null,null,"","","","","","","","","","","","","",{"$f":"IF($D108=\"\",\"\",VLOOKUP($D108,数据库!$B$4:$AD$1003,MATCH(P$12,数据库!$C$2:$R$2,)+1,0))","v":""},null,"","","","","","","","","","","",{"$f":"IF($D108=\"\",\"\",VLOOKUP($D108,数据库!$B$4:$AD$1003,MATCH(AC$12,数据库!$C$2:$R$2,)+1,0))","v":""},null,"","","","","","","","","","","",{"$f":"IF($D108=\"\",\"\",VLOOKUP($D108,数据库!$B$4:$AD$1003,MATCH(AP$12,数据库!$C$2:$R$2,)+1,0))","v":""},null,"","","","","","","","","","","",{"$f":"IF($D108=\"\",\"\",VLOOKUP($D108,数据库!$B$4:$AD$1003,MATCH(BC$12,数据库!$C$2:$R$2,)+1,0))","v":""},96,"","","",""]
[null,null,"","","","","","","","","","","","","",{"$f":"IF($D109=\"\",\"\",VLOOKUP($D109,数据库!$B$4:$AD$1003,MATCH(P$12,数据库!$C$2:$R$2,)+1,0))","v":""},null,"","","","","","","","","","","",{"$f":"IF($D109=\"\",\"\",VLOOKUP($D109,数据库!$B$4:$AD$1003,MATCH(AC$12,数据库!$C$2:$R$2,)+1,0))","v":""},null,"","","","","","","","","","","",{"$f":"IF($D109=\"\",\"\",VLOOKUP($D109,数据库!$B$4:$AD$1003,MATCH(AP$12,数据库!$C$2:$R$2,)+1,0))","v":""},null,"","","","","","","","","","","",{"$f":"IF($D109=\"\",\"\",VLOOKUP($D109,数据库!$B$4:$AD$1003,MATCH(BC$12,数据库!$C$2:$R$2,)+1,0))","v":""},97,"","","",""]
[null,null,"","","","","","","","","","","","","",{"$f":"IF($D110=\"\",\"\",VLOOKUP($D110,数据库!$B$4:$AD$1003,MATCH(P$12,数据库!$C$2:$R$2,)+1,0))","v":""},null,"","","","","","","","","","","",{"$f":"IF($D110=\"\",\"\",VLOOKUP($D110,数据库!$B$4:$AD$1003,MATCH(AC$12,数据库!$C$2:$R$2,)+1,0))","v":""},null,"","","","","","","","","","","",{"$f":"IF($D110=\"\",\"\",VLOOKUP($D110,数据库!$B$4:$AD$1003,MATCH(AP$12,数据库!$C$2:$R$2,)+1,0))","v":""},null,"","","","","","","","","","","",{"$f":"IF($D110=\"\",\"\",VLOOKUP($D110,数据库!$B$4:$AD$1003,MATCH(BC$12,数据库!$C$2:$R$2,)+1,0))","v":""},98,"","","",""]
[null,null,"","","","","","","","","","","","","",{"$f":"IF($D111=\"\",\"\",VLOOKUP($D111,数据库!$B$4:$AD$1003,MATCH(P$12,数据库!$C$2:$R$2,)+1,0))","v":""},null,"","","","","","","","","","","",{"$f":"IF($D111=\"\",\"\",VLOOKUP($D111,数据库!$B$4:$AD$1003,MATCH(AC$12,数据库!$C$2:$R$2,)+1,0))","v":""},null,"","","","","","","","","","","",{"$f":"IF($D111=\"\",\"\",VLOOKUP($D111,数据库!$B$4:$AD$1003,MATCH(AP$12,数据库!$C$2:$R$2,)+1,0))","v":""},null,"","","","","","","","","","","",{"$f":"IF($D111=\"\",\"\",VLOOKUP($D111,数据库!$B$4:$AD$1003,MATCH(BC$12,数据库!$C$2:$R$2,)+1,0))","v":""},99,"","","",""]
[null,null,"","","","","","","","","","","","","",{"$f":"IF($D112=\"\",\"\",VLOOKUP($D112,数据库!$B$4:$AD$1003,MATCH(P$12,数据库!$C$2:$R$2,)+1,0))","v":""},null,"","","","","","","","","","","",{"$f":"IF($D112=\"\",\"\",VLOOKUP($D112,数据库!$B$4:$AD$1003,MATCH(AC$12,数据库!$C$2:$R$2,)+1,0))","v":""},null,"","","","","","","","","","","",{"$f":"IF($D112=\"\",\"\",VLOOKUP($D112,数据库!$B$4:$AD$1003,MATCH(AP$12,数据库!$C$2:$R$2,)+1,0))","v":""},null,"","","","","","","","","","","",{"$f":"IF($D112=\"\",\"\",VLOOKUP($D112,数据库!$B$4:$AD$1003,MATCH(BC$12,数据库!$C$2:$R$2,)+1,0))","v":""},100,"","","",""]
[null,null,"","","","","","","","","","","","","",{"$f":"IF($D113=\"\",\"\",VLOOKUP($D113,数据库!$B$4:$AD$1003,MATCH(P$12,数据库!$C$2:$R$2,)+1,0))","v":""},null,"","","","","","","","","","","",{"$f":"IF($D113=\"\",\"\",VLOOKUP($D113,数据库!$B$4:$AD$1003,MATCH(AC$12,数据库!$C$2:$R$2,)+1,0))","v":""},null,"","","","","","","","","","","",{"$f":"IF($D113=\"\",\"\",VLOOKUP($D113,数据库!$B$4:$AD$1003,MATCH(AP$12,数据库!$C$2:$R$2,)+1,0))","v":""},null,"","","","","","","","","","","",{"$f":"IF($D113=\"\",\"\",VLOOKUP($D113,数据库!$B$4:$AD$1003,MATCH(BC$12,数据库!$C$2:$R$2,)+1,0))","v":""},101,"","","",""]
[null,null,"","","","","","","","","","","","","",{"$f":"IF($D114=\"\",\"\",VLOOKUP($D114,数据库!$B$4:$AD$1003,MATCH(P$12,数据库!$C$2:$R$2,)+1,0))","v":""},null,"","","","","","","","","","","",{"$f":"IF($D114=\"\",\"\",VLOOKUP($D114,数据库!$B$4:$AD$1003,MATCH(AC$12,数据库!$C$2:$R$2,)+1,0))","v":""},null,"","","","","","","","","","","",{"$f":"IF($D114=\"\",\"\",VLOOKUP($D114,数据库!$B$4:$AD$1003,MATCH(AP$12,数据库!$C$2:$R$2,)+1,0))","v":""},null,"","","","","","","","","","","",{"$f":"IF($D114=\"\",\"\",VLOOKUP($D114,数据库!$B$4:$AD$1003,MATCH(BC$12,数据库!$C$2:$R$2,)+1,0))","v":""},102,"","","",""]
[null,null,"","","","","","","","","","","","","",{"$f":"IF($D115=\"\",\"\",VLOOKUP($D115,数据库!$B$4:$AD$1003,MATCH(P$12,数据库!$C$2:$R$2,)+1,0))","v":""},null,"","","","","","","","","","","",{"$f":"IF($D115=\"\",\"\",VLOOKUP($D115,数据库!$B$4:$AD$1003,MATCH(AC$12,数据库!$C$2:$R$2,)+1,0))","v":""},null,"","","","","","","","","","","",{"$f":"IF($D115=\"\",\"\",VLOOKUP($D115,数据库!$B$4:$AD$1003,MATCH(AP$12,数据库!$C$2:$R$2,)+1,0))","v":""},null,"","","","","","","","","","","",{"$f":"IF($D115=\"\",\"\",VLOOKUP($D115,数据库!$B$4:$AD$1003,MATCH(BC$12,数据库!$C$2:$R$2,)+1,0))","v":""},103,"","","",""]
[null,null,"","","","","","","","","","","","","",{"$f":"IF($D116=\"\",\"\",VLOOKUP($D116,数据库!$B$4:$AD$1003,MATCH(P$12,数据库!$C$2:$R$2,)+1,0))","v":""},null,"","","","","","","","","","","",{"$f":"IF($D116=\"\",\"\",VLOOKUP($D116,数据库!$B$4:$AD$1003,MATCH(AC$12,数据库!$C$2:$R$2,)+1,0))","v":""},null,"","","","","","","","","","","",{"$f":"IF($D116=\"\",\"\",VLOOKUP($D116,数据库!$B$4:$AD$1003,MATCH(AP$12,数据库!$C$2:$R$2,)+1,0))","v":""},null,"","","","","","","","","","","",{"$f":"IF($D116=\"\",\"\",VLOOKUP($D116,数据库!$B$4:$AD$1003,MATCH(BC$12,数据库!$C$2:$R$2,)+1,0))","v":""},104,"","","",""]
[null,null,"","","","","","","","","","","","","",{"$f":"IF($D117=\"\",\"\",VLOOKUP($D117,数据库!$B$4:$AD$1003,MATCH(P$12,数据库!$C$2:$R$2,)+1,0))","v":""},null,"","","","","","","","","","","",{"$f":"IF($D117=\"\",\"\",VLOOKUP($D117,数据库!$B$4:$AD$1003,MATCH(AC$12,数据库!$C$2:$R$2,)+1,0))","v":""},null,"","","","","","","","","","","",{"$f":"IF($D117=\"\",\"\",VLOOKUP($D117,数据库!$B$4:$AD$1003,MATCH(AP$12,数据库!$C$2:$R$2,)+1,0))","v":""},null,"","","","","","","","","","","",{"$f":"IF($D117=\"\",\"\",VLOOKUP($D117,数据库!$B$4:$AD$1003,MATCH(BC$12,数据库!$C$2:$R$2,)+1,0))","v":""},105,"","","",""]
[null,null,"","","","","","","","","","","","","",{"$f":"IF($D118=\"\",\"\",VLOOKUP($D118,数据库!$B$4:$AD$1003,MATCH(P$12,数据库!$C$2:$R$2,)+1,0))","v":""},null,"","","","","","","","","","","",{"$f":"IF($D118=\"\",\"\",VLOOKUP($D118,数据库!$B$4:$AD$1003,MATCH(AC$12,数据库!$C$2:$R$2,)+1,0))","v":""},null,"","","","","","","","","","","",{"$f":"IF($D118=\"\",\"\",VLOOKUP($D118,数据库!$B$4:$AD$1003,MATCH(AP$12,数据库!$C$2:$R$2,)+1,0))","v":""},null,"","","","","","","","","","","",{"$f":"IF($D118=\"\",\"\",VLOOKUP($D118,数据库!$B$4:$AD$1003,MATCH(BC$12,数据库!$C$2:$R$2,)+1,0))","v":""},106,"","","",""]
[null,null,"","","","","","","","","","","","","",{"$f":"IF($D119=\"\",\"\",VLOOKUP($D119,数据库!$B$4:$AD$1003,MATCH(P$12,数据库!$C$2:$R$2,)+1,0))","v":""},null,"","","","","","","","","","","",{"$f":"IF($D119=\"\",\"\",VLOOKUP($D119,数据库!$B$4:$AD$1003,MATCH(AC$12,数据库!$C$2:$R$2,)+1,0))","v":""},null,"","","","","","","","","","","",{"$f":"IF($D119=\"\",\"\",VLOOKUP($D119,数据库!$B$4:$AD$1003,MATCH(AP$12,数据库!$C$2:$R$2,)+1,0))","v":""},null,"","","","","","","","","","","",{"$f":"IF($D119=\"\",\"\",VLOOKUP($D119,数据库!$B$4:$AD$1003,MATCH(BC$12,数据库!$C$2:$R$2,)+1,0))","v":""},107,"","","",""]
[null,null,"","","","","","","","","","","","","",{"$f":"IF($D120=\"\",\"\",VLOOKUP($D120,数据库!$B$4:$AD$1003,MATCH(P$12,数据库!$C$2:$R$2,)+1,0))","v":""},null,"","","","","","","","","","","",{"$f":"IF($D120=\"\",\"\",VLOOKUP($D120,数据库!$B$4:$AD$1003,MATCH(AC$12,数据库!$C$2:$R$2,)+1,0))","v":""},null,"","","","","","","","","","","",{"$f":"IF($D120=\"\",\"\",VLOOKUP($D120,数据库!$B$4:$AD$1003,MATCH(AP$12,数据库!$C$2:$R$2,)+1,0))","v":""},null,"","","","","","","","","","","",{"$f":"IF($D120=\"\",\"\",VLOOKUP($D120,数据库!$B$4:$AD$1003,MATCH(BC$12,数据库!$C$2:$R$2,)+1,0))","v":""},108,"","","",""]
[null,null,"","","","","","","","","","","","","",{"$f":"IF($D121=\"\",\"\",VLOOKUP($D121,数据库!$B$4:$AD$1003,MATCH(P$12,数据库!$C$2:$R$2,)+1,0))","v":""},null,"","","","","","","","","","","",{"$f":"IF($D121=\"\",\"\",VLOOKUP($D121,数据库!$B$4:$AD$1003,MATCH(AC$12,数据库!$C$2:$R$2,)+1,0))","v":""},null,"","","","","","","","","","","",{"$f":"IF($D121=\"\",\"\",VLOOKUP($D121,数据库!$B$4:$AD$1003,MATCH(AP$12,数据库!$C$2:$R$2,)+1,0))","v":""},null,"","","","","","","","","","","",{"$f":"IF($D121=\"\",\"\",VLOOKUP($D121,数据库!$B$4:$AD$1003,MATCH(BC$12,数据库!$C$2:$R$2,)+1,0))","v":""},109,"","","",""]
[null,null,"","","","","","","","","","","","","",{"$f":"IF($D122=\"\",\"\",VLOOKUP($D122,数据库!$B$4:$AD$1003,MATCH(P$12,数据库!$C$2:$R$2,)+1,0))","v":""},null,"","","","","","","","","","","",{"$f":"IF($D122=\"\",\"\",VLOOKUP($D122,数据库!$B$4:$AD$1003,MATCH(AC$12,数据库!$C$2:$R$2,)+1,0))","v":""},null,"","","","","","","","","","","",{"$f":"IF($D122=\"\",\"\",VLOOKUP($D122,数据库!$B$4:$AD$1003,MATCH(AP$12,数据库!$C$2:$R$2,)+1,0))","v":""},null,"","","","","","","","","","","",{"$f":"IF($D122=\"\",\"\",VLOOKUP($D122,数据库!$B$4:$AD$1003,MATCH(BC$12,数据库!$C$2:$R$2,)+1,0))","v":""},110,"","","",""]
[null,null,"","","","","","","","","","","","","",{"$f":"IF($D123=\"\",\"\",VLOOKUP($D123,数据库!$B$4:$AD$1003,MATCH(P$12,数据库!$C$2:$R$2,)+1,0))","v":""},null,"","","","","","","","","","","",{"$f":"IF($D123=\"\",\"\",VLOOKUP($D123,数据库!$B$4:$AD$1003,MATCH(AC$12,数据库!$C$2:$R$2,)+1,0))","v":""},null,"","","","","","","","","","","",{"$f":"IF($D123=\"\",\"\",VLOOKUP($D123,数据库!$B$4:$AD$1003,MATCH(AP$12,数据库!$C$2:$R$2,)+1,0))","v":""},null,"","","","","","","","","","","",{"$f":"IF($D123=\"\",\"\",VLOOKUP($D123,数据库!$B$4:$AD$1003,MATCH(BC$12,数据库!$C$2:$R$2,)+1,0))","v":""},111,"","","",""]
[null,null,"","","","","","","","","","","","","",{"$f":"IF($D124=\"\",\"\",VLOOKUP($D124,数据库!$B$4:$AD$1003,MATCH(P$12,数据库!$C$2:$R$2,)+1,0))","v":""},null,"","","","","","","","","","","",{"$f":"IF($D124=\"\",\"\",VLOOKUP($D124,数据库!$B$4:$AD$1003,MATCH(AC$12,数据库!$C$2:$R$2,)+1,0))","v":""},null,"","","","","","","","","","","",{"$f":"IF($D124=\"\",\"\",VLOOKUP($D124,数据库!$B$4:$AD$1003,MATCH(AP$12,数据库!$C$2:$R$2,)+1,0))","v":""},null,"","","","","","","","","","","",{"$f":"IF($D124=\"\",\"\",VLOOKUP($D124,数据库!$B$4:$AD$1003,MATCH(BC$12,数据库!$C$2:$R$2,)+1,0))","v":""},112,"","","",""]
[null,null,"","","","","","","","","","","","","",{"$f":"IF($D125=\"\",\"\",VLOOKUP($D125,数据库!$B$4:$AD$1003,MATCH(P$12,数据库!$C$2:$R$2,)+1,0))","v":""},null,"","","","","","","","","","","",{"$f":"IF($D125=\"\",\"\",VLOOKUP($D125,数据库!$B$4:$AD$1003,MATCH(AC$12,数据库!$C$2:$R$2,)+1,0))","v":""},null,"","","","","","","","","","","",{"$f":"IF($D125=\"\",\"\",VLOOKUP($D125,数据库!$B$4:$AD$1003,MATCH(AP$12,数据库!$C$2:$R$2,)+1,0))","v":""},null,"","","","","","","","","","","",{"$f":"IF($D125=\"\",\"\",VLOOKUP($D125,数据库!$B$4:$AD$1003,MATCH(BC$12,数据库!$C$2:$R$2,)+1,0))","v":""},113,"","","",""]
[null,null,"","","","","","","","","","","","","",{"$f":"IF($D126=\"\",\"\",VLOOKUP($D126,数据库!$B$4:$AD$1003,MATCH(P$12,数据库!$C$2:$R$2,)+1,0))","v":""},null,"","","","","","","","","","","",{"$f":"IF($D126=\"\",\"\",VLOOKUP($D126,数据库!$B$4:$AD$1003,MATCH(AC$12,数据库!$C$2:$R$2,)+1,0))","v":""},null,"","","","","","","","","","","",{"$f":"IF($D126=\"\",\"\",VLOOKUP($D126,数据库!$B$4:$AD$1003,MATCH(AP$12,数据库!$C$2:$R$2,)+1,0))","v":""},null,"","","","","","","","","","","",{"$f":"IF($D126=\"\",\"\",VLOOKUP($D126,数据库!$B$4:$AD$1003,MATCH(BC$12,数据库!$C$2:$R$2,)+1,0))","v":""},114,"","","",""]
[null,null,"","","","","","","","","","","","","",{"$f":"IF($D127=\"\",\"\",VLOOKUP($D127,数据库!$B$4:$AD$1003,MATCH(P$12,数据库!$C$2:$R$2,)+1,0))","v":""},null,"","","","","","","","","","","",{"$f":"IF($D127=\"\",\"\",VLOOKUP($D127,数据库!$B$4:$AD$1003,MATCH(AC$12,数据库!$C$2:$R$2,)+1,0))","v":""},null,"","","","","","","","","","","",{"$f":"IF($D127=\"\",\"\",VLOOKUP($D127,数据库!$B$4:$AD$1003,MATCH(AP$12,数据库!$C$2:$R$2,)+1,0))","v":""},null,"","","","","","","","","","","",{"$f":"IF($D127=\"\",\"\",VLOOKUP($D127,数据库!$B$4:$AD$1003,MATCH(BC$12,数据库!$C$2:$R$2,)+1,0))","v":""},115,"","","",""]
[null,null,"","","","","",{"$f":"IF($E128=\"\",\"\",MID($E128,H$12+1,1))","v":""},"","","","","","","",{"$f":"IF($D128=\"\",\"\",VLOOKUP($D128,数据库!$B$4:$AD$1003,MATCH(P$12,数据库!$C$2:$R$2,)+1,0))","v":""},null,"","","",{"$f":"IF($R128=\"\",\"\",MID($R128,U$12+1,1))","v":""},"","","","","","","",{"$f":"IF($D128=\"\",\"\",VLOOKUP($D128,数据库!$B$4:$AD$1003,MATCH(AC$12,数据库!$C$2:$R$2,)+1,0))","v":""},null,"","","",{"$f":"IF($AE128=\"\",\"\",MID($AE128,AH$12+1,1))","v":""},"","","","","","","",{"$f":"IF($D128=\"\",\"\",VLOOKUP($D128,数据库!$B$4:$AD$1003,MATCH(AP$12,数据库!$C$2:$R$2,)+1,0))","v":""},null,"","","",{"$f":"IF($AR128=\"\",\"\",MID($AR128,AU$12+1,1))","v":""},"","","","","","","",{"$f":"IF($D128=\"\",\"\",VLOOKUP($D128,数据库!$B$4:$AD$1003,MATCH(BC$12,数据库!$C$2:$R$2,)+1,0))","v":""},116,"","","",""]
[null,null,"","","","","","","","","","","","","",{"$f":"IF($D129=\"\",\"\",VLOOKUP($D129,数据库!$B$4:$AD$1003,MATCH(P$12,数据库!$C$2:$R$2,)+1,0))","v":""},null,"","","","","","","","","","","",{"$f":"IF($D129=\"\",\"\",VLOOKUP($D129,数据库!$B$4:$AD$1003,MATCH(AC$12,数据库!$C$2:$R$2,)+1,0))","v":""},null,"","","","","","","","","","","",{"$f":"IF($D129=\"\",\"\",VLOOKUP($D129,数据库!$B$4:$AD$1003,MATCH(AP$12,数据库!$C$2:$R$2,)+1,0))","v":""},null,"","","","","","","","","","","",{"$f":"IF($D129=\"\",\"\",VLOOKUP($D129,数据库!$B$4:$AD$1003,MATCH(BC$12,数据库!$C$2:$R$2,)+1,0))","v":""},117,"","","",""]
[null,null,"","","","","","","","","","","","","",{"$f":"IF($D130=\"\",\"\",VLOOKUP($D130,数据库!$B$4:$AD$1003,MATCH(P$12,数据库!$C$2:$R$2,)+1,0))","v":""},null,"","","","","","","","","","","",{"$f":"IF($D130=\"\",\"\",VLOOKUP($D130,数据库!$B$4:$AD$1003,MATCH(AC$12,数据库!$C$2:$R$2,)+1,0))","v":""},null,"","","","","","","","","","","",{"$f":"IF($D130=\"\",\"\",VLOOKUP($D130,数据库!$B$4:$AD$1003,MATCH(AP$12,数据库!$C$2:$R$2,)+1,0))","v":""},null,"","","","","","","","","","","",{"$f":"IF($D130=\"\",\"\",VLOOKUP($D130,数据库!$B$4:$AD$1003,MATCH(BC$12,数据库!$C$2:$R$2,)+1,0))","v":""},118,"","","",""]
[null,null,"","","","","","","","","","","","","",{"$f":"IF($D131=\"\",\"\",VLOOKUP($D131,数据库!$B$4:$AD$1003,MATCH(P$12,数据库!$C$2:$R$2,)+1,0))","v":""},null,"","","","","","","","","","","",{"$f":"IF($D131=\"\",\"\",VLOOKUP($D131,数据库!$B$4:$AD$1003,MATCH(AC$12,数据库!$C$2:$R$2,)+1,0))","v":""},null,"","","","","","","","","","","",{"$f":"IF($D131=\"\",\"\",VLOOKUP($D131,数据库!$B$4:$AD$1003,MATCH(AP$12,数据库!$C$2:$R$2,)+1,0))","v":""},null,"","","","","","","","","","","",{"$f":"IF($D131=\"\",\"\",VLOOKUP($D131,数据库!$B$4:$AD$1003,MATCH(BC$12,数据库!$C$2:$R$2,)+1,0))","v":""},119,"","","",""]
[null,null,"","","","","","","","","","","","","",{"$f":"IF($D132=\"\",\"\",VLOOKUP($D132,数据库!$B$4:$AD$1003,MATCH(P$12,数据库!$C$2:$R$2,)+1,0))","v":""},null,"","","","","","","","","","","",{"$f":"IF($D132=\"\",\"\",VLOOKUP($D132,数据库!$B$4:$AD$1003,MATCH(AC$12,数据库!$C$2:$R$2,)+1,0))","v":""},null,"","","","","","","","","","","",{"$f":"IF($D132=\"\",\"\",VLOOKUP($D132,数据库!$B$4:$AD$1003,MATCH(AP$12,数据库!$C$2:$R$2,)+1,0))","v":""},null,"","","","","","","","","","","",{"$f":"IF($D132=\"\",\"\",VLOOKUP($D132,数据库!$B$4:$AD$1003,MATCH(BC$12,数据库!$C$2:$R$2,)+1,0))","v":""},120,"","","",""]
[null,null,"","","","","","","","","","","","","",{"$f":"IF($D133=\"\",\"\",VLOOKUP($D133,数据库!$B$4:$AD$1003,MATCH(P$12,数据库!$C$2:$R$2,)+1,0))","v":""},null,"","","","","","","","","","","",{"$f":"IF($D133=\"\",\"\",VLOOKUP($D133,数据库!$B$4:$AD$1003,MATCH(AC$12,数据库!$C$2:$R$2,)+1,0))","v":""},null,"","","","","","","","","","","",{"$f":"IF($D133=\"\",\"\",VLOOKUP($D133,数据库!$B$4:$AD$1003,MATCH(AP$12,数据库!$C$2:$R$2,)+1,0))","v":""},null,"","","","","","","","","","","",{"$f":"IF($D133=\"\",\"\",VLOOKUP($D133,数据库!$B$4:$AD$1003,MATCH(BC$12,数据库!$C$2:$R$2,)+1,0))","v":""},121,"","","",""]
[null,null,"","","","","","","","","","","","","",{"$f":"IF($D134=\"\",\"\",VLOOKUP($D134,数据库!$B$4:$AD$1003,MATCH(P$12,数据库!$C$2:$R$2,)+1,0))","v":""},null,"","","","","","","","","","","",{"$f":"IF($D134=\"\",\"\",VLOOKUP($D134,数据库!$B$4:$AD$1003,MATCH(AC$12,数据库!$C$2:$R$2,)+1,0))","v":""},null,"","","","","","","","","","","",{"$f":"IF($D134=\"\",\"\",VLOOKUP($D134,数据库!$B$4:$AD$1003,MATCH(AP$12,数据库!$C$2:$R$2,)+1,0))","v":""},null,"","","","","","","","","","","",{"$f":"IF($D134=\"\",\"\",VLOOKUP($D134,数据库!$B$4:$AD$1003,MATCH(BC$12,数据库!$C$2:$R$2,)+1,0))","v":""},122,"","","",""]
[null,null,"","","","","","","","","","","","","",{"$f":"IF($D135=\"\",\"\",VLOOKUP($D135,数据库!$B$4:$AD$1003,MATCH(P$12,数据库!$C$2:$R$2,)+1,0))","v":""},null,"","","","","","","","","","","",{"$f":"IF($D135=\"\",\"\",VLOOKUP($D135,数据库!$B$4:$AD$1003,MATCH(AC$12,数据库!$C$2:$R$2,)+1,0))","v":""},null,"","","","","","","","","","","",{"$f":"IF($D135=\"\",\"\",VLOOKUP($D135,数据库!$B$4:$AD$1003,MATCH(AP$12,数据库!$C$2:$R$2,)+1,0))","v":""},null,"","","","","","","","","","","",{"$f":"IF($D135=\"\",\"\",VLOOKUP($D135,数据库!$B$4:$AD$1003,MATCH(BC$12,数据库!$C$2:$R$2,)+1,0))","v":""},123,"","","",""]
[null,null,"","","",{"$f":"IF($E136=\"\",\"\",MID($E136,F$12+1,1))","v":""},"","","","","","","","","",{"$f":"IF($D136=\"\",\"\",VLOOKUP($D136,数据库!$B$4:$AD$1003,MATCH(P$12,数据库!$C$2:$R$2,)+1,0))","v":""},null,"",{"$f":"IF($R136=\"\",\"\",MID($R136,S$12+1,1))","v":""},"","","","","","","","","",{"$f":"IF($D136=\"\",\"\",VLOOKUP($D136,数据库!$B$4:$AD$1003,MATCH(AC$12,数据库!$C$2:$R$2,)+1,0))","v":""},null,"",{"$f":"IF($AE136=\"\",\"\",MID($AE136,AF$12+1,1))","v":""},"","","","","","","","","",{"$f":"IF($D136=\"\",\"\",VLOOKUP($D136,数据库!$B$4:$AD$1003,MATCH(AP$12,数据库!$C$2:$R$2,)+1,0))","v":""},null,"",{"$f":"IF($AR136=\"\",\"\",MID($AR136,AS$12+1,1))","v":""},"","","","","","","","","",{"$f":"IF($D136=\"\",\"\",VLOOKUP($D136,数据库!$B$4:$AD$1003,MATCH(BC$12,数据库!$C$2:$R$2,)+1,0))","v":""},124,"","","",""]
[null,null,"","","","","","","","","","","","","",{"$f":"IF($D137=\"\",\"\",VLOOKUP($D137,数据库!$B$4:$AD$1003,MATCH(P$12,数据库!$C$2:$R$2,)+1,0))","v":""},null,"","","","","","","","","","","",{"$f":"IF($D137=\"\",\"\",VLOOKUP($D137,数据库!$B$4:$AD$1003,MATCH(AC$12,数据库!$C$2:$R$2,)+1,0))","v":""},null,"","","","","","","","","","","",{"$f":"IF($D137=\"\",\"\",VLOOKUP($D137,数据库!$B$4:$AD$1003,MATCH(AP$12,数据库!$C$2:$R$2,)+1,0))","v":""},null,"","","","","","","","","","","",{"$f":"IF($D137=\"\",\"\",VLOOKUP($D137,数据库!$B$4:$AD$1003,MATCH(BC$12,数据库!$C$2:$R$2,)+1,0))","v":""},125,"","","",""]
[null,null,"","","","","","","","","","","","","",{"$f":"IF($D138=\"\",\"\",VLOOKUP($D138,数据库!$B$4:$AD$1003,MATCH(P$12,数据库!$C$2:$R$2,)+1,0))","v":""},null,"","","","","","","","","","","",{"$f":"IF($D138=\"\",\"\",VLOOKUP($D138,数据库!$B$4:$AD$1003,MATCH(AC$12,数据库!$C$2:$R$2,)+1,0))","v":""},null,"","","","","","","","","","","",{"$f":"IF($D138=\"\",\"\",VLOOKUP($D138,数据库!$B$4:$AD$1003,MATCH(AP$12,数据库!$C$2:$R$2,)+1,0))","v":""},null,"","","","","","","","","","","",{"$f":"IF($D138=\"\",\"\",VLOOKUP($D138,数据库!$B$4:$AD$1003,MATCH(BC$12,数据库!$C$2:$R$2,)+1,0))","v":""},126,"","","",""]
[null,null,"","","","","","","","","","","","","",{"$f":"IF($D139=\"\",\"\",VLOOKUP($D139,数据库!$B$4:$AD$1003,MATCH(P$12,数据库!$C$2:$R$2,)+1,0))","v":""},null,"","","","","","","","","","","",{"$f":"IF($D139=\"\",\"\",VLOOKUP($D139,数据库!$B$4:$AD$1003,MATCH(AC$12,数据库!$C$2:$R$2,)+1,0))","v":""},null,"","","","","","","","","","","",{"$f":"IF($D139=\"\",\"\",VLOOKUP($D139,数据库!$B$4:$AD$1003,MATCH(AP$12,数据库!$C$2:$R$2,)+1,0))","v":""},null,"","","","","","","","","","","",{"$f":"IF($D139=\"\",\"\",VLOOKUP($D139,数据库!$B$4:$AD$1003,MATCH(BC$12,数据库!$C$2:$R$2,)+1,0))","v":""},127,"","","",""]
[null,null,"","","","","","","","","","","","","",{"$f":"IF($D140=\"\",\"\",VLOOKUP($D140,数据库!$B$4:$AD$1003,MATCH(P$12,数据库!$C$2:$R$2,)+1,0))","v":""},null,"","","","","","","","","","","",{"$f":"IF($D140=\"\",\"\",VLOOKUP($D140,数据库!$B$4:$AD$1003,MATCH(AC$12,数据库!$C$2:$R$2,)+1,0))","v":""},null,"","","","","","","","","","","",{"$f":"IF($D140=\"\",\"\",VLOOKUP($D140,数据库!$B$4:$AD$1003,MATCH(AP$12,数据库!$C$2:$R$2,)+1,0))","v":""},null,"","","","","","","","","","","",{"$f":"IF($D140=\"\",\"\",VLOOKUP($D140,数据库!$B$4:$AD$1003,MATCH(BC$12,数据库!$C$2:$R$2,)+1,0))","v":""},128,"","","",""]
[null,null,"","","","","","","","","","","","","",{"$f":"IF($D141=\"\",\"\",VLOOKUP($D141,数据库!$B$4:$AD$1003,MATCH(P$12,数据库!$C$2:$R$2,)+1,0))","v":""},null,"","","","","","","","","","","",{"$f":"IF($D141=\"\",\"\",VLOOKUP($D141,数据库!$B$4:$AD$1003,MATCH(AC$12,数据库!$C$2:$R$2,)+1,0))","v":""},null,"","","","","","","","","","","",{"$f":"IF($D141=\"\",\"\",VLOOKUP($D141,数据库!$B$4:$AD$1003,MATCH(AP$12,数据库!$C$2:$R$2,)+1,0))","v":""},null,"","","","","","","","","","","",{"$f":"IF($D141=\"\",\"\",VLOOKUP($D141,数据库!$B$4:$AD$1003,MATCH(BC$12,数据库!$C$2:$R$2,)+1,0))","v":""},129,"","","",""]
[null,null,"","","","","","","","","","","","","",{"$f":"IF($D142=\"\",\"\",VLOOKUP($D142,数据库!$B$4:$AD$1003,MATCH(P$12,数据库!$C$2:$R$2,)+1,0))","v":""},null,"","","","","","","","","","","",{"$f":"IF($D142=\"\",\"\",VLOOKUP($D142,数据库!$B$4:$AD$1003,MATCH(AC$12,数据库!$C$2:$R$2,)+1,0))","v":""},null,"","","","","","","","","","","",{"$f":"IF($D142=\"\",\"\",VLOOKUP($D142,数据库!$B$4:$AD$1003,MATCH(AP$12,数据库!$C$2:$R$2,)+1,0))","v":""},null,"","","","","","","","","","","",{"$f":"IF($D142=\"\",\"\",VLOOKUP($D142,数据库!$B$4:$AD$1003,MATCH(BC$12,数据库!$C$2:$R$2,)+1,0))","v":""},130,{"$f":"IF(E142=\"\",\"\",E142)","v":""},{"$f":"IF(R142=\"\",\"\",R142)","v":""},{"$f":"IF(AE142=\"\",\"\",AE142)","v":""},{"$f":"IF(AR142=\"\",\"\",AR142)","v":""}]
[null,null,"","","","","","","","","","","","","",{"$f":"IF($D143=\"\",\"\",VLOOKUP($D143,数据库!$B$4:$AD$1003,MATCH(P$12,数据库!$C$2:$R$2,)+1,0))","v":""},null,"","","","","","","","","","","",{"$f":"IF($D143=\"\",\"\",VLOOKUP($D143,数据库!$B$4:$AD$1003,MATCH(AC$12,数据库!$C$2:$R$2,)+1,0))","v":""},null,"","","","","","","","","","","",{"$f":"IF($D143=\"\",\"\",VLOOKUP($D143,数据库!$B$4:$AD$1003,MATCH(AP$12,数据库!$C$2:$R$2,)+1,0))","v":""},null,"","","","","","","","","","","",{"$f":"IF($D143=\"\",\"\",VLOOKUP($D143,数据库!$B$4:$AD$1003,MATCH(BC$12,数据库!$C$2:$R$2,)+1,0))","v":""},131,"","","",""]
[null,null,"","","","","","","","","","","","","",{"$f":"IF($D144=\"\",\"\",VLOOKUP($D144,数据库!$B$4:$AD$1003,MATCH(P$12,数据库!$C$2:$R$2,)+1,0))","v":""},null,"","","","","","","","","","","",{"$f":"IF($D144=\"\",\"\",VLOOKUP($D144,数据库!$B$4:$AD$1003,MATCH(AC$12,数据库!$C$2:$R$2,)+1,0))","v":""},null,"","","","","","","","","","","",{"$f":"IF($D144=\"\",\"\",VLOOKUP($D144,数据库!$B$4:$AD$1003,MATCH(AP$12,数据库!$C$2:$R$2,)+1,0))","v":""},null,"","","","","","","","","","","",{"$f":"IF($D144=\"\",\"\",VLOOKUP($D144,数据库!$B$4:$AD$1003,MATCH(BC$12,数据库!$C$2:$R$2,)+1,0))","v":""},132,"","","",""]
[null,null,"","","","","","","","","","","","","",{"$f":"IF($D145=\"\",\"\",VLOOKUP($D145,数据库!$B$4:$AD$1003,MATCH(P$12,数据库!$C$2:$R$2,)+1,0))","v":""},null,"","","","","","","","","","","",{"$f":"IF($D145=\"\",\"\",VLOOKUP($D145,数据库!$B$4:$AD$1003,MATCH(AC$12,数据库!$C$2:$R$2,)+1,0))","v":""},null,"","","","","","","","","","","",{"$f":"IF($D145=\"\",\"\",VLOOKUP($D145,数据库!$B$4:$AD$1003,MATCH(AP$12,数据库!$C$2:$R$2,)+1,0))","v":""},null,"","","","","","","","","","","",{"$f":"IF($D145=\"\",\"\",VLOOKUP($D145,数据库!$B$4:$AD$1003,MATCH(BC$12,数据库!$C$2:$R$2,)+1,0))","v":""},133,"","","",""]
[null,null,"","","","","","","","","","","","","",{"$f":"IF($D146=\"\",\"\",VLOOKUP($D146,数据库!$B$4:$AD$1003,MATCH(P$12,数据库!$C$2:$R$2,)+1,0))","v":""},null,"","","","","","","","","","","",{"$f":"IF($D146=\"\",\"\",VLOOKUP($D146,数据库!$B$4:$AD$1003,MATCH(AC$12,数据库!$C$2:$R$2,)+1,0))","v":""},null,"","","","","","","","","","","",{"$f":"IF($D146=\"\",\"\",VLOOKUP($D146,数据库!$B$4:$AD$1003,MATCH(AP$12,数据库!$C$2:$R$2,)+1,0))","v":""},null,"","","","","","","","","","","",{"$f":"IF($D146=\"\",\"\",VLOOKUP($D146,数据库!$B$4:$AD$1003,MATCH(BC$12,数据库!$C$2:$R$2,)+1,0))","v":""},134,"","","",""]
[null,null,"","","","","","","","","","","","","",{"$f":"IF($D147=\"\",\"\",VLOOKUP($D147,数据库!$B$4:$AD$1003,MATCH(P$12,数据库!$C$2:$R$2,)+1,0))","v":""},null,"","","","","","","","","","","",{"$f":"IF($D147=\"\",\"\",VLOOKUP($D147,数据库!$B$4:$AD$1003,MATCH(AC$12,数据库!$C$2:$R$2,)+1,0))","v":""},null,"","","","","","","","","","","",{"$f":"IF($D147=\"\",\"\",VLOOKUP($D147,数据库!$B$4:$AD$1003,MATCH(AP$12,数据库!$C$2:$R$2,)+1,0))","v":""},null,"","","","","","","","","","","",{"$f":"IF($D147=\"\",\"\",VLOOKUP($D147,数据库!$B$4:$AD$1003,MATCH(BC$12,数据库!$C$2:$R$2,)+1,0))","v":""},135,"","","",""]
[null,null,"","","","","","","","","","","","","",{"$f":"IF($D148=\"\",\"\",VLOOKUP($D148,数据库!$B$4:$AD$1003,MATCH(P$12,数据库!$C$2:$R$2,)+1,0))","v":""},null,"","","","","","","","","","","",{"$f":"IF($D148=\"\",\"\",VLOOKUP($D148,数据库!$B$4:$AD$1003,MATCH(AC$12,数据库!$C$2:$R$2,)+1,0))","v":""},null,"","","","","","","","","","","",{"$f":"IF($D148=\"\",\"\",VLOOKUP($D148,数据库!$B$4:$AD$1003,MATCH(AP$12,数据库!$C$2:$R$2,)+1,0))","v":""},null,"","","","","","","","","","","",{"$f":"IF($D148=\"\",\"\",VLOOKUP($D148,数据库!$B$4:$AD$1003,MATCH(BC$12,数据库!$C$2:$R$2,)+1,0))","v":""},136,"","","",""]
[null,null,"","","","","","","","","","","","","",{"$f":"IF($D149=\"\",\"\",VLOOKUP($D149,数据库!$B$4:$AD$1003,MATCH(P$12,数据库!$C$2:$R$2,)+1,0))","v":""},null,"","","","","","","","","","","",{"$f":"IF($D149=\"\",\"\",VLOOKUP($D149,数据库!$B$4:$AD$1003,MATCH(AC$12,数据库!$C$2:$R$2,)+1,0))","v":""},null,"","","","","","","","","","","",{"$f":"IF($D149=\"\",\"\",VLOOKUP($D149,数据库!$B$4:$AD$1003,MATCH(AP$12,数据库!$C$2:$R$2,)+1,0))","v":""},null,"","","","","","","","","","","",{"$f":"IF($D149=\"\",\"\",VLOOKUP($D149,数据库!$B$4:$AD$1003,MATCH(BC$12,数据库!$C$2:$R$2,)+1,0))","v":""},137,"","","",""]
[null,null,"","","","","","","","","","","","","",{"$f":"IF($D150=\"\",\"\",VLOOKUP($D150,数据库!$B$4:$AD$1003,MATCH(P$12,数据库!$C$2:$R$2,)+1,0))","v":""},null,"","","","","","","","","","","",{"$f":"IF($D150=\"\",\"\",VLOOKUP($D150,数据库!$B$4:$AD$1003,MATCH(AC$12,数据库!$C$2:$R$2,)+1,0))","v":""},null,"","","","","","","","","","","",{"$f":"IF($D150=\"\",\"\",VLOOKUP($D150,数据库!$B$4:$AD$1003,MATCH(AP$12,数据库!$C$2:$R$2,)+1,0))","v":""},null,"","","","","","","","","","","",{"$f":"IF($D150=\"\",\"\",VLOOKUP($D150,数据库!$B$4:$AD$1003,MATCH(BC$12,数据库!$C$2:$R$2,)+1,0))","v":""},138,"","","",""]
[null,null,"","","","","","","","","","","","","",{"$f":"IF($D151=\"\",\"\",VLOOKUP($D151,数据库!$B$4:$AD$1003,MATCH(P$12,数据库!$C$2:$R$2,)+1,0))","v":""},null,"","","","","","","","","","","",{"$f":"IF($D151=\"\",\"\",VLOOKUP($D151,数据库!$B$4:$AD$1003,MATCH(AC$12,数据库!$C$2:$R$2,)+1,0))","v":""},null,"","","","","","","","","","","",{"$f":"IF($D151=\"\",\"\",VLOOKUP($D151,数据库!$B$4:$AD$1003,MATCH(AP$12,数据库!$C$2:$R$2,)+1,0))","v":""},null,"","","","","","","","","","","",{"$f":"IF($D151=\"\",\"\",VLOOKUP($D151,数据库!$B$4:$AD$1003,MATCH(BC$12,数据库!$C$2:$R$2,)+1,0))","v":""},139,"","","",""]
[null,null,"","","","","","","","","","","","","",{"$f":"IF($D152=\"\",\"\",VLOOKUP($D152,数据库!$B$4:$AD$1003,MATCH(P$12,数据库!$C$2:$R$2,)+1,0))","v":""},null,"","","","","","","","","","","",{"$f":"IF($D152=\"\",\"\",VLOOKUP($D152,数据库!$B$4:$AD$1003,MATCH(AC$12,数据库!$C$2:$R$2,)+1,0))","v":""},null,"","","","","","","","","","","",{"$f":"IF($D152=\"\",\"\",VLOOKUP($D152,数据库!$B$4:$AD$1003,MATCH(AP$12,数据库!$C$2:$R$2,)+1,0))","v":""},null,"","","","","","","","","","","",{"$f":"IF($D152=\"\",\"\",VLOOKUP($D152,数据库!$B$4:$AD$1003,MATCH(BC$12,数据库!$C$2:$R$2,)+1,0))","v":""},140,"","","",""]
[null,null,"","","","","","","","","","","","","",{"$f":"IF($D153=\"\",\"\",VLOOKUP($D153,数据库!$B$4:$AD$1003,MATCH(P$12,数据库!$C$2:$R$2,)+1,0))","v":""},null,"","","","","","","","","","","",{"$f":"IF($D153=\"\",\"\",VLOOKUP($D153,数据库!$B$4:$AD$1003,MATCH(AC$12,数据库!$C$2:$R$2,)+1,0))","v":""},null,"","","","","","","","","","","",{"$f":"IF($D153=\"\",\"\",VLOOKUP($D153,数据库!$B$4:$AD$1003,MATCH(AP$12,数据库!$C$2:$R$2,)+1,0))","v":""},null,"","","","","","","","","","","",{"$f":"IF($D153=\"\",\"\",VLOOKUP($D153,数据库!$B$4:$AD$1003,MATCH(BC$12,数据库!$C$2:$R$2,)+1,0))","v":""},141,"","","",""]
[null,null,"","","","","","","","","","","","","",{"$f":"IF($D154=\"\",\"\",VLOOKUP($D154,数据库!$B$4:$AD$1003,MATCH(P$12,数据库!$C$2:$R$2,)+1,0))","v":""},null,"","","","","","","","","","","",{"$f":"IF($D154=\"\",\"\",VLOOKUP($D154,数据库!$B$4:$AD$1003,MATCH(AC$12,数据库!$C$2:$R$2,)+1,0))","v":""},null,"","","","","","","","","","","",{"$f":"IF($D154=\"\",\"\",VLOOKUP($D154,数据库!$B$4:$AD$1003,MATCH(AP$12,数据库!$C$2:$R$2,)+1,0))","v":""},null,"","","","","","","","","","","",{"$f":"IF($D154=\"\",\"\",VLOOKUP($D154,数据库!$B$4:$AD$1003,MATCH(BC$12,数据库!$C$2:$R$2,)+1,0))","v":""},142,"","","",""]
[null,null,"","","","","","","","","","","","","",{"$f":"IF($D155=\"\",\"\",VLOOKUP($D155,数据库!$B$4:$AD$1003,MATCH(P$12,数据库!$C$2:$R$2,)+1,0))","v":""},null,"","","","","","","","","","","",{"$f":"IF($D155=\"\",\"\",VLOOKUP($D155,数据库!$B$4:$AD$1003,MATCH(AC$12,数据库!$C$2:$R$2,)+1,0))","v":""},null,"","","","","","","","","","","",{"$f":"IF($D155=\"\",\"\",VLOOKUP($D155,数据库!$B$4:$AD$1003,MATCH(AP$12,数据库!$C$2:$R$2,)+1,0))","v":""},null,"","","","","","","","","","","",{"$f":"IF($D155=\"\",\"\",VLOOKUP($D155,数据库!$B$4:$AD$1003,MATCH(BC$12,数据库!$C$2:$R$2,)+1,0))","v":""},143,"","","",""]
[null,null,"","","","","","","","",{"$f":"IF($E156=\"\",\"\",MID($E156,K$12+1,1))","v":""},"","","","",{"$f":"IF($D156=\"\",\"\",VLOOKUP($D156,数据库!$B$4:$AD$1003,MATCH(P$12,数据库!$C$2:$R$2,)+1,0))","v":""},null,"","","","","","",{"$f":"IF($R156=\"\",\"\",MID($R156,X$12+1,1))","v":""},"","","","",{"$f":"IF($D156=\"\",\"\",VLOOKUP($D156,数据库!$B$4:$AD$1003,MATCH(AC$12,数据库!$C$2:$R$2,)+1,0))","v":""},null,"","","","","","",{"$f":"IF($AE156=\"\",\"\",MID($AE156,AK$12+1,1))","v":""},"","","","",{"$f":"IF($D156=\"\",\"\",VLOOKUP($D156,数据库!$B$4:$AD$1003,MATCH(AP$12,数据库!$C$2:$R$2,)+1,0))","v":""},null,"","","","","","",{"$f":"IF($AR156=\"\",\"\",MID($AR156,AX$12+1,1))","v":""},"","","","",{"$f":"IF($D156=\"\",\"\",VLOOKUP($D156,数据库!$B$4:$AD$1003,MATCH(BC$12,数据库!$C$2:$R$2,)+1,0))","v":""},144,"","","",""]
[null,null,"","","","","","","","","","","","","",{"$f":"IF($D157=\"\",\"\",VLOOKUP($D157,数据库!$B$4:$AD$1003,MATCH(P$12,数据库!$C$2:$R$2,)+1,0))","v":""},null,"","","","","","","","","","","",{"$f":"IF($D157=\"\",\"\",VLOOKUP($D157,数据库!$B$4:$AD$1003,MATCH(AC$12,数据库!$C$2:$R$2,)+1,0))","v":""},null,"","","","","","","","","","","",{"$f":"IF($D157=\"\",\"\",VLOOKUP($D157,数据库!$B$4:$AD$1003,MATCH(AP$12,数据库!$C$2:$R$2,)+1,0))","v":""},null,"","","","","","","","","","","",{"$f":"IF($D157=\"\",\"\",VLOOKUP($D157,数据库!$B$4:$AD$1003,MATCH(BC$12,数据库!$C$2:$R$2,)+1,0))","v":""},145,"","","",""]
[null,null,"","","","","","","","","","","","","",{"$f":"IF($D158=\"\",\"\",VLOOKUP($D158,数据库!$B$4:$AD$1003,MATCH(P$12,数据库!$C$2:$R$2,)+1,0))","v":""},null,"","","","","","","","","","","",{"$f":"IF($D158=\"\",\"\",VLOOKUP($D158,数据库!$B$4:$AD$1003,MATCH(AC$12,数据库!$C$2:$R$2,)+1,0))","v":""},null,"","","","","","","","","","","",{"$f":"IF($D158=\"\",\"\",VLOOKUP($D158,数据库!$B$4:$AD$1003,MATCH(AP$12,数据库!$C$2:$R$2,)+1,0))","v":""},null,"","","","","","","","","","","",{"$f":"IF($D158=\"\",\"\",VLOOKUP($D158,数据库!$B$4:$AD$1003,MATCH(BC$12,数据库!$C$2:$R$2,)+1,0))","v":""},146,"","","",""]
[null,null,"","","","","","","","","","","","","",{"$f":"IF($D159=\"\",\"\",VLOOKUP($D159,数据库!$B$4:$AD$1003,MATCH(P$12,数据库!$C$2:$R$2,)+1,0))","v":""},null,"","","","","","","","","","","",{"$f":"IF($D159=\"\",\"\",VLOOKUP($D159,数据库!$B$4:$AD$1003,MATCH(AC$12,数据库!$C$2:$R$2,)+1,0))","v":""},null,"","","","","","","","","","","",{"$f":"IF($D159=\"\",\"\",VLOOKUP($D159,数据库!$B$4:$AD$1003,MATCH(AP$12,数据库!$C$2:$R$2,)+1,0))","v":""},null,"","","","","","","","","","","",{"$f":"IF($D159=\"\",\"\",VLOOKUP($D159,数据库!$B$4:$AD$1003,MATCH(BC$12,数据库!$C$2:$R$2,)+1,0))","v":""},147,"","","",""]
[null,null,"","","","","","","","","","","","","",{"$f":"IF($D160=\"\",\"\",VLOOKUP($D160,数据库!$B$4:$AD$1003,MATCH(P$12,数据库!$C$2:$R$2,)+1,0))","v":""},null,"","","","","","","","","","","",{"$f":"IF($D160=\"\",\"\",VLOOKUP($D160,数据库!$B$4:$AD$1003,MATCH(AC$12,数据库!$C$2:$R$2,)+1,0))","v":""},null,"","","","","","","","","","","",{"$f":"IF($D160=\"\",\"\",VLOOKUP($D160,数据库!$B$4:$AD$1003,MATCH(AP$12,数据库!$C$2:$R$2,)+1,0))","v":""},null,"","","","","","","","","","","",{"$f":"IF($D160=\"\",\"\",VLOOKUP($D160,数据库!$B$4:$AD$1003,MATCH(BC$12,数据库!$C$2:$R$2,)+1,0))","v":""},148,"","","",""]
[null,null,"","","","","","","","","","","","","",{"$f":"IF($D161=\"\",\"\",VLOOKUP($D161,数据库!$B$4:$AD$1003,MATCH(P$12,数据库!$C$2:$R$2,)+1,0))","v":""},null,"","","","","","","","","","","",{"$f":"IF($D161=\"\",\"\",VLOOKUP($D161,数据库!$B$4:$AD$1003,MATCH(AC$12,数据库!$C$2:$R$2,)+1,0))","v":""},null,"","","","","","","","","","","",{"$f":"IF($D161=\"\",\"\",VLOOKUP($D161,数据库!$B$4:$AD$1003,MATCH(AP$12,数据库!$C$2:$R$2,)+1,0))","v":""},null,"","","","","","","","","","","",{"$f":"IF($D161=\"\",\"\",VLOOKUP($D161,数据库!$B$4:$AD$1003,MATCH(BC$12,数据库!$C$2:$R$2,)+1,0))","v":""},149,"","","",""]
[null,null,"","","","","","","","","","","","","",{"$f":"IF($D162=\"\",\"\",VLOOKUP($D162,数据库!$B$4:$AD$1003,MATCH(P$12,数据库!$C$2:$R$2,)+1,0))","v":""},null,"","","","","","","","","","","",{"$f":"IF($D162=\"\",\"\",VLOOKUP($D162,数据库!$B$4:$AD$1003,MATCH(AC$12,数据库!$C$2:$R$2,)+1,0))","v":""},null,"","","","","","","","","","","",{"$f":"IF($D162=\"\",\"\",VLOOKUP($D162,数据库!$B$4:$AD$1003,MATCH(AP$12,数据库!$C$2:$R$2,)+1,0))","v":""},null,"","","","","","","","","","","",{"$f":"IF($D162=\"\",\"\",VLOOKUP($D162,数据库!$B$4:$AD$1003,MATCH(BC$12,数据库!$C$2:$R$2,)+1,0))","v":""},150,"","","",""]
[null,null,"","","","","","","","","","","","","",{"$f":"IF($D163=\"\",\"\",VLOOKUP($D163,数据库!$B$4:$AD$1003,MATCH(P$12,数据库!$C$2:$R$2,)+1,0))","v":""},null,"","","","","","","","","","","",{"$f":"IF($D163=\"\",\"\",VLOOKUP($D163,数据库!$B$4:$AD$1003,MATCH(AC$12,数据库!$C$2:$R$2,)+1,0))","v":""},null,"","","","","","","","","","","",{"$f":"IF($D163=\"\",\"\",VLOOKUP($D163,数据库!$B$4:$AD$1003,MATCH(AP$12,数据库!$C$2:$R$2,)+1,0))","v":""},null,"","","","","","","","","","","",{"$f":"IF($D163=\"\",\"\",VLOOKUP($D163,数据库!$B$4:$AD$1003,MATCH(BC$12,数据库!$C$2:$R$2,)+1,0))","v":""},151,"","","",""]
[null,null,"","","","","","","","","","","","","",{"$f":"IF($D164=\"\",\"\",VLOOKUP($D164,数据库!$B$4:$AD$1003,MATCH(P$12,数据库!$C$2:$R$2,)+1,0))","v":""},null,"","","","","","","","","","","",{"$f":"IF($D164=\"\",\"\",VLOOKUP($D164,数据库!$B$4:$AD$1003,MATCH(AC$12,数据库!$C$2:$R$2,)+1,0))","v":""},null,"","","","","","","","","","","",{"$f":"IF($D164=\"\",\"\",VLOOKUP($D164,数据库!$B$4:$AD$1003,MATCH(AP$12,数据库!$C$2:$R$2,)+1,0))","v":""},null,"","","","","","","","","","","",{"$f":"IF($D164=\"\",\"\",VLOOKUP($D164,数据库!$B$4:$AD$1003,MATCH(BC$12,数据库!$C$2:$R$2,)+1,0))","v":""},152,"","","",""]
[null,null,"","","","","","","","","","","","","",{"$f":"IF($D165=\"\",\"\",VLOOKUP($D165,数据库!$B$4:$AD$1003,MATCH(P$12,数据库!$C$2:$R$2,)+1,0))","v":""},null,"","","","","","","","","","","",{"$f":"IF($D165=\"\",\"\",VLOOKUP($D165,数据库!$B$4:$AD$1003,MATCH(AC$12,数据库!$C$2:$R$2,)+1,0))","v":""},null,"","","","","","","","","","","",{"$f":"IF($D165=\"\",\"\",VLOOKUP($D165,数据库!$B$4:$AD$1003,MATCH(AP$12,数据库!$C$2:$R$2,)+1,0))","v":""},null,"","","","","","","","","","","",{"$f":"IF($D165=\"\",\"\",VLOOKUP($D165,数据库!$B$4:$AD$1003,MATCH(BC$12,数据库!$C$2:$R$2,)+1,0))","v":""},153,"","","",""]
[null,null,"","","","","","","","","","","","","",{"$f":"IF($D166=\"\",\"\",VLOOKUP($D166,数据库!$B$4:$AD$1003,MATCH(P$12,数据库!$C$2:$R$2,)+1,0))","v":""},null,"","","","","","","","","","","",{"$f":"IF($D166=\"\",\"\",VLOOKUP($D166,数据库!$B$4:$AD$1003,MATCH(AC$12,数据库!$C$2:$R$2,)+1,0))","v":""},null,"","","","","","","","","","","",{"$f":"IF($D166=\"\",\"\",VLOOKUP($D166,数据库!$B$4:$AD$1003,MATCH(AP$12,数据库!$C$2:$R$2,)+1,0))","v":""},null,"","","","","","","","","","","",{"$f":"IF($D166=\"\",\"\",VLOOKUP($D166,数据库!$B$4:$AD$1003,MATCH(BC$12,数据库!$C$2:$R$2,)+1,0))","v":""},154,"","","",""]
[null,null,"","","","","","","","","","","","","",{"$f":"IF($D167=\"\",\"\",VLOOKUP($D167,数据库!$B$4:$AD$1003,MATCH(P$12,数据库!$C$2:$R$2,)+1,0))","v":""},null,"","","","","","","","","","","",{"$f":"IF($D167=\"\",\"\",VLOOKUP($D167,数据库!$B$4:$AD$1003,MATCH(AC$12,数据库!$C$2:$R$2,)+1,0))","v":""},null,"","","","","","","","","","","",{"$f":"IF($D167=\"\",\"\",VLOOKUP($D167,数据库!$B$4:$AD$1003,MATCH(AP$12,数据库!$C$2:$R$2,)+1,0))","v":""},null,"","","","","","","","","","","",{"$f":"IF($D167=\"\",\"\",VLOOKUP($D167,数据库!$B$4:$AD$1003,MATCH(BC$12,数据库!$C$2:$R$2,)+1,0))","v":""},155,"","","",""]
[null,null,"","","","","","","","","","","","","",{"$f":"IF($D168=\"\",\"\",VLOOKUP($D168,数据库!$B$4:$AD$1003,MATCH(P$12,数据库!$C$2:$R$2,)+1,0))","v":""},null,"","","","","","","","","","","",{"$f":"IF($D168=\"\",\"\",VLOOKUP($D168,数据库!$B$4:$AD$1003,MATCH(AC$12,数据库!$C$2:$R$2,)+1,0))","v":""},null,"","","","","","","","","","","",{"$f":"IF($D168=\"\",\"\",VLOOKUP($D168,数据库!$B$4:$AD$1003,MATCH(AP$12,数据库!$C$2:$R$2,)+1,0))","v":""},null,"","","","","","","","","","","",{"$f":"IF($D168=\"\",\"\",VLOOKUP($D168,数据库!$B$4:$AD$1003,MATCH(BC$12,数据库!$C$2:$R$2,)+1,0))","v":""},156,"","","",""]
[null,null,"","","","","","","","","","","","","",{"$f":"IF($D169=\"\",\"\",VLOOKUP($D169,数据库!$B$4:$AD$1003,MATCH(P$12,数据库!$C$2:$R$2,)+1,0))","v":""},null,"","","","","","","","","","","",{"$f":"IF($D169=\"\",\"\",VLOOKUP($D169,数据库!$B$4:$AD$1003,MATCH(AC$12,数据库!$C$2:$R$2,)+1,0))","v":""},null,"","","","","","","","","","","",{"$f":"IF($D169=\"\",\"\",VLOOKUP($D169,数据库!$B$4:$AD$1003,MATCH(AP$12,数据库!$C$2:$R$2,)+1,0))","v":""},null,"","","","","","","","","","","",{"$f":"IF($D169=\"\",\"\",VLOOKUP($D169,数据库!$B$4:$AD$1003,MATCH(BC$12,数据库!$C$2:$R$2,)+1,0))","v":""},157,"","","",""]
[null,null,"","","","","","","","","","","","","",{"$f":"IF($D170=\"\",\"\",VLOOKUP($D170,数据库!$B$4:$AD$1003,MATCH(P$12,数据库!$C$2:$R$2,)+1,0))","v":""},null,"","","","","","","","","","","",{"$f":"IF($D170=\"\",\"\",VLOOKUP($D170,数据库!$B$4:$AD$1003,MATCH(AC$12,数据库!$C$2:$R$2,)+1,0))","v":""},null,"","","","","","","","","","","",{"$f":"IF($D170=\"\",\"\",VLOOKUP($D170,数据库!$B$4:$AD$1003,MATCH(AP$12,数据库!$C$2:$R$2,)+1,0))","v":""},null,"","","","","","","","","","","",{"$f":"IF($D170=\"\",\"\",VLOOKUP($D170,数据库!$B$4:$AD$1003,MATCH(BC$12,数据库!$C$2:$R$2,)+1,0))","v":""},158,"","","",""]
[null,null,"","","","","","","","","","","","","",{"$f":"IF($D171=\"\",\"\",VLOOKUP($D171,数据库!$B$4:$AD$1003,MATCH(P$12,数据库!$C$2:$R$2,)+1,0))","v":""},null,"","","","","","","","","","","",{"$f":"IF($D171=\"\",\"\",VLOOKUP($D171,数据库!$B$4:$AD$1003,MATCH(AC$12,数据库!$C$2:$R$2,)+1,0))","v":""},null,"","","","","","","","","","","",{"$f":"IF($D171=\"\",\"\",VLOOKUP($D171,数据库!$B$4:$AD$1003,MATCH(AP$12,数据库!$C$2:$R$2,)+1,0))","v":""},null,"","","","","","","","","","","",{"$f":"IF($D171=\"\",\"\",VLOOKUP($D171,数据库!$B$4:$AD$1003,MATCH(BC$12,数据库!$C$2:$R$2,)+1,0))","v":""},159,"","","",""]
[null,null,"","","","","","","","","","","","","",{"$f":"IF($D172=\"\",\"\",VLOOKUP($D172,数据库!$B$4:$AD$1003,MATCH(P$12,数据库!$C$2:$R$2,)+1,0))","v":""},null,"","","","","","","","","","","",{"$f":"IF($D172=\"\",\"\",VLOOKUP($D172,数据库!$B$4:$AD$1003,MATCH(AC$12,数据库!$C$2:$R$2,)+1,0))","v":""},null,"","","","","","","","","","","",{"$f":"IF($D172=\"\",\"\",VLOOKUP($D172,数据库!$B$4:$AD$1003,MATCH(AP$12,数据库!$C$2:$R$2,)+1,0))","v":""},null,"","","","","","","","","","","",{"$f":"IF($D172=\"\",\"\",VLOOKUP($D172,数据库!$B$4:$AD$1003,MATCH(BC$12,数据库!$C$2:$R$2,)+1,0))","v":""},160,"","","",""]
[null,null,"","","","","","","","","","","","","",{"$f":"IF($D173=\"\",\"\",VLOOKUP($D173,数据库!$B$4:$AD$1003,MATCH(P$12,数据库!$C$2:$R$2,)+1,0))","v":""},null,"","","","","","","","","","","",{"$f":"IF($D173=\"\",\"\",VLOOKUP($D173,数据库!$B$4:$AD$1003,MATCH(AC$12,数据库!$C$2:$R$2,)+1,0))","v":""},null,"","","","","","","","","","","",{"$f":"IF($D173=\"\",\"\",VLOOKUP($D173,数据库!$B$4:$AD$1003,MATCH(AP$12,数据库!$C$2:$R$2,)+1,0))","v":""},null,"","","","","","","","","","","",{"$f":"IF($D173=\"\",\"\",VLOOKUP($D173,数据库!$B$4:$AD$1003,MATCH(BC$12,数据库!$C$2:$R$2,)+1,0))","v":""},161,"","","",""]
[null,null,"","","","","","","","","","","","","",{"$f":"IF($D174=\"\",\"\",VLOOKUP($D174,数据库!$B$4:$AD$1003,MATCH(P$12,数据库!$C$2:$R$2,)+1,0))","v":""},null,"","","","","","","","","","","",{"$f":"IF($D174=\"\",\"\",VLOOKUP($D174,数据库!$B$4:$AD$1003,MATCH(AC$12,数据库!$C$2:$R$2,)+1,0))","v":""},null,"","","","","","","","","","","",{"$f":"IF($D174=\"\",\"\",VLOOKUP($D174,数据库!$B$4:$AD$1003,MATCH(AP$12,数据库!$C$2:$R$2,)+1,0))","v":""},null,"","","","","","","","","","","",{"$f":"IF($D174=\"\",\"\",VLOOKUP($D174,数据库!$B$4:$AD$1003,MATCH(BC$12,数据库!$C$2:$R$2,)+1,0))","v":""},162,"","","",""]
[null,null,"","","","","","","","","","","","","",{"$f":"IF($D175=\"\",\"\",VLOOKUP($D175,数据库!$B$4:$AD$1003,MATCH(P$12,数据库!$C$2:$R$2,)+1,0))","v":""},null,"","","","","","","","","","","",{"$f":"IF($D175=\"\",\"\",VLOOKUP($D175,数据库!$B$4:$AD$1003,MATCH(AC$12,数据库!$C$2:$R$2,)+1,0))","v":""},null,"","","","","","","","","","","",{"$f":"IF($D175=\"\",\"\",VLOOKUP($D175,数据库!$B$4:$AD$1003,MATCH(AP$12,数据库!$C$2:$R$2,)+1,0))","v":""},null,"","","","","","","","","","","",{"$f":"IF($D175=\"\",\"\",VLOOKUP($D175,数据库!$B$4:$AD$1003,MATCH(BC$12,数据库!$C$2:$R$2,)+1,0))","v":""},163,"","","",""]
[null,null,"","","","","","","","","","","","","",{"$f":"IF($D176=\"\",\"\",VLOOKUP($D176,数据库!$B$4:$AD$1003,MATCH(P$12,数据库!$C$2:$R$2,)+1,0))","v":""},null,"","","","","","","","","","","",{"$f":"IF($D176=\"\",\"\",VLOOKUP($D176,数据库!$B$4:$AD$1003,MATCH(AC$12,数据库!$C$2:$R$2,)+1,0))","v":""},null,"","","","","","","","","","","",{"$f":"IF($D176=\"\",\"\",VLOOKUP($D176,数据库!$B$4:$AD$1003,MATCH(AP$12,数据库!$C$2:$R$2,)+1,0))","v":""},null,"","","","","","","","","","","",{"$f":"IF($D176=\"\",\"\",VLOOKUP($D176,数据库!$B$4:$AD$1003,MATCH(BC$12,数据库!$C$2:$R$2,)+1,0))","v":""},164,"","","",""]
[null,null,"","","","","","","","","","","","","",{"$f":"IF($D177=\"\",\"\",VLOOKUP($D177,数据库!$B$4:$AD$1003,MATCH(P$12,数据库!$C$2:$R$2,)+1,0))","v":""},null,"","","","","","","","","","","",{"$f":"IF($D177=\"\",\"\",VLOOKUP($D177,数据库!$B$4:$AD$1003,MATCH(AC$12,数据库!$C$2:$R$2,)+1,0))","v":""},null,"","","","","","","","","","","",{"$f":"IF($D177=\"\",\"\",VLOOKUP($D177,数据库!$B$4:$AD$1003,MATCH(AP$12,数据库!$C$2:$R$2,)+1,0))","v":""},null,"","","","","","","","","","","",{"$f":"IF($D177=\"\",\"\",VLOOKUP($D177,数据库!$B$4:$AD$1003,MATCH(BC$12,数据库!$C$2:$R$2,)+1,0))","v":""},165,"","","",""]
[null,null,"","","","","","","","","","","","","",{"$f":"IF($D178=\"\",\"\",VLOOKUP($D178,数据库!$B$4:$AD$1003,MATCH(P$12,数据库!$C$2:$R$2,)+1,0))","v":""},null,"","","","","","","","","","","",{"$f":"IF($D178=\"\",\"\",VLOOKUP($D178,数据库!$B$4:$AD$1003,MATCH(AC$12,数据库!$C$2:$R$2,)+1,0))","v":""},null,"","","","","","","","","","","",{"$f":"IF($D178=\"\",\"\",VLOOKUP($D178,数据库!$B$4:$AD$1003,MATCH(AP$12,数据库!$C$2:$R$2,)+1,0))","v":""},null,"","","","","","","","","","","",{"$f":"IF($D178=\"\",\"\",VLOOKUP($D178,数据库!$B$4:$AD$1003,MATCH(BC$12,数据库!$C$2:$R$2,)+1,0))","v":""},166,"","","",""]
[null,null,"","","","","","","","","","","","","",{"$f":"IF($D179=\"\",\"\",VLOOKUP($D179,数据库!$B$4:$AD$1003,MATCH(P$12,数据库!$C$2:$R$2,)+1,0))","v":""},null,"","","","","","","","","","","",{"$f":"IF($D179=\"\",\"\",VLOOKUP($D179,数据库!$B$4:$AD$1003,MATCH(AC$12,数据库!$C$2:$R$2,)+1,0))","v":""},null,"","","","","","","","","","","",{"$f":"IF($D179=\"\",\"\",VLOOKUP($D179,数据库!$B$4:$AD$1003,MATCH(AP$12,数据库!$C$2:$R$2,)+1,0))","v":""},null,"","","","","","","","","","","",{"$f":"IF($D179=\"\",\"\",VLOOKUP($D179,数据库!$B$4:$AD$1003,MATCH(BC$12,数据库!$C$2:$R$2,)+1,0))","v":""},167,"","","",""]
[null,null,"","","","","","","","","","","","","",{"$f":"IF($D180=\"\",\"\",VLOOKUP($D180,数据库!$B$4:$AD$1003,MATCH(P$12,数据库!$C$2:$R$2,)+1,0))","v":""},null,"","","","","","","","","","","",{"$f":"IF($D180=\"\",\"\",VLOOKUP($D180,数据库!$B$4:$AD$1003,MATCH(AC$12,数据库!$C$2:$R$2,)+1,0))","v":""},null,"","","","","","","","","","","",{"$f":"IF($D180=\"\",\"\",VLOOKUP($D180,数据库!$B$4:$AD$1003,MATCH(AP$12,数据库!$C$2:$R$2,)+1,0))","v":""},null,"","","","","","","","","","","",{"$f":"IF($D180=\"\",\"\",VLOOKUP($D180,数据库!$B$4:$AD$1003,MATCH(BC$12,数据库!$C$2:$R$2,)+1,0))","v":""},168,"","","",""]
[null,null,"","","","","","","","","","","","","",{"$f":"IF($D181=\"\",\"\",VLOOKUP($D181,数据库!$B$4:$AD$1003,MATCH(P$12,数据库!$C$2:$R$2,)+1,0))","v":""},null,"","","","","","","","","","","",{"$f":"IF($D181=\"\",\"\",VLOOKUP($D181,数据库!$B$4:$AD$1003,MATCH(AC$12,数据库!$C$2:$R$2,)+1,0))","v":""},null,"","","","","","","","","","","",{"$f":"IF($D181=\"\",\"\",VLOOKUP($D181,数据库!$B$4:$AD$1003,MATCH(AP$12,数据库!$C$2:$R$2,)+1,0))","v":""},null,"","","","","","","","","","","",{"$f":"IF($D181=\"\",\"\",VLOOKUP($D181,数据库!$B$4:$AD$1003,MATCH(BC$12,数据库!$C$2:$R$2,)+1,0))","v":""},169,"","","",""]
[null,null,"","","","","","","","","","","","","",{"$f":"IF($D182=\"\",\"\",VLOOKUP($D182,数据库!$B$4:$AD$1003,MATCH(P$12,数据库!$C$2:$R$2,)+1,0))","v":""},null,"","","","","","","","","","","",{"$f":"IF($D182=\"\",\"\",VLOOKUP($D182,数据库!$B$4:$AD$1003,MATCH(AC$12,数据库!$C$2:$R$2,)+1,0))","v":""},null,"","","","","","","","","","","",{"$f":"IF($D182=\"\",\"\",VLOOKUP($D182,数据库!$B$4:$AD$1003,MATCH(AP$12,数据库!$C$2:$R$2,)+1,0))","v":""},null,"","","","","","","","","","","",{"$f":"IF($D182=\"\",\"\",VLOOKUP($D182,数据库!$B$4:$AD$1003,MATCH(BC$12,数据库!$C$2:$R$2,)+1,0))","v":""},170,"","","",""]
[null,null,"","","","","","","","","","","","","",{"$f":"IF($D183=\"\",\"\",VLOOKUP($D183,数据库!$B$4:$AD$1003,MATCH(P$12,数据库!$C$2:$R$2,)+1,0))","v":""},null,"","","","","","","","","","","",{"$f":"IF($D183=\"\",\"\",VLOOKUP($D183,数据库!$B$4:$AD$1003,MATCH(AC$12,数据库!$C$2:$R$2,)+1,0))","v":""},null,"","","","","","","","","","","",{"$f":"IF($D183=\"\",\"\",VLOOKUP($D183,数据库!$B$4:$AD$1003,MATCH(AP$12,数据库!$C$2:$R$2,)+1,0))","v":""},null,"","","","","","","","","","","",{"$f":"IF($D183=\"\",\"\",VLOOKUP($D183,数据库!$B$4:$AD$1003,MATCH(BC$12,数据库!$C$2:$R$2,)+1,0))","v":""},171,"","","",""]
[null,null,"","","","","","","","","","","",{"$f":"IF($E184=\"\",\"\",MID($E184,N$12+1,1))","v":""},"",{"$f":"IF($D184=\"\",\"\",VLOOKUP($D184,数据库!$B$4:$AD$1003,MATCH(P$12,数据库!$C$2:$R$2,)+1,0))","v":""},null,"","","","","","","","","",{"$f":"IF($R184=\"\",\"\",MID($R184,AA$12+1,1))","v":""},"",{"$f":"IF($D184=\"\",\"\",VLOOKUP($D184,数据库!$B$4:$AD$1003,MATCH(AC$12,数据库!$C$2:$R$2,)+1,0))","v":""},null,"","","","","","","","","",{"$f":"IF($AE184=\"\",\"\",MID($AE184,AN$12+1,1))","v":""},"",{"$f":"IF($D184=\"\",\"\",VLOOKUP($D184,数据库!$B$4:$AD$1003,MATCH(AP$12,数据库!$C$2:$R$2,)+1,0))","v":""},null,"","","","","","","","","",{"$f":"IF($AR184=\"\",\"\",MID($AR184,BA$12+1,1))","v":""},"",{"$f":"IF($D184=\"\",\"\",VLOOKUP($D184,数据库!$B$4:$AD$1003,MATCH(BC$12,数据库!$C$2:$R$2,)+1,0))","v":""},172,"","","",""]
[null,null,"","","","","","","","","","","","","",{"$f":"IF($D185=\"\",\"\",VLOOKUP($D185,数据库!$B$4:$AD$1003,MATCH(P$12,数据库!$C$2:$R$2,)+1,0))","v":""},null,"","","","","","","","","","","",{"$f":"IF($D185=\"\",\"\",VLOOKUP($D185,数据库!$B$4:$AD$1003,MATCH(AC$12,数据库!$C$2:$R$2,)+1,0))","v":""},null,"","","","","","","","","","","",{"$f":"IF($D185=\"\",\"\",VLOOKUP($D185,数据库!$B$4:$AD$1003,MATCH(AP$12,数据库!$C$2:$R$2,)+1,0))","v":""},null,"","","","","","","","","","","",{"$f":"IF($D185=\"\",\"\",VLOOKUP($D185,数据库!$B$4:$AD$1003,MATCH(BC$12,数据库!$C$2:$R$2,)+1,0))","v":""},173,"","","",""]
[null,null,"","","","","","","","","","","","","",{"$f":"IF($D186=\"\",\"\",VLOOKUP($D186,数据库!$B$4:$AD$1003,MATCH(P$12,数据库!$C$2:$R$2,)+1,0))","v":""},null,"","","","","","","","","","","",{"$f":"IF($D186=\"\",\"\",VLOOKUP($D186,数据库!$B$4:$AD$1003,MATCH(AC$12,数据库!$C$2:$R$2,)+1,0))","v":""},null,"","","","","","","","","","","",{"$f":"IF($D186=\"\",\"\",VLOOKUP($D186,数据库!$B$4:$AD$1003,MATCH(AP$12,数据库!$C$2:$R$2,)+1,0))","v":""},null,"","","","","","","","","","","",{"$f":"IF($D186=\"\",\"\",VLOOKUP($D186,数据库!$B$4:$AD$1003,MATCH(BC$12,数据库!$C$2:$R$2,)+1,0))","v":""},174,"","","",""]
[null,null,"","","","","","","","","","","","","",{"$f":"IF($D187=\"\",\"\",VLOOKUP($D187,数据库!$B$4:$AD$1003,MATCH(P$12,数据库!$C$2:$R$2,)+1,0))","v":""},null,"","","","","","","","","","","",{"$f":"IF($D187=\"\",\"\",VLOOKUP($D187,数据库!$B$4:$AD$1003,MATCH(AC$12,数据库!$C$2:$R$2,)+1,0))","v":""},null,"","","","","","","","","","","",{"$f":"IF($D187=\"\",\"\",VLOOKUP($D187,数据库!$B$4:$AD$1003,MATCH(AP$12,数据库!$C$2:$R$2,)+1,0))","v":""},null,"","","","","","","","","","","",{"$f":"IF($D187=\"\",\"\",VLOOKUP($D187,数据库!$B$4:$AD$1003,MATCH(BC$12,数据库!$C$2:$R$2,)+1,0))","v":""},175,"","","",""]
[null,null,"","","","","","","","","","","","","",{"$f":"IF($D188=\"\",\"\",VLOOKUP($D188,数据库!$B$4:$AD$1003,MATCH(P$12,数据库!$C$2:$R$2,)+1,0))","v":""},null,"","","","","","","","","","","",{"$f":"IF($D188=\"\",\"\",VLOOKUP($D188,数据库!$B$4:$AD$1003,MATCH(AC$12,数据库!$C$2:$R$2,)+1,0))","v":""},null,"","","","","","","","","","","",{"$f":"IF($D188=\"\",\"\",VLOOKUP($D188,数据库!$B$4:$AD$1003,MATCH(AP$12,数据库!$C$2:$R$2,)+1,0))","v":""},null,"","","","","","","","","","","",{"$f":"IF($D188=\"\",\"\",VLOOKUP($D188,数据库!$B$4:$AD$1003,MATCH(BC$12,数据库!$C$2:$R$2,)+1,0))","v":""},176,"","","",""]
[null,null,"","","","","","","","","","","","","",{"$f":"IF($D189=\"\",\"\",VLOOKUP($D189,数据库!$B$4:$AD$1003,MATCH(P$12,数据库!$C$2:$R$2,)+1,0))","v":""},null,"","","","","","","","","","","",{"$f":"IF($D189=\"\",\"\",VLOOKUP($D189,数据库!$B$4:$AD$1003,MATCH(AC$12,数据库!$C$2:$R$2,)+1,0))","v":""},null,"","","","","","","","","","","",{"$f":"IF($D189=\"\",\"\",VLOOKUP($D189,数据库!$B$4:$AD$1003,MATCH(AP$12,数据库!$C$2:$R$2,)+1,0))","v":""},null,"","","","","","","","","","","",{"$f":"IF($D189=\"\",\"\",VLOOKUP($D189,数据库!$B$4:$AD$1003,MATCH(BC$12,数据库!$C$2:$R$2,)+1,0))","v":""},177,"","","",""]
[null,null,"","","","","","","","","","","","","",{"$f":"IF($D190=\"\",\"\",VLOOKUP($D190,数据库!$B$4:$AD$1003,MATCH(P$12,数据库!$C$2:$R$2,)+1,0))","v":""},null,"","","","","","","","","","","",{"$f":"IF($D190=\"\",\"\",VLOOKUP($D190,数据库!$B$4:$AD$1003,MATCH(AC$12,数据库!$C$2:$R$2,)+1,0))","v":""},null,"","","","","","","","","","","",{"$f":"IF($D190=\"\",\"\",VLOOKUP($D190,数据库!$B$4:$AD$1003,MATCH(AP$12,数据库!$C$2:$R$2,)+1,0))","v":""},null,"","","","","","","","","","","",{"$f":"IF($D190=\"\",\"\",VLOOKUP($D190,数据库!$B$4:$AD$1003,MATCH(BC$12,数据库!$C$2:$R$2,)+1,0))","v":""},178,"","","",""]
[null,null,"","","","","","","","","","","","","",{"$f":"IF($D191=\"\",\"\",VLOOKUP($D191,数据库!$B$4:$AD$1003,MATCH(P$12,数据库!$C$2:$R$2,)+1,0))","v":""},null,"","","","","","","","","","","",{"$f":"IF($D191=\"\",\"\",VLOOKUP($D191,数据库!$B$4:$AD$1003,MATCH(AC$12,数据库!$C$2:$R$2,)+1,0))","v":""},null,"","","","","","","","","","","",{"$f":"IF($D191=\"\",\"\",VLOOKUP($D191,数据库!$B$4:$AD$1003,MATCH(AP$12,数据库!$C$2:$R$2,)+1,0))","v":""},null,"","","","","","","","","","","",{"$f":"IF($D191=\"\",\"\",VLOOKUP($D191,数据库!$B$4:$AD$1003,MATCH(BC$12,数据库!$C$2:$R$2,)+1,0))","v":""},179,"","","",""]
[null,null,"","","","","","","","","","","","","",{"$f":"IF($D192=\"\",\"\",VLOOKUP($D192,数据库!$B$4:$AD$1003,MATCH(P$12,数据库!$C$2:$R$2,)+1,0))","v":""},null,"","","","","","","","","","","",{"$f":"IF($D192=\"\",\"\",VLOOKUP($D192,数据库!$B$4:$AD$1003,MATCH(AC$12,数据库!$C$2:$R$2,)+1,0))","v":""},null,"","","","","","","","","","","",{"$f":"IF($D192=\"\",\"\",VLOOKUP($D192,数据库!$B$4:$AD$1003,MATCH(AP$12,数据库!$C$2:$R$2,)+1,0))","v":""},null,"","","","","","","","","","","",{"$f":"IF($D192=\"\",\"\",VLOOKUP($D192,数据库!$B$4:$AD$1003,MATCH(BC$12,数据库!$C$2:$R$2,)+1,0))","v":""},180,"","","",""]
[null,null,"","","","","","","","","","","","","",{"$f":"IF($D193=\"\",\"\",VLOOKUP($D193,数据库!$B$4:$AD$1003,MATCH(P$12,数据库!$C$2:$R$2,)+1,0))","v":""},null,"","","","","","","","","","","",{"$f":"IF($D193=\"\",\"\",VLOOKUP($D193,数据库!$B$4:$AD$1003,MATCH(AC$12,数据库!$C$2:$R$2,)+1,0))","v":""},null,"","","","","","","","","","","",{"$f":"IF($D193=\"\",\"\",VLOOKUP($D193,数据库!$B$4:$AD$1003,MATCH(AP$12,数据库!$C$2:$R$2,)+1,0))","v":""},null,"","","","","","","","","","","",{"$f":"IF($D193=\"\",\"\",VLOOKUP($D193,数据库!$B$4:$AD$1003,MATCH(BC$12,数据库!$C$2:$R$2,)+1,0))","v":""},181,"","","",""]
[null,null,"","","","","","","","","","","","","",{"$f":"IF($D194=\"\",\"\",VLOOKUP($D194,数据库!$B$4:$AD$1003,MATCH(P$12,数据库!$C$2:$R$2,)+1,0))","v":""},null,"","","","","","","","","","","",{"$f":"IF($D194=\"\",\"\",VLOOKUP($D194,数据库!$B$4:$AD$1003,MATCH(AC$12,数据库!$C$2:$R$2,)+1,0))","v":""},null,"","","","","","","","","","","",{"$f":"IF($D194=\"\",\"\",VLOOKUP($D194,数据库!$B$4:$AD$1003,MATCH(AP$12,数据库!$C$2:$R$2,)+1,0))","v":""},null,"","","","","","","","","","","",{"$f":"IF($D194=\"\",\"\",VLOOKUP($D194,数据库!$B$4:$AD$1003,MATCH(BC$12,数据库!$C$2:$R$2,)+1,0))","v":""},182,"","","",""]
[null,null,"","","","","","","","","","","","","",{"$f":"IF($D195=\"\",\"\",VLOOKUP($D195,数据库!$B$4:$AD$1003,MATCH(P$12,数据库!$C$2:$R$2,)+1,0))","v":""},null,"","","","","","","","","","","",{"$f":"IF($D195=\"\",\"\",VLOOKUP($D195,数据库!$B$4:$AD$1003,MATCH(AC$12,数据库!$C$2:$R$2,)+1,0))","v":""},null,"","","","","","","","","","","",{"$f":"IF($D195=\"\",\"\",VLOOKUP($D195,数据库!$B$4:$AD$1003,MATCH(AP$12,数据库!$C$2:$R$2,)+1,0))","v":""},null,"","","","","","","","","","","",{"$f":"IF($D195=\"\",\"\",VLOOKUP($D195,数据库!$B$4:$AD$1003,MATCH(BC$12,数据库!$C$2:$R$2,)+1,0))","v":""},183,"","","",""]
[null,null,"","","","","","","","","","","","","",{"$f":"IF($D196=\"\",\"\",VLOOKUP($D196,数据库!$B$4:$AD$1003,MATCH(P$12,数据库!$C$2:$R$2,)+1,0))","v":""},null,"","","","","","","","","","","",{"$f":"IF($D196=\"\",\"\",VLOOKUP($D196,数据库!$B$4:$AD$1003,MATCH(AC$12,数据库!$C$2:$R$2,)+1,0))","v":""},null,"","","","","","","","","","","",{"$f":"IF($D196=\"\",\"\",VLOOKUP($D196,数据库!$B$4:$AD$1003,MATCH(AP$12,数据库!$C$2:$R$2,)+1,0))","v":""},null,"","","","","","","","","","","",{"$f":"IF($D196=\"\",\"\",VLOOKUP($D196,数据库!$B$4:$AD$1003,MATCH(BC$12,数据库!$C$2:$R$2,)+1,0))","v":""},184,"","","",""]
[null,null,"","","","","","","","","","","","","",{"$f":"IF($D197=\"\",\"\",VLOOKUP($D197,数据库!$B$4:$AD$1003,MATCH(P$12,数据库!$C$2:$R$2,)+1,0))","v":""},null,"","","","","","","","","","","",{"$f":"IF($D197=\"\",\"\",VLOOKUP($D197,数据库!$B$4:$AD$1003,MATCH(AC$12,数据库!$C$2:$R$2,)+1,0))","v":""},null,"","","","","","","","","","","",{"$f":"IF($D197=\"\",\"\",VLOOKUP($D197,数据库!$B$4:$AD$1003,MATCH(AP$12,数据库!$C$2:$R$2,)+1,0))","v":""},null,"","","","","","","","","","","",{"$f":"IF($D197=\"\",\"\",VLOOKUP($D197,数据库!$B$4:$AD$1003,MATCH(BC$12,数据库!$C$2:$R$2,)+1,0))","v":""},185,"","","",""]
[null,null,"","","","","","","","","","","","","",{"$f":"IF($D198=\"\",\"\",VLOOKUP($D198,数据库!$B$4:$AD$1003,MATCH(P$12,数据库!$C$2:$R$2,)+1,0))","v":""},null,"","","","","","","","","","","",{"$f":"IF($D198=\"\",\"\",VLOOKUP($D198,数据库!$B$4:$AD$1003,MATCH(AC$12,数据库!$C$2:$R$2,)+1,0))","v":""},null,"","","","","","","","","","","",{"$f":"IF($D198=\"\",\"\",VLOOKUP($D198,数据库!$B$4:$AD$1003,MATCH(AP$12,数据库!$C$2:$R$2,)+1,0))","v":""},null,"","","","","","","","","","","",{"$f":"IF($D198=\"\",\"\",VLOOKUP($D198,数据库!$B$4:$AD$1003,MATCH(BC$12,数据库!$C$2:$R$2,)+1,0))","v":""},186,"","","",""]
[null,null,"","","","","","","","","","","","","",{"$f":"IF($D199=\"\",\"\",VLOOKUP($D199,数据库!$B$4:$AD$1003,MATCH(P$12,数据库!$C$2:$R$2,)+1,0))","v":""},null,"","","","","","","","","","","",{"$f":"IF($D199=\"\",\"\",VLOOKUP($D199,数据库!$B$4:$AD$1003,MATCH(AC$12,数据库!$C$2:$R$2,)+1,0))","v":""},null,"","","","","","","","","","","",{"$f":"IF($D199=\"\",\"\",VLOOKUP($D199,数据库!$B$4:$AD$1003,MATCH(AP$12,数据库!$C$2:$R$2,)+1,0))","v":""},null,"","","","","","","","","","","",{"$f":"IF($D199=\"\",\"\",VLOOKUP($D199,数据库!$B$4:$AD$1003,MATCH(BC$12,数据库!$C$2:$R$2,)+1,0))","v":""},187,"","","",""]
[null,null,"","","",{"$f":"IF($E200=\"\",\"\",MID($E200,F$12+1,1))","v":""},"","","","","","","","","",{"$f":"IF($D200=\"\",\"\",VLOOKUP($D200,数据库!$B$4:$AD$1003,MATCH(P$12,数据库!$C$2:$R$2,)+1,0))","v":""},null,"",{"$f":"IF($R200=\"\",\"\",MID($R200,S$12+1,1))","v":""},"","","","","","","","","",{"$f":"IF($D200=\"\",\"\",VLOOKUP($D200,数据库!$B$4:$AD$1003,MATCH(AC$12,数据库!$C$2:$R$2,)+1,0))","v":""},null,"",{"$f":"IF($AE200=\"\",\"\",MID($AE200,AF$12+1,1))","v":""},"","","","","","","","","",{"$f":"IF($D200=\"\",\"\",VLOOKUP($D200,数据库!$B$4:$AD$1003,MATCH(AP$12,数据库!$C$2:$R$2,)+1,0))","v":""},null,"",{"$f":"IF($AR200=\"\",\"\",MID($AR200,AS$12+1,1))","v":""},"","","","","","","","","",{"$f":"IF($D200=\"\",\"\",VLOOKUP($D200,数据库!$B$4:$AD$1003,MATCH(BC$12,数据库!$C$2:$R$2,)+1,0))","v":""},188,"","","",""]
[null,null,"","","","","","","","","","","","","",{"$f":"IF($D201=\"\",\"\",VLOOKUP($D201,数据库!$B$4:$AD$1003,MATCH(P$12,数据库!$C$2:$R$2,)+1,0))","v":""},null,"","","","","","","","","","","",{"$f":"IF($D201=\"\",\"\",VLOOKUP($D201,数据库!$B$4:$AD$1003,MATCH(AC$12,数据库!$C$2:$R$2,)+1,0))","v":""},null,"","","","","","","","","","","",{"$f":"IF($D201=\"\",\"\",VLOOKUP($D201,数据库!$B$4:$AD$1003,MATCH(AP$12,数据库!$C$2:$R$2,)+1,0))","v":""},null,"","","","","","","","","","","",{"$f":"IF($D201=\"\",\"\",VLOOKUP($D201,数据库!$B$4:$AD$1003,MATCH(BC$12,数据库!$C$2:$R$2,)+1,0))","v":""},189,"","","",""]
[null,null,"","","","","","","","","","","","","",{"$f":"IF($D202=\"\",\"\",VLOOKUP($D202,数据库!$B$4:$AD$1003,MATCH(P$12,数据库!$C$2:$R$2,)+1,0))","v":""},null,"","","","","","","","","","","",{"$f":"IF($D202=\"\",\"\",VLOOKUP($D202,数据库!$B$4:$AD$1003,MATCH(AC$12,数据库!$C$2:$R$2,)+1,0))","v":""},null,"","","","","","","","","","","",{"$f":"IF($D202=\"\",\"\",VLOOKUP($D202,数据库!$B$4:$AD$1003,MATCH(AP$12,数据库!$C$2:$R$2,)+1,0))","v":""},null,"","","","","","","","","","","",{"$f":"IF($D202=\"\",\"\",VLOOKUP($D202,数据库!$B$4:$AD$1003,MATCH(BC$12,数据库!$C$2:$R$2,)+1,0))","v":""},190,"","","",""]
[null,null,"","","","","","","","","","","","","",{"$f":"IF($D203=\"\",\"\",VLOOKUP($D203,数据库!$B$4:$AD$1003,MATCH(P$12,数据库!$C$2:$R$2,)+1,0))","v":""},null,"","","","","","","","","","","",{"$f":"IF($D203=\"\",\"\",VLOOKUP($D203,数据库!$B$4:$AD$1003,MATCH(AC$12,数据库!$C$2:$R$2,)+1,0))","v":""},null,"","","","","","","","","","","",{"$f":"IF($D203=\"\",\"\",VLOOKUP($D203,数据库!$B$4:$AD$1003,MATCH(AP$12,数据库!$C$2:$R$2,)+1,0))","v":""},null,"","","","","","","","","","","",{"$f":"IF($D203=\"\",\"\",VLOOKUP($D203,数据库!$B$4:$AD$1003,MATCH(BC$12,数据库!$C$2:$R$2,)+1,0))","v":""},191,"","","",""]
[null,null,"","","","","","","","","","","","","",{"$f":"IF($D204=\"\",\"\",VLOOKUP($D204,数据库!$B$4:$AD$1003,MATCH(P$12,数据库!$C$2:$R$2,)+1,0))","v":""},null,"","","","","","","","","","","",{"$f":"IF($D204=\"\",\"\",VLOOKUP($D204,数据库!$B$4:$AD$1003,MATCH(AC$12,数据库!$C$2:$R$2,)+1,0))","v":""},null,"","","","","","","","","","","",{"$f":"IF($D204=\"\",\"\",VLOOKUP($D204,数据库!$B$4:$AD$1003,MATCH(AP$12,数据库!$C$2:$R$2,)+1,0))","v":""},null,"","","","","","","","","","","",{"$f":"IF($D204=\"\",\"\",VLOOKUP($D204,数据库!$B$4:$AD$1003,MATCH(BC$12,数据库!$C$2:$R$2,)+1,0))","v":""},192,"","","",""]
[null,null,"","","","","","","","","","","","","",{"$f":"IF($D205=\"\",\"\",VLOOKUP($D205,数据库!$B$4:$AD$1003,MATCH(P$12,数据库!$C$2:$R$2,)+1,0))","v":""},null,"","","","","","","","","","","",{"$f":"IF($D205=\"\",\"\",VLOOKUP($D205,数据库!$B$4:$AD$1003,MATCH(AC$12,数据库!$C$2:$R$2,)+1,0))","v":""},null,"","","","","","","","","","","",{"$f":"IF($D205=\"\",\"\",VLOOKUP($D205,数据库!$B$4:$AD$1003,MATCH(AP$12,数据库!$C$2:$R$2,)+1,0))","v":""},null,"","","","","","","","","","","",{"$f":"IF($D205=\"\",\"\",VLOOKUP($D205,数据库!$B$4:$AD$1003,MATCH(BC$12,数据库!$C$2:$R$2,)+1,0))","v":""},193,"","","",""]
[null,null,"","","","","","","","","","","","","",{"$f":"IF($D206=\"\",\"\",VLOOKUP($D206,数据库!$B$4:$AD$1003,MATCH(P$12,数据库!$C$2:$R$2,)+1,0))","v":""},null,"","","","","","","","","","","",{"$f":"IF($D206=\"\",\"\",VLOOKUP($D206,数据库!$B$4:$AD$1003,MATCH(AC$12,数据库!$C$2:$R$2,)+1,0))","v":""},null,"","","","","","","","","","","",{"$f":"IF($D206=\"\",\"\",VLOOKUP($D206,数据库!$B$4:$AD$1003,MATCH(AP$12,数据库!$C$2:$R$2,)+1,0))","v":""},null,"","","","","","","","","","","",{"$f":"IF($D206=\"\",\"\",VLOOKUP($D206,数据库!$B$4:$AD$1003,MATCH(BC$12,数据库!$C$2:$R$2,)+1,0))","v":""},194,{"$f":"IF(E206=\"\",\"\",E206)","v":""},{"$f":"IF(R206=\"\",\"\",R206)","v":""},{"$f":"IF(AE206=\"\",\"\",AE206)","v":""},{"$f":"IF(AR206=\"\",\"\",AR206)","v":""}]
[null,null,"","","","","","","","","","","","","",{"$f":"IF($D207=\"\",\"\",VLOOKUP($D207,数据库!$B$4:$AD$1003,MATCH(P$12,数据库!$C$2:$R$2,)+1,0))","v":""},null,"","","","","","","","","","","",{"$f":"IF($D207=\"\",\"\",VLOOKUP($D207,数据库!$B$4:$AD$1003,MATCH(AC$12,数据库!$C$2:$R$2,)+1,0))","v":""},null,"","","","","","","","","","","",{"$f":"IF($D207=\"\",\"\",VLOOKUP($D207,数据库!$B$4:$AD$1003,MATCH(AP$12,数据库!$C$2:$R$2,)+1,0))","v":""},null,"","","","","","","","","","","",{"$f":"IF($D207=\"\",\"\",VLOOKUP($D207,数据库!$B$4:$AD$1003,MATCH(BC$12,数据库!$C$2:$R$2,)+1,0))","v":""},195,"","","",""]
[null,null,"","","","","","","","","","","","","",{"$f":"IF($D208=\"\",\"\",VLOOKUP($D208,数据库!$B$4:$AD$1003,MATCH(P$12,数据库!$C$2:$R$2,)+1,0))","v":""},null,"","","","","","","","","","","",{"$f":"IF($D208=\"\",\"\",VLOOKUP($D208,数据库!$B$4:$AD$1003,MATCH(AC$12,数据库!$C$2:$R$2,)+1,0))","v":""},null,"","","","","","","","","","","",{"$f":"IF($D208=\"\",\"\",VLOOKUP($D208,数据库!$B$4:$AD$1003,MATCH(AP$12,数据库!$C$2:$R$2,)+1,0))","v":""},null,"","","","","","","","","","","",{"$f":"IF($D208=\"\",\"\",VLOOKUP($D208,数据库!$B$4:$AD$1003,MATCH(BC$12,数据库!$C$2:$R$2,)+1,0))","v":""},196,"","","",""]
[null,null,"","","","","","","","","","","","","",{"$f":"IF($D209=\"\",\"\",VLOOKUP($D209,数据库!$B$4:$AD$1003,MATCH(P$12,数据库!$C$2:$R$2,)+1,0))","v":""},null,"","","","","","","","","","","",{"$f":"IF($D209=\"\",\"\",VLOOKUP($D209,数据库!$B$4:$AD$1003,MATCH(AC$12,数据库!$C$2:$R$2,)+1,0))","v":""},null,"","","","","","","","","","","",{"$f":"IF($D209=\"\",\"\",VLOOKUP($D209,数据库!$B$4:$AD$1003,MATCH(AP$12,数据库!$C$2:$R$2,)+1,0))","v":""},null,"","","","","","","","","","","",{"$f":"IF($D209=\"\",\"\",VLOOKUP($D209,数据库!$B$4:$AD$1003,MATCH(BC$12,数据库!$C$2:$R$2,)+1,0))","v":""},197,"","","",""]
[null,null,"","","","","","","","","","","","","",{"$f":"IF($D210=\"\",\"\",VLOOKUP($D210,数据库!$B$4:$AD$1003,MATCH(P$12,数据库!$C$2:$R$2,)+1,0))","v":""},null,"","","","","","","","","","","",{"$f":"IF($D210=\"\",\"\",VLOOKUP($D210,数据库!$B$4:$AD$1003,MATCH(AC$12,数据库!$C$2:$R$2,)+1,0))","v":""},null,"","","","","","","","","","","",{"$f":"IF($D210=\"\",\"\",VLOOKUP($D210,数据库!$B$4:$AD$1003,MATCH(AP$12,数据库!$C$2:$R$2,)+1,0))","v":""},null,"","","","","","","","","","","",{"$f":"IF($D210=\"\",\"\",VLOOKUP($D210,数据库!$B$4:$AD$1003,MATCH(BC$12,数据库!$C$2:$R$2,)+1,0))","v":""},198,"","","",""]
[null,null,"","","","","","","","","","","","","",{"$f":"IF($D211=\"\",\"\",VLOOKUP($D211,数据库!$B$4:$AD$1003,MATCH(P$12,数据库!$C$2:$R$2,)+1,0))","v":""},null,"","","","","","","","","","","",{"$f":"IF($D211=\"\",\"\",VLOOKUP($D211,数据库!$B$4:$AD$1003,MATCH(AC$12,数据库!$C$2:$R$2,)+1,0))","v":""},null,"","","","","","","","","","","",{"$f":"IF($D211=\"\",\"\",VLOOKUP($D211,数据库!$B$4:$AD$1003,MATCH(AP$12,数据库!$C$2:$R$2,)+1,0))","v":""},null,"","","","","","","","","","","",{"$f":"IF($D211=\"\",\"\",VLOOKUP($D211,数据库!$B$4:$AD$1003,MATCH(BC$12,数据库!$C$2:$R$2,)+1,0))","v":""},199,"","","",""]
[null,null,"","","",null,null,null,null,null,null,null,null,null,null,null,null,"",null,null,null,null,null,null,null,null,null,null,null,null,"",null,null,null,null,null,null,null,null,null,null,null,null,""]

{"sheet":"胆对九补序(定位）","index":5,"n_rows":212,"n_cols":173,"rows_kept":212,"cut":false,"hidden":false,"merged":[]}
[null,{"$f":"199-COUNTBLANK(C13:C211)+13","v":14},null,null,true,null,null,null,null,null,null,null,null,null,null,null,{"$f":"199-COUNTBLANK(#REF!)+13","v":{"$error":"#REF!"}},true,null,null,null,null,null,null,null,null,null,null,null,{"$f":"199-COUNTBLANK(#REF!)+13","v":{"$error":"#REF!"}},true,null,null,null,null,null,null,null,null,null,null,null,null,true,null,null,null,null,null,null,null,null,null,null,null,{"$f":"199-COUNTBLANK(#REF!)+13","v":{"$error":"#REF!"}},true,null,null,null,null,null,null,null,null,null,null,null,{"$f":"199-COUNTBLANK(#REF!)+13","v":{"$error":"#REF!"}},true,null,null,null,null,null,null,null,null,null,null,null,null,true,null,null,null,null,null,null,null,null,null,null,null,{"$f":"199-COUNTBLANK(#REF!)+13","v":{"$error":"#REF!"}},true,null,null,null,null,null,null,null,null,null,null,null,{"$f":"199-COUNTBLANK(#REF!)+13","v":{"$error":"#REF!"}},true,null,null,null,null,null,null,null,null,null,null,null,null,true,null,null,null,null,null,null,null,null,null,null,null,{"$f":"199-COUNTBLANK(#REF!)+13","v":{"$error":"#REF!"}},true,null,null,null,null,null,null,null,null,null,null,null,{"$f":"199-COUNTBLANK(#REF!)+13","v":{"$error":"#REF!"}},true,null,null,null,null,null,null,null,null,null,null,null,"下期序",{"$f":"IFERROR(TRIM(INDEX(FE13:FE211,199-COUNTBLANK(FE13:FE211))),\"空\")","v":"4567890123"},"4567890123","4567890123","4567890123","4567890123","空","4567890123","4567890123","4567890123","4567890123","4567890123","4567890123"]
[null,null,null,null,null,null,null,null,null,null,null,null,null,null,null,null,null,null,null,null,null,null,null,null,null,null,null,null,null,null,null,null,null,null,null,null,null,null,null,null,null,null,null,null,null,null,null,null,null,null,null,null,null,null,null,null,null,null,null,null,null,null,null,null,null,null,null,null,null,null,null,null,null,null,null,null,null,null,null,null,null,null,null,null,null,null,null,null,null,null,null,null,null,null,null,null,null,null,null,null,null,null,null,null,null,null,null,null,null,null,null,null,null,null,null,null,null,null,null,null,null,null,null,null,null,null,null,null,null,null,null,null,null,null,null,null,null,null,null,null,null,null,null,null,null,null,null,null,null,null,null,null,null,null,null,null,null,null,null,"提取位置",12345,12346,12347,12348,12349,12350,12351,12352,12353,12354,12355,12356]
[null,null,null,null,null,null,null,null,null,null,null,null,null,null,null,null,null,null,null,null,null,null,null,null,null,null,null,null,null,null,null,null,null,null,null,null,null,null,null,null,null,null,null,null,null,null,null,null,null,null,null,null,null,null,null,null,null,null,null,null,null,null,null,null,null,null,null,null,null,null,null,null,null,null,null,null,null,null,null,null,null,null,null,null,null,null,null,null,null,null,null,null,null,null,null,null,null,null,null,null,null,null,null,null,null,null,null,null,null,null,null,null,null,null,null,null,null,null,null,null,null,null,null,null,null,null,null,null,null,null,null,null,null,null,null,null,null,null,null,null,null,null,null,null,null,null,null,null,null,null,null,null,null,null,null,null,null,null,null,"组号条件",{"$f":"IF(SUMPRODUCT(--ISNUMBER(FIND(1,FE2)))>=1,MID(FE1,1,1),\"\")&IF(SUMPRODUCT(--ISNUMBER(FIND(2,FE2)))>=1,MID(FE1,2,1),\"\")&IF(SUMPRODUCT(--ISNUMBER(FIND(3,FE2)))>=1,MID(FE1,3,1),\"\")&IF(SUMPRODUCT(--ISNUMBER(FIND(4,FE2)))>=1,MID(FE1,4,1),\"\")&IF(SUMPRODUCT(--ISNUMBER(FIND(5,FE2)))>=1,MID(FE1,5,1),\"\")&IF(SUMPRODUCT(--ISNUMBER(FIND(6,FE2)))>=1,MID(FE1,6,1),\"\")&IF(SUMPRODUCT(--ISNUMBER(FIND(7,FE2)))>=1,MID(FE1,7,1),\"\")&IF(SUMPRODUCT(--ISNUMBER(FIND(8,FE2)))>=1,MID(FE1,8,1),\"\")&IF(SUMPRODUCT(--ISNUMBER(FIND(9,FE2)))>=1,MID(FE1,9,1),\"\")&IF(SUMPRODUCT(--ISNUMBER(FIND(0,FE2)))>=1,MID(FE1,10,1),\"\")","v":"45678"},{"$f":"IF(SUMPRODUCT(--ISNUMBER(FIND(1,FF2)))>=1,MID(FF1,1,1),\"\")&IF(SUMPRODUCT(--ISNUMBER(FIND(2,FF2)))>=1,MID(FF1,2,1),\"\")&IF(SUMPRODUCT(--ISNUMBER(FIND(3,FF2)))>=1,MID(FF1,3,1),\"\")&IF(SUMPRODUCT(--ISNUMBER(FIND(4,FF2)))>=1,MID(FF1,4,1),\"\")&IF(SUMPRODUCT(--ISNUMBER(FIND(5,FF2)))>=1,MID(FF1,5,1),\"\")&IF(SUMPRODUCT(--ISNUMBER(FIND(6,FF2)))>=1,MID(FF1,6,1),\"\")&IF(SUMPRODUCT(--ISNUMBER(FIND(7,FF2)))>=1,MID(FF1,7,1),\"\")&IF(SUMPRODUCT(--ISNUMBER(FIND(8,FF2)))>=1,MID(FF1,8,1),\"\")&IF(SUMPRODUCT(--ISNUMBER(FIND(9,FF2)))>=1,MID(FF1,9,1),\"\")&IF(SUMPRODUCT(--ISNUMBER(FIND(0,FF2)))>=1,MID(FF1,10,1),\"\")","v":"45679"},"45670","45671",{"$f":"IF(SUMPRODUCT(--ISNUMBER(FIND(1,FI2)))>=1,MID(FI1,1,1),\"\")&IF(SUMPRODUCT(--ISNUMBER(FIND(2,FI2)))>=1,MID(FI1,2,1),\"\")&IF(SUMPRODUCT(--ISNUMBER(FIND(3,FI2)))>=1,MID(FI1,3,1),\"\")&IF(SUMPRODUCT(--ISNUMBER(FIND(4,FI2)))>=1,MID(FI1,4,1),\"\")&IF(SUMPRODUCT(--ISNUMBER(FIND(5,FI2)))>=1,MID(FI1,5,1),\"\")&IF(SUMPRODUCT(--ISNUMBER(FIND(6,FI2)))>=1,MID(FI1,6,1),\"\")&IF(SUMPRODUCT(--ISNUMBER(FIND(7,FI2)))>=1,MID(FI1,7,1),\"\")&IF(SUMPRODUCT(--ISNUMBER(FIND(8,FI2)))>=1,MID(FI1,8,1),\"\")&IF(SUMPRODUCT(--ISNUMBER(FIND(9,FI2)))>=1,MID(FI1,9,1),\"\")&IF(SUMPRODUCT(--ISNUMBER(FIND(0,FI2)))>=1,MID(FI1,10,1),\"\")","v":"45672"},{"$f":"IF(SUMPRODUCT(--ISNUMBER(FIND(1,FJ2)))>=1,MID(FJ1,1,1),\"\")&IF(SUMPRODUCT(--ISNUMBER(FIND(2,FJ2)))>=1,MID(FJ1,2,1),\"\")&IF(SUMPRODUCT(--ISNUMBER(FIND(3,FJ2)))>=1,MID(FJ1,3,1),\"\")&IF(SUMPRODUCT(--ISNUMBER(FIND(4,FJ2)))>=1,MID(FJ1,4,1),\"\")&IF(SUMPRODUCT(--ISNUMBER(FIND(5,FJ2)))>=1,MID(FJ1,5,1),\"\")&IF(SUMPRODUCT(--ISNUMBER(FIND(6,FJ2)))>=1,MID(FJ1,6,1),\"\")&IF(SUMPRODUCT(--ISNUMBER(FIND(7,FJ2)))>=1,MID(FJ1,7,1),\"\")&IF(SUMPRODUCT(--ISNUMBER(FIND(8,FJ2)))>=1,MID(FJ1,8,1),\"\")&IF(SUMPRODUCT(--ISNUMBER(FIND(9,FJ2)))>=1,MID(FJ1,9,1),\"\")&IF(SUMPRODUCT(--ISNUMBER(FIND(0,FJ2)))>=1,MID(FJ1,10,1),\"\")","v":"空"},{"$f":"IF(SUMPRODUCT(--ISNUMBER(FIND(1,FK2)))>=1,MID(FK1,1,1),\"\")&IF(SUMPRODUCT(--ISNUMBER(FIND(2,FK2)))>=1,MID(FK1,2,1),\"\")&IF(SUMPRODUCT(--ISNUMBER(FIND(3,FK2)))>=1,MID(FK1,3,1),\"\")&IF(SUMPRODUCT(--ISNUMBER(FIND(4,FK2)))>=1,MID(FK1,4,1),\"\")&IF(SUMPRODUCT(--ISNUMBER(FIND(5,FK2)))>=1,MID(FK1,5,1),\"\")&IF(SUMPRODUCT(--ISNUMBER(FIND(6,FK2)))>=1,MID(FK1,6,1),\"\")&IF(SUMPRODUCT(--ISNUMBER(FIND(7,FK2)))>=1,MID(FK1,7,1),\"\")&IF(SUMPRODUCT(--ISNUMBER(FIND(8,FK2)))>=1,MID(FK1,8,1),\"\")&IF(SUMPRODUCT(--ISNUMBER(FIND(9,FK2)))>=1,MID(FK1,9,1),\"\")&IF(SUMPRODUCT(--ISNUMBER(FIND(0,FK2)))>=1,MID(FK1,10,1),\"\")","v":"4568"},{"$f":"IF(SUMPRODUCT(--ISNUMBER(FIND(1,FL2)))>=1,MID(FL1,1,1),\"\")&IF(SUMPRODUCT(--ISNUMBER(FIND(2,FL2)))>=1,MID(FL1,2,1),\"\")&IF(SUMPRODUCT(--ISNUMBER(FIND(3,FL2)))>=1,MID(FL1,3,1),\"\")&IF(SUMPRODUCT(--ISNUMBER(FIND(4,FL2)))>=1,MID(FL1,4,1),\"\")&IF(SUMPRODUCT(--ISNUMBER(FIND(5,FL2)))>=1,MID(FL1,5,1),\"\")&IF(SUMPRODUCT(--ISNUMBER(FIND(6,FL2)))>=1,MID(FL1,6,1),\"\")&IF(SUMPRODUCT(--ISNUMBER(FIND(7,FL2)))>=1,MID(FL1,7,1),\"\")&IF(SUMPRODUCT(--ISNUMBER(FIND(8,FL2)))>=1,MID(FL1,8,1),\"\")&IF(SUMPRODUCT(--ISNUMBER(FIND(9,FL2)))>=1,MID(FL1,9,1),\"\")&IF(SUMPRODUCT(--ISNUMBER(FIND(0,FL2)))>=1,MID(FL1,10,1),\"\")","v":"4568"},{"$f":"IF(SUMPRODUCT(--ISNUMBER(FIND(1,FM2)))>=1,MID(FM1,1,1),\"\")&IF(SUMPRODUCT(--ISNUMBER(FIND(2,FM2)))>=1,MID(FM1,2,1),\"\")&IF(SUMPRODUCT(--ISNUMBER(FIND(3,FM2)))>=1,MID(FM1,3,1),\"\")&IF(SUMPRODUCT(--ISNUMBER(FIND(4,FM2)))>=1,MID(FM1,4,1),\"\")&IF(SUMPRODUCT(--ISNUMBER(FIND(5,FM2)))>=1,MID(FM1,5,1),\"\")&IF(SUMPRODUCT(--ISNUMBER(FIND(6,FM2)))>=1,MID(FM1,6,1),\"\")&IF(SUMPRODUCT(--ISNUMBER(FIND(7,FM2)))>=1,MID(FM1,7,1),\"\")&IF(SUMPRODUCT(--ISNUMBER(FIND(8,FM2)))>=1,MID(FM1,8,1),\"\")&IF(SUMPRODUCT(--ISNUMBER(FIND(9,FM2)))>=1,MID(FM1,9,1),\"\")&IF(SUMPRODUCT(--ISNUMBER(FIND(0,FM2)))>=1,MID(FM1,10,1),\"\")","v":"4568"},{"$f":"IF(SUMPRODUCT(--ISNUMBER(FIND(1,FN2)))>=1,MID(FN1,1,1),\"\")&IF(SUMPRODUCT(--ISNUMBER(FIND(2,FN2)))>=1,MID(FN1,2,1),\"\")&IF(SUMPRODUCT(--ISNUMBER(FIND(3,FN2)))>=1,MID(FN1,3,1),\"\")&IF(SUMPRODUCT(--ISNUMBER(FIND(4,FN2)))>=1,MID(FN1,4,1),\"\")&IF(SUMPRODUCT(--ISNUMBER(FIND(5,FN2)))>=1,MID(FN1,5,1),\"\")&IF(SUMPRODUCT(--ISNUMBER(FIND(6,FN2)))>=1,MID(FN1,6,1),\"\")&IF(SUMPRODUCT(--ISNUMBER(FIND(7,FN2)))>=1,MID(FN1,7,1),\"\")&IF(SUMPRODUCT(--ISNUMBER(FIND(8,FN2)))>=1,MID(FN1,8,1),\"\")&IF(SUMPRODUCT(--ISNUMBER(FIND(9,FN2)))>=1,MID(FN1,9,1),\"\")&IF(SUMPRODUCT(--ISNUMBER(FIND(0,FN2)))>=1,MID(FN1,10,1),\"\")","v":"45678"},{"$f":"IF(SUMPRODUCT(--ISNUMBER(FIND(1,FO2)))>=1,MID(FO1,1,1),\"\")&IF(SUMPRODUCT(--ISNUMBER(FIND(2,FO2)))>=1,MID(FO1,2,1),\"\")&IF(SUMPRODUCT(--ISNUMBER(FIND(3,FO2)))>=1,MID(FO1,3,1),\"\")&IF(SUMPRODUCT(--ISNUMBER(FIND(4,FO2)))>=1,MID(FO1,4,1),\"\")&IF(SUMPRODUCT(--ISNUMBER(FIND(5,FO2)))>=1,MID(FO1,5,1),\"\")&IF(SUMPRODUCT(--ISNUMBER(FIND(6,FO2)))>=1,MID(FO1,6,1),\"\")&IF(SUMPRODUCT(--ISNUMBER(FIND(7,FO2)))>=1,MID(FO1,7,1),\"\")&IF(SUMPRODUCT(--ISNUMBER(FIND(8,FO2)))>=1,MID(FO1,8,1),\"\")&IF(SUMPRODUCT(--ISNUMBER(FIND(9,FO2)))>=1,MID(FO1,9,1),\"\")&IF(SUMPRODUCT(--ISNUMBER(FIND(0,FO2)))>=1,MID(FO1,10,1),\"\")","v":"4568"},{"$f":"IF(SUMPRODUCT(--ISNUMBER(FIND(1,FP2)))>=1,MID(FP1,1,1),\"\")&IF(SUMPRODUCT(--ISNUMBER(FIND(2,FP2)))>=1,MID(FP1,2,1),\"\")&IF(SUMPRODUCT(--ISNUMBER(FIND(3,FP2)))>=1,MID(FP1,3,1),\"\")&IF(SUMPRODUCT(--ISNUMBER(FIND(4,FP2)))>=1,MID(FP1,4,1),\"\")&IF(SUMPRODUCT(--ISNUMBER(FIND(5,FP2)))>=1,MID(FP1,5,1),\"\")&IF(SUMPRODUCT(--ISNUMBER(FIND(6,FP2)))>=1,MID(FP1,6,1),\"\")&IF(SUMPRODUCT(--ISNUMBER(FIND(7,FP2)))>=1,MID(FP1,7,1),\"\")&IF(SUMPRODUCT(--ISNUMBER(FIND(8,FP2)))>=1,MID(FP1,8,1),\"\")&IF(SUMPRODUCT(--ISNUMBER(FIND(9,FP2)))>=1,MID(FP1,9,1),\"\")&IF(SUMPRODUCT(--ISNUMBER(FIND(0,FP2)))>=1,MID(FP1,10,1),\"\")","v":"45689"}]
[null,null,null,null,null,null,null,null,null,null,null,null,null,null,null,null,null,null,null,null,null,null,null,null,null,null,null,null,null,null,null,null,null,null,null,null,null,null,null,null,null,null,null,null,null,null,null,null,null,null,null,null,null,null,null,null,null,null,null,null,null,null,null,null,null,null,null,null,null,null,null,null,null,null,null,null,null,null,null,null,null,null,null,null,null,null,null,null,null,null,null,null,null,null,null,null,null,null,null,null,null,null,null,null,null,null,null,null,null,null,null,null,null,null,null,null,null,null,null,null,null,null,null,null,null,null,null,null,null,null,null,null,null,null,null,null,null,null,null,null,null,null,null,null,null,null,null,null,null,null,null,null,null,null,null,null,null,null,null,"4568-4568-4568",null,"复制",null,null,"复制",null,null,"复制",null,null,"复制"]
[]
[]
[]
[]
[]
[]
[]
[null,null,"期数","开奖",{"$f":"P12&\" 序\"","v":"定百胆对九 序"},0,1,2,3,4,5,6,7,8,9,"定百胆对九",null,{"$f":"AC12&\" 序\"","v":"定十胆对九 序"},0,1,2,3,4,5,6,7,8,9,"定十胆对九",null,{"$f":"AP12&\" 序\"","v":"定个胆对九 序"},0,1,2,3,4,5,6,7,8,9,"定个胆对九",null,{"$f":"BC12&\" 序\"","v":"定百胆对补 序"},0,1,2,3,4,5,6,7,8,9,"定百胆对补",null,{"$f":"BP12&\" 序\"","v":"定十胆对补 序"},0,1,2,3,4,5,6,7,8,9,"定十胆对补",null,{"$f":"CC12&\" 序\"","v":"定个胆对补 序"},0,1,2,3,4,5,6,7,8,9,"定个胆对补",null,{"$f":"CP12&\" 序\"","v":"定百胆九补 序"},0,1,2,3,4,5,6,7,8,9,"定百胆九补",null,{"$f":"DC12&\" 序\"","v":"定十胆九补 序"},0,1,2,3,4,5,6,7,8,9,"定十胆九补",null,{"$f":"DP12&\" 序\"","v":"定个胆九补 序"},0,1,2,3,4,5,6,7,8,9,"定个胆九补",null,{"$f":"EC12&\" 序\"","v":"定百对九补 序"},0,1,2,3,4,5,6,7,8,9,"定百对九补",null,{"$f":"EP12&\" 序\"","v":"定十对九补 序"},0,1,2,3,4,5,6,7,8,9,"定十对九补",null,{"$f":"FC12&\" 序\"","v":"定个对九补 序"},0,1,2,3,4,5,6,7,8,9,"定个对九补",null,{"$f":"IF(E12=\"\",\"\",E12)","v":"定百胆对九 序"},{"$f":"IF(R12=\"\",\"\",R12)","v":"定十胆对九 序"},{"$f":"IF(AE12=\"\",\"\",AE12)","v":"定个胆对九 序"},{"$f":"IF(AR12=\"\",\"\",AR12)","v":"定百胆对补 序"},{"$f":"IF(BE12=\"\",\"\",BE12)","v":"定十胆对补 序"},{"$f":"IF(BR12=\"\",\"\",BR12)","v":"定个胆对补 序"},{"$f":"IF(CE12=\"\",\"\",CE12)","v":"定百胆九补 序"},{"$f":"IF(CR12=\"\",\"\",CR12)","v":"定十胆九补 序"},{"$f":"IF(DE12=\"\",\"\",DE12)","v":"定个胆九补 序"},{"$f":"IF(DR12=\"\",\"\",DR12)","v":"定百对九补 序"},{"$f":"IF(EE12=\"\",\"\",EE12)","v":"定十对九补 序"},{"$f":"IF(ER12=\"\",\"\",ER12)","v":"定个对九补 序"}]
[null,null,"25","123","4567890123",{"$f":"IF($E13=\"\",\"\",MID($E13,F$12+1,1))","v":"4"},{"$f":"IF($E13=\"\",\"\",MID($E13,G$12+1,1))","v":"5"},"6","7","8","9","0","1","2","3",{"$f":"IF($D13=\"\",\"\",VLOOKUP($D13,数据库!$B$4:$AD$1003,MATCH(P$12,数据库!$C$2:$AD$2,)+1,0))","v":"168"},null,"4567890123",{"$f":"IF(R13=\"\",\"\",MID($R13,S$12+1,1))","v":"4"},{"$f":"IF(S13=\"\",\"\",MID($R13,T$12+1,1))","v":"5"},"6","7","8","9","0","1","2","3",{"$f":"IF($D13=\"\",\"\",VLOOKUP($D13,数据库!$B$4:$AD$1003,MATCH(AC$12,数据库!$C$2:$AD$2,)+1,0))","v":"277"},null,"4567890123",{"$f":"IF($AE13=\"\",\"\",MID($AE13,AF$12+1,1))","v":"4"},{"$f":"IF($AE13=\"\",\"\",MID($AE13,AG$12+1,1))","v":"5"},"6","7","8","9","0","1","2","3",{"$f":"IF($D13=\"\",\"\",VLOOKUP($D13,数据库!$B$4:$AD$1003,MATCH(AP$12,数据库!$C$2:$AD$2,)+1,0))","v":"386"},null,"4567890123",{"$f":"IF($AR13=\"\",\"\",MID($AR13,AS$12+1,1))","v":"4"},{"$f":"IF($AR13=\"\",\"\",MID($AR13,AT$12+1,1))","v":"5"},"6","7","8","9","0","1","2","3",{"$f":"IF($D13=\"\",\"\",VLOOKUP($D13,数据库!$B$4:$AD$1003,MATCH(BC$12,数据库!$C$2:$AD$2,)+1,0))","v":"169"},null,"4567890123",{"$f":"IF($BE13=\"\",\"\",MID($BE13,BF$12+1,1))","v":"4"},{"$f":"IF($BE13=\"\",\"\",MID($BE13,BG$12+1,1))","v":"5"},"6","7","8","9","0","1","2","3",{"$f":"IF($D13=\"\",\"\",VLOOKUP($D13,数据库!$B$4:$AD$1003,MATCH(BP$12,数据库!$C$2:$AD$2,)+1,0))","v":"278"},null,"",{"$f":"IF($BR13=\"\",\"\",MID($BR13,BS$12+1,1))","v":""},{"$f":"IF($BR13=\"\",\"\",MID($BR13,BT$12+1,1))","v":""},"","","","","","","","",{"$f":"IF($D13=\"\",\"\",VLOOKUP($D13,数据库!$B$4:$AD$1003,MATCH(CC$12,数据库!$C$2:$AD$2,)+1,0))","v":"387"},null,"4567890123",{"$f":"IF($CE13=\"\",\"\",MID($CE13,CF$12+1,1))","v":"4"},{"$f":"IF($CE13=\"\",\"\",MID($CE13,CG$12+1,1))","v":"5"},"6","7","8","9","0","1","2","3",{"$f":"IF($D13=\"\",\"\",VLOOKUP($D13,数据库!$B$4:$AD$1003,MATCH(CP$12,数据库!$C$2:$AD$2,)+1,0))","v":"189"},null,"4567890123",{"$f":"IF($CR13=\"\",\"\",MID($CR13,CS$12+1,1))","v":"4"},{"$f":"IF($CR13=\"\",\"\",MID($CR13,CT$12+1,1))","v":"5"},"6","7","8","9","0","1","2","3",{"$f":"IF($D13=\"\",\"\",VLOOKUP($D13,数据库!$B$4:$AD$1003,MATCH(DC$12,数据库!$C$2:$AD$2,)+1,0))","v":"278"},null,"4567890123",{"$f":"IF($DE13=\"\",\"\",MID($DE13,DF$12+1,1))","v":"4"},{"$f":"IF($DE13=\"\",\"\",MID($DE13,DG$12+1,1))","v":"5"},"6","7","8","9","0","1","2","3",{"$f":"IF($D13=\"\",\"\",VLOOKUP($D13,数据库!$B$4:$AD$1003,MATCH(DP$12,数据库!$C$2:$AD$2,)+1,0))","v":"367"},null,"4567890123",{"$f":"IF($DR13=\"\",\"\",MID($DR13,DS$12+1,1))","v":"4"},{"$f":"IF($DR13=\"\",\"\",MID($DR13,DT$12+1,1))","v":"5"},"6","7","8","9","0","1","2","3",{"$f":"IF($D13=\"\",\"\",VLOOKUP($D13,数据库!$B$4:$AD$1003,MATCH(EC$12,数据库!$C$2:$AD$2,)+1,0))","v":"689"},null,"4567890123",{"$f":"IF($EE13=\"\",\"\",MID($EE13,EF$12+1,1))","v":"4"},{"$f":"IF($EE13=\"\",\"\",MID($EE13,EG$12+1,1))","v":"5"},"6","7","8","9","0","1","2","3",{"$f":"IF($D13=\"\",\"\",VLOOKUP($D13,数据库!$B$4:$AD$1003,MATCH(EP$12,数据库!$C$2:$AD$2,)+1,0))","v":"778"},null,"4567890123",{"$f":"IF($ER13=\"\",\"\",MID($ER13,ES$12+1,1))","v":"4"},{"$f":"IF($ER13=\"\",\"\",MID($ER13,ET$12+1,1))","v":"5"},"6","7","8","9","0","1","2","3",{"$f":"IF($D13=\"\",\"\",VLOOKUP($D13,数据库!$B$4:$AD$1003,MATCH(FC$12,数据库!$C$2:$AD$2,)+1,0))","v":"867"},null,{"$f":"IF(E13=\"\",\"\",E13)","v":"4567890123"},{"$f":"IF(R13=\"\",\"\",R13)","v":"4567890123"},{"$f":"IF(AE13=\"\",\"\",AE13)","v":"4567890123"},{"$f":"IF(AR13=\"\",\"\",AR13)","v":"4567890123"},{"$f":"IF(BE13=\"\",\"\",BE13)","v":"4567890123"},{"$f":"IF(BR13=\"\",\"\",BR13)","v":""},{"$f":"IF(CE13=\"\",\"\",CE13)","v":"4567890123"},{"$f":"IF(CR13=\"\",\"\",CR13)","v":"4567890123"},{"$f":"IF(DE13=\"\",\"\",DE13)","v":"4567890123"},{"$f":"IF(DR13=\"\",\"\",DR13)","v":"4567890123"},{"$f":"IF(EE13=\"\",\"\",EE13)","v":"4567890123"},{"$f":"IF(ER13=\"\",\"\",ER13)","v":"4567890123"},{"$f":"IF(Q13=\"\",\"\",Q13)","v":""}]
[null,null,"","","",{"$f":"IF($E14=\"\",\"\",MID($E14,F$12+1,1))","v":""},"","","","","","","","","",{"$f":"IF($D14=\"\",\"\",VLOOKUP($D14,数据库!$B$4:$AD$1003,MATCH(P$12,数据库!$C$2:$AD$2,)+1,0))","v":""},null,"",{"$f":"IF(R14=\"\",\"\",MID($R14,S$12+1,1))","v":""},"","","","","","","","","",{"$f":"IF($D14=\"\",\"\",VLOOKUP($D14,数据库!$B$4:$AD$1003,MATCH(AC$12,数据库!$C$2:$R$2,)+1,0))","v":""},null,"",{"$f":"IF($AE14=\"\",\"\",MID($AE14,AF$12+1,1))","v":""},"","","","","","","","","",{"$f":"IF($D14=\"\",\"\",VLOOKUP($D14,数据库!$B$4:$AD$1003,MATCH(AP$12,数据库!$C$2:$R$2,)+1,0))","v":""},null,"",{"$f":"IF($AR14=\"\",\"\",MID($AR14,AS$12+1,1))","v":""},"","","","","","","","","",{"$f":"IF($D14=\"\",\"\",VLOOKUP($D14,数据库!$B$4:$AD$1003,MATCH(BC$12,数据库!$C$2:$AD$2,)+1,0))","v":""},null,"",{"$f":"IF($BE14=\"\",\"\",MID($BE14,BF$12+1,1))","v":""},"","","","","","","","","",{"$f":"IF($D14=\"\",\"\",VLOOKUP($D14,数据库!$B$4:$AD$1003,MATCH(BP$12,数据库!$C$2:$R$2,)+1,0))","v":""},null,"",{"$f":"IF($BR14=\"\",\"\",MID($BR14,BS$12+1,1))","v":""},"","","","","","","","","",{"$f":"IF($D14=\"\",\"\",VLOOKUP($D14,数据库!$B$4:$AD$1003,MATCH(CC$12,数据库!$C$2:$R$2,)+1,0))","v":""},null,"",{"$f":"IF($CE14=\"\",\"\",MID($CE14,CF$12+1,1))","v":""},"","","","","","","","","",{"$f":"IF($D14=\"\",\"\",VLOOKUP($D14,数据库!$B$4:$AD$1003,MATCH(CP$12,数据库!$C$2:$AD$2,)+1,0))","v":""},null,"",{"$f":"IF($CR14=\"\",\"\",MID($CR14,CS$12+1,1))","v":""},"","","","","","","","","",{"$f":"IF($D14=\"\",\"\",VLOOKUP($D14,数据库!$B$4:$AD$1003,MATCH(DC$12,数据库!$C$2:$R$2,)+1,0))","v":""},null,"",{"$f":"IF($DE14=\"\",\"\",MID($DE14,DF$12+1,1))","v":""},"","","","","","","","","",{"$f":"IF($D14=\"\",\"\",VLOOKUP($D14,数据库!$B$4:$AD$1003,MATCH(DP$12,数据库!$C$2:$R$2,)+1,0))","v":""},null,"",{"$f":"IF($DR14=\"\",\"\",MID($DR14,DS$12+1,1))","v":""},"","","","","","","","","",{"$f":"IF($D14=\"\",\"\",VLOOKUP($D14,数据库!$B$4:$AD$1003,MATCH(EC$12,数据库!$C$2:$AD$2,)+1,0))","v":""},null,"",{"$f":"IF($EE14=\"\",\"\",MID($EE14,EF$12+1,1))","v":""},"","","","","","","","","",{"$f":"IF($D14=\"\",\"\",VLOOKUP($D14,数据库!$B$4:$AD$1003,MATCH(EP$12,数据库!$C$2:$R$2,)+1,0))","v":""},null,"",{"$f":"IF($ER14=\"\",\"\",MID($ER14,ES$12+1,1))","v":""},"","","","","","","","","",{"$f":"IF($D14=\"\",\"\",VLOOKUP($D14,数据库!$B$4:$AD$1003,MATCH(FC$12,数据库!$C$2:$R$2,)+1,0))","v":""},null,{"$f":"IF(E14=\"\",\"\",E14)","v":""},{"$f":"IF(R14=\"\",\"\",R14)","v":""},{"$f":"IF(AE14=\"\",\"\",AE14)","v":""},{"$f":"IF(AR14=\"\",\"\",AR14)","v":""},{"$f":"IF(BE14=\"\",\"\",BE14)","v":""},{"$f":"IF(BR14=\"\",\"\",BR14)","v":""},{"$f":"IF(CE14=\"\",\"\",CE14)","v":""},{"$f":"IF(CR14=\"\",\"\",CR14)","v":""},{"$f":"IF(DE14=\"\",\"\",DE14)","v":""},{"$f":"IF(DR14=\"\",\"\",DR14)","v":""},{"$f":"IF(EE14=\"\",\"\",EE14)","v":""},{"$f":"IF(ER14=\"\",\"\",ER14)","v":""}]
[null,null,"","","","","","","","","","","","","",{"$f":"IF($D15=\"\",\"\",VLOOKUP($D15,数据库!$B$4:$AD$1003,MATCH(P$12,数据库!$C$2:$AD$2,)+1,0))","v":""},null,"",{"$f":"IF(R15=\"\",\"\",MID($R15,S$12+1,1))","v":""},"","","","","","","","","",{"$f":"IF($D15=\"\",\"\",VLOOKUP($D15,数据库!$B$4:$AD$1003,MATCH(AC$12,数据库!$C$2:$R$2,)+1,0))","v":""},null,"","","","","","","","","","","",{"$f":"IF($D15=\"\",\"\",VLOOKUP($D15,数据库!$B$4:$AD$1003,MATCH(AP$12,数据库!$C$2:$R$2,)+1,0))","v":""},null,"","","","","","","","","","","",{"$f":"IF($D15=\"\",\"\",VLOOKUP($D15,数据库!$B$4:$AD$1003,MATCH(BC$12,数据库!$C$2:$AD$2,)+1,0))","v":""},null,"","","","","","","","","","","",{"$f":"IF($D15=\"\",\"\",VLOOKUP($D15,数据库!$B$4:$AD$1003,MATCH(BP$12,数据库!$C$2:$R$2,)+1,0))","v":""},null,"","","","","","","","","","","",{"$f":"IF($D15=\"\",\"\",VLOOKUP($D15,数据库!$B$4:$AD$1003,MATCH(CC$12,数据库!$C$2:$R$2,)+1,0))","v":""},null,"","","","","","","","","","","",{"$f":"IF($D15=\"\",\"\",VLOOKUP($D15,数据库!$B$4:$AD$1003,MATCH(CP$12,数据库!$C$2:$AD$2,)+1,0))","v":""},null,"","","","","","","","","","","",{"$f":"IF($D15=\"\",\"\",VLOOKUP($D15,数据库!$B$4:$AD$1003,MATCH(DC$12,数据库!$C$2:$R$2,)+1,0))","v":""},null,"","","","","","","","","","","",{"$f":"IF($D15=\"\",\"\",VLOOKUP($D15,数据库!$B$4:$AD$1003,MATCH(DP$12,数据库!$C$2:$R$2,)+1,0))","v":""},null,"","","","","","","","","","","",{"$f":"IF($D15=\"\",\"\",VLOOKUP($D15,数据库!$B$4:$AD$1003,MATCH(EC$12,数据库!$C$2:$AD$2,)+1,0))","v":""},null,"","","","","","","","","","","",{"$f":"IF($D15=\"\",\"\",VLOOKUP($D15,数据库!$B$4:$AD$1003,MATCH(EP$12,数据库!$C$2:$R$2,)+1,0))","v":""},null,"","","","","","","","","","","",{"$f":"IF($D15=\"\",\"\",VLOOKUP($D15,数据库!$B$4:$AD$1003,MATCH(FC$12,数据库!$C$2:$R$2,)+1,0))","v":""},null,"","","","","","","","","","","",""]
[null,null,"","","","","","","","","","","","","",{"$f":"IF($D16=\"\",\"\",VLOOKUP($D16,数据库!$B$4:$AD$1003,MATCH(P$12,数据库!$C$2:$AD$2,)+1,0))","v":""},null,"",{"$f":"IF(R16=\"\",\"\",MID($R16,S$12+1,1))","v":""},"","","","","","","","","",{"$f":"IF($D16=\"\",\"\",VLOOKUP($D16,数据库!$B$4:$AD$1003,MATCH(AC$12,数据库!$C$2:$R$2,)+1,0))","v":""},null,"","","","","","","","","","","",{"$f":"IF($D16=\"\",\"\",VLOOKUP($D16,数据库!$B$4:$AD$1003,MATCH(AP$12,数据库!$C$2:$R$2,)+1,0))","v":""},null,"","","","","","","","","","","",{"$f":"IF($D16=\"\",\"\",VLOOKUP($D16,数据库!$B$4:$AD$1003,MATCH(BC$12,数据库!$C$2:$AD$2,)+1,0))","v":""},null,"","","","","","","","","","","",{"$f":"IF($D16=\"\",\"\",VLOOKUP($D16,数据库!$B$4:$AD$1003,MATCH(BP$12,数据库!$C$2:$R$2,)+1,0))","v":""},null,"","","","","","","","","","","",{"$f":"IF($D16=\"\",\"\",VLOOKUP($D16,数据库!$B$4:$AD$1003,MATCH(CC$12,数据库!$C$2:$R$2,)+1,0))","v":""},null,"","","","","","","","","","","",{"$f":"IF($D16=\"\",\"\",VLOOKUP($D16,数据库!$B$4:$AD$1003,MATCH(CP$12,数据库!$C$2:$AD$2,)+1,0))","v":""},null,"","","","","","","","","","","",{"$f":"IF($D16=\"\",\"\",VLOOKUP($D16,数据库!$B$4:$AD$1003,MATCH(DC$12,数据库!$C$2:$R$2,)+1,0))","v":""},null,"","","","","","","","","","","",{"$f":"IF($D16=\"\",\"\",VLOOKUP($D16,数据库!$B$4:$AD$1003,MATCH(DP$12,数据库!$C$2:$R$2,)+1,0))","v":""},null,"","","","","","","","","","","",{"$f":"IF($D16=\"\",\"\",VLOOKUP($D16,数据库!$B$4:$AD$1003,MATCH(EC$12,数据库!$C$2:$AD$2,)+1,0))","v":""},null,"","","","","","","","","","","",{"$f":"IF($D16=\"\",\"\",VLOOKUP($D16,数据库!$B$4:$AD$1003,MATCH(EP$12,数据库!$C$2:$R$2,)+1,0))","v":""},null,"","","","","","","","","","","",{"$f":"IF($D16=\"\",\"\",VLOOKUP($D16,数据库!$B$4:$AD$1003,MATCH(FC$12,数据库!$C$2:$R$2,)+1,0))","v":""},null,"","","","","","","","","","","",""]
[null,null,"","","","","","","","","","","","","",{"$f":"IF($D17=\"\",\"\",VLOOKUP($D17,数据库!$B$4:$AD$1003,MATCH(P$12,数据库!$C$2:$AD$2,)+1,0))","v":""},null,"",{"$f":"IF(R17=\"\",\"\",MID($R17,S$12+1,1))","v":""},"","","","","","","","","",{"$f":"IF($D17=\"\",\"\",VLOOKUP($D17,数据库!$B$4:$AD$1003,MATCH(AC$12,数据库!$C$2:$R$2,)+1,0))","v":""},null,"","","","","","","","","","","",{"$f":"IF($D17=\"\",\"\",VLOOKUP($D17,数据库!$B$4:$AD$1003,MATCH(AP$12,数据库!$C$2:$R$2,)+1,0))","v":""},null,"","","","","","","","","","","",{"$f":"IF($D17=\"\",\"\",VLOOKUP($D17,数据库!$B$4:$AD$1003,MATCH(BC$12,数据库!$C$2:$AD$2,)+1,0))","v":""},null,"","","","","","","","","","","",{"$f":"IF($D17=\"\",\"\",VLOOKUP($D17,数据库!$B$4:$AD$1003,MATCH(BP$12,数据库!$C$2:$R$2,)+1,0))","v":""},null,"","","","","","","","","","","",{"$f":"IF($D17=\"\",\"\",VLOOKUP($D17,数据库!$B$4:$AD$1003,MATCH(CC$12,数据库!$C$2:$R$2,)+1,0))","v":""},null,"","","","","","","","","","","",{"$f":"IF($D17=\"\",\"\",VLOOKUP($D17,数据库!$B$4:$AD$1003,MATCH(CP$12,数据库!$C$2:$AD$2,)+1,0))","v":""},null,"","","","","","","","","","","",{"$f":"IF($D17=\"\",\"\",VLOOKUP($D17,数据库!$B$4:$AD$1003,MATCH(DC$12,数据库!$C$2:$R$2,)+1,0))","v":""},null,"","","","","","","","","","","",{"$f":"IF($D17=\"\",\"\",VLOOKUP($D17,数据库!$B$4:$AD$1003,MATCH(DP$12,数据库!$C$2:$R$2,)+1,0))","v":""},null,"","","","","","","","","","","",{"$f":"IF($D17=\"\",\"\",VLOOKUP($D17,数据库!$B$4:$AD$1003,MATCH(EC$12,数据库!$C$2:$AD$2,)+1,0))","v":""},null,"","","","","","","","","","","",{"$f":"IF($D17=\"\",\"\",VLOOKUP($D17,数据库!$B$4:$AD$1003,MATCH(EP$12,数据库!$C$2:$R$2,)+1,0))","v":""},null,"","","","","","","","","","","",{"$f":"IF($D17=\"\",\"\",VLOOKUP($D17,数据库!$B$4:$AD$1003,MATCH(FC$12,数据库!$C$2:$R$2,)+1,0))","v":""},null,"","","","","","","","","","","",""]
[null,null,"","","","","","","","","","","","","",{"$f":"IF($D18=\"\",\"\",VLOOKUP($D18,数据库!$B$4:$AD$1003,MATCH(P$12,数据库!$C$2:$AD$2,)+1,0))","v":""},null,"",{"$f":"IF(R18=\"\",\"\",MID($R18,S$12+1,1))","v":""},"","","","","","","","","",{"$f":"IF($D18=\"\",\"\",VLOOKUP($D18,数据库!$B$4:$AD$1003,MATCH(AC$12,数据库!$C$2:$R$2,)+1,0))","v":""},null,"","","","","","","","","","","",{"$f":"IF($D18=\"\",\"\",VLOOKUP($D18,数据库!$B$4:$AD$1003,MATCH(AP$12,数据库!$C$2:$R$2,)+1,0))","v":""},null,"","","","","","","","","","","",{"$f":"IF($D18=\"\",\"\",VLOOKUP($D18,数据库!$B$4:$AD$1003,MATCH(BC$12,数据库!$C$2:$AD$2,)+1,0))","v":""},null,"","","","","","","","","","","",{"$f":"IF($D18=\"\",\"\",VLOOKUP($D18,数据库!$B$4:$AD$1003,MATCH(BP$12,数据库!$C$2:$R$2,)+1,0))","v":""},null,"","","","","","","","","","","",{"$f":"IF($D18=\"\",\"\",VLOOKUP($D18,数据库!$B$4:$AD$1003,MATCH(CC$12,数据库!$C$2:$R$2,)+1,0))","v":""},null,"","","","","","","","","","","",{"$f":"IF($D18=\"\",\"\",VLOOKUP($D18,数据库!$B$4:$AD$1003,MATCH(CP$12,数据库!$C$2:$AD$2,)+1,0))","v":""},null,"","","","","","","","","","","",{"$f":"IF($D18=\"\",\"\",VLOOKUP($D18,数据库!$B$4:$AD$1003,MATCH(DC$12,数据库!$C$2:$R$2,)+1,0))","v":""},null,"","","","","","","","","","","",{"$f":"IF($D18=\"\",\"\",VLOOKUP($D18,数据库!$B$4:$AD$1003,MATCH(DP$12,数据库!$C$2:$R$2,)+1,0))","v":""},null,"","","","","","","","","","","",{"$f":"IF($D18=\"\",\"\",VLOOKUP($D18,数据库!$B$4:$AD$1003,MATCH(EC$12,数据库!$C$2:$AD$2,)+1,0))","v":""},null,"","","","","","","","","","","",{"$f":"IF($D18=\"\",\"\",VLOOKUP($D18,数据库!$B$4:$AD$1003,MATCH(EP$12,数据库!$C$2:$R$2,)+1,0))","v":""},null,"","","","","","","","","","","",{"$f":"IF($D18=\"\",\"\",VLOOKUP($D18,数据库!$B$4:$AD$1003,MATCH(FC$12,数据库!$C$2:$R$2,)+1,0))","v":""},null,"","","","","","","","","","","",""]
[null,null,"","","","","","","","","","","","","",{"$f":"IF($D19=\"\",\"\",VLOOKUP($D19,数据库!$B$4:$AD$1003,MATCH(P$12,数据库!$C$2:$AD$2,)+1,0))","v":""},null,"",{"$f":"IF(R19=\"\",\"\",MID($R19,S$12+1,1))","v":""},"","","","","","","","","",{"$f":"IF($D19=\"\",\"\",VLOOKUP($D19,数据库!$B$4:$AD$1003,MATCH(AC$12,数据库!$C$2:$R$2,)+1,0))","v":""},null,"","","","","","","","","","","",{"$f":"IF($D19=\"\",\"\",VLOOKUP($D19,数据库!$B$4:$AD$1003,MATCH(AP$12,数据库!$C$2:$R$2,)+1,0))","v":""},null,"","","","","","","","","","","",{"$f":"IF($D19=\"\",\"\",VLOOKUP($D19,数据库!$B$4:$AD$1003,MATCH(BC$12,数据库!$C$2:$AD$2,)+1,0))","v":""},null,"","","","","","","","","","","",{"$f":"IF($D19=\"\",\"\",VLOOKUP($D19,数据库!$B$4:$AD$1003,MATCH(BP$12,数据库!$C$2:$R$2,)+1,0))","v":""},null,"","","","","","","","","","","",{"$f":"IF($D19=\"\",\"\",VLOOKUP($D19,数据库!$B$4:$AD$1003,MATCH(CC$12,数据库!$C$2:$R$2,)+1,0))","v":""},null,"","","","","","","","","","","",{"$f":"IF($D19=\"\",\"\",VLOOKUP($D19,数据库!$B$4:$AD$1003,MATCH(CP$12,数据库!$C$2:$AD$2,)+1,0))","v":""},null,"","","","","","","","","","","",{"$f":"IF($D19=\"\",\"\",VLOOKUP($D19,数据库!$B$4:$AD$1003,MATCH(DC$12,数据库!$C$2:$R$2,)+1,0))","v":""},null,"","","","","","","","","","","",{"$f":"IF($D19=\"\",\"\",VLOOKUP($D19,数据库!$B$4:$AD$1003,MATCH(DP$12,数据库!$C$2:$R$2,)+1,0))","v":""},null,"","","","","","","","","","","",{"$f":"IF($D19=\"\",\"\",VLOOKUP($D19,数据库!$B$4:$AD$1003,MATCH(EC$12,数据库!$C$2:$AD$2,)+1,0))","v":""},null,"","","","","","","","","","","",{"$f":"IF($D19=\"\",\"\",VLOOKUP($D19,数据库!$B$4:$AD$1003,MATCH(EP$12,数据库!$C$2:$R$2,)+1,0))","v":""},null,"","","","","","","","","","","",{"$f":"IF($D19=\"\",\"\",VLOOKUP($D19,数据库!$B$4:$AD$1003,MATCH(FC$12,数据库!$C$2:$R$2,)+1,0))","v":""},null,"","","","","","","","","","","",""]
[null,null,"","","","","","","","","","","","","",{"$f":"IF($D20=\"\",\"\",VLOOKUP($D20,数据库!$B$4:$AD$1003,MATCH(P$12,数据库!$C$2:$AD$2,)+1,0))","v":""},null,"",{"$f":"IF(R20=\"\",\"\",MID($R20,S$12+1,1))","v":""},"","","","","","","","","",{"$f":"IF($D20=\"\",\"\",VLOOKUP($D20,数据库!$B$4:$AD$1003,MATCH(AC$12,数据库!$C$2:$R$2,)+1,0))","v":""},null,"","","","","","","","","","","",{"$f":"IF($D20=\"\",\"\",VLOOKUP($D20,数据库!$B$4:$AD$1003,MATCH(AP$12,数据库!$C$2:$R$2,)+1,0))","v":""},null,"","","","","","","","","","","",{"$f":"IF($D20=\"\",\"\",VLOOKUP($D20,数据库!$B$4:$AD$1003,MATCH(BC$12,数据库!$C$2:$AD$2,)+1,0))","v":""},null,"","","","","","","","","","","",{"$f":"IF($D20=\"\",\"\",VLOOKUP($D20,数据库!$B$4:$AD$1003,MATCH(BP$12,数据库!$C$2:$R$2,)+1,0))","v":""},null,"","","","","","","","","","","",{"$f":"IF($D20=\"\",\"\",VLOOKUP($D20,数据库!$B$4:$AD$1003,MATCH(CC$12,数据库!$C$2:$R$2,)+1,0))","v":""},null,"","","","","","","","","","","",{"$f":"IF($D20=\"\",\"\",VLOOKUP($D20,数据库!$B$4:$AD$1003,MATCH(CP$12,数据库!$C$2:$AD$2,)+1,0))","v":""},null,"","","","","","","","","","","",{"$f":"IF($D20=\"\",\"\",VLOOKUP($D20,数据库!$B$4:$AD$1003,MATCH(DC$12,数据库!$C$2:$R$2,)+1,0))","v":""},null,"","","","","","","","","","","",{"$f":"IF($D20=\"\",\"\",VLOOKUP($D20,数据库!$B$4:$AD$1003,MATCH(DP$12,数据库!$C$2:$R$2,)+1,0))","v":""},null,"","","","","","","","","","","",{"$f":"IF($D20=\"\",\"\",VLOOKUP($D20,数据库!$B$4:$AD$1003,MATCH(EC$12,数据库!$C$2:$AD$2,)+1,0))","v":""},null,"","","","","","","","","","","",{"$f":"IF($D20=\"\",\"\",VLOOKUP($D20,数据库!$B$4:$AD$1003,MATCH(EP$12,数据库!$C$2:$R$2,)+1,0))","v":""},null,"","","","","","","","","","","",{"$f":"IF($D20=\"\",\"\",VLOOKUP($D20,数据库!$B$4:$AD$1003,MATCH(FC$12,数据库!$C$2:$R$2,)+1,0))","v":""},null,"","","","","","","","","","","",""]
[null,null,"","","","","","","","","","","","","",{"$f":"IF($D21=\"\",\"\",VLOOKUP($D21,数据库!$B$4:$AD$1003,MATCH(P$12,数据库!$C$2:$AD$2,)+1,0))","v":""},null,"",{"$f":"IF(R21=\"\",\"\",MID($R21,S$12+1,1))","v":""},"","","","","","","","","",{"$f":"IF($D21=\"\",\"\",VLOOKUP($D21,数据库!$B$4:$AD$1003,MATCH(AC$12,数据库!$C$2:$R$2,)+1,0))","v":""},null,"","","","","","","","","","","",{"$f":"IF($D21=\"\",\"\",VLOOKUP($D21,数据库!$B$4:$AD$1003,MATCH(AP$12,数据库!$C$2:$R$2,)+1,0))","v":""},null,"","","","","","","","","","","",{"$f":"IF($D21=\"\",\"\",VLOOKUP($D21,数据库!$B$4:$AD$1003,MATCH(BC$12,数据库!$C$2:$AD$2,)+1,0))","v":""},null,"","","","","","","","","","","",{"$f":"IF($D21=\"\",\"\",VLOOKUP($D21,数据库!$B$4:$AD$1003,MATCH(BP$12,数据库!$C$2:$R$2,)+1,0))","v":""},null,"","","","","","","","","","","",{"$f":"IF($D21=\"\",\"\",VLOOKUP($D21,数据库!$B$4:$AD$1003,MATCH(CC$12,数据库!$C$2:$R$2,)+1,0))","v":""},null,"","","","","","","","","","","",{"$f":"IF($D21=\"\",\"\",VLOOKUP($D21,数据库!$B$4:$AD$1003,MATCH(CP$12,数据库!$C$2:$AD$2,)+1,0))","v":""},null,"","","","","","","","","","","",{"$f":"IF($D21=\"\",\"\",VLOOKUP($D21,数据库!$B$4:$AD$1003,MATCH(DC$12,数据库!$C$2:$R$2,)+1,0))","v":""},null,"","","","","","","","","","","",{"$f":"IF($D21=\"\",\"\",VLOOKUP($D21,数据库!$B$4:$AD$1003,MATCH(DP$12,数据库!$C$2:$R$2,)+1,0))","v":""},null,"","","","","","","","","","","",{"$f":"IF($D21=\"\",\"\",VLOOKUP($D21,数据库!$B$4:$AD$1003,MATCH(EC$12,数据库!$C$2:$AD$2,)+1,0))","v":""},null,"","","","","","","","","","","",{"$f":"IF($D21=\"\",\"\",VLOOKUP($D21,数据库!$B$4:$AD$1003,MATCH(EP$12,数据库!$C$2:$R$2,)+1,0))","v":""},null,"","","","","","","","","","","",{"$f":"IF($D21=\"\",\"\",VLOOKUP($D21,数据库!$B$4:$AD$1003,MATCH(FC$12,数据库!$C$2:$R$2,)+1,0))","v":""},null,"","","","","","","","","","","",""]
[null,null,"","","","","","","","","","","","","",{"$f":"IF($D22=\"\",\"\",VLOOKUP($D22,数据库!$B$4:$AD$1003,MATCH(P$12,数据库!$C$2:$AD$2,)+1,0))","v":""},null,"",{"$f":"IF(R22=\"\",\"\",MID($R22,S$12+1,1))","v":""},"","","","","","","","","",{"$f":"IF($D22=\"\",\"\",VLOOKUP($D22,数据库!$B$4:$AD$1003,MATCH(AC$12,数据库!$C$2:$R$2,)+1,0))","v":""},null,"","","","","","","","","","","",{"$f":"IF($D22=\"\",\"\",VLOOKUP($D22,数据库!$B$4:$AD$1003,MATCH(AP$12,数据库!$C$2:$R$2,)+1,0))","v":""},null,"","","","","","","","","","","",{"$f":"IF($D22=\"\",\"\",VLOOKUP($D22,数据库!$B$4:$AD$1003,MATCH(BC$12,数据库!$C$2:$AD$2,)+1,0))","v":""},null,"","","","","","","","","","","",{"$f":"IF($D22=\"\",\"\",VLOOKUP($D22,数据库!$B$4:$AD$1003,MATCH(BP$12,数据库!$C$2:$R$2,)+1,0))","v":""},null,"","","","","","","","","","","",{"$f":"IF($D22=\"\",\"\",VLOOKUP($D22,数据库!$B$4:$AD$1003,MATCH(CC$12,数据库!$C$2:$R$2,)+1,0))","v":""},null,"","","","","","","","","","","",{"$f":"IF($D22=\"\",\"\",VLOOKUP($D22,数据库!$B$4:$AD$1003,MATCH(CP$12,数据库!$C$2:$AD$2,)+1,0))","v":""},null,"","","","","","","","","","","",{"$f":"IF($D22=\"\",\"\",VLOOKUP($D22,数据库!$B$4:$AD$1003,MATCH(DC$12,数据库!$C$2:$R$2,)+1,0))","v":""},null,"","","","","","","","","","","",{"$f":"IF($D22=\"\",\"\",VLOOKUP($D22,数据库!$B$4:$AD$1003,MATCH(DP$12,数据库!$C$2:$R$2,)+1,0))","v":""},null,"","","","","","","","","","","",{"$f":"IF($D22=\"\",\"\",VLOOKUP($D22,数据库!$B$4:$AD$1003,MATCH(EC$12,数据库!$C$2:$AD$2,)+1,0))","v":""},null,"","","","","","","","","","","",{"$f":"IF($D22=\"\",\"\",VLOOKUP($D22,数据库!$B$4:$AD$1003,MATCH(EP$12,数据库!$C$2:$R$2,)+1,0))","v":""},null,"","","","","","","","","","","",{"$f":"IF($D22=\"\",\"\",VLOOKUP($D22,数据库!$B$4:$AD$1003,MATCH(FC$12,数据库!$C$2:$R$2,)+1,0))","v":""},null,"","","","","","","","","","","",""]
[null,null,"","","","","","","","","","","","","",{"$f":"IF($D23=\"\",\"\",VLOOKUP($D23,数据库!$B$4:$AD$1003,MATCH(P$12,数据库!$C$2:$AD$2,)+1,0))","v":""},null,"",{"$f":"IF(R23=\"\",\"\",MID($R23,S$12+1,1))","v":""},"","","","","","","","","",{"$f":"IF($D23=\"\",\"\",VLOOKUP($D23,数据库!$B$4:$AD$1003,MATCH(AC$12,数据库!$C$2:$R$2,)+1,0))","v":""},null,"","","","","","","","","","","",{"$f":"IF($D23=\"\",\"\",VLOOKUP($D23,数据库!$B$4:$AD$1003,MATCH(AP$12,数据库!$C$2:$R$2,)+1,0))","v":""},null,"","","","","","","","","","","",{"$f":"IF($D23=\"\",\"\",VLOOKUP($D23,数据库!$B$4:$AD$1003,MATCH(BC$12,数据库!$C$2:$AD$2,)+1,0))","v":""},null,"","","","","","","","","","","",{"$f":"IF($D23=\"\",\"\",VLOOKUP($D23,数据库!$B$4:$AD$1003,MATCH(BP$12,数据库!$C$2:$R$2,)+1,0))","v":""},null,"","","","","","","","","","","",{"$f":"IF($D23=\"\",\"\",VLOOKUP($D23,数据库!$B$4:$AD$1003,MATCH(CC$12,数据库!$C$2:$R$2,)+1,0))","v":""},null,"","","","","","","","","","","",{"$f":"IF($D23=\"\",\"\",VLOOKUP($D23,数据库!$B$4:$AD$1003,MATCH(CP$12,数据库!$C$2:$AD$2,)+1,0))","v":""},null,"","","","","","","","","","","",{"$f":"IF($D23=\"\",\"\",VLOOKUP($D23,数据库!$B$4:$AD$1003,MATCH(DC$12,数据库!$C$2:$R$2,)+1,0))","v":""},null,"","","","","","","","","","","",{"$f":"IF($D23=\"\",\"\",VLOOKUP($D23,数据库!$B$4:$AD$1003,MATCH(DP$12,数据库!$C$2:$R$2,)+1,0))","v":""},null,"","","","","","","","","","","",{"$f":"IF($D23=\"\",\"\",VLOOKUP($D23,数据库!$B$4:$AD$1003,MATCH(EC$12,数据库!$C$2:$AD$2,)+1,0))","v":""},null,"","","","","","","","","","","",{"$f":"IF($D23=\"\",\"\",VLOOKUP($D23,数据库!$B$4:$AD$1003,MATCH(EP$12,数据库!$C$2:$R$2,)+1,0))","v":""},null,"","","","","","","","","","","",{"$f":"IF($D23=\"\",\"\",VLOOKUP($D23,数据库!$B$4:$AD$1003,MATCH(FC$12,数据库!$C$2:$R$2,)+1,0))","v":""},null,"","","","","","","","","","","",""]
[null,null,"","","","","","","","","","","","","",{"$f":"IF($D24=\"\",\"\",VLOOKUP($D24,数据库!$B$4:$AD$1003,MATCH(P$12,数据库!$C$2:$AD$2,)+1,0))","v":""},null,"",{"$f":"IF(R24=\"\",\"\",MID($R24,S$12+1,1))","v":""},"","","","","","","","","",{"$f":"IF($D24=\"\",\"\",VLOOKUP($D24,数据库!$B$4:$AD$1003,MATCH(AC$12,数据库!$C$2:$R$2,)+1,0))","v":""},null,"","","","","","","","","","","",{"$f":"IF($D24=\"\",\"\",VLOOKUP($D24,数据库!$B$4:$AD$1003,MATCH(AP$12,数据库!$C$2:$R$2,)+1,0))","v":""},null,"","","","","","","","","","","",{"$f":"IF($D24=\"\",\"\",VLOOKUP($D24,数据库!$B$4:$AD$1003,MATCH(BC$12,数据库!$C$2:$AD$2,)+1,0))","v":""},null,"","","","","","","","","","","",{"$f":"IF($D24=\"\",\"\",VLOOKUP($D24,数据库!$B$4:$AD$1003,MATCH(BP$12,数据库!$C$2:$R$2,)+1,0))","v":""},null,"","","","","","","","","","","",{"$f":"IF($D24=\"\",\"\",VLOOKUP($D24,数据库!$B$4:$AD$1003,MATCH(CC$12,数据库!$C$2:$R$2,)+1,0))","v":""},null,"","","","","","","","","","","",{"$f":"IF($D24=\"\",\"\",VLOOKUP($D24,数据库!$B$4:$AD$1003,MATCH(CP$12,数据库!$C$2:$AD$2,)+1,0))","v":""},null,"","","","","","","","","","","",{"$f":"IF($D24=\"\",\"\",VLOOKUP($D24,数据库!$B$4:$AD$1003,MATCH(DC$12,数据库!$C$2:$R$2,)+1,0))","v":""},null,"","","","","","","","","","","",{"$f":"IF($D24=\"\",\"\",VLOOKUP($D24,数据库!$B$4:$AD$1003,MATCH(DP$12,数据库!$C$2:$R$2,)+1,0))","v":""},null,"","","","","","","","","","","",{"$f":"IF($D24=\"\",\"\",VLOOKUP($D24,数据库!$B$4:$AD$1003,MATCH(EC$12,数据库!$C$2:$AD$2,)+1,0))","v":""},null,"","","","","","","","","","","",{"$f":"IF($D24=\"\",\"\",VLOOKUP($D24,数据库!$B$4:$AD$1003,MATCH(EP$12,数据库!$C$2:$R$2,)+1,0))","v":""},null,"","","","","","","","","","","",{"$f":"IF($D24=\"\",\"\",VLOOKUP($D24,数据库!$B$4:$AD$1003,MATCH(FC$12,数据库!$C$2:$R$2,)+1,0))","v":""},null,"","","","","","","","","","","",""]
[null,null,"","","","","","","","","","","","","",{"$f":"IF($D25=\"\",\"\",VLOOKUP($D25,数据库!$B$4:$AD$1003,MATCH(P$12,数据库!$C$2:$AD$2,)+1,0))","v":""},null,"",{"$f":"IF(R25=\"\",\"\",MID($R25,S$12+1,1))","v":""},"","","","","","","","","",{"$f":"IF($D25=\"\",\"\",VLOOKUP($D25,数据库!$B$4:$AD$1003,MATCH(AC$12,数据库!$C$2:$R$2,)+1,0))","v":""},null,"","","","","","","","","","","",{"$f":"IF($D25=\"\",\"\",VLOOKUP($D25,数据库!$B$4:$AD$1003,MATCH(AP$12,数据库!$C$2:$R$2,)+1,0))","v":""},null,"","","","","","","","","","","",{"$f":"IF($D25=\"\",\"\",VLOOKUP($D25,数据库!$B$4:$AD$1003,MATCH(BC$12,数据库!$C$2:$AD$2,)+1,0))","v":""},null,"","","","","","","","","","","",{"$f":"IF($D25=\"\",\"\",VLOOKUP($D25,数据库!$B$4:$AD$1003,MATCH(BP$12,数据库!$C$2:$R$2,)+1,0))","v":""},null,"","","","","","","","","","","",{"$f":"IF($D25=\"\",\"\",VLOOKUP($D25,数据库!$B$4:$AD$1003,MATCH(CC$12,数据库!$C$2:$R$2,)+1,0))","v":""},null,"","","","","","","","","","","",{"$f":"IF($D25=\"\",\"\",VLOOKUP($D25,数据库!$B$4:$AD$1003,MATCH(CP$12,数据库!$C$2:$AD$2,)+1,0))","v":""},null,"","","","","","","","","","","",{"$f":"IF($D25=\"\",\"\",VLOOKUP($D25,数据库!$B$4:$AD$1003,MATCH(DC$12,数据库!$C$2:$R$2,)+1,0))","v":""},null,"","","","","","","","","","","",{"$f":"IF($D25=\"\",\"\",VLOOKUP($D25,数据库!$B$4:$AD$1003,MATCH(DP$12,数据库!$C$2:$R$2,)+1,0))","v":""},null,"","","","","","","","","","","",{"$f":"IF($D25=\"\",\"\",VLOOKUP($D25,数据库!$B$4:$AD$1003,MATCH(EC$12,数据库!$C$2:$AD$2,)+1,0))","v":""},null,"","","","","","","","","","","",{"$f":"IF($D25=\"\",\"\",VLOOKUP($D25,数据库!$B$4:$AD$1003,MATCH(EP$12,数据库!$C$2:$R$2,)+1,0))","v":""},null,"","","","","","","","","","","",{"$f":"IF($D25=\"\",\"\",VLOOKUP($D25,数据库!$B$4:$AD$1003,MATCH(FC$12,数据库!$C$2:$R$2,)+1,0))","v":""},null,"","","","","","","","","","","",""]
[null,null,"","","","","","","",{"$f":"IF($E26=\"\",\"\",MID($E26,J$12+1,1))","v":""},"","","","","",{"$f":"IF($D26=\"\",\"\",VLOOKUP($D26,数据库!$B$4:$AD$1003,MATCH(P$12,数据库!$C$2:$AD$2,)+1,0))","v":""},null,"",{"$f":"IF(R26=\"\",\"\",MID($R26,S$12+1,1))","v":""},"","","","","","","","","",{"$f":"IF($D26=\"\",\"\",VLOOKUP($D26,数据库!$B$4:$AD$1003,MATCH(AC$12,数据库!$C$2:$R$2,)+1,0))","v":""},null,"","","","","",{"$f":"IF($AE26=\"\",\"\",MID($AE26,AJ$12+1,1))","v":""},"","","","","",{"$f":"IF($D26=\"\",\"\",VLOOKUP($D26,数据库!$B$4:$AD$1003,MATCH(AP$12,数据库!$C$2:$R$2,)+1,0))","v":""},null,"","","","","","","","","","","",{"$f":"IF($D26=\"\",\"\",VLOOKUP($D26,数据库!$B$4:$AD$1003,MATCH(BC$12,数据库!$C$2:$AD$2,)+1,0))","v":""},null,"","","","","","","","","","","",{"$f":"IF($D26=\"\",\"\",VLOOKUP($D26,数据库!$B$4:$AD$1003,MATCH(BP$12,数据库!$C$2:$R$2,)+1,0))","v":""},null,"","","","","","","","","","","",{"$f":"IF($D26=\"\",\"\",VLOOKUP($D26,数据库!$B$4:$AD$1003,MATCH(CC$12,数据库!$C$2:$R$2,)+1,0))","v":""},null,"","","","","","","","","","","",{"$f":"IF($D26=\"\",\"\",VLOOKUP($D26,数据库!$B$4:$AD$1003,MATCH(CP$12,数据库!$C$2:$AD$2,)+1,0))","v":""},null,"","","","","","","","","","","",{"$f":"IF($D26=\"\",\"\",VLOOKUP($D26,数据库!$B$4:$AD$1003,MATCH(DC$12,数据库!$C$2:$R$2,)+1,0))","v":""},null,"","","","","","","","","","","",{"$f":"IF($D26=\"\",\"\",VLOOKUP($D26,数据库!$B$4:$AD$1003,MATCH(DP$12,数据库!$C$2:$R$2,)+1,0))","v":""},null,"","","","","","","","","","","",{"$f":"IF($D26=\"\",\"\",VLOOKUP($D26,数据库!$B$4:$AD$1003,MATCH(EC$12,数据库!$C$2:$AD$2,)+1,0))","v":""},null,"","","","","","","","","","","",{"$f":"IF($D26=\"\",\"\",VLOOKUP($D26,数据库!$B$4:$AD$1003,MATCH(EP$12,数据库!$C$2:$R$2,)+1,0))","v":""},null,"","","","","","","","","","","",{"$f":"IF($D26=\"\",\"\",VLOOKUP($D26,数据库!$B$4:$AD$1003,MATCH(FC$12,数据库!$C$2:$R$2,)+1,0))","v":""},null,"","","","","","","","","","","",""]
[null,null,"","","","","","","","","","","","","",{"$f":"IF($D27=\"\",\"\",VLOOKUP($D27,数据库!$B$4:$AD$1003,MATCH(P$12,数据库!$C$2:$AD$2,)+1,0))","v":""},null,"",{"$f":"IF(R27=\"\",\"\",MID($R27,S$12+1,1))","v":""},"","","","","","","","","",{"$f":"IF($D27=\"\",\"\",VLOOKUP($D27,数据库!$B$4:$AD$1003,MATCH(AC$12,数据库!$C$2:$R$2,)+1,0))","v":""},null,"","","","","","","","","","","",{"$f":"IF($D27=\"\",\"\",VLOOKUP($D27,数据库!$B$4:$AD$1003,MATCH(AP$12,数据库!$C$2:$R$2,)+1,0))","v":""},null,"","","","","","","","","","","",{"$f":"IF($D27=\"\",\"\",VLOOKUP($D27,数据库!$B$4:$AD$1003,MATCH(BC$12,数据库!$C$2:$AD$2,)+1,0))","v":""},null,"","","","","","","","","","","",{"$f":"IF($D27=\"\",\"\",VLOOKUP($D27,数据库!$B$4:$AD$1003,MATCH(BP$12,数据库!$C$2:$R$2,)+1,0))","v":""},null,"","","","","","","","","","","",{"$f":"IF($D27=\"\",\"\",VLOOKUP($D27,数据库!$B$4:$AD$1003,MATCH(CC$12,数据库!$C$2:$R$2,)+1,0))","v":""},null,"","","","","","","","","","","",{"$f":"IF($D27=\"\",\"\",VLOOKUP($D27,数据库!$B$4:$AD$1003,MATCH(CP$12,数据库!$C$2:$AD$2,)+1,0))","v":""},null,"","","","","","","","","","","",{"$f":"IF($D27=\"\",\"\",VLOOKUP($D27,数据库!$B$4:$AD$1003,MATCH(DC$12,数据库!$C$2:$R$2,)+1,0))","v":""},null,"","","","","","","","","","","",{"$f":"IF($D27=\"\",\"\",VLOOKUP($D27,数据库!$B$4:$AD$1003,MATCH(DP$12,数据库!$C$2:$R$2,)+1,0))","v":""},null,"","","","","","","","","","","",{"$f":"IF($D27=\"\",\"\",VLOOKUP($D27,数据库!$B$4:$AD$1003,MATCH(EC$12,数据库!$C$2:$AD$2,)+1,0))","v":""},null,"","","","","","","","","","","",{"$f":"IF($D27=\"\",\"\",VLOOKUP($D27,数据库!$B$4:$AD$1003,MATCH(EP$12,数据库!$C$2:$R$2,)+1,0))","v":""},null,"","","","","","","","","","","",{"$f":"IF($D27=\"\",\"\",VLOOKUP($D27,数据库!$B$4:$AD$1003,MATCH(FC$12,数据库!$C$2:$R$2,)+1,0))","v":""},null,"","","","","","","","","","","",""]
[null,null,"","","","","","","","","","","","","",{"$f":"IF($D28=\"\",\"\",VLOOKUP($D28,数据库!$B$4:$AD$1003,MATCH(P$12,数据库!$C$2:$AD$2,)+1,0))","v":""},null,"",{"$f":"IF(R28=\"\",\"\",MID($R28,S$12+1,1))","v":""},"","","","","","","","","",{"$f":"IF($D28=\"\",\"\",VLOOKUP($D28,数据库!$B$4:$AD$1003,MATCH(AC$12,数据库!$C$2:$R$2,)+1,0))","v":""},null,"","","","","","","","","","","",{"$f":"IF($D28=\"\",\"\",VLOOKUP($D28,数据库!$B$4:$AD$1003,MATCH(AP$12,数据库!$C$2:$R$2,)+1,0))","v":""},null,"","","","","","","","","","","",{"$f":"IF($D28=\"\",\"\",VLOOKUP($D28,数据库!$B$4:$AD$1003,MATCH(BC$12,数据库!$C$2:$AD$2,)+1,0))","v":""},null,"","","","","","","","","","","",{"$f":"IF($D28=\"\",\"\",VLOOKUP($D28,数据库!$B$4:$AD$1003,MATCH(BP$12,数据库!$C$2:$R$2,)+1,0))","v":""},null,"","","","","","","","","","","",{"$f":"IF($D28=\"\",\"\",VLOOKUP($D28,数据库!$B$4:$AD$1003,MATCH(CC$12,数据库!$C$2:$R$2,)+1,0))","v":""},null,"","","","","","","","","","","",{"$f":"IF($D28=\"\",\"\",VLOOKUP($D28,数据库!$B$4:$AD$1003,MATCH(CP$12,数据库!$C$2:$AD$2,)+1,0))","v":""},null,"","","","","","","","","","","",{"$f":"IF($D28=\"\",\"\",VLOOKUP($D28,数据库!$B$4:$AD$1003,MATCH(DC$12,数据库!$C$2:$R$2,)+1,0))","v":""},null,"","","","","","","","","","","",{"$f":"IF($D28=\"\",\"\",VLOOKUP($D28,数据库!$B$4:$AD$1003,MATCH(DP$12,数据库!$C$2:$R$2,)+1,0))","v":""},null,"","","","","","","","","","","",{"$f":"IF($D28=\"\",\"\",VLOOKUP($D28,数据库!$B$4:$AD$1003,MATCH(EC$12,数据库!$C$2:$AD$2,)+1,0))","v":""},null,"","","","","","","","","","","",{"$f":"IF($D28=\"\",\"\",VLOOKUP($D28,数据库!$B$4:$AD$1003,MATCH(EP$12,数据库!$C$2:$R$2,)+1,0))","v":""},null,"","","","","","","","","","","",{"$f":"IF($D28=\"\",\"\",VLOOKUP($D28,数据库!$B$4:$AD$1003,MATCH(FC$12,数据库!$C$2:$R$2,)+1,0))","v":""},null,"","","","","","","","","","","",""]
[null,null,"","","","","","","","","","","","","",{"$f":"IF($D29=\"\",\"\",VLOOKUP($D29,数据库!$B$4:$AD$1003,MATCH(P$12,数据库!$C$2:$AD$2,)+1,0))","v":""},null,"",{"$f":"IF(R29=\"\",\"\",MID($R29,S$12+1,1))","v":""},"","","","","","","","","",{"$f":"IF($D29=\"\",\"\",VLOOKUP($D29,数据库!$B$4:$AD$1003,MATCH(AC$12,数据库!$C$2:$R$2,)+1,0))","v":""},null,"","","","","","","","","","","",{"$f":"IF($D29=\"\",\"\",VLOOKUP($D29,数据库!$B$4:$AD$1003,MATCH(AP$12,数据库!$C$2:$R$2,)+1,0))","v":""},null,"","","","","","","","","","","",{"$f":"IF($D29=\"\",\"\",VLOOKUP($D29,数据库!$B$4:$AD$1003,MATCH(BC$12,数据库!$C$2:$AD$2,)+1,0))","v":""},null,"","","","","","","","","","","",{"$f":"IF($D29=\"\",\"\",VLOOKUP($D29,数据库!$B$4:$AD$1003,MATCH(BP$12,数据库!$C$2:$R$2,)+1,0))","v":""},null,"","","","","","","","","","","",{"$f":"IF($D29=\"\",\"\",VLOOKUP($D29,数据库!$B$4:$AD$1003,MATCH(CC$12,数据库!$C$2:$R$2,)+1,0))","v":""},null,"","","","","","","","","","","",{"$f":"IF($D29=\"\",\"\",VLOOKUP($D29,数据库!$B$4:$AD$1003,MATCH(CP$12,数据库!$C$2:$AD$2,)+1,0))","v":""},null,"","","","","","","","","","","",{"$f":"IF($D29=\"\",\"\",VLOOKUP($D29,数据库!$B$4:$AD$1003,MATCH(DC$12,数据库!$C$2:$R$2,)+1,0))","v":""},null,"","","","","","","","","","","",{"$f":"IF($D29=\"\",\"\",VLOOKUP($D29,数据库!$B$4:$AD$1003,MATCH(DP$12,数据库!$C$2:$R$2,)+1,0))","v":""},null,"","","","","","","","","","","",{"$f":"IF($D29=\"\",\"\",VLOOKUP($D29,数据库!$B$4:$AD$1003,MATCH(EC$12,数据库!$C$2:$AD$2,)+1,0))","v":""},null,"","","","","","","","","","","",{"$f":"IF($D29=\"\",\"\",VLOOKUP($D29,数据库!$B$4:$AD$1003,MATCH(EP$12,数据库!$C$2:$R$2,)+1,0))","v":""},null,"","","","","","","","","","","",{"$f":"IF($D29=\"\",\"\",VLOOKUP($D29,数据库!$B$4:$AD$1003,MATCH(FC$12,数据库!$C$2:$R$2,)+1,0))","v":""},null,"","","","","","","","","","","",""]
[null,null,"","","","","","","","","","","","","",{"$f":"IF($D30=\"\",\"\",VLOOKUP($D30,数据库!$B$4:$AD$1003,MATCH(P$12,数据库!$C$2:$AD$2,)+1,0))","v":""},null,"",{"$f":"IF(R30=\"\",\"\",MID($R30,S$12+1,1))","v":""},"","","","","","","","","",{"$f":"IF($D30=\"\",\"\",VLOOKUP($D30,数据库!$B$4:$AD$1003,MATCH(AC$12,数据库!$C$2:$R$2,)+1,0))","v":""},null,"","","","","","","","","","","",{"$f":"IF($D30=\"\",\"\",VLOOKUP($D30,数据库!$B$4:$AD$1003,MATCH(AP$12,数据库!$C$2:$R$2,)+1,0))","v":""},null,"","","","","","","","","","","",{"$f":"IF($D30=\"\",\"\",VLOOKUP($D30,数据库!$B$4:$AD$1003,MATCH(BC$12,数据库!$C$2:$AD$2,)+1,0))","v":""},null,"","","","","","","","","","","",{"$f":"IF($D30=\"\",\"\",VLOOKUP($D30,数据库!$B$4:$AD$1003,MATCH(BP$12,数据库!$C$2:$R$2,)+1,0))","v":""},null,"","","","","","","","","","","",{"$f":"IF($D30=\"\",\"\",VLOOKUP($D30,数据库!$B$4:$AD$1003,MATCH(CC$12,数据库!$C$2:$R$2,)+1,0))","v":""},null,"","","","","","","","","","","",{"$f":"IF($D30=\"\",\"\",VLOOKUP($D30,数据库!$B$4:$AD$1003,MATCH(CP$12,数据库!$C$2:$AD$2,)+1,0))","v":""},null,"","","","","","","","","","","",{"$f":"IF($D30=\"\",\"\",VLOOKUP($D30,数据库!$B$4:$AD$1003,MATCH(DC$12,数据库!$C$2:$R$2,)+1,0))","v":""},null,"","","","","","","","","","","",{"$f":"IF($D30=\"\",\"\",VLOOKUP($D30,数据库!$B$4:$AD$1003,MATCH(DP$12,数据库!$C$2:$R$2,)+1,0))","v":""},null,"","","","","","","","","","","",{"$f":"IF($D30=\"\",\"\",VLOOKUP($D30,数据库!$B$4:$AD$1003,MATCH(EC$12,数据库!$C$2:$AD$2,)+1,0))","v":""},null,"","","","","","","","","","","",{"$f":"IF($D30=\"\",\"\",VLOOKUP($D30,数据库!$B$4:$AD$1003,MATCH(EP$12,数据库!$C$2:$R$2,)+1,0))","v":""},null,"","","","","","","","","","","",{"$f":"IF($D30=\"\",\"\",VLOOKUP($D30,数据库!$B$4:$AD$1003,MATCH(FC$12,数据库!$C$2:$R$2,)+1,0))","v":""},null,"","","","","","","","","","","",""]
[null,null,"","","","","","","","","","","","","",{"$f":"IF($D31=\"\",\"\",VLOOKUP($D31,数据库!$B$4:$AD$1003,MATCH(P$12,数据库!$C$2:$AD$2,)+1,0))","v":""},null,"",{"$f":"IF(R31=\"\",\"\",MID($R31,S$12+1,1))","v":""},"","","","","","","","","",{"$f":"IF($D31=\"\",\"\",VLOOKUP($D31,数据库!$B$4:$AD$1003,MATCH(AC$12,数据库!$C$2:$R$2,)+1,0))","v":""},null,"","","","","","","","","","","",{"$f":"IF($D31=\"\",\"\",VLOOKUP($D31,数据库!$B$4:$AD$1003,MATCH(AP$12,数据库!$C$2:$R$2,)+1,0))","v":""},null,"","","","","","","","","","","",{"$f":"IF($D31=\"\",\"\",VLOOKUP($D31,数据库!$B$4:$AD$1003,MATCH(BC$12,数据库!$C$2:$AD$2,)+1,0))","v":""},null,"","","","","","","","","","","",{"$f":"IF($D31=\"\",\"\",VLOOKUP($D31,数据库!$B$4:$AD$1003,MATCH(BP$12,数据库!$C$2:$R$2,)+1,0))","v":""},null,"","","","","","","","","","","",{"$f":"IF($D31=\"\",\"\",VLOOKUP($D31,数据库!$B$4:$AD$1003,MATCH(CC$12,数据库!$C$2:$R$2,)+1,0))","v":""},null,"","","","","","","","","","","",{"$f":"IF($D31=\"\",\"\",VLOOKUP($D31,数据库!$B$4:$AD$1003,MATCH(CP$12,数据库!$C$2:$AD$2,)+1,0))","v":""},null,"","","","","","","","","","","",{"$f":"IF($D31=\"\",\"\",VLOOKUP($D31,数据库!$B$4:$AD$1003,MATCH(DC$12,数据库!$C$2:$R$2,)+1,0))","v":""},null,"","","","","","","","","","","",{"$f":"IF($D31=\"\",\"\",VLOOKUP($D31,数据库!$B$4:$AD$1003,MATCH(DP$12,数据库!$C$2:$R$2,)+1,0))","v":""},null,"","","","","","","","","","","",{"$f":"IF($D31=\"\",\"\",VLOOKUP($D31,数据库!$B$4:$AD$1003,MATCH(EC$12,数据库!$C$2:$AD$2,)+1,0))","v":""},null,"","","","","","","","","","","",{"$f":"IF($D31=\"\",\"\",VLOOKUP($D31,数据库!$B$4:$AD$1003,MATCH(EP$12,数据库!$C$2:$R$2,)+1,0))","v":""},null,"","","","","","","","","","","",{"$f":"IF($D31=\"\",\"\",VLOOKUP($D31,数据库!$B$4:$AD$1003,MATCH(FC$12,数据库!$C$2:$R$2,)+1,0))","v":""},null,"","","","","","","","","","","",""]
[null,null,"","","","","","","","","","","","","",{"$f":"IF($D32=\"\",\"\",VLOOKUP($D32,数据库!$B$4:$AD$1003,MATCH(P$12,数据库!$C$2:$AD$2,)+1,0))","v":""},null,"",{"$f":"IF(R32=\"\",\"\",MID($R32,S$12+1,1))","v":""},"","","","","","","","","",{"$f":"IF($D32=\"\",\"\",VLOOKUP($D32,数据库!$B$4:$AD$1003,MATCH(AC$12,数据库!$C$2:$R$2,)+1,0))","v":""},null,"","","","","","","","","","","",{"$f":"IF($D32=\"\",\"\",VLOOKUP($D32,数据库!$B$4:$AD$1003,MATCH(AP$12,数据库!$C$2:$R$2,)+1,0))","v":""},null,"","","","","","","","","","","",{"$f":"IF($D32=\"\",\"\",VLOOKUP($D32,数据库!$B$4:$AD$1003,MATCH(BC$12,数据库!$C$2:$AD$2,)+1,0))","v":""},null,"","","","","","","","","","","",{"$f":"IF($D32=\"\",\"\",VLOOKUP($D32,数据库!$B$4:$AD$1003,MATCH(BP$12,数据库!$C$2:$R$2,)+1,0))","v":""},null,"","","","","","","","","","","",{"$f":"IF($D32=\"\",\"\",VLOOKUP($D32,数据库!$B$4:$AD$1003,MATCH(CC$12,数据库!$C$2:$R$2,)+1,0))","v":""},null,"","","","","","","","","","","",{"$f":"IF($D32=\"\",\"\",VLOOKUP($D32,数据库!$B$4:$AD$1003,MATCH(CP$12,数据库!$C$2:$AD$2,)+1,0))","v":""},null,"","","","","","","","","","","",{"$f":"IF($D32=\"\",\"\",VLOOKUP($D32,数据库!$B$4:$AD$1003,MATCH(DC$12,数据库!$C$2:$R$2,)+1,0))","v":""},null,"","","","","","","","","","","",{"$f":"IF($D32=\"\",\"\",VLOOKUP($D32,数据库!$B$4:$AD$1003,MATCH(DP$12,数据库!$C$2:$R$2,)+1,0))","v":""},null,"","","","","","","","","","","",{"$f":"IF($D32=\"\",\"\",VLOOKUP($D32,数据库!$B$4:$AD$1003,MATCH(EC$12,数据库!$C$2:$AD$2,)+1,0))","v":""},null,"","","","","","","","","","","",{"$f":"IF($D32=\"\",\"\",VLOOKUP($D32,数据库!$B$4:$AD$1003,MATCH(EP$12,数据库!$C$2:$R$2,)+1,0))","v":""},null,"","","","","","","","","","","",{"$f":"IF($D32=\"\",\"\",VLOOKUP($D32,数据库!$B$4:$AD$1003,MATCH(FC$12,数据库!$C$2:$R$2,)+1,0))","v":""},null,"","","","","","","","","","","",""]
[null,null,"","","","","","","","","","","","","",{"$f":"IF($D33=\"\",\"\",VLOOKUP($D33,数据库!$B$4:$AD$1003,MATCH(P$12,数据库!$C$2:$AD$2,)+1,0))","v":""},null,"",{"$f":"IF(R33=\"\",\"\",MID($R33,S$12+1,1))","v":""},"","","","","","","","","",{"$f":"IF($D33=\"\",\"\",VLOOKUP($D33,数据库!$B$4:$AD$1003,MATCH(AC$12,数据库!$C$2:$R$2,)+1,0))","v":""},null,"","","","","","","","","","","",{"$f":"IF($D33=\"\",\"\",VLOOKUP($D33,数据库!$B$4:$AD$1003,MATCH(AP$12,数据库!$C$2:$R$2,)+1,0))","v":""},null,"","","","","","","","","","","",{"$f":"IF($D33=\"\",\"\",VLOOKUP($D33,数据库!$B$4:$AD$1003,MATCH(BC$12,数据库!$C$2:$AD$2,)+1,0))","v":""},null,"","","","","","","","","","","",{"$f":"IF($D33=\"\",\"\",VLOOKUP($D33,数据库!$B$4:$AD$1003,MATCH(BP$12,数据库!$C$2:$R$2,)+1,0))","v":""},null,"","","","","","","","","","","",{"$f":"IF($D33=\"\",\"\",VLOOKUP($D33,数据库!$B$4:$AD$1003,MATCH(CC$12,数据库!$C$2:$R$2,)+1,0))","v":""},null,"","","","","","","","","","","",{"$f":"IF($D33=\"\",\"\",VLOOKUP($D33,数据库!$B$4:$AD$1003,MATCH(CP$12,数据库!$C$2:$AD$2,)+1,0))","v":""},null,"","","","","","","","","","","",{"$f":"IF($D33=\"\",\"\",VLOOKUP($D33,数据库!$B$4:$AD$1003,MATCH(DC$12,数据库!$C$2:$R$2,)+1,0))","v":""},null,"","","","","","","","","","","",{"$f":"IF($D33=\"\",\"\",VLOOKUP($D33,数据库!$B$4:$AD$1003,MATCH(DP$12,数据库!$C$2:$R$2,)+1,0))","v":""},null,"","","","","","","","","","","",{"$f":"IF($D33=\"\",\"\",VLOOKUP($D33,数据库!$B$4:$AD$1003,MATCH(EC$12,数据库!$C$2:$AD$2,)+1,0))","v":""},null,"","","","","","","","","","","",{"$f":"IF($D33=\"\",\"\",VLOOKUP($D33,数据库!$B$4:$AD$1003,MATCH(EP$12,数据库!$C$2:$R$2,)+1,0))","v":""},null,"","","","","","","","","","","",{"$f":"IF($D33=\"\",\"\",VLOOKUP($D33,数据库!$B$4:$AD$1003,MATCH(FC$12,数据库!$C$2:$R$2,)+1,0))","v":""},null,"","","","","","","","","","","",""]
[null,null,"","","","","","","","","","","","","",{"$f":"IF($D34=\"\",\"\",VLOOKUP($D34,数据库!$B$4:$AD$1003,MATCH(P$12,数据库!$C$2:$AD$2,)+1,0))","v":""},null,"",{"$f":"IF(R34=\"\",\"\",MID($R34,S$12+1,1))","v":""},"","","","","","","","","",{"$f":"IF($D34=\"\",\"\",VLOOKUP($D34,数据库!$B$4:$AD$1003,MATCH(AC$12,数据库!$C$2:$R$2,)+1,0))","v":""},null,"","","","","","","","","","","",{"$f":"IF($D34=\"\",\"\",VLOOKUP($D34,数据库!$B$4:$AD$1003,MATCH(AP$12,数据库!$C$2:$R$2,)+1,0))","v":""},null,"","","","","","","","","","","",{"$f":"IF($D34=\"\",\"\",VLOOKUP($D34,数据库!$B$4:$AD$1003,MATCH(BC$12,数据库!$C$2:$AD$2,)+1,0))","v":""},null,"","","","","","","","","","","",{"$f":"IF($D34=\"\",\"\",VLOOKUP($D34,数据库!$B$4:$AD$1003,MATCH(BP$12,数据库!$C$2:$R$2,)+1,0))","v":""},null,"","","","","","","","","","","",{"$f":"IF($D34=\"\",\"\",VLOOKUP($D34,数据库!$B$4:$AD$1003,MATCH(CC$12,数据库!$C$2:$R$2,)+1,0))","v":""},null,"","","","","","","","","","","",{"$f":"IF($D34=\"\",\"\",VLOOKUP($D34,数据库!$B$4:$AD$1003,MATCH(CP$12,数据库!$C$2:$AD$2,)+1,0))","v":""},null,"","","","","","","","","","","",{"$f":"IF($D34=\"\",\"\",VLOOKUP($D34,数据库!$B$4:$AD$1003,MATCH(DC$12,数据库!$C$2:$R$2,)+1,0))","v":""},null,"","","","","","","","","","","",{"$f":"IF($D34=\"\",\"\",VLOOKUP($D34,数据库!$B$4:$AD$1003,MATCH(DP$12,数据库!$C$2:$R$2,)+1,0))","v":""},null,"","","","","","","","","","","",{"$f":"IF($D34=\"\",\"\",VLOOKUP($D34,数据库!$B$4:$AD$1003,MATCH(EC$12,数据库!$C$2:$AD$2,)+1,0))","v":""},null,"","","","","","","","","","","",{"$f":"IF($D34=\"\",\"\",VLOOKUP($D34,数据库!$B$4:$AD$1003,MATCH(EP$12,数据库!$C$2:$R$2,)+1,0))","v":""},null,"","","","","","","","","","","",{"$f":"IF($D34=\"\",\"\",VLOOKUP($D34,数据库!$B$4:$AD$1003,MATCH(FC$12,数据库!$C$2:$R$2,)+1,0))","v":""},null,"","","","","","","","","","","",""]
[null,null,"","","","","","","","","","","","","",{"$f":"IF($D35=\"\",\"\",VLOOKUP($D35,数据库!$B$4:$AD$1003,MATCH(P$12,数据库!$C$2:$AD$2,)+1,0))","v":""},null,"",{"$f":"IF(R35=\"\",\"\",MID($R35,S$12+1,1))","v":""},"","","","","","","","","",{"$f":"IF($D35=\"\",\"\",VLOOKUP($D35,数据库!$B$4:$AD$1003,MATCH(AC$12,数据库!$C$2:$R$2,)+1,0))","v":""},null,"","","","","","","","","","","",{"$f":"IF($D35=\"\",\"\",VLOOKUP($D35,数据库!$B$4:$AD$1003,MATCH(AP$12,数据库!$C$2:$R$2,)+1,0))","v":""},null,"","","","","","","","","","","",{"$f":"IF($D35=\"\",\"\",VLOOKUP($D35,数据库!$B$4:$AD$1003,MATCH(BC$12,数据库!$C$2:$AD$2,)+1,0))","v":""},null,"","","","","","","","","","","",{"$f":"IF($D35=\"\",\"\",VLOOKUP($D35,数据库!$B$4:$AD$1003,MATCH(BP$12,数据库!$C$2:$R$2,)+1,0))","v":""},null,"","","","","","","","","","","",{"$f":"IF($D35=\"\",\"\",VLOOKUP($D35,数据库!$B$4:$AD$1003,MATCH(CC$12,数据库!$C$2:$R$2,)+1,0))","v":""},null,"","","","","","","","","","","",{"$f":"IF($D35=\"\",\"\",VLOOKUP($D35,数据库!$B$4:$AD$1003,MATCH(CP$12,数据库!$C$2:$AD$2,)+1,0))","v":""},null,"","","","","","","","","","","",{"$f":"IF($D35=\"\",\"\",VLOOKUP($D35,数据库!$B$4:$AD$1003,MATCH(DC$12,数据库!$C$2:$R$2,)+1,0))","v":""},null,"","","","","","","","","","","",{"$f":"IF($D35=\"\",\"\",VLOOKUP($D35,数据库!$B$4:$AD$1003,MATCH(DP$12,数据库!$C$2:$R$2,)+1,0))","v":""},null,"","","","","","","","","","","",{"$f":"IF($D35=\"\",\"\",VLOOKUP($D35,数据库!$B$4:$AD$1003,MATCH(EC$12,数据库!$C$2:$AD$2,)+1,0))","v":""},null,"","","","","","","","","","","",{"$f":"IF($D35=\"\",\"\",VLOOKUP($D35,数据库!$B$4:$AD$1003,MATCH(EP$12,数据库!$C$2:$R$2,)+1,0))","v":""},null,"","","","","","","","","","","",{"$f":"IF($D35=\"\",\"\",VLOOKUP($D35,数据库!$B$4:$AD$1003,MATCH(FC$12,数据库!$C$2:$R$2,)+1,0))","v":""},null,"","","","","","","","","","","",""]
[null,null,"","","","","","","","","","","","","",{"$f":"IF($D36=\"\",\"\",VLOOKUP($D36,数据库!$B$4:$AD$1003,MATCH(P$12,数据库!$C$2:$AD$2,)+1,0))","v":""},null,"",{"$f":"IF(R36=\"\",\"\",MID($R36,S$12+1,1))","v":""},"","","","","","","","","",{"$f":"IF($D36=\"\",\"\",VLOOKUP($D36,数据库!$B$4:$AD$1003,MATCH(AC$12,数据库!$C$2:$R$2,)+1,0))","v":""},null,"","","","","","","","","","","",{"$f":"IF($D36=\"\",\"\",VLOOKUP($D36,数据库!$B$4:$AD$1003,MATCH(AP$12,数据库!$C$2:$R$2,)+1,0))","v":""},null,"","","","","","","","","","","",{"$f":"IF($D36=\"\",\"\",VLOOKUP($D36,数据库!$B$4:$AD$1003,MATCH(BC$12,数据库!$C$2:$AD$2,)+1,0))","v":""},null,"","","","","","","","","","","",{"$f":"IF($D36=\"\",\"\",VLOOKUP($D36,数据库!$B$4:$AD$1003,MATCH(BP$12,数据库!$C$2:$R$2,)+1,0))","v":""},null,"","","","","","","","","","","",{"$f":"IF($D36=\"\",\"\",VLOOKUP($D36,数据库!$B$4:$AD$1003,MATCH(CC$12,数据库!$C$2:$R$2,)+1,0))","v":""},null,"","","","","","","","","","","",{"$f":"IF($D36=\"\",\"\",VLOOKUP($D36,数据库!$B$4:$AD$1003,MATCH(CP$12,数据库!$C$2:$AD$2,)+1,0))","v":""},null,"","","","","","","","","","","",{"$f":"IF($D36=\"\",\"\",VLOOKUP($D36,数据库!$B$4:$AD$1003,MATCH(DC$12,数据库!$C$2:$R$2,)+1,0))","v":""},null,"","","","","","","","","","","",{"$f":"IF($D36=\"\",\"\",VLOOKUP($D36,数据库!$B$4:$AD$1003,MATCH(DP$12,数据库!$C$2:$R$2,)+1,0))","v":""},null,"","","","","","","","","","","",{"$f":"IF($D36=\"\",\"\",VLOOKUP($D36,数据库!$B$4:$AD$1003,MATCH(EC$12,数据库!$C$2:$AD$2,)+1,0))","v":""},null,"","","","","","","","","","","",{"$f":"IF($D36=\"\",\"\",VLOOKUP($D36,数据库!$B$4:$AD$1003,MATCH(EP$12,数据库!$C$2:$R$2,)+1,0))","v":""},null,"","","","","","","","","","","",{"$f":"IF($D36=\"\",\"\",VLOOKUP($D36,数据库!$B$4:$AD$1003,MATCH(FC$12,数据库!$C$2:$R$2,)+1,0))","v":""},null,"","","","","","","","","","","",""]
[null,null,"","","","","","","","","","","","","",{"$f":"IF($D37=\"\",\"\",VLOOKUP($D37,数据库!$B$4:$AD$1003,MATCH(P$12,数据库!$C$2:$AD$2,)+1,0))","v":""},null,"",{"$f":"IF(R37=\"\",\"\",MID($R37,S$12+1,1))","v":""},"","","","","","","","","",{"$f":"IF($D37=\"\",\"\",VLOOKUP($D37,数据库!$B$4:$AD$1003,MATCH(AC$12,数据库!$C$2:$R$2,)+1,0))","v":""},null,"","","","","","","","","","","",{"$f":"IF($D37=\"\",\"\",VLOOKUP($D37,数据库!$B$4:$AD$1003,MATCH(AP$12,数据库!$C$2:$R$2,)+1,0))","v":""},null,"","","","","","","","","","","",{"$f":"IF($D37=\"\",\"\",VLOOKUP($D37,数据库!$B$4:$AD$1003,MATCH(BC$12,数据库!$C$2:$AD$2,)+1,0))","v":""},null,"","","","","","","","","","","",{"$f":"IF($D37=\"\",\"\",VLOOKUP($D37,数据库!$B$4:$AD$1003,MATCH(BP$12,数据库!$C$2:$R$2,)+1,0))","v":""},null,"","","","","","","","","","","",{"$f":"IF($D37=\"\",\"\",VLOOKUP($D37,数据库!$B$4:$AD$1003,MATCH(CC$12,数据库!$C$2:$R$2,)+1,0))","v":""},null,"","","","","","","","","","","",{"$f":"IF($D37=\"\",\"\",VLOOKUP($D37,数据库!$B$4:$AD$1003,MATCH(CP$12,数据库!$C$2:$AD$2,)+1,0))","v":""},null,"","","","","","","","","","","",{"$f":"IF($D37=\"\",\"\",VLOOKUP($D37,数据库!$B$4:$AD$1003,MATCH(DC$12,数据库!$C$2:$R$2,)+1,0))","v":""},null,"","","","","","","","","","","",{"$f":"IF($D37=\"\",\"\",VLOOKUP($D37,数据库!$B$4:$AD$1003,MATCH(DP$12,数据库!$C$2:$R$2,)+1,0))","v":""},null,"","","","","","","","","","","",{"$f":"IF($D37=\"\",\"\",VLOOKUP($D37,数据库!$B$4:$AD$1003,MATCH(EC$12,数据库!$C$2:$AD$2,)+1,0))","v":""},null,"","","","","","","","","","","",{"$f":"IF($D37=\"\",\"\",VLOOKUP($D37,数据库!$B$4:$AD$1003,MATCH(EP$12,数据库!$C$2:$R$2,)+1,0))","v":""},null,"","","","","","","","","","","",{"$f":"IF($D37=\"\",\"\",VLOOKUP($D37,数据库!$B$4:$AD$1003,MATCH(FC$12,数据库!$C$2:$R$2,)+1,0))","v":""},null,"","","","","","","","","","","",""]
[null,null,"","","","","","","","","","","","","",{"$f":"IF($D38=\"\",\"\",VLOOKUP($D38,数据库!$B$4:$AD$1003,MATCH(P$12,数据库!$C$2:$AD$2,)+1,0))","v":""},null,"",{"$f":"IF(R38=\"\",\"\",MID($R38,S$12+1,1))","v":""},"","","","","","","","","",{"$f":"IF($D38=\"\",\"\",VLOOKUP($D38,数据库!$B$4:$AD$1003,MATCH(AC$12,数据库!$C$2:$R$2,)+1,0))","v":""},null,"","","","","","","","","","","",{"$f":"IF($D38=\"\",\"\",VLOOKUP($D38,数据库!$B$4:$AD$1003,MATCH(AP$12,数据库!$C$2:$R$2,)+1,0))","v":""},null,"","","","","","","","","","","",{"$f":"IF($D38=\"\",\"\",VLOOKUP($D38,数据库!$B$4:$AD$1003,MATCH(BC$12,数据库!$C$2:$AD$2,)+1,0))","v":""},null,"","","","","","","","","","","",{"$f":"IF($D38=\"\",\"\",VLOOKUP($D38,数据库!$B$4:$AD$1003,MATCH(BP$12,数据库!$C$2:$R$2,)+1,0))","v":""},null,"","","","","","","","","","","",{"$f":"IF($D38=\"\",\"\",VLOOKUP($D38,数据库!$B$4:$AD$1003,MATCH(CC$12,数据库!$C$2:$R$2,)+1,0))","v":""},null,"","","","","","","","","","","",{"$f":"IF($D38=\"\",\"\",VLOOKUP($D38,数据库!$B$4:$AD$1003,MATCH(CP$12,数据库!$C$2:$AD$2,)+1,0))","v":""},null,"","","","","","","","","","","",{"$f":"IF($D38=\"\",\"\",VLOOKUP($D38,数据库!$B$4:$AD$1003,MATCH(DC$12,数据库!$C$2:$R$2,)+1,0))","v":""},null,"","","","","","","","","","","",{"$f":"IF($D38=\"\",\"\",VLOOKUP($D38,数据库!$B$4:$AD$1003,MATCH(DP$12,数据库!$C$2:$R$2,)+1,0))","v":""},null,"","","","","","","","","","","",{"$f":"IF($D38=\"\",\"\",VLOOKUP($D38,数据库!$B$4:$AD$1003,MATCH(EC$12,数据库!$C$2:$AD$2,)+1,0))","v":""},null,"","","","","","","","","","","",{"$f":"IF($D38=\"\",\"\",VLOOKUP($D38,数据库!$B$4:$AD$1003,MATCH(EP$12,数据库!$C$2:$R$2,)+1,0))","v":""},null,"","","","","","","","","","","",{"$f":"IF($D38=\"\",\"\",VLOOKUP($D38,数据库!$B$4:$AD$1003,MATCH(FC$12,数据库!$C$2:$R$2,)+1,0))","v":""},null,"","","","","","","","","","","",""]
[null,null,"","","","","","","","","","","","","",{"$f":"IF($D39=\"\",\"\",VLOOKUP($D39,数据库!$B$4:$AD$1003,MATCH(P$12,数据库!$C$2:$AD$2,)+1,0))","v":""},null,"",{"$f":"IF(R39=\"\",\"\",MID($R39,S$12+1,1))","v":""},"","","","","","","","","",{"$f":"IF($D39=\"\",\"\",VLOOKUP($D39,数据库!$B$4:$AD$1003,MATCH(AC$12,数据库!$C$2:$R$2,)+1,0))","v":""},null,"","","","","","","","","","","",{"$f":"IF($D39=\"\",\"\",VLOOKUP($D39,数据库!$B$4:$AD$1003,MATCH(AP$12,数据库!$C$2:$R$2,)+1,0))","v":""},null,"","","","","","","","","","","",{"$f":"IF($D39=\"\",\"\",VLOOKUP($D39,数据库!$B$4:$AD$1003,MATCH(BC$12,数据库!$C$2:$AD$2,)+1,0))","v":""},null,"","","","","","","","","","","",{"$f":"IF($D39=\"\",\"\",VLOOKUP($D39,数据库!$B$4:$AD$1003,MATCH(BP$12,数据库!$C$2:$R$2,)+1,0))","v":""},null,"","","","","","","","","","","",{"$f":"IF($D39=\"\",\"\",VLOOKUP($D39,数据库!$B$4:$AD$1003,MATCH(CC$12,数据库!$C$2:$R$2,)+1,0))","v":""},null,"","","","","","","","","","","",{"$f":"IF($D39=\"\",\"\",VLOOKUP($D39,数据库!$B$4:$AD$1003,MATCH(CP$12,数据库!$C$2:$AD$2,)+1,0))","v":""},null,"","","","","","","","","","","",{"$f":"IF($D39=\"\",\"\",VLOOKUP($D39,数据库!$B$4:$AD$1003,MATCH(DC$12,数据库!$C$2:$R$2,)+1,0))","v":""},null,"","","","","","","","","","","",{"$f":"IF($D39=\"\",\"\",VLOOKUP($D39,数据库!$B$4:$AD$1003,MATCH(DP$12,数据库!$C$2:$R$2,)+1,0))","v":""},null,"","","","","","","","","","","",{"$f":"IF($D39=\"\",\"\",VLOOKUP($D39,数据库!$B$4:$AD$1003,MATCH(EC$12,数据库!$C$2:$AD$2,)+1,0))","v":""},null,"","","","","","","","","","","",{"$f":"IF($D39=\"\",\"\",VLOOKUP($D39,数据库!$B$4:$AD$1003,MATCH(EP$12,数据库!$C$2:$R$2,)+1,0))","v":""},null,"","","","","","","","","","","",{"$f":"IF($D39=\"\",\"\",VLOOKUP($D39,数据库!$B$4:$AD$1003,MATCH(FC$12,数据库!$C$2:$R$2,)+1,0))","v":""},null,"","","","","","","","","","","",""]
[null,null,"","","","","","","","","","","","","",{"$f":"IF($D40=\"\",\"\",VLOOKUP($D40,数据库!$B$4:$AD$1003,MATCH(P$12,数据库!$C$2:$AD$2,)+1,0))","v":""},null,"",{"$f":"IF(R40=\"\",\"\",MID($R40,S$12+1,1))","v":""},"","","","","","","","","",{"$f":"IF($D40=\"\",\"\",VLOOKUP($D40,数据库!$B$4:$AD$1003,MATCH(AC$12,数据库!$C$2:$R$2,)+1,0))","v":""},null,"","","","","","","","","","","",{"$f":"IF($D40=\"\",\"\",VLOOKUP($D40,数据库!$B$4:$AD$1003,MATCH(AP$12,数据库!$C$2:$R$2,)+1,0))","v":""},null,"","","","","","","","","","","",{"$f":"IF($D40=\"\",\"\",VLOOKUP($D40,数据库!$B$4:$AD$1003,MATCH(BC$12,数据库!$C$2:$AD$2,)+1,0))","v":""},null,"","","","","","","","","","","",{"$f":"IF($D40=\"\",\"\",VLOOKUP($D40,数据库!$B$4:$AD$1003,MATCH(BP$12,数据库!$C$2:$R$2,)+1,0))","v":""},null,"","","","","","","","","","","",{"$f":"IF($D40=\"\",\"\",VLOOKUP($D40,数据库!$B$4:$AD$1003,MATCH(CC$12,数据库!$C$2:$R$2,)+1,0))","v":""},null,"","","","","","","","","","","",{"$f":"IF($D40=\"\",\"\",VLOOKUP($D40,数据库!$B$4:$AD$1003,MATCH(CP$12,数据库!$C$2:$AD$2,)+1,0))","v":""},null,"","","","","","","","","","","",{"$f":"IF($D40=\"\",\"\",VLOOKUP($D40,数据库!$B$4:$AD$1003,MATCH(DC$12,数据库!$C$2:$R$2,)+1,0))","v":""},null,"","","","","","","","","","","",{"$f":"IF($D40=\"\",\"\",VLOOKUP($D40,数据库!$B$4:$AD$1003,MATCH(DP$12,数据库!$C$2:$R$2,)+1,0))","v":""},null,"","","","","","","","","","","",{"$f":"IF($D40=\"\",\"\",VLOOKUP($D40,数据库!$B$4:$AD$1003,MATCH(EC$12,数据库!$C$2:$AD$2,)+1,0))","v":""},null,"","","","","","","","","","","",{"$f":"IF($D40=\"\",\"\",VLOOKUP($D40,数据库!$B$4:$AD$1003,MATCH(EP$12,数据库!$C$2:$R$2,)+1,0))","v":""},null,"","","","","","","","","","","",{"$f":"IF($D40=\"\",\"\",VLOOKUP($D40,数据库!$B$4:$AD$1003,MATCH(FC$12,数据库!$C$2:$R$2,)+1,0))","v":""},null,"","","","","","","","","","","",""]
[null,null,"","","","","","","","","","","","","",{"$f":"IF($D41=\"\",\"\",VLOOKUP($D41,数据库!$B$4:$AD$1003,MATCH(P$12,数据库!$C$2:$AD$2,)+1,0))","v":""},null,"",{"$f":"IF(R41=\"\",\"\",MID($R41,S$12+1,1))","v":""},"","","","","","","","","",{"$f":"IF($D41=\"\",\"\",VLOOKUP($D41,数据库!$B$4:$AD$1003,MATCH(AC$12,数据库!$C$2:$R$2,)+1,0))","v":""},null,"","","","","","","","","","","",{"$f":"IF($D41=\"\",\"\",VLOOKUP($D41,数据库!$B$4:$AD$1003,MATCH(AP$12,数据库!$C$2:$R$2,)+1,0))","v":""},null,"","","","","","","","","","","",{"$f":"IF($D41=\"\",\"\",VLOOKUP($D41,数据库!$B$4:$AD$1003,MATCH(BC$12,数据库!$C$2:$AD$2,)+1,0))","v":""},null,"","","","","","","","","","","",{"$f":"IF($D41=\"\",\"\",VLOOKUP($D41,数据库!$B$4:$AD$1003,MATCH(BP$12,数据库!$C$2:$R$2,)+1,0))","v":""},null,"","","","","","","","","","","",{"$f":"IF($D41=\"\",\"\",VLOOKUP($D41,数据库!$B$4:$AD$1003,MATCH(CC$12,数据库!$C$2:$R$2,)+1,0))","v":""},null,"","","","","","","","","","","",{"$f":"IF($D41=\"\",\"\",VLOOKUP($D41,数据库!$B$4:$AD$1003,MATCH(CP$12,数据库!$C$2:$AD$2,)+1,0))","v":""},null,"","","","","","","","","","","",{"$f":"IF($D41=\"\",\"\",VLOOKUP($D41,数据库!$B$4:$AD$1003,MATCH(DC$12,数据库!$C$2:$R$2,)+1,0))","v":""},null,"","","","","","","","","","","",{"$f":"IF($D41=\"\",\"\",VLOOKUP($D41,数据库!$B$4:$AD$1003,MATCH(DP$12,数据库!$C$2:$R$2,)+1,0))","v":""},null,"","","","","","","","","","","",{"$f":"IF($D41=\"\",\"\",VLOOKUP($D41,数据库!$B$4:$AD$1003,MATCH(EC$12,数据库!$C$2:$AD$2,)+1,0))","v":""},null,"","","","","","","","","","","",{"$f":"IF($D41=\"\",\"\",VLOOKUP($D41,数据库!$B$4:$AD$1003,MATCH(EP$12,数据库!$C$2:$R$2,)+1,0))","v":""},null,"","","","","","","","","","","",{"$f":"IF($D41=\"\",\"\",VLOOKUP($D41,数据库!$B$4:$AD$1003,MATCH(FC$12,数据库!$C$2:$R$2,)+1,0))","v":""},null,"","","","","","","","","","","",""]
[null,null,"","","","","","","","","","","","","",{"$f":"IF($D42=\"\",\"\",VLOOKUP($D42,数据库!$B$4:$AD$1003,MATCH(P$12,数据库!$C$2:$AD$2,)+1,0))","v":""},null,"",{"$f":"IF(R42=\"\",\"\",MID($R42,S$12+1,1))","v":""},"","","","","","","","","",{"$f":"IF($D42=\"\",\"\",VLOOKUP($D42,数据库!$B$4:$AD$1003,MATCH(AC$12,数据库!$C$2:$R$2,)+1,0))","v":""},null,"","","","","","","","","","","",{"$f":"IF($D42=\"\",\"\",VLOOKUP($D42,数据库!$B$4:$AD$1003,MATCH(AP$12,数据库!$C$2:$R$2,)+1,0))","v":""},null,"","","","","","","","","","","",{"$f":"IF($D42=\"\",\"\",VLOOKUP($D42,数据库!$B$4:$AD$1003,MATCH(BC$12,数据库!$C$2:$AD$2,)+1,0))","v":""},null,"","","","","","","","","","","",{"$f":"IF($D42=\"\",\"\",VLOOKUP($D42,数据库!$B$4:$AD$1003,MATCH(BP$12,数据库!$C$2:$R$2,)+1,0))","v":""},null,"","","","","","","","","","","",{"$f":"IF($D42=\"\",\"\",VLOOKUP($D42,数据库!$B$4:$AD$1003,MATCH(CC$12,数据库!$C$2:$R$2,)+1,0))","v":""},null,"","","","","","","","","","","",{"$f":"IF($D42=\"\",\"\",VLOOKUP($D42,数据库!$B$4:$AD$1003,MATCH(CP$12,数据库!$C$2:$AD$2,)+1,0))","v":""},null,"","","","","","","","","","","",{"$f":"IF($D42=\"\",\"\",VLOOKUP($D42,数据库!$B$4:$AD$1003,MATCH(DC$12,数据库!$C$2:$R$2,)+1,0))","v":""},null,"","","","","","","","","","","",{"$f":"IF($D42=\"\",\"\",VLOOKUP($D42,数据库!$B$4:$AD$1003,MATCH(DP$12,数据库!$C$2:$R$2,)+1,0))","v":""},null,"","","","","","","","","","","",{"$f":"IF($D42=\"\",\"\",VLOOKUP($D42,数据库!$B$4:$AD$1003,MATCH(EC$12,数据库!$C$2:$AD$2,)+1,0))","v":""},null,"","","","","","","","","","","",{"$f":"IF($D42=\"\",\"\",VLOOKUP($D42,数据库!$B$4:$AD$1003,MATCH(EP$12,数据库!$C$2:$R$2,)+1,0))","v":""},null,"","","","","","","","","","","",{"$f":"IF($D42=\"\",\"\",VLOOKUP($D42,数据库!$B$4:$AD$1003,MATCH(FC$12,数据库!$C$2:$R$2,)+1,0))","v":""},null,"","","","","","","","","","","",""]
[null,null,"","","","","","","","","","","","","",{"$f":"IF($D43=\"\",\"\",VLOOKUP($D43,数据库!$B$4:$AD$1003,MATCH(P$12,数据库!$C$2:$AD$2,)+1,0))","v":""},null,"",{"$f":"IF(R43=\"\",\"\",MID($R43,S$12+1,1))","v":""},"","","","","","","","","",{"$f":"IF($D43=\"\",\"\",VLOOKUP($D43,数据库!$B$4:$AD$1003,MATCH(AC$12,数据库!$C$2:$R$2,)+1,0))","v":""},null,"","","","","","","","","","","",{"$f":"IF($D43=\"\",\"\",VLOOKUP($D43,数据库!$B$4:$AD$1003,MATCH(AP$12,数据库!$C$2:$R$2,)+1,0))","v":""},null,"","","","","","","","","","","",{"$f":"IF($D43=\"\",\"\",VLOOKUP($D43,数据库!$B$4:$AD$1003,MATCH(BC$12,数据库!$C$2:$AD$2,)+1,0))","v":""},null,"","","","","","","","","","","",{"$f":"IF($D43=\"\",\"\",VLOOKUP($D43,数据库!$B$4:$AD$1003,MATCH(BP$12,数据库!$C$2:$R$2,)+1,0))","v":""},null,"","","","","","","","","","","",{"$f":"IF($D43=\"\",\"\",VLOOKUP($D43,数据库!$B$4:$AD$1003,MATCH(CC$12,数据库!$C$2:$R$2,)+1,0))","v":""},null,"","","","","","","","","","","",{"$f":"IF($D43=\"\",\"\",VLOOKUP($D43,数据库!$B$4:$AD$1003,MATCH(CP$12,数据库!$C$2:$AD$2,)+1,0))","v":""},null,"","","","","","","","","","","",{"$f":"IF($D43=\"\",\"\",VLOOKUP($D43,数据库!$B$4:$AD$1003,MATCH(DC$12,数据库!$C$2:$R$2,)+1,0))","v":""},null,"","","","","","","","","","","",{"$f":"IF($D43=\"\",\"\",VLOOKUP($D43,数据库!$B$4:$AD$1003,MATCH(DP$12,数据库!$C$2:$R$2,)+1,0))","v":""},null,"","","","","","","","","","","",{"$f":"IF($D43=\"\",\"\",VLOOKUP($D43,数据库!$B$4:$AD$1003,MATCH(EC$12,数据库!$C$2:$AD$2,)+1,0))","v":""},null,"","","","","","","","","","","",{"$f":"IF($D43=\"\",\"\",VLOOKUP($D43,数据库!$B$4:$AD$1003,MATCH(EP$12,数据库!$C$2:$R$2,)+1,0))","v":""},null,"","","","","","","","","","","",{"$f":"IF($D43=\"\",\"\",VLOOKUP($D43,数据库!$B$4:$AD$1003,MATCH(FC$12,数据库!$C$2:$R$2,)+1,0))","v":""},null,"","","","","","","","","","","",""]
[null,null,"","","","","","","","","","","","","",{"$f":"IF($D44=\"\",\"\",VLOOKUP($D44,数据库!$B$4:$AD$1003,MATCH(P$12,数据库!$C$2:$AD$2,)+1,0))","v":""},null,"",{"$f":"IF(R44=\"\",\"\",MID($R44,S$12+1,1))","v":""},"","","","","","","","","",{"$f":"IF($D44=\"\",\"\",VLOOKUP($D44,数据库!$B$4:$AD$1003,MATCH(AC$12,数据库!$C$2:$R$2,)+1,0))","v":""},null,"","","","","","","","","","","",{"$f":"IF($D44=\"\",\"\",VLOOKUP($D44,数据库!$B$4:$AD$1003,MATCH(AP$12,数据库!$C$2:$R$2,)+1,0))","v":""},null,"","","","","","","","","","","",{"$f":"IF($D44=\"\",\"\",VLOOKUP($D44,数据库!$B$4:$AD$1003,MATCH(BC$12,数据库!$C$2:$AD$2,)+1,0))","v":""},null,"","","","","","","","","","","",{"$f":"IF($D44=\"\",\"\",VLOOKUP($D44,数据库!$B$4:$AD$1003,MATCH(BP$12,数据库!$C$2:$R$2,)+1,0))","v":""},null,"","","","","","","","","","","",{"$f":"IF($D44=\"\",\"\",VLOOKUP($D44,数据库!$B$4:$AD$1003,MATCH(CC$12,数据库!$C$2:$R$2,)+1,0))","v":""},null,"","","","","","","","","","","",{"$f":"IF($D44=\"\",\"\",VLOOKUP($D44,数据库!$B$4:$AD$1003,MATCH(CP$12,数据库!$C$2:$AD$2,)+1,0))","v":""},null,"","","","","","","","","","","",{"$f":"IF($D44=\"\",\"\",VLOOKUP($D44,数据库!$B$4:$AD$1003,MATCH(DC$12,数据库!$C$2:$R$2,)+1,0))","v":""},null,"","","","","","","","","","","",{"$f":"IF($D44=\"\",\"\",VLOOKUP($D44,数据库!$B$4:$AD$1003,MATCH(DP$12,数据库!$C$2:$R$2,)+1,0))","v":""},null,"","","","","","","","","","","",{"$f":"IF($D44=\"\",\"\",VLOOKUP($D44,数据库!$B$4:$AD$1003,MATCH(EC$12,数据库!$C$2:$AD$2,)+1,0))","v":""},null,"","","","","","","","","","","",{"$f":"IF($D44=\"\",\"\",VLOOKUP($D44,数据库!$B$4:$AD$1003,MATCH(EP$12,数据库!$C$2:$R$2,)+1,0))","v":""},null,"","","","","","","","","","","",{"$f":"IF($D44=\"\",\"\",VLOOKUP($D44,数据库!$B$4:$AD$1003,MATCH(FC$12,数据库!$C$2:$R$2,)+1,0))","v":""},null,"","","","","","","","","","","",""]
[null,null,"","","","","","","","","","","","","",{"$f":"IF($D45=\"\",\"\",VLOOKUP($D45,数据库!$B$4:$AD$1003,MATCH(P$12,数据库!$C$2:$AD$2,)+1,0))","v":""},null,"",{"$f":"IF(R45=\"\",\"\",MID($R45,S$12+1,1))","v":""},"","","","","","","","","",{"$f":"IF($D45=\"\",\"\",VLOOKUP($D45,数据库!$B$4:$AD$1003,MATCH(AC$12,数据库!$C$2:$R$2,)+1,0))","v":""},null,"","","","","","","","","","","",{"$f":"IF($D45=\"\",\"\",VLOOKUP($D45,数据库!$B$4:$AD$1003,MATCH(AP$12,数据库!$C$2:$R$2,)+1,0))","v":""},null,"","","","","","","","","","","",{"$f":"IF($D45=\"\",\"\",VLOOKUP($D45,数据库!$B$4:$AD$1003,MATCH(BC$12,数据库!$C$2:$AD$2,)+1,0))","v":""},null,"","","","","","","","","","","",{"$f":"IF($D45=\"\",\"\",VLOOKUP($D45,数据库!$B$4:$AD$1003,MATCH(BP$12,数据库!$C$2:$R$2,)+1,0))","v":""},null,"","","","","","","","","","","",{"$f":"IF($D45=\"\",\"\",VLOOKUP($D45,数据库!$B$4:$AD$1003,MATCH(CC$12,数据库!$C$2:$R$2,)+1,0))","v":""},null,"","","","","","","","","","","",{"$f":"IF($D45=\"\",\"\",VLOOKUP($D45,数据库!$B$4:$AD$1003,MATCH(CP$12,数据库!$C$2:$AD$2,)+1,0))","v":""},null,"","","","","","","","","","","",{"$f":"IF($D45=\"\",\"\",VLOOKUP($D45,数据库!$B$4:$AD$1003,MATCH(DC$12,数据库!$C$2:$R$2,)+1,0))","v":""},null,"","","","","","","","","","","",{"$f":"IF($D45=\"\",\"\",VLOOKUP($D45,数据库!$B$4:$AD$1003,MATCH(DP$12,数据库!$C$2:$R$2,)+1,0))","v":""},null,"","","","","","","","","","","",{"$f":"IF($D45=\"\",\"\",VLOOKUP($D45,数据库!$B$4:$AD$1003,MATCH(EC$12,数据库!$C$2:$AD$2,)+1,0))","v":""},null,"","","","","","","","","","","",{"$f":"IF($D45=\"\",\"\",VLOOKUP($D45,数据库!$B$4:$AD$1003,MATCH(EP$12,数据库!$C$2:$R$2,)+1,0))","v":""},null,"","","","","","","","","","","",{"$f":"IF($D45=\"\",\"\",VLOOKUP($D45,数据库!$B$4:$AD$1003,MATCH(FC$12,数据库!$C$2:$R$2,)+1,0))","v":""},null,"","","","","","","","","","","",""]
[null,null,"","","","","","","","","","","","","",{"$f":"IF($D46=\"\",\"\",VLOOKUP($D46,数据库!$B$4:$AD$1003,MATCH(P$12,数据库!$C$2:$AD$2,)+1,0))","v":""},null,"",{"$f":"IF(R46=\"\",\"\",MID($R46,S$12+1,1))","v":""},"","","","","","","","","",{"$f":"IF($D46=\"\",\"\",VLOOKUP($D46,数据库!$B$4:$AD$1003,MATCH(AC$12,数据库!$C$2:$R$2,)+1,0))","v":""},null,"","","","","","","","","","","",{"$f":"IF($D46=\"\",\"\",VLOOKUP($D46,数据库!$B$4:$AD$1003,MATCH(AP$12,数据库!$C$2:$R$2,)+1,0))","v":""},null,"",{"$f":"IF($AR46=\"\",\"\",MID($AR46,AS$12+1,1))","v":""},"","","","","","","","","",{"$f":"IF($D46=\"\",\"\",VLOOKUP($D46,数据库!$B$4:$AD$1003,MATCH(BC$12,数据库!$C$2:$AD$2,)+1,0))","v":""},null,"",{"$f":"IF($BE46=\"\",\"\",MID($BE46,BF$12+1,1))","v":""},"","","","","","","","","",{"$f":"IF($D46=\"\",\"\",VLOOKUP($D46,数据库!$B$4:$AD$1003,MATCH(BP$12,数据库!$C$2:$R$2,)+1,0))","v":""},null,"",{"$f":"IF($BR46=\"\",\"\",MID($BR46,BS$12+1,1))","v":""},"","","","","","","","","",{"$f":"IF($D46=\"\",\"\",VLOOKUP($D46,数据库!$B$4:$AD$1003,MATCH(CC$12,数据库!$C$2:$R$2,)+1,0))","v":""},null,"",{"$f":"IF($CE46=\"\",\"\",MID($CE46,CF$12+1,1))","v":""},"","","","","","","","","",{"$f":"IF($D46=\"\",\"\",VLOOKUP($D46,数据库!$B$4:$AD$1003,MATCH(CP$12,数据库!$C$2:$AD$2,)+1,0))","v":""},null,"",{"$f":"IF($CR46=\"\",\"\",MID($CR46,CS$12+1,1))","v":""},"","","","","","","","","",{"$f":"IF($D46=\"\",\"\",VLOOKUP($D46,数据库!$B$4:$AD$1003,MATCH(DC$12,数据库!$C$2:$R$2,)+1,0))","v":""},null,"",{"$f":"IF($DE46=\"\",\"\",MID($DE46,DF$12+1,1))","v":""},"","","","","","","","","",{"$f":"IF($D46=\"\",\"\",VLOOKUP($D46,数据库!$B$4:$AD$1003,MATCH(DP$12,数据库!$C$2:$R$2,)+1,0))","v":""},null,"",{"$f":"IF($DR46=\"\",\"\",MID($DR46,DS$12+1,1))","v":""},"","","","","","","","","",{"$f":"IF($D46=\"\",\"\",VLOOKUP($D46,数据库!$B$4:$AD$1003,MATCH(EC$12,数据库!$C$2:$AD$2,)+1,0))","v":""},null,"",{"$f":"IF($EE46=\"\",\"\",MID($EE46,EF$12+1,1))","v":""},"","","","","","","","","",{"$f":"IF($D46=\"\",\"\",VLOOKUP($D46,数据库!$B$4:$AD$1003,MATCH(EP$12,数据库!$C$2:$R$2,)+1,0))","v":""},null,"",{"$f":"IF($ER46=\"\",\"\",MID($ER46,ES$12+1,1))","v":""},"","","","","","","","","",{"$f":"IF($D46=\"\",\"\",VLOOKUP($D46,数据库!$B$4:$AD$1003,MATCH(FC$12,数据库!$C$2:$R$2,)+1,0))","v":""},null,"","","","","","","","","","","",""]
[null,null,"","","","","","","","","","","","","",{"$f":"IF($D47=\"\",\"\",VLOOKUP($D47,数据库!$B$4:$AD$1003,MATCH(P$12,数据库!$C$2:$AD$2,)+1,0))","v":""},null,"",{"$f":"IF(R47=\"\",\"\",MID($R47,S$12+1,1))","v":""},"","","","","","","","","",{"$f":"IF($D47=\"\",\"\",VLOOKUP($D47,数据库!$B$4:$AD$1003,MATCH(AC$12,数据库!$C$2:$R$2,)+1,0))","v":""},null,"","","","","","","","","","","",{"$f":"IF($D47=\"\",\"\",VLOOKUP($D47,数据库!$B$4:$AD$1003,MATCH(AP$12,数据库!$C$2:$R$2,)+1,0))","v":""},null,"","","","","","","","","","","",{"$f":"IF($D47=\"\",\"\",VLOOKUP($D47,数据库!$B$4:$AD$1003,MATCH(BC$12,数据库!$C$2:$AD$2,)+1,0))","v":""},null,"","","","","","","","","","","",{"$f":"IF($D47=\"\",\"\",VLOOKUP($D47,数据库!$B$4:$AD$1003,MATCH(BP$12,数据库!$C$2:$R$2,)+1,0))","v":""},null,"","","","","","","","","","","",{"$f":"IF($D47=\"\",\"\",VLOOKUP($D47,数据库!$B$4:$AD$1003,MATCH(CC$12,数据库!$C$2:$R$2,)+1,0))","v":""},null,"","","","","","","","","","","",{"$f":"IF($D47=\"\",\"\",VLOOKUP($D47,数据库!$B$4:$AD$1003,MATCH(CP$12,数据库!$C$2:$AD$2,)+1,0))","v":""},null,"","","","","","","","","","","",{"$f":"IF($D47=\"\",\"\",VLOOKUP($D47,数据库!$B$4:$AD$1003,MATCH(DC$12,数据库!$C$2:$R$2,)+1,0))","v":""},null,"","","","","","","","","","","",{"$f":"IF($D47=\"\",\"\",VLOOKUP($D47,数据库!$B$4:$AD$1003,MATCH(DP$12,数据库!$C$2:$R$2,)+1,0))","v":""},null,"","","","","","","","","","","",{"$f":"IF($D47=\"\",\"\",VLOOKUP($D47,数据库!$B$4:$AD$1003,MATCH(EC$12,数据库!$C$2:$AD$2,)+1,0))","v":""},null,"","","","","","","","","","","",{"$f":"IF($D47=\"\",\"\",VLOOKUP($D47,数据库!$B$4:$AD$1003,MATCH(EP$12,数据库!$C$2:$R$2,)+1,0))","v":""},null,"","","","","","","","","","","",{"$f":"IF($D47=\"\",\"\",VLOOKUP($D47,数据库!$B$4:$AD$1003,MATCH(FC$12,数据库!$C$2:$R$2,)+1,0))","v":""},null,"","","","","","","","","","","",""]
[null,null,"","","","","","","","","","","","","",{"$f":"IF($D48=\"\",\"\",VLOOKUP($D48,数据库!$B$4:$AD$1003,MATCH(P$12,数据库!$C$2:$AD$2,)+1,0))","v":""},null,"",{"$f":"IF(R48=\"\",\"\",MID($R48,S$12+1,1))","v":""},"","","","","","","","","",{"$f":"IF($D48=\"\",\"\",VLOOKUP($D48,数据库!$B$4:$AD$1003,MATCH(AC$12,数据库!$C$2:$R$2,)+1,0))","v":""},null,"","","","","","","","","","","",{"$f":"IF($D48=\"\",\"\",VLOOKUP($D48,数据库!$B$4:$AD$1003,MATCH(AP$12,数据库!$C$2:$R$2,)+1,0))","v":""},null,"","","","","","","","","","","",{"$f":"IF($D48=\"\",\"\",VLOOKUP($D48,数据库!$B$4:$AD$1003,MATCH(BC$12,数据库!$C$2:$AD$2,)+1,0))","v":""},null,"","","","","","","","","","","",{"$f":"IF($D48=\"\",\"\",VLOOKUP($D48,数据库!$B$4:$AD$1003,MATCH(BP$12,数据库!$C$2:$R$2,)+1,0))","v":""},null,"","","","","","","","","","","",{"$f":"IF($D48=\"\",\"\",VLOOKUP($D48,数据库!$B$4:$AD$1003,MATCH(CC$12,数据库!$C$2:$R$2,)+1,0))","v":""},null,"","","","","","","","","","","",{"$f":"IF($D48=\"\",\"\",VLOOKUP($D48,数据库!$B$4:$AD$1003,MATCH(CP$12,数据库!$C$2:$AD$2,)+1,0))","v":""},null,"","","","","","","","","","","",{"$f":"IF($D48=\"\",\"\",VLOOKUP($D48,数据库!$B$4:$AD$1003,MATCH(DC$12,数据库!$C$2:$R$2,)+1,0))","v":""},null,"","","","","","","","","","","",{"$f":"IF($D48=\"\",\"\",VLOOKUP($D48,数据库!$B$4:$AD$1003,MATCH(DP$12,数据库!$C$2:$R$2,)+1,0))","v":""},null,"","","","","","","","","","","",{"$f":"IF($D48=\"\",\"\",VLOOKUP($D48,数据库!$B$4:$AD$1003,MATCH(EC$12,数据库!$C$2:$AD$2,)+1,0))","v":""},null,"","","","","","","","","","","",{"$f":"IF($D48=\"\",\"\",VLOOKUP($D48,数据库!$B$4:$AD$1003,MATCH(EP$12,数据库!$C$2:$R$2,)+1,0))","v":""},null,"","","","","","","","","","","",{"$f":"IF($D48=\"\",\"\",VLOOKUP($D48,数据库!$B$4:$AD$1003,MATCH(FC$12,数据库!$C$2:$R$2,)+1,0))","v":""},null,"","","","","","","","","","","",""]
[null,null,"","","","","","","","","","","","","",{"$f":"IF($D49=\"\",\"\",VLOOKUP($D49,数据库!$B$4:$AD$1003,MATCH(P$12,数据库!$C$2:$AD$2,)+1,0))","v":""},null,"",{"$f":"IF(R49=\"\",\"\",MID($R49,S$12+1,1))","v":""},"","","","","","","","","",{"$f":"IF($D49=\"\",\"\",VLOOKUP($D49,数据库!$B$4:$AD$1003,MATCH(AC$12,数据库!$C$2:$R$2,)+1,0))","v":""},null,"","","","","","","","","","","",{"$f":"IF($D49=\"\",\"\",VLOOKUP($D49,数据库!$B$4:$AD$1003,MATCH(AP$12,数据库!$C$2:$R$2,)+1,0))","v":""},null,"","","","","","","","","","","",{"$f":"IF($D49=\"\",\"\",VLOOKUP($D49,数据库!$B$4:$AD$1003,MATCH(BC$12,数据库!$C$2:$AD$2,)+1,0))","v":""},null,"","","","","","","","","","","",{"$f":"IF($D49=\"\",\"\",VLOOKUP($D49,数据库!$B$4:$AD$1003,MATCH(BP$12,数据库!$C$2:$R$2,)+1,0))","v":""},null,"","","","","","","","","","","",{"$f":"IF($D49=\"\",\"\",VLOOKUP($D49,数据库!$B$4:$AD$1003,MATCH(CC$12,数据库!$C$2:$R$2,)+1,0))","v":""},null,"","","","","","","","","","","",{"$f":"IF($D49=\"\",\"\",VLOOKUP($D49,数据库!$B$4:$AD$1003,MATCH(CP$12,数据库!$C$2:$AD$2,)+1,0))","v":""},null,"","","","","","","","","","","",{"$f":"IF($D49=\"\",\"\",VLOOKUP($D49,数据库!$B$4:$AD$1003,MATCH(DC$12,数据库!$C$2:$R$2,)+1,0))","v":""},null,"","","","","","","","","","","",{"$f":"IF($D49=\"\",\"\",VLOOKUP($D49,数据库!$B$4:$AD$1003,MATCH(DP$12,数据库!$C$2:$R$2,)+1,0))","v":""},null,"","","","","","","","","","","",{"$f":"IF($D49=\"\",\"\",VLOOKUP($D49,数据库!$B$4:$AD$1003,MATCH(EC$12,数据库!$C$2:$AD$2,)+1,0))","v":""},null,"","","","","","","","","","","",{"$f":"IF($D49=\"\",\"\",VLOOKUP($D49,数据库!$B$4:$AD$1003,MATCH(EP$12,数据库!$C$2:$R$2,)+1,0))","v":""},null,"","","","","","","","","","","",{"$f":"IF($D49=\"\",\"\",VLOOKUP($D49,数据库!$B$4:$AD$1003,MATCH(FC$12,数据库!$C$2:$R$2,)+1,0))","v":""},null,"","","","","","","","","","","",""]
[null,null,"","","","","","","","","","","","","",{"$f":"IF($D50=\"\",\"\",VLOOKUP($D50,数据库!$B$4:$AD$1003,MATCH(P$12,数据库!$C$2:$AD$2,)+1,0))","v":""},null,"",{"$f":"IF(R50=\"\",\"\",MID($R50,S$12+1,1))","v":""},"","","","","","","","","",{"$f":"IF($D50=\"\",\"\",VLOOKUP($D50,数据库!$B$4:$AD$1003,MATCH(AC$12,数据库!$C$2:$R$2,)+1,0))","v":""},null,"","","","","","","","","","","",{"$f":"IF($D50=\"\",\"\",VLOOKUP($D50,数据库!$B$4:$AD$1003,MATCH(AP$12,数据库!$C$2:$R$2,)+1,0))","v":""},null,"","","","","","","","","","","",{"$f":"IF($D50=\"\",\"\",VLOOKUP($D50,数据库!$B$4:$AD$1003,MATCH(BC$12,数据库!$C$2:$AD$2,)+1,0))","v":""},null,"","","","","","","","","","","",{"$f":"IF($D50=\"\",\"\",VLOOKUP($D50,数据库!$B$4:$AD$1003,MATCH(BP$12,数据库!$C$2:$R$2,)+1,0))","v":""},null,"","","","","","","","","","","",{"$f":"IF($D50=\"\",\"\",VLOOKUP($D50,数据库!$B$4:$AD$1003,MATCH(CC$12,数据库!$C$2:$R$2,)+1,0))","v":""},null,"","","","","","","","","","","",{"$f":"IF($D50=\"\",\"\",VLOOKUP($D50,数据库!$B$4:$AD$1003,MATCH(CP$12,数据库!$C$2:$AD$2,)+1,0))","v":""},null,"","","","","","","","","","","",{"$f":"IF($D50=\"\",\"\",VLOOKUP($D50,数据库!$B$4:$AD$1003,MATCH(DC$12,数据库!$C$2:$R$2,)+1,0))","v":""},null,"","","","","","","","","","","",{"$f":"IF($D50=\"\",\"\",VLOOKUP($D50,数据库!$B$4:$AD$1003,MATCH(DP$12,数据库!$C$2:$R$2,)+1,0))","v":""},null,"","","","","","","","","","","",{"$f":"IF($D50=\"\",\"\",VLOOKUP($D50,数据库!$B$4:$AD$1003,MATCH(EC$12,数据库!$C$2:$AD$2,)+1,0))","v":""},null,"","","","","","","","","","","",{"$f":"IF($D50=\"\",\"\",VLOOKUP($D50,数据库!$B$4:$AD$1003,MATCH(EP$12,数据库!$C$2:$R$2,)+1,0))","v":""},null,"","","","","","","","","","","",{"$f":"IF($D50=\"\",\"\",VLOOKUP($D50,数据库!$B$4:$AD$1003,MATCH(FC$12,数据库!$C$2:$R$2,)+1,0))","v":""},null,"","","","","","","","","","","",""]
[null,null,"","","","","","","","","","","","","",{"$f":"IF($D51=\"\",\"\",VLOOKUP($D51,数据库!$B$4:$AD$1003,MATCH(P$12,数据库!$C$2:$AD$2,)+1,0))","v":""},null,"",{"$f":"IF(R51=\"\",\"\",MID($R51,S$12+1,1))","v":""},"","","","","","","","","",{"$f":"IF($D51=\"\",\"\",VLOOKUP($D51,数据库!$B$4:$AD$1003,MATCH(AC$12,数据库!$C$2:$R$2,)+1,0))","v":""},null,"","","","","","","","","","","",{"$f":"IF($D51=\"\",\"\",VLOOKUP($D51,数据库!$B$4:$AD$1003,MATCH(AP$12,数据库!$C$2:$R$2,)+1,0))","v":""},null,"","","","","","","","","","","",{"$f":"IF($D51=\"\",\"\",VLOOKUP($D51,数据库!$B$4:$AD$1003,MATCH(BC$12,数据库!$C$2:$AD$2,)+1,0))","v":""},null,"","","","","","","","","","","",{"$f":"IF($D51=\"\",\"\",VLOOKUP($D51,数据库!$B$4:$AD$1003,MATCH(BP$12,数据库!$C$2:$R$2,)+1,0))","v":""},null,"","","","","","","","","","","",{"$f":"IF($D51=\"\",\"\",VLOOKUP($D51,数据库!$B$4:$AD$1003,MATCH(CC$12,数据库!$C$2:$R$2,)+1,0))","v":""},null,"","","","","","","","","","","",{"$f":"IF($D51=\"\",\"\",VLOOKUP($D51,数据库!$B$4:$AD$1003,MATCH(CP$12,数据库!$C$2:$AD$2,)+1,0))","v":""},null,"","","","","","","","","","","",{"$f":"IF($D51=\"\",\"\",VLOOKUP($D51,数据库!$B$4:$AD$1003,MATCH(DC$12,数据库!$C$2:$R$2,)+1,0))","v":""},null,"","","","","","","","","","","",{"$f":"IF($D51=\"\",\"\",VLOOKUP($D51,数据库!$B$4:$AD$1003,MATCH(DP$12,数据库!$C$2:$R$2,)+1,0))","v":""},null,"","","","","","","","","","","",{"$f":"IF($D51=\"\",\"\",VLOOKUP($D51,数据库!$B$4:$AD$1003,MATCH(EC$12,数据库!$C$2:$AD$2,)+1,0))","v":""},null,"","","","","","","","","","","",{"$f":"IF($D51=\"\",\"\",VLOOKUP($D51,数据库!$B$4:$AD$1003,MATCH(EP$12,数据库!$C$2:$R$2,)+1,0))","v":""},null,"","","","","","","","","","","",{"$f":"IF($D51=\"\",\"\",VLOOKUP($D51,数据库!$B$4:$AD$1003,MATCH(FC$12,数据库!$C$2:$R$2,)+1,0))","v":""},null,"","","","","","","","","","","",""]
[null,null,"","","","","","","","","","","","","",{"$f":"IF($D52=\"\",\"\",VLOOKUP($D52,数据库!$B$4:$AD$1003,MATCH(P$12,数据库!$C$2:$AD$2,)+1,0))","v":""},null,"",{"$f":"IF(R52=\"\",\"\",MID($R52,S$12+1,1))","v":""},"","","","","","","","","",{"$f":"IF($D52=\"\",\"\",VLOOKUP($D52,数据库!$B$4:$AD$1003,MATCH(AC$12,数据库!$C$2:$R$2,)+1,0))","v":""},null,"","","","","","","","","","","",{"$f":"IF($D52=\"\",\"\",VLOOKUP($D52,数据库!$B$4:$AD$1003,MATCH(AP$12,数据库!$C$2:$R$2,)+1,0))","v":""},null,"","","","","","","","","","","",{"$f":"IF($D52=\"\",\"\",VLOOKUP($D52,数据库!$B$4:$AD$1003,MATCH(BC$12,数据库!$C$2:$AD$2,)+1,0))","v":""},null,"","","","","","","","","","","",{"$f":"IF($D52=\"\",\"\",VLOOKUP($D52,数据库!$B$4:$AD$1003,MATCH(BP$12,数据库!$C$2:$R$2,)+1,0))","v":""},null,"","","","","","","","","","","",{"$f":"IF($D52=\"\",\"\",VLOOKUP($D52,数据库!$B$4:$AD$1003,MATCH(CC$12,数据库!$C$2:$R$2,)+1,0))","v":""},null,"","","","","","","","","","","",{"$f":"IF($D52=\"\",\"\",VLOOKUP($D52,数据库!$B$4:$AD$1003,MATCH(CP$12,数据库!$C$2:$AD$2,)+1,0))","v":""},null,"","","","","","","","","","","",{"$f":"IF($D52=\"\",\"\",VLOOKUP($D52,数据库!$B$4:$AD$1003,MATCH(DC$12,数据库!$C$2:$R$2,)+1,0))","v":""},null,"","","","","","","","","","","",{"$f":"IF($D52=\"\",\"\",VLOOKUP($D52,数据库!$B$4:$AD$1003,MATCH(DP$12,数据库!$C$2:$R$2,)+1,0))","v":""},null,"","","","","","","","","","","",{"$f":"IF($D52=\"\",\"\",VLOOKUP($D52,数据库!$B$4:$AD$1003,MATCH(EC$12,数据库!$C$2:$AD$2,)+1,0))","v":""},null,"","","","","","","","","","","",{"$f":"IF($D52=\"\",\"\",VLOOKUP($D52,数据库!$B$4:$AD$1003,MATCH(EP$12,数据库!$C$2:$R$2,)+1,0))","v":""},null,"","","","","","","","","","","",{"$f":"IF($D52=\"\",\"\",VLOOKUP($D52,数据库!$B$4:$AD$1003,MATCH(FC$12,数据库!$C$2:$R$2,)+1,0))","v":""},null,"","","","","","","","","","","",""]
[null,null,"","","","","","","","","","","","","",{"$f":"IF($D53=\"\",\"\",VLOOKUP($D53,数据库!$B$4:$AD$1003,MATCH(P$12,数据库!$C$2:$AD$2,)+1,0))","v":""},null,"",{"$f":"IF(R53=\"\",\"\",MID($R53,S$12+1,1))","v":""},"","","","","","","","","",{"$f":"IF($D53=\"\",\"\",VLOOKUP($D53,数据库!$B$4:$AD$1003,MATCH(AC$12,数据库!$C$2:$R$2,)+1,0))","v":""},null,"","","","","","","","","","","",{"$f":"IF($D53=\"\",\"\",VLOOKUP($D53,数据库!$B$4:$AD$1003,MATCH(AP$12,数据库!$C$2:$R$2,)+1,0))","v":""},null,"","","","","","","","","","","",{"$f":"IF($D53=\"\",\"\",VLOOKUP($D53,数据库!$B$4:$AD$1003,MATCH(BC$12,数据库!$C$2:$AD$2,)+1,0))","v":""},null,"","","","","","","","","","","",{"$f":"IF($D53=\"\",\"\",VLOOKUP($D53,数据库!$B$4:$AD$1003,MATCH(BP$12,数据库!$C$2:$R$2,)+1,0))","v":""},null,"","","","","","","","","","","",{"$f":"IF($D53=\"\",\"\",VLOOKUP($D53,数据库!$B$4:$AD$1003,MATCH(CC$12,数据库!$C$2:$R$2,)+1,0))","v":""},null,"","","","","","","","","","","",{"$f":"IF($D53=\"\",\"\",VLOOKUP($D53,数据库!$B$4:$AD$1003,MATCH(CP$12,数据库!$C$2:$AD$2,)+1,0))","v":""},null,"","","","","","","","","","","",{"$f":"IF($D53=\"\",\"\",VLOOKUP($D53,数据库!$B$4:$AD$1003,MATCH(DC$12,数据库!$C$2:$R$2,)+1,0))","v":""},null,"","","","","","","","","","","",{"$f":"IF($D53=\"\",\"\",VLOOKUP($D53,数据库!$B$4:$AD$1003,MATCH(DP$12,数据库!$C$2:$R$2,)+1,0))","v":""},null,"","","","","","","","","","","",{"$f":"IF($D53=\"\",\"\",VLOOKUP($D53,数据库!$B$4:$AD$1003,MATCH(EC$12,数据库!$C$2:$AD$2,)+1,0))","v":""},null,"","","","","","","","","","","",{"$f":"IF($D53=\"\",\"\",VLOOKUP($D53,数据库!$B$4:$AD$1003,MATCH(EP$12,数据库!$C$2:$R$2,)+1,0))","v":""},null,"","","","","","","","","","","",{"$f":"IF($D53=\"\",\"\",VLOOKUP($D53,数据库!$B$4:$AD$1003,MATCH(FC$12,数据库!$C$2:$R$2,)+1,0))","v":""},null,"","","","","","","","","","","",""]
[null,null,"","","","","","","","","","",{"$f":"IF($E54=\"\",\"\",MID($E54,M$12+1,1))","v":""},"","",{"$f":"IF($D54=\"\",\"\",VLOOKUP($D54,数据库!$B$4:$AD$1003,MATCH(P$12,数据库!$C$2:$AD$2,)+1,0))","v":""},null,"",{"$f":"IF(R54=\"\",\"\",MID($R54,S$12+1,1))","v":""},"","","","","","","","","",{"$f":"IF($D54=\"\",\"\",VLOOKUP($D54,数据库!$B$4:$AD$1003,MATCH(AC$12,数据库!$C$2:$R$2,)+1,0))","v":""},null,"","","","","","","","",{"$f":"IF($AE54=\"\",\"\",MID($AE54,AM$12+1,1))","v":""},"","",{"$f":"IF($D54=\"\",\"\",VLOOKUP($D54,数据库!$B$4:$AD$1003,MATCH(AP$12,数据库!$C$2:$R$2,)+1,0))","v":""},null,"","","","","","","","","","","",{"$f":"IF($D54=\"\",\"\",VLOOKUP($D54,数据库!$B$4:$AD$1003,MATCH(BC$12,数据库!$C$2:$AD$2,)+1,0))","v":""},null,"","","","","","","","","","","",{"$f":"IF($D54=\"\",\"\",VLOOKUP($D54,数据库!$B$4:$AD$1003,MATCH(BP$12,数据库!$C$2:$R$2,)+1,0))","v":""},null,"","","","","","","","","","","",{"$f":"IF($D54=\"\",\"\",VLOOKUP($D54,数据库!$B$4:$AD$1003,MATCH(CC$12,数据库!$C$2:$R$2,)+1,0))","v":""},null,"","","","","","","","","","","",{"$f":"IF($D54=\"\",\"\",VLOOKUP($D54,数据库!$B$4:$AD$1003,MATCH(CP$12,数据库!$C$2:$AD$2,)+1,0))","v":""},null,"","","","","","","","","","","",{"$f":"IF($D54=\"\",\"\",VLOOKUP($D54,数据库!$B$4:$AD$1003,MATCH(DC$12,数据库!$C$2:$R$2,)+1,0))","v":""},null,"","","","","","","","","","","",{"$f":"IF($D54=\"\",\"\",VLOOKUP($D54,数据库!$B$4:$AD$1003,MATCH(DP$12,数据库!$C$2:$R$2,)+1,0))","v":""},null,"","","","","","","","","","","",{"$f":"IF($D54=\"\",\"\",VLOOKUP($D54,数据库!$B$4:$AD$1003,MATCH(EC$12,数据库!$C$2:$AD$2,)+1,0))","v":""},null,"","","","","","","","","","","",{"$f":"IF($D54=\"\",\"\",VLOOKUP($D54,数据库!$B$4:$AD$1003,MATCH(EP$12,数据库!$C$2:$R$2,)+1,0))","v":""},null,"","","","","","","","","","","",{"$f":"IF($D54=\"\",\"\",VLOOKUP($D54,数据库!$B$4:$AD$1003,MATCH(FC$12,数据库!$C$2:$R$2,)+1,0))","v":""},null,"","","","","","","","","","","",""]
[null,null,"","","","","","","","","","","","","",{"$f":"IF($D55=\"\",\"\",VLOOKUP($D55,数据库!$B$4:$AD$1003,MATCH(P$12,数据库!$C$2:$AD$2,)+1,0))","v":""},null,"",{"$f":"IF(R55=\"\",\"\",MID($R55,S$12+1,1))","v":""},"","","","","","","","","",{"$f":"IF($D55=\"\",\"\",VLOOKUP($D55,数据库!$B$4:$AD$1003,MATCH(AC$12,数据库!$C$2:$R$2,)+1,0))","v":""},null,"","","","","","","","","","","",{"$f":"IF($D55=\"\",\"\",VLOOKUP($D55,数据库!$B$4:$AD$1003,MATCH(AP$12,数据库!$C$2:$R$2,)+1,0))","v":""},null,"","","","","","","","","","","",{"$f":"IF($D55=\"\",\"\",VLOOKUP($D55,数据库!$B$4:$AD$1003,MATCH(BC$12,数据库!$C$2:$AD$2,)+1,0))","v":""},null,"","","","","","","","","","","",{"$f":"IF($D55=\"\",\"\",VLOOKUP($D55,数据库!$B$4:$AD$1003,MATCH(BP$12,数据库!$C$2:$R$2,)+1,0))","v":""},null,"","","","","","","","","","","",{"$f":"IF($D55=\"\",\"\",VLOOKUP($D55,数据库!$B$4:$AD$1003,MATCH(CC$12,数据库!$C$2:$R$2,)+1,0))","v":""},null,"","","","","","","","","","","",{"$f":"IF($D55=\"\",\"\",VLOOKUP($D55,数据库!$B$4:$AD$1003,MATCH(CP$12,数据库!$C$2:$AD$2,)+1,0))","v":""},null,"","","","","","","","","","","",{"$f":"IF($D55=\"\",\"\",VLOOKUP($D55,数据库!$B$4:$AD$1003,MATCH(DC$12,数据库!$C$2:$R$2,)+1,0))","v":""},null,"","","","","","","","","","","",{"$f":"IF($D55=\"\",\"\",VLOOKUP($D55,数据库!$B$4:$AD$1003,MATCH(DP$12,数据库!$C$2:$R$2,)+1,0))","v":""},null,"","","","","","","","","","","",{"$f":"IF($D55=\"\",\"\",VLOOKUP($D55,数据库!$B$4:$AD$1003,MATCH(EC$12,数据库!$C$2:$AD$2,)+1,0))","v":""},null,"","","","","","","","","","","",{"$f":"IF($D55=\"\",\"\",VLOOKUP($D55,数据库!$B$4:$AD$1003,MATCH(EP$12,数据库!$C$2:$R$2,)+1,0))","v":""},null,"","","","","","","","","","","",{"$f":"IF($D55=\"\",\"\",VLOOKUP($D55,数据库!$B$4:$AD$1003,MATCH(FC$12,数据库!$C$2:$R$2,)+1,0))","v":""},null,"","","","","","","","","","","",""]
[null,null,"","","","","","","","","","","","","",{"$f":"IF($D56=\"\",\"\",VLOOKUP($D56,数据库!$B$4:$AD$1003,MATCH(P$12,数据库!$C$2:$AD$2,)+1,0))","v":""},null,"",{"$f":"IF(R56=\"\",\"\",MID($R56,S$12+1,1))","v":""},"","","","","","","","","",{"$f":"IF($D56=\"\",\"\",VLOOKUP($D56,数据库!$B$4:$AD$1003,MATCH(AC$12,数据库!$C$2:$R$2,)+1,0))","v":""},null,"","","","","","","","","","","",{"$f":"IF($D56=\"\",\"\",VLOOKUP($D56,数据库!$B$4:$AD$1003,MATCH(AP$12,数据库!$C$2:$R$2,)+1,0))","v":""},null,"","","","","","","","","","","",{"$f":"IF($D56=\"\",\"\",VLOOKUP($D56,数据库!$B$4:$AD$1003,MATCH(BC$12,数据库!$C$2:$AD$2,)+1,0))","v":""},null,"","","","","","","","","","","",{"$f":"IF($D56=\"\",\"\",VLOOKUP($D56,数据库!$B$4:$AD$1003,MATCH(BP$12,数据库!$C$2:$R$2,)+1,0))","v":""},null,"","","","","","","","","","","",{"$f":"IF($D56=\"\",\"\",VLOOKUP($D56,数据库!$B$4:$AD$1003,MATCH(CC$12,数据库!$C$2:$R$2,)+1,0))","v":""},null,"","","","","","","","","","","",{"$f":"IF($D56=\"\",\"\",VLOOKUP($D56,数据库!$B$4:$AD$1003,MATCH(CP$12,数据库!$C$2:$AD$2,)+1,0))","v":""},null,"","","","","","","","","","","",{"$f":"IF($D56=\"\",\"\",VLOOKUP($D56,数据库!$B$4:$AD$1003,MATCH(DC$12,数据库!$C$2:$R$2,)+1,0))","v":""},null,"","","","","","","","","","","",{"$f":"IF($D56=\"\",\"\",VLOOKUP($D56,数据库!$B$4:$AD$1003,MATCH(DP$12,数据库!$C$2:$R$2,)+1,0))","v":""},null,"","","","","","","","","","","",{"$f":"IF($D56=\"\",\"\",VLOOKUP($D56,数据库!$B$4:$AD$1003,MATCH(EC$12,数据库!$C$2:$AD$2,)+1,0))","v":""},null,"","","","","","","","","","","",{"$f":"IF($D56=\"\",\"\",VLOOKUP($D56,数据库!$B$4:$AD$1003,MATCH(EP$12,数据库!$C$2:$R$2,)+1,0))","v":""},null,"","","","","","","","","","","",{"$f":"IF($D56=\"\",\"\",VLOOKUP($D56,数据库!$B$4:$AD$1003,MATCH(FC$12,数据库!$C$2:$R$2,)+1,0))","v":""},null,"","","","","","","","","","","",""]
[null,null,"","","","","","","","","","","","","",{"$f":"IF($D57=\"\",\"\",VLOOKUP($D57,数据库!$B$4:$AD$1003,MATCH(P$12,数据库!$C$2:$AD$2,)+1,0))","v":""},null,"",{"$f":"IF(R57=\"\",\"\",MID($R57,S$12+1,1))","v":""},"","","","","","","","","",{"$f":"IF($D57=\"\",\"\",VLOOKUP($D57,数据库!$B$4:$AD$1003,MATCH(AC$12,数据库!$C$2:$R$2,)+1,0))","v":""},null,"","","","","","","","","","","",{"$f":"IF($D57=\"\",\"\",VLOOKUP($D57,数据库!$B$4:$AD$1003,MATCH(AP$12,数据库!$C$2:$R$2,)+1,0))","v":""},null,"","","","","","","","","","","",{"$f":"IF($D57=\"\",\"\",VLOOKUP($D57,数据库!$B$4:$AD$1003,MATCH(BC$12,数据库!$C$2:$AD$2,)+1,0))","v":""},null,"","","","","","","","","","","",{"$f":"IF($D57=\"\",\"\",VLOOKUP($D57,数据库!$B$4:$AD$1003,MATCH(BP$12,数据库!$C$2:$R$2,)+1,0))","v":""},null,"","","","","","","","","","","",{"$f":"IF($D57=\"\",\"\",VLOOKUP($D57,数据库!$B$4:$AD$1003,MATCH(CC$12,数据库!$C$2:$R$2,)+1,0))","v":""},null,"","","","","","","","","","","",{"$f":"IF($D57=\"\",\"\",VLOOKUP($D57,数据库!$B$4:$AD$1003,MATCH(CP$12,数据库!$C$2:$AD$2,)+1,0))","v":""},null,"","","","","","","","","","","",{"$f":"IF($D57=\"\",\"\",VLOOKUP($D57,数据库!$B$4:$AD$1003,MATCH(DC$12,数据库!$C$2:$R$2,)+1,0))","v":""},null,"","","","","","","","","","","",{"$f":"IF($D57=\"\",\"\",VLOOKUP($D57,数据库!$B$4:$AD$1003,MATCH(DP$12,数据库!$C$2:$R$2,)+1,0))","v":""},null,"","","","","","","","","","","",{"$f":"IF($D57=\"\",\"\",VLOOKUP($D57,数据库!$B$4:$AD$1003,MATCH(EC$12,数据库!$C$2:$AD$2,)+1,0))","v":""},null,"","","","","","","","","","","",{"$f":"IF($D57=\"\",\"\",VLOOKUP($D57,数据库!$B$4:$AD$1003,MATCH(EP$12,数据库!$C$2:$R$2,)+1,0))","v":""},null,"","","","","","","","","","","",{"$f":"IF($D57=\"\",\"\",VLOOKUP($D57,数据库!$B$4:$AD$1003,MATCH(FC$12,数据库!$C$2:$R$2,)+1,0))","v":""},null,"","","","","","","","","","","",""]
[null,null,"","","","","","","","","","","","","",{"$f":"IF($D58=\"\",\"\",VLOOKUP($D58,数据库!$B$4:$AD$1003,MATCH(P$12,数据库!$C$2:$AD$2,)+1,0))","v":""},null,"",{"$f":"IF(R58=\"\",\"\",MID($R58,S$12+1,1))","v":""},"","","","","","","","","",{"$f":"IF($D58=\"\",\"\",VLOOKUP($D58,数据库!$B$4:$AD$1003,MATCH(AC$12,数据库!$C$2:$R$2,)+1,0))","v":""},null,"","","","","","","","","","","",{"$f":"IF($D58=\"\",\"\",VLOOKUP($D58,数据库!$B$4:$AD$1003,MATCH(AP$12,数据库!$C$2:$R$2,)+1,0))","v":""},null,"","","","","","","","","","","",{"$f":"IF($D58=\"\",\"\",VLOOKUP($D58,数据库!$B$4:$AD$1003,MATCH(BC$12,数据库!$C$2:$AD$2,)+1,0))","v":""},null,"","","","","","","","","","","",{"$f":"IF($D58=\"\",\"\",VLOOKUP($D58,数据库!$B$4:$AD$1003,MATCH(BP$12,数据库!$C$2:$R$2,)+1,0))","v":""},null,"","","","","","","","","","","",{"$f":"IF($D58=\"\",\"\",VLOOKUP($D58,数据库!$B$4:$AD$1003,MATCH(CC$12,数据库!$C$2:$R$2,)+1,0))","v":""},null,"","","","","","","","","","","",{"$f":"IF($D58=\"\",\"\",VLOOKUP($D58,数据库!$B$4:$AD$1003,MATCH(CP$12,数据库!$C$2:$AD$2,)+1,0))","v":""},null,"","","","","","","","","","","",{"$f":"IF($D58=\"\",\"\",VLOOKUP($D58,数据库!$B$4:$AD$1003,MATCH(DC$12,数据库!$C$2:$R$2,)+1,0))","v":""},null,"","","","","","","","","","","",{"$f":"IF($D58=\"\",\"\",VLOOKUP($D58,数据库!$B$4:$AD$1003,MATCH(DP$12,数据库!$C$2:$R$2,)+1,0))","v":""},null,"","","","","","","","","","","",{"$f":"IF($D58=\"\",\"\",VLOOKUP($D58,数据库!$B$4:$AD$1003,MATCH(EC$12,数据库!$C$2:$AD$2,)+1,0))","v":""},null,"","","","","","","","","","","",{"$f":"IF($D58=\"\",\"\",VLOOKUP($D58,数据库!$B$4:$AD$1003,MATCH(EP$12,数据库!$C$2:$R$2,)+1,0))","v":""},null,"","","","","","","","","","","",{"$f":"IF($D58=\"\",\"\",VLOOKUP($D58,数据库!$B$4:$AD$1003,MATCH(FC$12,数据库!$C$2:$R$2,)+1,0))","v":""},null,"","","","","","","","","","","",""]
[null,null,"","","","","","","","","","","","","",{"$f":"IF($D59=\"\",\"\",VLOOKUP($D59,数据库!$B$4:$AD$1003,MATCH(P$12,数据库!$C$2:$AD$2,)+1,0))","v":""},null,"",{"$f":"IF(R59=\"\",\"\",MID($R59,S$12+1,1))","v":""},"","","","","","","","","",{"$f":"IF($D59=\"\",\"\",VLOOKUP($D59,数据库!$B$4:$AD$1003,MATCH(AC$12,数据库!$C$2:$R$2,)+1,0))","v":""},null,"","","","","","","","","","","",{"$f":"IF($D59=\"\",\"\",VLOOKUP($D59,数据库!$B$4:$AD$1003,MATCH(AP$12,数据库!$C$2:$R$2,)+1,0))","v":""},null,"","","","","","","","","","","",{"$f":"IF($D59=\"\",\"\",VLOOKUP($D59,数据库!$B$4:$AD$1003,MATCH(BC$12,数据库!$C$2:$AD$2,)+1,0))","v":""},null,"","","","","","","","","","","",{"$f":"IF($D59=\"\",\"\",VLOOKUP($D59,数据库!$B$4:$AD$1003,MATCH(BP$12,数据库!$C$2:$R$2,)+1,0))","v":""},null,"","","","","","","","","","","",{"$f":"IF($D59=\"\",\"\",VLOOKUP($D59,数据库!$B$4:$AD$1003,MATCH(CC$12,数据库!$C$2:$R$2,)+1,0))","v":""},null,"","","","","","","","","","","",{"$f":"IF($D59=\"\",\"\",VLOOKUP($D59,数据库!$B$4:$AD$1003,MATCH(CP$12,数据库!$C$2:$AD$2,)+1,0))","v":""},null,"","","","","","","","","","","",{"$f":"IF($D59=\"\",\"\",VLOOKUP($D59,数据库!$B$4:$AD$1003,MATCH(DC$12,数据库!$C$2:$R$2,)+1,0))","v":""},null,"","","","","","","","","","","",{"$f":"IF($D59=\"\",\"\",VLOOKUP($D59,数据库!$B$4:$AD$1003,MATCH(DP$12,数据库!$C$2:$R$2,)+1,0))","v":""},null,"","","","","","","","","","","",{"$f":"IF($D59=\"\",\"\",VLOOKUP($D59,数据库!$B$4:$AD$1003,MATCH(EC$12,数据库!$C$2:$AD$2,)+1,0))","v":""},null,"","","","","","","","","","","",{"$f":"IF($D59=\"\",\"\",VLOOKUP($D59,数据库!$B$4:$AD$1003,MATCH(EP$12,数据库!$C$2:$R$2,)+1,0))","v":""},null,"","","","","","","","","","","",{"$f":"IF($D59=\"\",\"\",VLOOKUP($D59,数据库!$B$4:$AD$1003,MATCH(FC$12,数据库!$C$2:$R$2,)+1,0))","v":""},null,"","","","","","","","","","","",""]
[null,null,"","","","","","","","","","","","","",{"$f":"IF($D60=\"\",\"\",VLOOKUP($D60,数据库!$B$4:$AD$1003,MATCH(P$12,数据库!$C$2:$AD$2,)+1,0))","v":""},null,"",{"$f":"IF(R60=\"\",\"\",MID($R60,S$12+1,1))","v":""},"","","","","","","","","",{"$f":"IF($D60=\"\",\"\",VLOOKUP($D60,数据库!$B$4:$AD$1003,MATCH(AC$12,数据库!$C$2:$R$2,)+1,0))","v":""},null,"","","","","","","","","","","",{"$f":"IF($D60=\"\",\"\",VLOOKUP($D60,数据库!$B$4:$AD$1003,MATCH(AP$12,数据库!$C$2:$R$2,)+1,0))","v":""},null,"","","","","","","","","","","",{"$f":"IF($D60=\"\",\"\",VLOOKUP($D60,数据库!$B$4:$AD$1003,MATCH(BC$12,数据库!$C$2:$AD$2,)+1,0))","v":""},null,"","","","","","","","","","","",{"$f":"IF($D60=\"\",\"\",VLOOKUP($D60,数据库!$B$4:$AD$1003,MATCH(BP$12,数据库!$C$2:$R$2,)+1,0))","v":""},null,"","","","","","","","","","","",{"$f":"IF($D60=\"\",\"\",VLOOKUP($D60,数据库!$B$4:$AD$1003,MATCH(CC$12,数据库!$C$2:$R$2,)+1,0))","v":""},null,"","","","","","","","","","","",{"$f":"IF($D60=\"\",\"\",VLOOKUP($D60,数据库!$B$4:$AD$1003,MATCH(CP$12,数据库!$C$2:$AD$2,)+1,0))","v":""},null,"","","","","","","","","","","",{"$f":"IF($D60=\"\",\"\",VLOOKUP($D60,数据库!$B$4:$AD$1003,MATCH(DC$12,数据库!$C$2:$R$2,)+1,0))","v":""},null,"","","","","","","","","","","",{"$f":"IF($D60=\"\",\"\",VLOOKUP($D60,数据库!$B$4:$AD$1003,MATCH(DP$12,数据库!$C$2:$R$2,)+1,0))","v":""},null,"","","","","","","","","","","",{"$f":"IF($D60=\"\",\"\",VLOOKUP($D60,数据库!$B$4:$AD$1003,MATCH(EC$12,数据库!$C$2:$AD$2,)+1,0))","v":""},null,"","","","","","","","","","","",{"$f":"IF($D60=\"\",\"\",VLOOKUP($D60,数据库!$B$4:$AD$1003,MATCH(EP$12,数据库!$C$2:$R$2,)+1,0))","v":""},null,"","","","","","","","","","","",{"$f":"IF($D60=\"\",\"\",VLOOKUP($D60,数据库!$B$4:$AD$1003,MATCH(FC$12,数据库!$C$2:$R$2,)+1,0))","v":""},null,"","","","","","","","","","","",""]
[null,null,"","","","","","","","","","","","","",{"$f":"IF($D61=\"\",\"\",VLOOKUP($D61,数据库!$B$4:$AD$1003,MATCH(P$12,数据库!$C$2:$AD$2,)+1,0))","v":""},null,"",{"$f":"IF(R61=\"\",\"\",MID($R61,S$12+1,1))","v":""},"","","","","","","","","",{"$f":"IF($D61=\"\",\"\",VLOOKUP($D61,数据库!$B$4:$AD$1003,MATCH(AC$12,数据库!$C$2:$R$2,)+1,0))","v":""},null,"","","","","","","","","","","",{"$f":"IF($D61=\"\",\"\",VLOOKUP($D61,数据库!$B$4:$AD$1003,MATCH(AP$12,数据库!$C$2:$R$2,)+1,0))","v":""},null,"","","","","","","","","","","",{"$f":"IF($D61=\"\",\"\",VLOOKUP($D61,数据库!$B$4:$AD$1003,MATCH(BC$12,数据库!$C$2:$AD$2,)+1,0))","v":""},null,"","","","","","","","","","","",{"$f":"IF($D61=\"\",\"\",VLOOKUP($D61,数据库!$B$4:$AD$1003,MATCH(BP$12,数据库!$C$2:$R$2,)+1,0))","v":""},null,"","","","","","","","","","","",{"$f":"IF($D61=\"\",\"\",VLOOKUP($D61,数据库!$B$4:$AD$1003,MATCH(CC$12,数据库!$C$2:$R$2,)+1,0))","v":""},null,"","","","","","","","","","","",{"$f":"IF($D61=\"\",\"\",VLOOKUP($D61,数据库!$B$4:$AD$1003,MATCH(CP$12,数据库!$C$2:$AD$2,)+1,0))","v":""},null,"","","","","","","","","","","",{"$f":"IF($D61=\"\",\"\",VLOOKUP($D61,数据库!$B$4:$AD$1003,MATCH(DC$12,数据库!$C$2:$R$2,)+1,0))","v":""},null,"","","","","","","","","","","",{"$f":"IF($D61=\"\",\"\",VLOOKUP($D61,数据库!$B$4:$AD$1003,MATCH(DP$12,数据库!$C$2:$R$2,)+1,0))","v":""},null,"","","","","","","","","","","",{"$f":"IF($D61=\"\",\"\",VLOOKUP($D61,数据库!$B$4:$AD$1003,MATCH(EC$12,数据库!$C$2:$AD$2,)+1,0))","v":""},null,"","","","","","","","","","","",{"$f":"IF($D61=\"\",\"\",VLOOKUP($D61,数据库!$B$4:$AD$1003,MATCH(EP$12,数据库!$C$2:$R$2,)+1,0))","v":""},null,"","","","","","","","","","","",{"$f":"IF($D61=\"\",\"\",VLOOKUP($D61,数据库!$B$4:$AD$1003,MATCH(FC$12,数据库!$C$2:$R$2,)+1,0))","v":""},null,"","","","","","","","","","","",""]
[null,null,"","","","","","","","","","","","","",{"$f":"IF($D62=\"\",\"\",VLOOKUP($D62,数据库!$B$4:$AD$1003,MATCH(P$12,数据库!$C$2:$AD$2,)+1,0))","v":""},null,"",{"$f":"IF(R62=\"\",\"\",MID($R62,S$12+1,1))","v":""},"","","","","","","","","",{"$f":"IF($D62=\"\",\"\",VLOOKUP($D62,数据库!$B$4:$AD$1003,MATCH(AC$12,数据库!$C$2:$R$2,)+1,0))","v":""},null,"","","","","","","","","","","",{"$f":"IF($D62=\"\",\"\",VLOOKUP($D62,数据库!$B$4:$AD$1003,MATCH(AP$12,数据库!$C$2:$R$2,)+1,0))","v":""},null,"","","","","","","","","","","",{"$f":"IF($D62=\"\",\"\",VLOOKUP($D62,数据库!$B$4:$AD$1003,MATCH(BC$12,数据库!$C$2:$AD$2,)+1,0))","v":""},null,"","","","","","","","","","","",{"$f":"IF($D62=\"\",\"\",VLOOKUP($D62,数据库!$B$4:$AD$1003,MATCH(BP$12,数据库!$C$2:$R$2,)+1,0))","v":""},null,"","","","","","","","","","","",{"$f":"IF($D62=\"\",\"\",VLOOKUP($D62,数据库!$B$4:$AD$1003,MATCH(CC$12,数据库!$C$2:$R$2,)+1,0))","v":""},null,"","","","","","","","","","","",{"$f":"IF($D62=\"\",\"\",VLOOKUP($D62,数据库!$B$4:$AD$1003,MATCH(CP$12,数据库!$C$2:$AD$2,)+1,0))","v":""},null,"","","","","","","","","","","",{"$f":"IF($D62=\"\",\"\",VLOOKUP($D62,数据库!$B$4:$AD$1003,MATCH(DC$12,数据库!$C$2:$R$2,)+1,0))","v":""},null,"","","","","","","","","","","",{"$f":"IF($D62=\"\",\"\",VLOOKUP($D62,数据库!$B$4:$AD$1003,MATCH(DP$12,数据库!$C$2:$R$2,)+1,0))","v":""},null,"","","","","","","","","","","",{"$f":"IF($D62=\"\",\"\",VLOOKUP($D62,数据库!$B$4:$AD$1003,MATCH(EC$12,数据库!$C$2:$AD$2,)+1,0))","v":""},null,"","","","","","","","","","","",{"$f":"IF($D62=\"\",\"\",VLOOKUP($D62,数据库!$B$4:$AD$1003,MATCH(EP$12,数据库!$C$2:$R$2,)+1,0))","v":""},null,"","","","","","","","","","","",{"$f":"IF($D62=\"\",\"\",VLOOKUP($D62,数据库!$B$4:$AD$1003,MATCH(FC$12,数据库!$C$2:$R$2,)+1,0))","v":""},null,"","","","","","","","","","","",""]
[null,null,"","","","","","","","","","","","","",{"$f":"IF($D63=\"\",\"\",VLOOKUP($D63,数据库!$B$4:$AD$1003,MATCH(P$12,数据库!$C$2:$AD$2,)+1,0))","v":""},null,"",{"$f":"IF(R63=\"\",\"\",MID($R63,S$12+1,1))","v":""},"","","","","","","","","",{"$f":"IF($D63=\"\",\"\",VLOOKUP($D63,数据库!$B$4:$AD$1003,MATCH(AC$12,数据库!$C$2:$R$2,)+1,0))","v":""},null,"","","","","","","","","","","",{"$f":"IF($D63=\"\",\"\",VLOOKUP($D63,数据库!$B$4:$AD$1003,MATCH(AP$12,数据库!$C$2:$R$2,)+1,0))","v":""},null,"","","","","","","","","","","",{"$f":"IF($D63=\"\",\"\",VLOOKUP($D63,数据库!$B$4:$AD$1003,MATCH(BC$12,数据库!$C$2:$AD$2,)+1,0))","v":""},null,"","","","","","","","","","","",{"$f":"IF($D63=\"\",\"\",VLOOKUP($D63,数据库!$B$4:$AD$1003,MATCH(BP$12,数据库!$C$2:$R$2,)+1,0))","v":""},null,"","","","","","","","","","","",{"$f":"IF($D63=\"\",\"\",VLOOKUP($D63,数据库!$B$4:$AD$1003,MATCH(CC$12,数据库!$C$2:$R$2,)+1,0))","v":""},null,"","","","","","","","","","","",{"$f":"IF($D63=\"\",\"\",VLOOKUP($D63,数据库!$B$4:$AD$1003,MATCH(CP$12,数据库!$C$2:$AD$2,)+1,0))","v":""},null,"","","","","","","","","","","",{"$f":"IF($D63=\"\",\"\",VLOOKUP($D63,数据库!$B$4:$AD$1003,MATCH(DC$12,数据库!$C$2:$R$2,)+1,0))","v":""},null,"","","","","","","","","","","",{"$f":"IF($D63=\"\",\"\",VLOOKUP($D63,数据库!$B$4:$AD$1003,MATCH(DP$12,数据库!$C$2:$R$2,)+1,0))","v":""},null,"","","","","","","","","","","",{"$f":"IF($D63=\"\",\"\",VLOOKUP($D63,数据库!$B$4:$AD$1003,MATCH(EC$12,数据库!$C$2:$AD$2,)+1,0))","v":""},null,"","","","","","","","","","","",{"$f":"IF($D63=\"\",\"\",VLOOKUP($D63,数据库!$B$4:$AD$1003,MATCH(EP$12,数据库!$C$2:$R$2,)+1,0))","v":""},null,"","","","","","","","","","","",{"$f":"IF($D63=\"\",\"\",VLOOKUP($D63,数据库!$B$4:$AD$1003,MATCH(FC$12,数据库!$C$2:$R$2,)+1,0))","v":""},null,"","","","","","","","","","","",""]
[null,null,"","","","","","","","","","","","","",{"$f":"IF($D64=\"\",\"\",VLOOKUP($D64,数据库!$B$4:$AD$1003,MATCH(P$12,数据库!$C$2:$AD$2,)+1,0))","v":""},null,"",{"$f":"IF(R64=\"\",\"\",MID($R64,S$12+1,1))","v":""},"","","","","","","","","",{"$f":"IF($D64=\"\",\"\",VLOOKUP($D64,数据库!$B$4:$AD$1003,MATCH(AC$12,数据库!$C$2:$R$2,)+1,0))","v":""},null,"","","","","","","","","","","",{"$f":"IF($D64=\"\",\"\",VLOOKUP($D64,数据库!$B$4:$AD$1003,MATCH(AP$12,数据库!$C$2:$R$2,)+1,0))","v":""},null,"","","","","","","","","","","",{"$f":"IF($D64=\"\",\"\",VLOOKUP($D64,数据库!$B$4:$AD$1003,MATCH(BC$12,数据库!$C$2:$AD$2,)+1,0))","v":""},null,"","","","","","","","","","","",{"$f":"IF($D64=\"\",\"\",VLOOKUP($D64,数据库!$B$4:$AD$1003,MATCH(BP$12,数据库!$C$2:$R$2,)+1,0))","v":""},null,"","","","","","","","","","","",{"$f":"IF($D64=\"\",\"\",VLOOKUP($D64,数据库!$B$4:$AD$1003,MATCH(CC$12,数据库!$C$2:$R$2,)+1,0))","v":""},null,"","","","","","","","","","","",{"$f":"IF($D64=\"\",\"\",VLOOKUP($D64,数据库!$B$4:$AD$1003,MATCH(CP$12,数据库!$C$2:$AD$2,)+1,0))","v":""},null,"","","","","","","","","","","",{"$f":"IF($D64=\"\",\"\",VLOOKUP($D64,数据库!$B$4:$AD$1003,MATCH(DC$12,数据库!$C$2:$R$2,)+1,0))","v":""},null,"","","","","","","","","","","",{"$f":"IF($D64=\"\",\"\",VLOOKUP($D64,数据库!$B$4:$AD$1003,MATCH(DP$12,数据库!$C$2:$R$2,)+1,0))","v":""},null,"","","","","","","","","","","",{"$f":"IF($D64=\"\",\"\",VLOOKUP($D64,数据库!$B$4:$AD$1003,MATCH(EC$12,数据库!$C$2:$AD$2,)+1,0))","v":""},null,"","","","","","","","","","","",{"$f":"IF($D64=\"\",\"\",VLOOKUP($D64,数据库!$B$4:$AD$1003,MATCH(EP$12,数据库!$C$2:$R$2,)+1,0))","v":""},null,"","","","","","","","","","","",{"$f":"IF($D64=\"\",\"\",VLOOKUP($D64,数据库!$B$4:$AD$1003,MATCH(FC$12,数据库!$C$2:$R$2,)+1,0))","v":""},null,"","","","","","","","","","","",""]
[null,null,"","","","","","","","","","","","","",{"$f":"IF($D65=\"\",\"\",VLOOKUP($D65,数据库!$B$4:$AD$1003,MATCH(P$12,数据库!$C$2:$AD$2,)+1,0))","v":""},null,"",{"$f":"IF(R65=\"\",\"\",MID($R65,S$12+1,1))","v":""},"","","","","","","","","",{"$f":"IF($D65=\"\",\"\",VLOOKUP($D65,数据库!$B$4:$AD$1003,MATCH(AC$12,数据库!$C$2:$R$2,)+1,0))","v":""},null,"","","","","","","","","","","",{"$f":"IF($D65=\"\",\"\",VLOOKUP($D65,数据库!$B$4:$AD$1003,MATCH(AP$12,数据库!$C$2:$R$2,)+1,0))","v":""},null,"","","","","","","","","","","",{"$f":"IF($D65=\"\",\"\",VLOOKUP($D65,数据库!$B$4:$AD$1003,MATCH(BC$12,数据库!$C$2:$AD$2,)+1,0))","v":""},null,"","","","","","","","","","","",{"$f":"IF($D65=\"\",\"\",VLOOKUP($D65,数据库!$B$4:$AD$1003,MATCH(BP$12,数据库!$C$2:$R$2,)+1,0))","v":""},null,"","","","","","","","","","","",{"$f":"IF($D65=\"\",\"\",VLOOKUP($D65,数据库!$B$4:$AD$1003,MATCH(CC$12,数据库!$C$2:$R$2,)+1,0))","v":""},null,"","","","","","","","","","","",{"$f":"IF($D65=\"\",\"\",VLOOKUP($D65,数据库!$B$4:$AD$1003,MATCH(CP$12,数据库!$C$2:$AD$2,)+1,0))","v":""},null,"","","","","","","","","","","",{"$f":"IF($D65=\"\",\"\",VLOOKUP($D65,数据库!$B$4:$AD$1003,MATCH(DC$12,数据库!$C$2:$R$2,)+1,0))","v":""},null,"","","","","","","","","","","",{"$f":"IF($D65=\"\",\"\",VLOOKUP($D65,数据库!$B$4:$AD$1003,MATCH(DP$12,数据库!$C$2:$R$2,)+1,0))","v":""},null,"","","","","","","","","","","",{"$f":"IF($D65=\"\",\"\",VLOOKUP($D65,数据库!$B$4:$AD$1003,MATCH(EC$12,数据库!$C$2:$AD$2,)+1,0))","v":""},null,"","","","","","","","","","","",{"$f":"IF($D65=\"\",\"\",VLOOKUP($D65,数据库!$B$4:$AD$1003,MATCH(EP$12,数据库!$C$2:$R$2,)+1,0))","v":""},null,"","","","","","","","","","","",{"$f":"IF($D65=\"\",\"\",VLOOKUP($D65,数据库!$B$4:$AD$1003,MATCH(FC$12,数据库!$C$2:$R$2,)+1,0))","v":""},null,"","","","","","","","","","","",""]
[null,null,"","","","","","","","","","","","","",{"$f":"IF($D66=\"\",\"\",VLOOKUP($D66,数据库!$B$4:$AD$1003,MATCH(P$12,数据库!$C$2:$AD$2,)+1,0))","v":""},null,"",{"$f":"IF(R66=\"\",\"\",MID($R66,S$12+1,1))","v":""},"","","","","","","","","",{"$f":"IF($D66=\"\",\"\",VLOOKUP($D66,数据库!$B$4:$AD$1003,MATCH(AC$12,数据库!$C$2:$R$2,)+1,0))","v":""},null,"","","","","","","","","","","",{"$f":"IF($D66=\"\",\"\",VLOOKUP($D66,数据库!$B$4:$AD$1003,MATCH(AP$12,数据库!$C$2:$R$2,)+1,0))","v":""},null,"","","","","","","","","","","",{"$f":"IF($D66=\"\",\"\",VLOOKUP($D66,数据库!$B$4:$AD$1003,MATCH(BC$12,数据库!$C$2:$AD$2,)+1,0))","v":""},null,"","","","","","","","","","","",{"$f":"IF($D66=\"\",\"\",VLOOKUP($D66,数据库!$B$4:$AD$1003,MATCH(BP$12,数据库!$C$2:$R$2,)+1,0))","v":""},null,"","","","","","","","","","","",{"$f":"IF($D66=\"\",\"\",VLOOKUP($D66,数据库!$B$4:$AD$1003,MATCH(CC$12,数据库!$C$2:$R$2,)+1,0))","v":""},null,"","","","","","","","","","","",{"$f":"IF($D66=\"\",\"\",VLOOKUP($D66,数据库!$B$4:$AD$1003,MATCH(CP$12,数据库!$C$2:$AD$2,)+1,0))","v":""},null,"","","","","","","","","","","",{"$f":"IF($D66=\"\",\"\",VLOOKUP($D66,数据库!$B$4:$AD$1003,MATCH(DC$12,数据库!$C$2:$R$2,)+1,0))","v":""},null,"","","","","","","","","","","",{"$f":"IF($D66=\"\",\"\",VLOOKUP($D66,数据库!$B$4:$AD$1003,MATCH(DP$12,数据库!$C$2:$R$2,)+1,0))","v":""},null,"","","","","","","","","","","",{"$f":"IF($D66=\"\",\"\",VLOOKUP($D66,数据库!$B$4:$AD$1003,MATCH(EC$12,数据库!$C$2:$AD$2,)+1,0))","v":""},null,"","","","","","","","","","","",{"$f":"IF($D66=\"\",\"\",VLOOKUP($D66,数据库!$B$4:$AD$1003,MATCH(EP$12,数据库!$C$2:$R$2,)+1,0))","v":""},null,"","","","","","","","","","","",{"$f":"IF($D66=\"\",\"\",VLOOKUP($D66,数据库!$B$4:$AD$1003,MATCH(FC$12,数据库!$C$2:$R$2,)+1,0))","v":""},null,"","","","","","","","","","","",""]
[null,null,"","","","","","","","","","","","","",{"$f":"IF($D67=\"\",\"\",VLOOKUP($D67,数据库!$B$4:$AD$1003,MATCH(P$12,数据库!$C$2:$AD$2,)+1,0))","v":""},null,"",{"$f":"IF(R67=\"\",\"\",MID($R67,S$12+1,1))","v":""},"","","","","","","","","",{"$f":"IF($D67=\"\",\"\",VLOOKUP($D67,数据库!$B$4:$AD$1003,MATCH(AC$12,数据库!$C$2:$R$2,)+1,0))","v":""},null,"","","","","","","","","","","",{"$f":"IF($D67=\"\",\"\",VLOOKUP($D67,数据库!$B$4:$AD$1003,MATCH(AP$12,数据库!$C$2:$R$2,)+1,0))","v":""},null,"","","","","","","","","","","",{"$f":"IF($D67=\"\",\"\",VLOOKUP($D67,数据库!$B$4:$AD$1003,MATCH(BC$12,数据库!$C$2:$AD$2,)+1,0))","v":""},null,"","","","","","","","","","","",{"$f":"IF($D67=\"\",\"\",VLOOKUP($D67,数据库!$B$4:$AD$1003,MATCH(BP$12,数据库!$C$2:$R$2,)+1,0))","v":""},null,"","","","","","","","","","","",{"$f":"IF($D67=\"\",\"\",VLOOKUP($D67,数据库!$B$4:$AD$1003,MATCH(CC$12,数据库!$C$2:$R$2,)+1,0))","v":""},null,"","","","","","","","","","","",{"$f":"IF($D67=\"\",\"\",VLOOKUP($D67,数据库!$B$4:$AD$1003,MATCH(CP$12,数据库!$C$2:$AD$2,)+1,0))","v":""},null,"","","","","","","","","","","",{"$f":"IF($D67=\"\",\"\",VLOOKUP($D67,数据库!$B$4:$AD$1003,MATCH(DC$12,数据库!$C$2:$R$2,)+1,0))","v":""},null,"","","","","","","","","","","",{"$f":"IF($D67=\"\",\"\",VLOOKUP($D67,数据库!$B$4:$AD$1003,MATCH(DP$12,数据库!$C$2:$R$2,)+1,0))","v":""},null,"","","","","","","","","","","",{"$f":"IF($D67=\"\",\"\",VLOOKUP($D67,数据库!$B$4:$AD$1003,MATCH(EC$12,数据库!$C$2:$AD$2,)+1,0))","v":""},null,"","","","","","","","","","","",{"$f":"IF($D67=\"\",\"\",VLOOKUP($D67,数据库!$B$4:$AD$1003,MATCH(EP$12,数据库!$C$2:$R$2,)+1,0))","v":""},null,"","","","","","","","","","","",{"$f":"IF($D67=\"\",\"\",VLOOKUP($D67,数据库!$B$4:$AD$1003,MATCH(FC$12,数据库!$C$2:$R$2,)+1,0))","v":""},null,"","","","","","","","","","","",""]
[null,null,"","","","","","","","","","","","","",{"$f":"IF($D68=\"\",\"\",VLOOKUP($D68,数据库!$B$4:$AD$1003,MATCH(P$12,数据库!$C$2:$AD$2,)+1,0))","v":""},null,"",{"$f":"IF(R68=\"\",\"\",MID($R68,S$12+1,1))","v":""},"","","","","","","","","",{"$f":"IF($D68=\"\",\"\",VLOOKUP($D68,数据库!$B$4:$AD$1003,MATCH(AC$12,数据库!$C$2:$R$2,)+1,0))","v":""},null,"","","","","","","","","","","",{"$f":"IF($D68=\"\",\"\",VLOOKUP($D68,数据库!$B$4:$AD$1003,MATCH(AP$12,数据库!$C$2:$R$2,)+1,0))","v":""},null,"","","","","","","","","","","",{"$f":"IF($D68=\"\",\"\",VLOOKUP($D68,数据库!$B$4:$AD$1003,MATCH(BC$12,数据库!$C$2:$AD$2,)+1,0))","v":""},null,"","","","","","","","","","","",{"$f":"IF($D68=\"\",\"\",VLOOKUP($D68,数据库!$B$4:$AD$1003,MATCH(BP$12,数据库!$C$2:$R$2,)+1,0))","v":""},null,"","","","","","","","","","","",{"$f":"IF($D68=\"\",\"\",VLOOKUP($D68,数据库!$B$4:$AD$1003,MATCH(CC$12,数据库!$C$2:$R$2,)+1,0))","v":""},null,"","","","","","","","","","","",{"$f":"IF($D68=\"\",\"\",VLOOKUP($D68,数据库!$B$4:$AD$1003,MATCH(CP$12,数据库!$C$2:$AD$2,)+1,0))","v":""},null,"","","","","","","","","","","",{"$f":"IF($D68=\"\",\"\",VLOOKUP($D68,数据库!$B$4:$AD$1003,MATCH(DC$12,数据库!$C$2:$R$2,)+1,0))","v":""},null,"","","","","","","","","","","",{"$f":"IF($D68=\"\",\"\",VLOOKUP($D68,数据库!$B$4:$AD$1003,MATCH(DP$12,数据库!$C$2:$R$2,)+1,0))","v":""},null,"","","","","","","","","","","",{"$f":"IF($D68=\"\",\"\",VLOOKUP($D68,数据库!$B$4:$AD$1003,MATCH(EC$12,数据库!$C$2:$AD$2,)+1,0))","v":""},null,"","","","","","","","","","","",{"$f":"IF($D68=\"\",\"\",VLOOKUP($D68,数据库!$B$4:$AD$1003,MATCH(EP$12,数据库!$C$2:$R$2,)+1,0))","v":""},null,"","","","","","","","","","","",{"$f":"IF($D68=\"\",\"\",VLOOKUP($D68,数据库!$B$4:$AD$1003,MATCH(FC$12,数据库!$C$2:$R$2,)+1,0))","v":""},null,"","","","","","","","","","","",""]
[null,null,"","","","","","","","","","","","","",{"$f":"IF($D69=\"\",\"\",VLOOKUP($D69,数据库!$B$4:$AD$1003,MATCH(P$12,数据库!$C$2:$AD$2,)+1,0))","v":""},null,"",{"$f":"IF(R69=\"\",\"\",MID($R69,S$12+1,1))","v":""},"","","","","","","","","",{"$f":"IF($D69=\"\",\"\",VLOOKUP($D69,数据库!$B$4:$AD$1003,MATCH(AC$12,数据库!$C$2:$R$2,)+1,0))","v":""},null,"","","","","","","","","","","",{"$f":"IF($D69=\"\",\"\",VLOOKUP($D69,数据库!$B$4:$AD$1003,MATCH(AP$12,数据库!$C$2:$R$2,)+1,0))","v":""},null,"","","","","","","","","","","",{"$f":"IF($D69=\"\",\"\",VLOOKUP($D69,数据库!$B$4:$AD$1003,MATCH(BC$12,数据库!$C$2:$AD$2,)+1,0))","v":""},null,"","","","","","","","","","","",{"$f":"IF($D69=\"\",\"\",VLOOKUP($D69,数据库!$B$4:$AD$1003,MATCH(BP$12,数据库!$C$2:$R$2,)+1,0))","v":""},null,"","","","","","","","","","","",{"$f":"IF($D69=\"\",\"\",VLOOKUP($D69,数据库!$B$4:$AD$1003,MATCH(CC$12,数据库!$C$2:$R$2,)+1,0))","v":""},null,"","","","","","","","","","","",{"$f":"IF($D69=\"\",\"\",VLOOKUP($D69,数据库!$B$4:$AD$1003,MATCH(CP$12,数据库!$C$2:$AD$2,)+1,0))","v":""},null,"","","","","","","","","","","",{"$f":"IF($D69=\"\",\"\",VLOOKUP($D69,数据库!$B$4:$AD$1003,MATCH(DC$12,数据库!$C$2:$R$2,)+1,0))","v":""},null,"","","","","","","","","","","",{"$f":"IF($D69=\"\",\"\",VLOOKUP($D69,数据库!$B$4:$AD$1003,MATCH(DP$12,数据库!$C$2:$R$2,)+1,0))","v":""},null,"","","","","","","","","","","",{"$f":"IF($D69=\"\",\"\",VLOOKUP($D69,数据库!$B$4:$AD$1003,MATCH(EC$12,数据库!$C$2:$AD$2,)+1,0))","v":""},null,"","","","","","","","","","","",{"$f":"IF($D69=\"\",\"\",VLOOKUP($D69,数据库!$B$4:$AD$1003,MATCH(EP$12,数据库!$C$2:$R$2,)+1,0))","v":""},null,"","","","","","","","","","","",{"$f":"IF($D69=\"\",\"\",VLOOKUP($D69,数据库!$B$4:$AD$1003,MATCH(FC$12,数据库!$C$2:$R$2,)+1,0))","v":""},null,"","","","","","","","","","","",""]
[null,null,"","","","","","","","","","","","","",{"$f":"IF($D70=\"\",\"\",VLOOKUP($D70,数据库!$B$4:$AD$1003,MATCH(P$12,数据库!$C$2:$AD$2,)+1,0))","v":""},null,"",{"$f":"IF(R70=\"\",\"\",MID($R70,S$12+1,1))","v":""},"","","","","","","","","",{"$f":"IF($D70=\"\",\"\",VLOOKUP($D70,数据库!$B$4:$AD$1003,MATCH(AC$12,数据库!$C$2:$R$2,)+1,0))","v":""},null,"","","","","","","","","","","",{"$f":"IF($D70=\"\",\"\",VLOOKUP($D70,数据库!$B$4:$AD$1003,MATCH(AP$12,数据库!$C$2:$R$2,)+1,0))","v":""},null,"","","","","","","","","","","",{"$f":"IF($D70=\"\",\"\",VLOOKUP($D70,数据库!$B$4:$AD$1003,MATCH(BC$12,数据库!$C$2:$AD$2,)+1,0))","v":""},null,"","","","","","","","","","","",{"$f":"IF($D70=\"\",\"\",VLOOKUP($D70,数据库!$B$4:$AD$1003,MATCH(BP$12,数据库!$C$2:$R$2,)+1,0))","v":""},null,"","","","","","","","","","","",{"$f":"IF($D70=\"\",\"\",VLOOKUP($D70,数据库!$B$4:$AD$1003,MATCH(CC$12,数据库!$C$2:$R$2,)+1,0))","v":""},null,"","","","","","","","","","","",{"$f":"IF($D70=\"\",\"\",VLOOKUP($D70,数据库!$B$4:$AD$1003,MATCH(CP$12,数据库!$C$2:$AD$2,)+1,0))","v":""},null,"","","","","","","","","","","",{"$f":"IF($D70=\"\",\"\",VLOOKUP($D70,数据库!$B$4:$AD$1003,MATCH(DC$12,数据库!$C$2:$R$2,)+1,0))","v":""},null,"","","","","","","","","","","",{"$f":"IF($D70=\"\",\"\",VLOOKUP($D70,数据库!$B$4:$AD$1003,MATCH(DP$12,数据库!$C$2:$R$2,)+1,0))","v":""},null,"","","","","","","","","","","",{"$f":"IF($D70=\"\",\"\",VLOOKUP($D70,数据库!$B$4:$AD$1003,MATCH(EC$12,数据库!$C$2:$AD$2,)+1,0))","v":""},null,"","","","","","","","","","","",{"$f":"IF($D70=\"\",\"\",VLOOKUP($D70,数据库!$B$4:$AD$1003,MATCH(EP$12,数据库!$C$2:$R$2,)+1,0))","v":""},null,"","","","","","","","","","","",{"$f":"IF($D70=\"\",\"\",VLOOKUP($D70,数据库!$B$4:$AD$1003,MATCH(FC$12,数据库!$C$2:$R$2,)+1,0))","v":""},null,"","","","","","","","","","","",""]
[null,null,"","","","","","","","","","","","","",{"$f":"IF($D71=\"\",\"\",VLOOKUP($D71,数据库!$B$4:$AD$1003,MATCH(P$12,数据库!$C$2:$AD$2,)+1,0))","v":""},null,"",{"$f":"IF(R71=\"\",\"\",MID($R71,S$12+1,1))","v":""},"","","","","","","","","",{"$f":"IF($D71=\"\",\"\",VLOOKUP($D71,数据库!$B$4:$AD$1003,MATCH(AC$12,数据库!$C$2:$R$2,)+1,0))","v":""},null,"","","","","","","","","","","",{"$f":"IF($D71=\"\",\"\",VLOOKUP($D71,数据库!$B$4:$AD$1003,MATCH(AP$12,数据库!$C$2:$R$2,)+1,0))","v":""},null,"","","","","","",{"$f":"IF($AR71=\"\",\"\",MID($AR71,AX$12+1,1))","v":""},"","","","",{"$f":"IF($D71=\"\",\"\",VLOOKUP($D71,数据库!$B$4:$AD$1003,MATCH(BC$12,数据库!$C$2:$AD$2,)+1,0))","v":""},null,"","","","","","",{"$f":"IF($BE71=\"\",\"\",MID($BE71,BK$12+1,1))","v":""},"","","","",{"$f":"IF($D71=\"\",\"\",VLOOKUP($D71,数据库!$B$4:$AD$1003,MATCH(BP$12,数据库!$C$2:$R$2,)+1,0))","v":""},null,"","","","","","",{"$f":"IF($BR71=\"\",\"\",MID($BR71,BX$12+1,1))","v":""},"","","","",{"$f":"IF($D71=\"\",\"\",VLOOKUP($D71,数据库!$B$4:$AD$1003,MATCH(CC$12,数据库!$C$2:$R$2,)+1,0))","v":""},null,"","","","","","",{"$f":"IF($CE71=\"\",\"\",MID($CE71,CK$12+1,1))","v":""},"","","","",{"$f":"IF($D71=\"\",\"\",VLOOKUP($D71,数据库!$B$4:$AD$1003,MATCH(CP$12,数据库!$C$2:$AD$2,)+1,0))","v":""},null,"","","","","","",{"$f":"IF($CR71=\"\",\"\",MID($CR71,CX$12+1,1))","v":""},"","","","",{"$f":"IF($D71=\"\",\"\",VLOOKUP($D71,数据库!$B$4:$AD$1003,MATCH(DC$12,数据库!$C$2:$R$2,)+1,0))","v":""},null,"","","","","","",{"$f":"IF($DE71=\"\",\"\",MID($DE71,DK$12+1,1))","v":""},"","","","",{"$f":"IF($D71=\"\",\"\",VLOOKUP($D71,数据库!$B$4:$AD$1003,MATCH(DP$12,数据库!$C$2:$R$2,)+1,0))","v":""},null,"","","","","","",{"$f":"IF($DR71=\"\",\"\",MID($DR71,DX$12+1,1))","v":""},"","","","",{"$f":"IF($D71=\"\",\"\",VLOOKUP($D71,数据库!$B$4:$AD$1003,MATCH(EC$12,数据库!$C$2:$AD$2,)+1,0))","v":""},null,"","","","","","",{"$f":"IF($EE71=\"\",\"\",MID($EE71,EK$12+1,1))","v":""},"","","","",{"$f":"IF($D71=\"\",\"\",VLOOKUP($D71,数据库!$B$4:$AD$1003,MATCH(EP$12,数据库!$C$2:$R$2,)+1,0))","v":""},null,"","","","","","",{"$f":"IF($ER71=\"\",\"\",MID($ER71,EX$12+1,1))","v":""},"","","","",{"$f":"IF($D71=\"\",\"\",VLOOKUP($D71,数据库!$B$4:$AD$1003,MATCH(FC$12,数据库!$C$2:$R$2,)+1,0))","v":""},null,"","","","","","","","","","","",""]
[null,null,"","","","","","","","","","","","","",{"$f":"IF($D72=\"\",\"\",VLOOKUP($D72,数据库!$B$4:$AD$1003,MATCH(P$12,数据库!$C$2:$AD$2,)+1,0))","v":""},null,"",{"$f":"IF(R72=\"\",\"\",MID($R72,S$12+1,1))","v":""},"","","","","","","","","",{"$f":"IF($D72=\"\",\"\",VLOOKUP($D72,数据库!$B$4:$AD$1003,MATCH(AC$12,数据库!$C$2:$R$2,)+1,0))","v":""},null,"","","","","","","","","","","",{"$f":"IF($D72=\"\",\"\",VLOOKUP($D72,数据库!$B$4:$AD$1003,MATCH(AP$12,数据库!$C$2:$R$2,)+1,0))","v":""},null,"",{"$f":"IF($AR72=\"\",\"\",MID($AR72,AS$12+1,1))","v":""},"","","","","","","","","",{"$f":"IF($D72=\"\",\"\",VLOOKUP($D72,数据库!$B$4:$AD$1003,MATCH(BC$12,数据库!$C$2:$AD$2,)+1,0))","v":""},null,"",{"$f":"IF($BE72=\"\",\"\",MID($BE72,BF$12+1,1))","v":""},"","","","","","","","","",{"$f":"IF($D72=\"\",\"\",VLOOKUP($D72,数据库!$B$4:$AD$1003,MATCH(BP$12,数据库!$C$2:$R$2,)+1,0))","v":""},null,"",{"$f":"IF($BR72=\"\",\"\",MID($BR72,BS$12+1,1))","v":""},"","","","","","","","","",{"$f":"IF($D72=\"\",\"\",VLOOKUP($D72,数据库!$B$4:$AD$1003,MATCH(CC$12,数据库!$C$2:$R$2,)+1,0))","v":""},null,"",{"$f":"IF($CE72=\"\",\"\",MID($CE72,CF$12+1,1))","v":""},"","","","","","","","","",{"$f":"IF($D72=\"\",\"\",VLOOKUP($D72,数据库!$B$4:$AD$1003,MATCH(CP$12,数据库!$C$2:$AD$2,)+1,0))","v":""},null,"",{"$f":"IF($CR72=\"\",\"\",MID($CR72,CS$12+1,1))","v":""},"","","","","","","","","",{"$f":"IF($D72=\"\",\"\",VLOOKUP($D72,数据库!$B$4:$AD$1003,MATCH(DC$12,数据库!$C$2:$R$2,)+1,0))","v":""},null,"",{"$f":"IF($DE72=\"\",\"\",MID($DE72,DF$12+1,1))","v":""},"","","","","","","","","",{"$f":"IF($D72=\"\",\"\",VLOOKUP($D72,数据库!$B$4:$AD$1003,MATCH(DP$12,数据库!$C$2:$R$2,)+1,0))","v":""},null,"",{"$f":"IF($DR72=\"\",\"\",MID($DR72,DS$12+1,1))","v":""},"","","","","","","","","",{"$f":"IF($D72=\"\",\"\",VLOOKUP($D72,数据库!$B$4:$AD$1003,MATCH(EC$12,数据库!$C$2:$AD$2,)+1,0))","v":""},null,"",{"$f":"IF($EE72=\"\",\"\",MID($EE72,EF$12+1,1))","v":""},"","","","","","","","","",{"$f":"IF($D72=\"\",\"\",VLOOKUP($D72,数据库!$B$4:$AD$1003,MATCH(EP$12,数据库!$C$2:$R$2,)+1,0))","v":""},null,"",{"$f":"IF($ER72=\"\",\"\",MID($ER72,ES$12+1,1))","v":""},"","","","","","","","","",{"$f":"IF($D72=\"\",\"\",VLOOKUP($D72,数据库!$B$4:$AD$1003,MATCH(FC$12,数据库!$C$2:$R$2,)+1,0))","v":""},null,"","","","","","","","","","","",""]
[null,null,"","","","","","","","","","","","","",{"$f":"IF($D73=\"\",\"\",VLOOKUP($D73,数据库!$B$4:$AD$1003,MATCH(P$12,数据库!$C$2:$AD$2,)+1,0))","v":""},null,"",{"$f":"IF(R73=\"\",\"\",MID($R73,S$12+1,1))","v":""},"","","","","","","","","",{"$f":"IF($D73=\"\",\"\",VLOOKUP($D73,数据库!$B$4:$AD$1003,MATCH(AC$12,数据库!$C$2:$R$2,)+1,0))","v":""},null,"","","","","","","","","","","",{"$f":"IF($D73=\"\",\"\",VLOOKUP($D73,数据库!$B$4:$AD$1003,MATCH(AP$12,数据库!$C$2:$R$2,)+1,0))","v":""},null,"","","","","","","","","","","",{"$f":"IF($D73=\"\",\"\",VLOOKUP($D73,数据库!$B$4:$AD$1003,MATCH(BC$12,数据库!$C$2:$AD$2,)+1,0))","v":""},null,"","","","","","","","","","","",{"$f":"IF($D73=\"\",\"\",VLOOKUP($D73,数据库!$B$4:$AD$1003,MATCH(BP$12,数据库!$C$2:$R$2,)+1,0))","v":""},null,"","","","","","","","","","","",{"$f":"IF($D73=\"\",\"\",VLOOKUP($D73,数据库!$B$4:$AD$1003,MATCH(CC$12,数据库!$C$2:$R$2,)+1,0))","v":""},null,"","","","","","","","","","","",{"$f":"IF($D73=\"\",\"\",VLOOKUP($D73,数据库!$B$4:$AD$1003,MATCH(CP$12,数据库!$C$2:$AD$2,)+1,0))","v":""},null,"","","","","","","","","","","",{"$f":"IF($D73=\"\",\"\",VLOOKUP($D73,数据库!$B$4:$AD$1003,MATCH(DC$12,数据库!$C$2:$R$2,)+1,0))","v":""},null,"","","","","","","","","","","",{"$f":"IF($D73=\"\",\"\",VLOOKUP($D73,数据库!$B$4:$AD$1003,MATCH(DP$12,数据库!$C$2:$R$2,)+1,0))","v":""},null,"","","","","","","","","","","",{"$f":"IF($D73=\"\",\"\",VLOOKUP($D73,数据库!$B$4:$AD$1003,MATCH(EC$12,数据库!$C$2:$AD$2,)+1,0))","v":""},null,"","","","","","","","","","","",{"$f":"IF($D73=\"\",\"\",VLOOKUP($D73,数据库!$B$4:$AD$1003,MATCH(EP$12,数据库!$C$2:$R$2,)+1,0))","v":""},null,"","","","","","","","","","","",{"$f":"IF($D73=\"\",\"\",VLOOKUP($D73,数据库!$B$4:$AD$1003,MATCH(FC$12,数据库!$C$2:$R$2,)+1,0))","v":""},null,"","","","","","","","","","","",""]
[null,null,"","","","","","","","","","","","","",{"$f":"IF($D74=\"\",\"\",VLOOKUP($D74,数据库!$B$4:$AD$1003,MATCH(P$12,数据库!$C$2:$AD$2,)+1,0))","v":""},null,"",{"$f":"IF(R74=\"\",\"\",MID($R74,S$12+1,1))","v":""},"","","","","","","","","",{"$f":"IF($D74=\"\",\"\",VLOOKUP($D74,数据库!$B$4:$AD$1003,MATCH(AC$12,数据库!$C$2:$R$2,)+1,0))","v":""},null,"","","","","","","","","","","",{"$f":"IF($D74=\"\",\"\",VLOOKUP($D74,数据库!$B$4:$AD$1003,MATCH(AP$12,数据库!$C$2:$R$2,)+1,0))","v":""},null,"","","","","","","","","","","",{"$f":"IF($D74=\"\",\"\",VLOOKUP($D74,数据库!$B$4:$AD$1003,MATCH(BC$12,数据库!$C$2:$AD$2,)+1,0))","v":""},null,"","","","","","","","","","","",{"$f":"IF($D74=\"\",\"\",VLOOKUP($D74,数据库!$B$4:$AD$1003,MATCH(BP$12,数据库!$C$2:$R$2,)+1,0))","v":""},null,"","","","","","","","","","","",{"$f":"IF($D74=\"\",\"\",VLOOKUP($D74,数据库!$B$4:$AD$1003,MATCH(CC$12,数据库!$C$2:$R$2,)+1,0))","v":""},null,"","","","","","","","","","","",{"$f":"IF($D74=\"\",\"\",VLOOKUP($D74,数据库!$B$4:$AD$1003,MATCH(CP$12,数据库!$C$2:$AD$2,)+1,0))","v":""},null,"","","","","","","","","","","",{"$f":"IF($D74=\"\",\"\",VLOOKUP($D74,数据库!$B$4:$AD$1003,MATCH(DC$12,数据库!$C$2:$R$2,)+1,0))","v":""},null,"","","","","","","","","","","",{"$f":"IF($D74=\"\",\"\",VLOOKUP($D74,数据库!$B$4:$AD$1003,MATCH(DP$12,数据库!$C$2:$R$2,)+1,0))","v":""},null,"","","","","","","","","","","",{"$f":"IF($D74=\"\",\"\",VLOOKUP($D74,数据库!$B$4:$AD$1003,MATCH(EC$12,数据库!$C$2:$AD$2,)+1,0))","v":""},null,"","","","","","","","","","","",{"$f":"IF($D74=\"\",\"\",VLOOKUP($D74,数据库!$B$4:$AD$1003,MATCH(EP$12,数据库!$C$2:$R$2,)+1,0))","v":""},null,"","","","","","","","","","","",{"$f":"IF($D74=\"\",\"\",VLOOKUP($D74,数据库!$B$4:$AD$1003,MATCH(FC$12,数据库!$C$2:$R$2,)+1,0))","v":""},null,"","","","","","","","","","","",""]
[null,null,"","","","","","","","","","","","","",{"$f":"IF($D75=\"\",\"\",VLOOKUP($D75,数据库!$B$4:$AD$1003,MATCH(P$12,数据库!$C$2:$AD$2,)+1,0))","v":""},null,"",{"$f":"IF(R75=\"\",\"\",MID($R75,S$12+1,1))","v":""},"","","","","","","","","",{"$f":"IF($D75=\"\",\"\",VLOOKUP($D75,数据库!$B$4:$AD$1003,MATCH(AC$12,数据库!$C$2:$R$2,)+1,0))","v":""},null,"","","","","","","","","","","",{"$f":"IF($D75=\"\",\"\",VLOOKUP($D75,数据库!$B$4:$AD$1003,MATCH(AP$12,数据库!$C$2:$R$2,)+1,0))","v":""},null,"","","","","","","","","","","",{"$f":"IF($D75=\"\",\"\",VLOOKUP($D75,数据库!$B$4:$AD$1003,MATCH(BC$12,数据库!$C$2:$AD$2,)+1,0))","v":""},null,"","","","","","","","","","","",{"$f":"IF($D75=\"\",\"\",VLOOKUP($D75,数据库!$B$4:$AD$1003,MATCH(BP$12,数据库!$C$2:$R$2,)+1,0))","v":""},null,"","","","","","","","","","","",{"$f":"IF($D75=\"\",\"\",VLOOKUP($D75,数据库!$B$4:$AD$1003,MATCH(CC$12,数据库!$C$2:$R$2,)+1,0))","v":""},null,"","","","","","","","","","","",{"$f":"IF($D75=\"\",\"\",VLOOKUP($D75,数据库!$B$4:$AD$1003,MATCH(CP$12,数据库!$C$2:$AD$2,)+1,0))","v":""},null,"","","","","","","","","","","",{"$f":"IF($D75=\"\",\"\",VLOOKUP($D75,数据库!$B$4:$AD$1003,MATCH(DC$12,数据库!$C$2:$R$2,)+1,0))","v":""},null,"","","","","","","","","","","",{"$f":"IF($D75=\"\",\"\",VLOOKUP($D75,数据库!$B$4:$AD$1003,MATCH(DP$12,数据库!$C$2:$R$2,)+1,0))","v":""},null,"","","","","","","","","","","",{"$f":"IF($D75=\"\",\"\",VLOOKUP($D75,数据库!$B$4:$AD$1003,MATCH(EC$12,数据库!$C$2:$AD$2,)+1,0))","v":""},null,"","","","","","","","","","","",{"$f":"IF($D75=\"\",\"\",VLOOKUP($D75,数据库!$B$4:$AD$1003,MATCH(EP$12,数据库!$C$2:$R$2,)+1,0))","v":""},null,"","","","","","","","","","","",{"$f":"IF($D75=\"\",\"\",VLOOKUP($D75,数据库!$B$4:$AD$1003,MATCH(FC$12,数据库!$C$2:$R$2,)+1,0))","v":""},null,"","","","","","","","","","","",""]
[null,null,"","","","","","","","","","","","","",{"$f":"IF($D76=\"\",\"\",VLOOKUP($D76,数据库!$B$4:$AD$1003,MATCH(P$12,数据库!$C$2:$AD$2,)+1,0))","v":""},null,"",{"$f":"IF(R76=\"\",\"\",MID($R76,S$12+1,1))","v":""},"","","","","","","","","",{"$f":"IF($D76=\"\",\"\",VLOOKUP($D76,数据库!$B$4:$AD$1003,MATCH(AC$12,数据库!$C$2:$R$2,)+1,0))","v":""},null,"","","","","","","","","","","",{"$f":"IF($D76=\"\",\"\",VLOOKUP($D76,数据库!$B$4:$AD$1003,MATCH(AP$12,数据库!$C$2:$R$2,)+1,0))","v":""},null,"","","","","","","","","","","",{"$f":"IF($D76=\"\",\"\",VLOOKUP($D76,数据库!$B$4:$AD$1003,MATCH(BC$12,数据库!$C$2:$AD$2,)+1,0))","v":""},null,"","","","","","","","","","","",{"$f":"IF($D76=\"\",\"\",VLOOKUP($D76,数据库!$B$4:$AD$1003,MATCH(BP$12,数据库!$C$2:$R$2,)+1,0))","v":""},null,"","","","","","","","","","","",{"$f":"IF($D76=\"\",\"\",VLOOKUP($D76,数据库!$B$4:$AD$1003,MATCH(CC$12,数据库!$C$2:$R$2,)+1,0))","v":""},null,"","","","","","","","","","","",{"$f":"IF($D76=\"\",\"\",VLOOKUP($D76,数据库!$B$4:$AD$1003,MATCH(CP$12,数据库!$C$2:$AD$2,)+1,0))","v":""},null,"","","","","","","","","","","",{"$f":"IF($D76=\"\",\"\",VLOOKUP($D76,数据库!$B$4:$AD$1003,MATCH(DC$12,数据库!$C$2:$R$2,)+1,0))","v":""},null,"","","","","","","","","","","",{"$f":"IF($D76=\"\",\"\",VLOOKUP($D76,数据库!$B$4:$AD$1003,MATCH(DP$12,数据库!$C$2:$R$2,)+1,0))","v":""},null,"","","","","","","","","","","",{"$f":"IF($D76=\"\",\"\",VLOOKUP($D76,数据库!$B$4:$AD$1003,MATCH(EC$12,数据库!$C$2:$AD$2,)+1,0))","v":""},null,"","","","","","","","","","","",{"$f":"IF($D76=\"\",\"\",VLOOKUP($D76,数据库!$B$4:$AD$1003,MATCH(EP$12,数据库!$C$2:$R$2,)+1,0))","v":""},null,"","","","","","","","","","","",{"$f":"IF($D76=\"\",\"\",VLOOKUP($D76,数据库!$B$4:$AD$1003,MATCH(FC$12,数据库!$C$2:$R$2,)+1,0))","v":""},null,"","","","","","","","","","","",""]
[null,null,"","","","","","","","","","","","","",{"$f":"IF($D77=\"\",\"\",VLOOKUP($D77,数据库!$B$4:$AD$1003,MATCH(P$12,数据库!$C$2:$AD$2,)+1,0))","v":""},null,"",{"$f":"IF(R77=\"\",\"\",MID($R77,S$12+1,1))","v":""},"","","","","","","","","",{"$f":"IF($D77=\"\",\"\",VLOOKUP($D77,数据库!$B$4:$AD$1003,MATCH(AC$12,数据库!$C$2:$R$2,)+1,0))","v":""},null,"","","","","","","","","","","",{"$f":"IF($D77=\"\",\"\",VLOOKUP($D77,数据库!$B$4:$AD$1003,MATCH(AP$12,数据库!$C$2:$R$2,)+1,0))","v":""},null,"","","","","","","","","","","",{"$f":"IF($D77=\"\",\"\",VLOOKUP($D77,数据库!$B$4:$AD$1003,MATCH(BC$12,数据库!$C$2:$AD$2,)+1,0))","v":""},null,"","","","","","","","","","","",{"$f":"IF($D77=\"\",\"\",VLOOKUP($D77,数据库!$B$4:$AD$1003,MATCH(BP$12,数据库!$C$2:$R$2,)+1,0))","v":""},null,"","","","","","","","","","","",{"$f":"IF($D77=\"\",\"\",VLOOKUP($D77,数据库!$B$4:$AD$1003,MATCH(CC$12,数据库!$C$2:$R$2,)+1,0))","v":""},null,"","","","","","","","","","","",{"$f":"IF($D77=\"\",\"\",VLOOKUP($D77,数据库!$B$4:$AD$1003,MATCH(CP$12,数据库!$C$2:$AD$2,)+1,0))","v":""},null,"","","","","","","","","","","",{"$f":"IF($D77=\"\",\"\",VLOOKUP($D77,数据库!$B$4:$AD$1003,MATCH(DC$12,数据库!$C$2:$R$2,)+1,0))","v":""},null,"","","","","","","","","","","",{"$f":"IF($D77=\"\",\"\",VLOOKUP($D77,数据库!$B$4:$AD$1003,MATCH(DP$12,数据库!$C$2:$R$2,)+1,0))","v":""},null,"","","","","","","","","","","",{"$f":"IF($D77=\"\",\"\",VLOOKUP($D77,数据库!$B$4:$AD$1003,MATCH(EC$12,数据库!$C$2:$AD$2,)+1,0))","v":""},null,"","","","","","","","","","","",{"$f":"IF($D77=\"\",\"\",VLOOKUP($D77,数据库!$B$4:$AD$1003,MATCH(EP$12,数据库!$C$2:$R$2,)+1,0))","v":""},null,"","","","","","","","","","","",{"$f":"IF($D77=\"\",\"\",VLOOKUP($D77,数据库!$B$4:$AD$1003,MATCH(FC$12,数据库!$C$2:$R$2,)+1,0))","v":""},null,"","","","","","","","","","","",""]
[null,null,"","","",{"$f":"IF($E78=\"\",\"\",MID($E78,F$12+1,1))","v":""},"","","","","","","","","",{"$f":"IF($D78=\"\",\"\",VLOOKUP($D78,数据库!$B$4:$AD$1003,MATCH(P$12,数据库!$C$2:$AD$2,)+1,0))","v":""},null,"",{"$f":"IF(R78=\"\",\"\",MID($R78,S$12+1,1))","v":""},"","","","","","","","","",{"$f":"IF($D78=\"\",\"\",VLOOKUP($D78,数据库!$B$4:$AD$1003,MATCH(AC$12,数据库!$C$2:$R$2,)+1,0))","v":""},null,"",{"$f":"IF($AE78=\"\",\"\",MID($AE78,AF$12+1,1))","v":""},"","","","","","","","","",{"$f":"IF($D78=\"\",\"\",VLOOKUP($D78,数据库!$B$4:$AD$1003,MATCH(AP$12,数据库!$C$2:$R$2,)+1,0))","v":""},null,"","","","","","","","","","","",{"$f":"IF($D78=\"\",\"\",VLOOKUP($D78,数据库!$B$4:$AD$1003,MATCH(BC$12,数据库!$C$2:$AD$2,)+1,0))","v":""},null,"","","","","","","","","","","",{"$f":"IF($D78=\"\",\"\",VLOOKUP($D78,数据库!$B$4:$AD$1003,MATCH(BP$12,数据库!$C$2:$R$2,)+1,0))","v":""},null,"","","","","","","","","","","",{"$f":"IF($D78=\"\",\"\",VLOOKUP($D78,数据库!$B$4:$AD$1003,MATCH(CC$12,数据库!$C$2:$R$2,)+1,0))","v":""},null,"","","","","","","","","","","",{"$f":"IF($D78=\"\",\"\",VLOOKUP($D78,数据库!$B$4:$AD$1003,MATCH(CP$12,数据库!$C$2:$AD$2,)+1,0))","v":""},null,"","","","","","","","","","","",{"$f":"IF($D78=\"\",\"\",VLOOKUP($D78,数据库!$B$4:$AD$1003,MATCH(DC$12,数据库!$C$2:$R$2,)+1,0))","v":""},null,"","","","","","","","","","","",{"$f":"IF($D78=\"\",\"\",VLOOKUP($D78,数据库!$B$4:$AD$1003,MATCH(DP$12,数据库!$C$2:$R$2,)+1,0))","v":""},null,"","","","","","","","","","","",{"$f":"IF($D78=\"\",\"\",VLOOKUP($D78,数据库!$B$4:$AD$1003,MATCH(EC$12,数据库!$C$2:$AD$2,)+1,0))","v":""},null,"","","","","","","","","","","",{"$f":"IF($D78=\"\",\"\",VLOOKUP($D78,数据库!$B$4:$AD$1003,MATCH(EP$12,数据库!$C$2:$R$2,)+1,0))","v":""},null,"","","","","","","","","","","",{"$f":"IF($D78=\"\",\"\",VLOOKUP($D78,数据库!$B$4:$AD$1003,MATCH(FC$12,数据库!$C$2:$R$2,)+1,0))","v":""},null,{"$f":"IF(E78=\"\",\"\",E78)","v":""},{"$f":"IF(R78=\"\",\"\",R78)","v":""},{"$f":"IF(AE78=\"\",\"\",AE78)","v":""},{"$f":"IF(AR78=\"\",\"\",AR78)","v":""},{"$f":"IF(BE78=\"\",\"\",BE78)","v":""},{"$f":"IF(BR78=\"\",\"\",BR78)","v":""},{"$f":"IF(CE78=\"\",\"\",CE78)","v":""},{"$f":"IF(CR78=\"\",\"\",CR78)","v":""},{"$f":"IF(DE78=\"\",\"\",DE78)","v":""},{"$f":"IF(DR78=\"\",\"\",DR78)","v":""},{"$f":"IF(EE78=\"\",\"\",EE78)","v":""},{"$f":"IF(ER78=\"\",\"\",ER78)","v":""}]
[null,null,"","","","","","","","","","","","","",{"$f":"IF($D79=\"\",\"\",VLOOKUP($D79,数据库!$B$4:$AD$1003,MATCH(P$12,数据库!$C$2:$AD$2,)+1,0))","v":""},null,"",{"$f":"IF(R79=\"\",\"\",MID($R79,S$12+1,1))","v":""},"","","","","","","","","",{"$f":"IF($D79=\"\",\"\",VLOOKUP($D79,数据库!$B$4:$AD$1003,MATCH(AC$12,数据库!$C$2:$R$2,)+1,0))","v":""},null,"","","","","","","","","","","",{"$f":"IF($D79=\"\",\"\",VLOOKUP($D79,数据库!$B$4:$AD$1003,MATCH(AP$12,数据库!$C$2:$R$2,)+1,0))","v":""},null,"","","","","","","","","","","",{"$f":"IF($D79=\"\",\"\",VLOOKUP($D79,数据库!$B$4:$AD$1003,MATCH(BC$12,数据库!$C$2:$AD$2,)+1,0))","v":""},null,"","","","","","","","","","","",{"$f":"IF($D79=\"\",\"\",VLOOKUP($D79,数据库!$B$4:$AD$1003,MATCH(BP$12,数据库!$C$2:$R$2,)+1,0))","v":""},null,"","","","","","","","","","","",{"$f":"IF($D79=\"\",\"\",VLOOKUP($D79,数据库!$B$4:$AD$1003,MATCH(CC$12,数据库!$C$2:$R$2,)+1,0))","v":""},null,"","","","","","","","","","","",{"$f":"IF($D79=\"\",\"\",VLOOKUP($D79,数据库!$B$4:$AD$1003,MATCH(CP$12,数据库!$C$2:$AD$2,)+1,0))","v":""},null,"","","","","","","","","","","",{"$f":"IF($D79=\"\",\"\",VLOOKUP($D79,数据库!$B$4:$AD$1003,MATCH(DC$12,数据库!$C$2:$R$2,)+1,0))","v":""},null,"","","","","","","","","","","",{"$f":"IF($D79=\"\",\"\",VLOOKUP($D79,数据库!$B$4:$AD$1003,MATCH(DP$12,数据库!$C$2:$R$2,)+1,0))","v":""},null,"","","","","","","","","","","",{"$f":"IF($D79=\"\",\"\",VLOOKUP($D79,数据库!$B$4:$AD$1003,MATCH(EC$12,数据库!$C$2:$AD$2,)+1,0))","v":""},null,"","","","","","","","","","","",{"$f":"IF($D79=\"\",\"\",VLOOKUP($D79,数据库!$B$4:$AD$1003,MATCH(EP$12,数据库!$C$2:$R$2,)+1,0))","v":""},null,"","","","","","","","","","","",{"$f":"IF($D79=\"\",\"\",VLOOKUP($D79,数据库!$B$4:$AD$1003,MATCH(FC$12,数据库!$C$2:$R$2,)+1,0))","v":""},null,"","","","","","","","","","","",""]
[null,null,"","","","","","","","","","","","","",{"$f":"IF($D80=\"\",\"\",VLOOKUP($D80,数据库!$B$4:$AD$1003,MATCH(P$12,数据库!$C$2:$AD$2,)+1,0))","v":""},null,"",{"$f":"IF(R80=\"\",\"\",MID($R80,S$12+1,1))","v":""},"","","","","","","","","",{"$f":"IF($D80=\"\",\"\",VLOOKUP($D80,数据库!$B$4:$AD$1003,MATCH(AC$12,数据库!$C$2:$R$2,)+1,0))","v":""},null,"","","","","","","","","","","",{"$f":"IF($D80=\"\",\"\",VLOOKUP($D80,数据库!$B$4:$AD$1003,MATCH(AP$12,数据库!$C$2:$R$2,)+1,0))","v":""},null,"","","","","","","","","","","",{"$f":"IF($D80=\"\",\"\",VLOOKUP($D80,数据库!$B$4:$AD$1003,MATCH(BC$12,数据库!$C$2:$AD$2,)+1,0))","v":""},null,"","","","","","","","","","","",{"$f":"IF($D80=\"\",\"\",VLOOKUP($D80,数据库!$B$4:$AD$1003,MATCH(BP$12,数据库!$C$2:$R$2,)+1,0))","v":""},null,"","","","","","","","","","","",{"$f":"IF($D80=\"\",\"\",VLOOKUP($D80,数据库!$B$4:$AD$1003,MATCH(CC$12,数据库!$C$2:$R$2,)+1,0))","v":""},null,"","","","","","","","","","","",{"$f":"IF($D80=\"\",\"\",VLOOKUP($D80,数据库!$B$4:$AD$1003,MATCH(CP$12,数据库!$C$2:$AD$2,)+1,0))","v":""},null,"","","","","","","","","","","",{"$f":"IF($D80=\"\",\"\",VLOOKUP($D80,数据库!$B$4:$AD$1003,MATCH(DC$12,数据库!$C$2:$R$2,)+1,0))","v":""},null,"","","","","","","","","","","",{"$f":"IF($D80=\"\",\"\",VLOOKUP($D80,数据库!$B$4:$AD$1003,MATCH(DP$12,数据库!$C$2:$R$2,)+1,0))","v":""},null,"","","","","","","","","","","",{"$f":"IF($D80=\"\",\"\",VLOOKUP($D80,数据库!$B$4:$AD$1003,MATCH(EC$12,数据库!$C$2:$AD$2,)+1,0))","v":""},null,"","","","","","","","","","","",{"$f":"IF($D80=\"\",\"\",VLOOKUP($D80,数据库!$B$4:$AD$1003,MATCH(EP$12,数据库!$C$2:$R$2,)+1,0))","v":""},null,"","","","","","","","","","","",{"$f":"IF($D80=\"\",\"\",VLOOKUP($D80,数据库!$B$4:$AD$1003,MATCH(FC$12,数据库!$C$2:$R$2,)+1,0))","v":""},null,"","","","","","","","","","","",""]
[null,null,"","","","","","","","","","","","","",{"$f":"IF($D81=\"\",\"\",VLOOKUP($D81,数据库!$B$4:$AD$1003,MATCH(P$12,数据库!$C$2:$AD$2,)+1,0))","v":""},null,"",{"$f":"IF(R81=\"\",\"\",MID($R81,S$12+1,1))","v":""},"","","","","","","","","",{"$f":"IF($D81=\"\",\"\",VLOOKUP($D81,数据库!$B$4:$AD$1003,MATCH(AC$12,数据库!$C$2:$R$2,)+1,0))","v":""},null,"","","","","","","","","","","",{"$f":"IF($D81=\"\",\"\",VLOOKUP($D81,数据库!$B$4:$AD$1003,MATCH(AP$12,数据库!$C$2:$R$2,)+1,0))","v":""},null,"","","","","","","","","","","",{"$f":"IF($D81=\"\",\"\",VLOOKUP($D81,数据库!$B$4:$AD$1003,MATCH(BC$12,数据库!$C$2:$AD$2,)+1,0))","v":""},null,"","","","","","","","","","","",{"$f":"IF($D81=\"\",\"\",VLOOKUP($D81,数据库!$B$4:$AD$1003,MATCH(BP$12,数据库!$C$2:$R$2,)+1,0))","v":""},null,"","","","","","","","","","","",{"$f":"IF($D81=\"\",\"\",VLOOKUP($D81,数据库!$B$4:$AD$1003,MATCH(CC$12,数据库!$C$2:$R$2,)+1,0))","v":""},null,"","","","","","","","","","","",{"$f":"IF($D81=\"\",\"\",VLOOKUP($D81,数据库!$B$4:$AD$1003,MATCH(CP$12,数据库!$C$2:$AD$2,)+1,0))","v":""},null,"","","","","","","","","","","",{"$f":"IF($D81=\"\",\"\",VLOOKUP($D81,数据库!$B$4:$AD$1003,MATCH(DC$12,数据库!$C$2:$R$2,)+1,0))","v":""},null,"","","","","","","","","","","",{"$f":"IF($D81=\"\",\"\",VLOOKUP($D81,数据库!$B$4:$AD$1003,MATCH(DP$12,数据库!$C$2:$R$2,)+1,0))","v":""},null,"","","","","","","","","","","",{"$f":"IF($D81=\"\",\"\",VLOOKUP($D81,数据库!$B$4:$AD$1003,MATCH(EC$12,数据库!$C$2:$AD$2,)+1,0))","v":""},null,"","","","","","","","","","","",{"$f":"IF($D81=\"\",\"\",VLOOKUP($D81,数据库!$B$4:$AD$1003,MATCH(EP$12,数据库!$C$2:$R$2,)+1,0))","v":""},null,"","","","","","","","","","","",{"$f":"IF($D81=\"\",\"\",VLOOKUP($D81,数据库!$B$4:$AD$1003,MATCH(FC$12,数据库!$C$2:$R$2,)+1,0))","v":""},null,"","","","","","","","","","","",""]
[null,null,"","","","","","","","","","","","","",{"$f":"IF($D82=\"\",\"\",VLOOKUP($D82,数据库!$B$4:$AD$1003,MATCH(P$12,数据库!$C$2:$AD$2,)+1,0))","v":""},null,"",{"$f":"IF(R82=\"\",\"\",MID($R82,S$12+1,1))","v":""},"","","","","","","","","",{"$f":"IF($D82=\"\",\"\",VLOOKUP($D82,数据库!$B$4:$AD$1003,MATCH(AC$12,数据库!$C$2:$R$2,)+1,0))","v":""},null,"","","","","","","","","","","",{"$f":"IF($D82=\"\",\"\",VLOOKUP($D82,数据库!$B$4:$AD$1003,MATCH(AP$12,数据库!$C$2:$R$2,)+1,0))","v":""},null,"","","","","","","","","","","",{"$f":"IF($D82=\"\",\"\",VLOOKUP($D82,数据库!$B$4:$AD$1003,MATCH(BC$12,数据库!$C$2:$AD$2,)+1,0))","v":""},null,"","","","","","","","","","","",{"$f":"IF($D82=\"\",\"\",VLOOKUP($D82,数据库!$B$4:$AD$1003,MATCH(BP$12,数据库!$C$2:$R$2,)+1,0))","v":""},null,"","","","","","","","","","","",{"$f":"IF($D82=\"\",\"\",VLOOKUP($D82,数据库!$B$4:$AD$1003,MATCH(CC$12,数据库!$C$2:$R$2,)+1,0))","v":""},null,"","","","","","","","","","","",{"$f":"IF($D82=\"\",\"\",VLOOKUP($D82,数据库!$B$4:$AD$1003,MATCH(CP$12,数据库!$C$2:$AD$2,)+1,0))","v":""},null,"","","","","","","","","","","",{"$f":"IF($D82=\"\",\"\",VLOOKUP($D82,数据库!$B$4:$AD$1003,MATCH(DC$12,数据库!$C$2:$R$2,)+1,0))","v":""},null,"","","","","","","","","","","",{"$f":"IF($D82=\"\",\"\",VLOOKUP($D82,数据库!$B$4:$AD$1003,MATCH(DP$12,数据库!$C$2:$R$2,)+1,0))","v":""},null,"","","","","","","","","","","",{"$f":"IF($D82=\"\",\"\",VLOOKUP($D82,数据库!$B$4:$AD$1003,MATCH(EC$12,数据库!$C$2:$AD$2,)+1,0))","v":""},null,"","","","","","","","","","","",{"$f":"IF($D82=\"\",\"\",VLOOKUP($D82,数据库!$B$4:$AD$1003,MATCH(EP$12,数据库!$C$2:$R$2,)+1,0))","v":""},null,"","","","","","","","","","","",{"$f":"IF($D82=\"\",\"\",VLOOKUP($D82,数据库!$B$4:$AD$1003,MATCH(FC$12,数据库!$C$2:$R$2,)+1,0))","v":""},null,"","","","","","","","","","","",""]
[null,null,"","","","","","","","","","","","","",{"$f":"IF($D83=\"\",\"\",VLOOKUP($D83,数据库!$B$4:$AD$1003,MATCH(P$12,数据库!$C$2:$AD$2,)+1,0))","v":""},null,"",{"$f":"IF(R83=\"\",\"\",MID($R83,S$12+1,1))","v":""},"","","","","","","","","",{"$f":"IF($D83=\"\",\"\",VLOOKUP($D83,数据库!$B$4:$AD$1003,MATCH(AC$12,数据库!$C$2:$R$2,)+1,0))","v":""},null,"","","","","","","","","","","",{"$f":"IF($D83=\"\",\"\",VLOOKUP($D83,数据库!$B$4:$AD$1003,MATCH(AP$12,数据库!$C$2:$R$2,)+1,0))","v":""},null,"","","","","","","","","","","",{"$f":"IF($D83=\"\",\"\",VLOOKUP($D83,数据库!$B$4:$AD$1003,MATCH(BC$12,数据库!$C$2:$AD$2,)+1,0))","v":""},null,"","","","","","","","","","","",{"$f":"IF($D83=\"\",\"\",VLOOKUP($D83,数据库!$B$4:$AD$1003,MATCH(BP$12,数据库!$C$2:$R$2,)+1,0))","v":""},null,"","","","","","","","","","","",{"$f":"IF($D83=\"\",\"\",VLOOKUP($D83,数据库!$B$4:$AD$1003,MATCH(CC$12,数据库!$C$2:$R$2,)+1,0))","v":""},null,"","","","","","","","","","","",{"$f":"IF($D83=\"\",\"\",VLOOKUP($D83,数据库!$B$4:$AD$1003,MATCH(CP$12,数据库!$C$2:$AD$2,)+1,0))","v":""},null,"","","","","","","","","","","",{"$f":"IF($D83=\"\",\"\",VLOOKUP($D83,数据库!$B$4:$AD$1003,MATCH(DC$12,数据库!$C$2:$R$2,)+1,0))","v":""},null,"","","","","","","","","","","",{"$f":"IF($D83=\"\",\"\",VLOOKUP($D83,数据库!$B$4:$AD$1003,MATCH(DP$12,数据库!$C$2:$R$2,)+1,0))","v":""},null,"","","","","","","","","","","",{"$f":"IF($D83=\"\",\"\",VLOOKUP($D83,数据库!$B$4:$AD$1003,MATCH(EC$12,数据库!$C$2:$AD$2,)+1,0))","v":""},null,"","","","","","","","","","","",{"$f":"IF($D83=\"\",\"\",VLOOKUP($D83,数据库!$B$4:$AD$1003,MATCH(EP$12,数据库!$C$2:$R$2,)+1,0))","v":""},null,"","","","","","","","","","","",{"$f":"IF($D83=\"\",\"\",VLOOKUP($D83,数据库!$B$4:$AD$1003,MATCH(FC$12,数据库!$C$2:$R$2,)+1,0))","v":""},null,"","","","","","","","","","","",""]
[null,null,"","","","","","","","","","","","","",{"$f":"IF($D84=\"\",\"\",VLOOKUP($D84,数据库!$B$4:$AD$1003,MATCH(P$12,数据库!$C$2:$AD$2,)+1,0))","v":""},null,"",{"$f":"IF(R84=\"\",\"\",MID($R84,S$12+1,1))","v":""},"","","","","","","","","",{"$f":"IF($D84=\"\",\"\",VLOOKUP($D84,数据库!$B$4:$AD$1003,MATCH(AC$12,数据库!$C$2:$R$2,)+1,0))","v":""},null,"","","","","","","","","","","",{"$f":"IF($D84=\"\",\"\",VLOOKUP($D84,数据库!$B$4:$AD$1003,MATCH(AP$12,数据库!$C$2:$R$2,)+1,0))","v":""},null,"","","","","","","","","","","",{"$f":"IF($D84=\"\",\"\",VLOOKUP($D84,数据库!$B$4:$AD$1003,MATCH(BC$12,数据库!$C$2:$AD$2,)+1,0))","v":""},null,"","","","","","","","","","","",{"$f":"IF($D84=\"\",\"\",VLOOKUP($D84,数据库!$B$4:$AD$1003,MATCH(BP$12,数据库!$C$2:$R$2,)+1,0))","v":""},null,"","","","","","","","","","","",{"$f":"IF($D84=\"\",\"\",VLOOKUP($D84,数据库!$B$4:$AD$1003,MATCH(CC$12,数据库!$C$2:$R$2,)+1,0))","v":""},null,"","","","","","","","","","","",{"$f":"IF($D84=\"\",\"\",VLOOKUP($D84,数据库!$B$4:$AD$1003,MATCH(CP$12,数据库!$C$2:$AD$2,)+1,0))","v":""},null,"","","","","","","","","","","",{"$f":"IF($D84=\"\",\"\",VLOOKUP($D84,数据库!$B$4:$AD$1003,MATCH(DC$12,数据库!$C$2:$R$2,)+1,0))","v":""},null,"","","","","","","","","","","",{"$f":"IF($D84=\"\",\"\",VLOOKUP($D84,数据库!$B$4:$AD$1003,MATCH(DP$12,数据库!$C$2:$R$2,)+1,0))","v":""},null,"","","","","","","","","","","",{"$f":"IF($D84=\"\",\"\",VLOOKUP($D84,数据库!$B$4:$AD$1003,MATCH(EC$12,数据库!$C$2:$AD$2,)+1,0))","v":""},null,"","","","","","","","","","","",{"$f":"IF($D84=\"\",\"\",VLOOKUP($D84,数据库!$B$4:$AD$1003,MATCH(EP$12,数据库!$C$2:$R$2,)+1,0))","v":""},null,"","","","","","","","","","","",{"$f":"IF($D84=\"\",\"\",VLOOKUP($D84,数据库!$B$4:$AD$1003,MATCH(FC$12,数据库!$C$2:$R$2,)+1,0))","v":""},null,"","","","","","","","","","","",""]
[null,null,"","","","","","","","","","","","","",{"$f":"IF($D85=\"\",\"\",VLOOKUP($D85,数据库!$B$4:$AD$1003,MATCH(P$12,数据库!$C$2:$AD$2,)+1,0))","v":""},null,"",{"$f":"IF(R85=\"\",\"\",MID($R85,S$12+1,1))","v":""},"","","","","","","","","",{"$f":"IF($D85=\"\",\"\",VLOOKUP($D85,数据库!$B$4:$AD$1003,MATCH(AC$12,数据库!$C$2:$R$2,)+1,0))","v":""},null,"","","","","","","","","","","",{"$f":"IF($D85=\"\",\"\",VLOOKUP($D85,数据库!$B$4:$AD$1003,MATCH(AP$12,数据库!$C$2:$R$2,)+1,0))","v":""},null,"","","","","","","","","","","",{"$f":"IF($D85=\"\",\"\",VLOOKUP($D85,数据库!$B$4:$AD$1003,MATCH(BC$12,数据库!$C$2:$AD$2,)+1,0))","v":""},null,"","","","","","","","","","","",{"$f":"IF($D85=\"\",\"\",VLOOKUP($D85,数据库!$B$4:$AD$1003,MATCH(BP$12,数据库!$C$2:$R$2,)+1,0))","v":""},null,"","","","","","","","","","","",{"$f":"IF($D85=\"\",\"\",VLOOKUP($D85,数据库!$B$4:$AD$1003,MATCH(CC$12,数据库!$C$2:$R$2,)+1,0))","v":""},null,"","","","","","","","","","","",{"$f":"IF($D85=\"\",\"\",VLOOKUP($D85,数据库!$B$4:$AD$1003,MATCH(CP$12,数据库!$C$2:$AD$2,)+1,0))","v":""},null,"","","","","","","","","","","",{"$f":"IF($D85=\"\",\"\",VLOOKUP($D85,数据库!$B$4:$AD$1003,MATCH(DC$12,数据库!$C$2:$R$2,)+1,0))","v":""},null,"","","","","","","","","","","",{"$f":"IF($D85=\"\",\"\",VLOOKUP($D85,数据库!$B$4:$AD$1003,MATCH(DP$12,数据库!$C$2:$R$2,)+1,0))","v":""},null,"","","","","","","","","","","",{"$f":"IF($D85=\"\",\"\",VLOOKUP($D85,数据库!$B$4:$AD$1003,MATCH(EC$12,数据库!$C$2:$AD$2,)+1,0))","v":""},null,"","","","","","","","","","","",{"$f":"IF($D85=\"\",\"\",VLOOKUP($D85,数据库!$B$4:$AD$1003,MATCH(EP$12,数据库!$C$2:$R$2,)+1,0))","v":""},null,"","","","","","","","","","","",{"$f":"IF($D85=\"\",\"\",VLOOKUP($D85,数据库!$B$4:$AD$1003,MATCH(FC$12,数据库!$C$2:$R$2,)+1,0))","v":""},null,"","","","","","","","","","","",""]
[null,null,"","","","","","","","","","","","","",{"$f":"IF($D86=\"\",\"\",VLOOKUP($D86,数据库!$B$4:$AD$1003,MATCH(P$12,数据库!$C$2:$AD$2,)+1,0))","v":""},null,"",{"$f":"IF(R86=\"\",\"\",MID($R86,S$12+1,1))","v":""},"","","","","","","","","",{"$f":"IF($D86=\"\",\"\",VLOOKUP($D86,数据库!$B$4:$AD$1003,MATCH(AC$12,数据库!$C$2:$R$2,)+1,0))","v":""},null,"","","","","","","","","","","",{"$f":"IF($D86=\"\",\"\",VLOOKUP($D86,数据库!$B$4:$AD$1003,MATCH(AP$12,数据库!$C$2:$R$2,)+1,0))","v":""},null,"","","","","","","","","","","",{"$f":"IF($D86=\"\",\"\",VLOOKUP($D86,数据库!$B$4:$AD$1003,MATCH(BC$12,数据库!$C$2:$AD$2,)+1,0))","v":""},null,"","","","","","","","","","","",{"$f":"IF($D86=\"\",\"\",VLOOKUP($D86,数据库!$B$4:$AD$1003,MATCH(BP$12,数据库!$C$2:$R$2,)+1,0))","v":""},null,"","","","","","","","","","","",{"$f":"IF($D86=\"\",\"\",VLOOKUP($D86,数据库!$B$4:$AD$1003,MATCH(CC$12,数据库!$C$2:$R$2,)+1,0))","v":""},null,"","","","","","","","","","","",{"$f":"IF($D86=\"\",\"\",VLOOKUP($D86,数据库!$B$4:$AD$1003,MATCH(CP$12,数据库!$C$2:$AD$2,)+1,0))","v":""},null,"","","","","","","","","","","",{"$f":"IF($D86=\"\",\"\",VLOOKUP($D86,数据库!$B$4:$AD$1003,MATCH(DC$12,数据库!$C$2:$R$2,)+1,0))","v":""},null,"","","","","","","","","","","",{"$f":"IF($D86=\"\",\"\",VLOOKUP($D86,数据库!$B$4:$AD$1003,MATCH(DP$12,数据库!$C$2:$R$2,)+1,0))","v":""},null,"","","","","","","","","","","",{"$f":"IF($D86=\"\",\"\",VLOOKUP($D86,数据库!$B$4:$AD$1003,MATCH(EC$12,数据库!$C$2:$AD$2,)+1,0))","v":""},null,"","","","","","","","","","","",{"$f":"IF($D86=\"\",\"\",VLOOKUP($D86,数据库!$B$4:$AD$1003,MATCH(EP$12,数据库!$C$2:$R$2,)+1,0))","v":""},null,"","","","","","","","","","","",{"$f":"IF($D86=\"\",\"\",VLOOKUP($D86,数据库!$B$4:$AD$1003,MATCH(FC$12,数据库!$C$2:$R$2,)+1,0))","v":""},null,"","","","","","","","","","","",""]
[null,null,"","","","","","","","","","","","","",{"$f":"IF($D87=\"\",\"\",VLOOKUP($D87,数据库!$B$4:$AD$1003,MATCH(P$12,数据库!$C$2:$AD$2,)+1,0))","v":""},null,"",{"$f":"IF(R87=\"\",\"\",MID($R87,S$12+1,1))","v":""},"","","","","","","","","",{"$f":"IF($D87=\"\",\"\",VLOOKUP($D87,数据库!$B$4:$AD$1003,MATCH(AC$12,数据库!$C$2:$R$2,)+1,0))","v":""},null,"","","","","","","","","","","",{"$f":"IF($D87=\"\",\"\",VLOOKUP($D87,数据库!$B$4:$AD$1003,MATCH(AP$12,数据库!$C$2:$R$2,)+1,0))","v":""},null,"","","","","","","","","","","",{"$f":"IF($D87=\"\",\"\",VLOOKUP($D87,数据库!$B$4:$AD$1003,MATCH(BC$12,数据库!$C$2:$AD$2,)+1,0))","v":""},null,"","","","","","","","","","","",{"$f":"IF($D87=\"\",\"\",VLOOKUP($D87,数据库!$B$4:$AD$1003,MATCH(BP$12,数据库!$C$2:$R$2,)+1,0))","v":""},null,"","","","","","","","","","","",{"$f":"IF($D87=\"\",\"\",VLOOKUP($D87,数据库!$B$4:$AD$1003,MATCH(CC$12,数据库!$C$2:$R$2,)+1,0))","v":""},null,"","","","","","","","","","","",{"$f":"IF($D87=\"\",\"\",VLOOKUP($D87,数据库!$B$4:$AD$1003,MATCH(CP$12,数据库!$C$2:$AD$2,)+1,0))","v":""},null,"","","","","","","","","","","",{"$f":"IF($D87=\"\",\"\",VLOOKUP($D87,数据库!$B$4:$AD$1003,MATCH(DC$12,数据库!$C$2:$R$2,)+1,0))","v":""},null,"","","","","","","","","","","",{"$f":"IF($D87=\"\",\"\",VLOOKUP($D87,数据库!$B$4:$AD$1003,MATCH(DP$12,数据库!$C$2:$R$2,)+1,0))","v":""},null,"","","","","","","","","","","",{"$f":"IF($D87=\"\",\"\",VLOOKUP($D87,数据库!$B$4:$AD$1003,MATCH(EC$12,数据库!$C$2:$AD$2,)+1,0))","v":""},null,"","","","","","","","","","","",{"$f":"IF($D87=\"\",\"\",VLOOKUP($D87,数据库!$B$4:$AD$1003,MATCH(EP$12,数据库!$C$2:$R$2,)+1,0))","v":""},null,"","","","","","","","","","","",{"$f":"IF($D87=\"\",\"\",VLOOKUP($D87,数据库!$B$4:$AD$1003,MATCH(FC$12,数据库!$C$2:$R$2,)+1,0))","v":""},null,"","","","","","","","","","","",""]
[null,null,"","","","","","","","","","","","","",{"$f":"IF($D88=\"\",\"\",VLOOKUP($D88,数据库!$B$4:$AD$1003,MATCH(P$12,数据库!$C$2:$AD$2,)+1,0))","v":""},null,"",{"$f":"IF(R88=\"\",\"\",MID($R88,S$12+1,1))","v":""},"","","","","","","","","",{"$f":"IF($D88=\"\",\"\",VLOOKUP($D88,数据库!$B$4:$AD$1003,MATCH(AC$12,数据库!$C$2:$R$2,)+1,0))","v":""},null,"","","","","","","","","","","",{"$f":"IF($D88=\"\",\"\",VLOOKUP($D88,数据库!$B$4:$AD$1003,MATCH(AP$12,数据库!$C$2:$R$2,)+1,0))","v":""},null,"","","","","","","","","","","",{"$f":"IF($D88=\"\",\"\",VLOOKUP($D88,数据库!$B$4:$AD$1003,MATCH(BC$12,数据库!$C$2:$AD$2,)+1,0))","v":""},null,"","","","","","","","","","","",{"$f":"IF($D88=\"\",\"\",VLOOKUP($D88,数据库!$B$4:$AD$1003,MATCH(BP$12,数据库!$C$2:$R$2,)+1,0))","v":""},null,"","","","","","","","","","","",{"$f":"IF($D88=\"\",\"\",VLOOKUP($D88,数据库!$B$4:$AD$1003,MATCH(CC$12,数据库!$C$2:$R$2,)+1,0))","v":""},null,"","","","","","","","","","","",{"$f":"IF($D88=\"\",\"\",VLOOKUP($D88,数据库!$B$4:$AD$1003,MATCH(CP$12,数据库!$C$2:$AD$2,)+1,0))","v":""},null,"","","","","","","","","","","",{"$f":"IF($D88=\"\",\"\",VLOOKUP($D88,数据库!$B$4:$AD$1003,MATCH(DC$12,数据库!$C$2:$R$2,)+1,0))","v":""},null,"","","","","","","","","","","",{"$f":"IF($D88=\"\",\"\",VLOOKUP($D88,数据库!$B$4:$AD$1003,MATCH(DP$12,数据库!$C$2:$R$2,)+1,0))","v":""},null,"","","","","","","","","","","",{"$f":"IF($D88=\"\",\"\",VLOOKUP($D88,数据库!$B$4:$AD$1003,MATCH(EC$12,数据库!$C$2:$AD$2,)+1,0))","v":""},null,"","","","","","","","","","","",{"$f":"IF($D88=\"\",\"\",VLOOKUP($D88,数据库!$B$4:$AD$1003,MATCH(EP$12,数据库!$C$2:$R$2,)+1,0))","v":""},null,"","","","","","","","","","","",{"$f":"IF($D88=\"\",\"\",VLOOKUP($D88,数据库!$B$4:$AD$1003,MATCH(FC$12,数据库!$C$2:$R$2,)+1,0))","v":""},null,"","","","","","","","","","","",""]
[null,null,"","","","","","","","","","","","","",{"$f":"IF($D89=\"\",\"\",VLOOKUP($D89,数据库!$B$4:$AD$1003,MATCH(P$12,数据库!$C$2:$AD$2,)+1,0))","v":""},null,"",{"$f":"IF(R89=\"\",\"\",MID($R89,S$12+1,1))","v":""},"","","","","","","","","",{"$f":"IF($D89=\"\",\"\",VLOOKUP($D89,数据库!$B$4:$AD$1003,MATCH(AC$12,数据库!$C$2:$R$2,)+1,0))","v":""},null,"","","","","","","","","","","",{"$f":"IF($D89=\"\",\"\",VLOOKUP($D89,数据库!$B$4:$AD$1003,MATCH(AP$12,数据库!$C$2:$R$2,)+1,0))","v":""},null,"","","","","","","","","","","",{"$f":"IF($D89=\"\",\"\",VLOOKUP($D89,数据库!$B$4:$AD$1003,MATCH(BC$12,数据库!$C$2:$AD$2,)+1,0))","v":""},null,"","","","","","","","","","","",{"$f":"IF($D89=\"\",\"\",VLOOKUP($D89,数据库!$B$4:$AD$1003,MATCH(BP$12,数据库!$C$2:$R$2,)+1,0))","v":""},null,"","","","","","","","","","","",{"$f":"IF($D89=\"\",\"\",VLOOKUP($D89,数据库!$B$4:$AD$1003,MATCH(CC$12,数据库!$C$2:$R$2,)+1,0))","v":""},null,"","","","","","","","","","","",{"$f":"IF($D89=\"\",\"\",VLOOKUP($D89,数据库!$B$4:$AD$1003,MATCH(CP$12,数据库!$C$2:$AD$2,)+1,0))","v":""},null,"","","","","","","","","","","",{"$f":"IF($D89=\"\",\"\",VLOOKUP($D89,数据库!$B$4:$AD$1003,MATCH(DC$12,数据库!$C$2:$R$2,)+1,0))","v":""},null,"","","","","","","","","","","",{"$f":"IF($D89=\"\",\"\",VLOOKUP($D89,数据库!$B$4:$AD$1003,MATCH(DP$12,数据库!$C$2:$R$2,)+1,0))","v":""},null,"","","","","","","","","","","",{"$f":"IF($D89=\"\",\"\",VLOOKUP($D89,数据库!$B$4:$AD$1003,MATCH(EC$12,数据库!$C$2:$AD$2,)+1,0))","v":""},null,"","","","","","","","","","","",{"$f":"IF($D89=\"\",\"\",VLOOKUP($D89,数据库!$B$4:$AD$1003,MATCH(EP$12,数据库!$C$2:$R$2,)+1,0))","v":""},null,"","","","","","","","","","","",{"$f":"IF($D89=\"\",\"\",VLOOKUP($D89,数据库!$B$4:$AD$1003,MATCH(FC$12,数据库!$C$2:$R$2,)+1,0))","v":""},null,"","","","","","","","","","","",""]
[null,null,"","","","","","","","","","","","","",{"$f":"IF($D90=\"\",\"\",VLOOKUP($D90,数据库!$B$4:$AD$1003,MATCH(P$12,数据库!$C$2:$AD$2,)+1,0))","v":""},null,"",{"$f":"IF(R90=\"\",\"\",MID($R90,S$12+1,1))","v":""},"","","","","","","","","",{"$f":"IF($D90=\"\",\"\",VLOOKUP($D90,数据库!$B$4:$AD$1003,MATCH(AC$12,数据库!$C$2:$R$2,)+1,0))","v":""},null,"","","","","","","","","","","",{"$f":"IF($D90=\"\",\"\",VLOOKUP($D90,数据库!$B$4:$AD$1003,MATCH(AP$12,数据库!$C$2:$R$2,)+1,0))","v":""},null,"","","","","","","","","","","",{"$f":"IF($D90=\"\",\"\",VLOOKUP($D90,数据库!$B$4:$AD$1003,MATCH(BC$12,数据库!$C$2:$AD$2,)+1,0))","v":""},null,"","","","","","","","","","","",{"$f":"IF($D90=\"\",\"\",VLOOKUP($D90,数据库!$B$4:$AD$1003,MATCH(BP$12,数据库!$C$2:$R$2,)+1,0))","v":""},null,"","","","","","","","","","","",{"$f":"IF($D90=\"\",\"\",VLOOKUP($D90,数据库!$B$4:$AD$1003,MATCH(CC$12,数据库!$C$2:$R$2,)+1,0))","v":""},null,"","","","","","","","","","","",{"$f":"IF($D90=\"\",\"\",VLOOKUP($D90,数据库!$B$4:$AD$1003,MATCH(CP$12,数据库!$C$2:$AD$2,)+1,0))","v":""},null,"","","","","","","","","","","",{"$f":"IF($D90=\"\",\"\",VLOOKUP($D90,数据库!$B$4:$AD$1003,MATCH(DC$12,数据库!$C$2:$R$2,)+1,0))","v":""},null,"","","","","","","","","","","",{"$f":"IF($D90=\"\",\"\",VLOOKUP($D90,数据库!$B$4:$AD$1003,MATCH(DP$12,数据库!$C$2:$R$2,)+1,0))","v":""},null,"","","","","","","","","","","",{"$f":"IF($D90=\"\",\"\",VLOOKUP($D90,数据库!$B$4:$AD$1003,MATCH(EC$12,数据库!$C$2:$AD$2,)+1,0))","v":""},null,"","","","","","","","","","","",{"$f":"IF($D90=\"\",\"\",VLOOKUP($D90,数据库!$B$4:$AD$1003,MATCH(EP$12,数据库!$C$2:$R$2,)+1,0))","v":""},null,"","","","","","","","","","","",{"$f":"IF($D90=\"\",\"\",VLOOKUP($D90,数据库!$B$4:$AD$1003,MATCH(FC$12,数据库!$C$2:$R$2,)+1,0))","v":""},null,"","","","","","","","","","","",""]
[null,null,"","","","","","","","","","","","","",{"$f":"IF($D91=\"\",\"\",VLOOKUP($D91,数据库!$B$4:$AD$1003,MATCH(P$12,数据库!$C$2:$AD$2,)+1,0))","v":""},null,"",{"$f":"IF(R91=\"\",\"\",MID($R91,S$12+1,1))","v":""},"","","","","","","","","",{"$f":"IF($D91=\"\",\"\",VLOOKUP($D91,数据库!$B$4:$AD$1003,MATCH(AC$12,数据库!$C$2:$R$2,)+1,0))","v":""},null,"","","","","","","","","","","",{"$f":"IF($D91=\"\",\"\",VLOOKUP($D91,数据库!$B$4:$AD$1003,MATCH(AP$12,数据库!$C$2:$R$2,)+1,0))","v":""},null,"","","","","","","","","","","",{"$f":"IF($D91=\"\",\"\",VLOOKUP($D91,数据库!$B$4:$AD$1003,MATCH(BC$12,数据库!$C$2:$AD$2,)+1,0))","v":""},null,"","","","","","","","","","","",{"$f":"IF($D91=\"\",\"\",VLOOKUP($D91,数据库!$B$4:$AD$1003,MATCH(BP$12,数据库!$C$2:$R$2,)+1,0))","v":""},null,"","","","","","","","","","","",{"$f":"IF($D91=\"\",\"\",VLOOKUP($D91,数据库!$B$4:$AD$1003,MATCH(CC$12,数据库!$C$2:$R$2,)+1,0))","v":""},null,"","","","","","","","","","","",{"$f":"IF($D91=\"\",\"\",VLOOKUP($D91,数据库!$B$4:$AD$1003,MATCH(CP$12,数据库!$C$2:$AD$2,)+1,0))","v":""},null,"","","","","","","","","","","",{"$f":"IF($D91=\"\",\"\",VLOOKUP($D91,数据库!$B$4:$AD$1003,MATCH(DC$12,数据库!$C$2:$R$2,)+1,0))","v":""},null,"","","","","","","","","","","",{"$f":"IF($D91=\"\",\"\",VLOOKUP($D91,数据库!$B$4:$AD$1003,MATCH(DP$12,数据库!$C$2:$R$2,)+1,0))","v":""},null,"","","","","","","","","","","",{"$f":"IF($D91=\"\",\"\",VLOOKUP($D91,数据库!$B$4:$AD$1003,MATCH(EC$12,数据库!$C$2:$AD$2,)+1,0))","v":""},null,"","","","","","","","","","","",{"$f":"IF($D91=\"\",\"\",VLOOKUP($D91,数据库!$B$4:$AD$1003,MATCH(EP$12,数据库!$C$2:$R$2,)+1,0))","v":""},null,"","","","","","","","","","","",{"$f":"IF($D91=\"\",\"\",VLOOKUP($D91,数据库!$B$4:$AD$1003,MATCH(FC$12,数据库!$C$2:$R$2,)+1,0))","v":""},null,"","","","","","","","","","","",""]
[null,null,"","","","","","","","","","","","","",{"$f":"IF($D92=\"\",\"\",VLOOKUP($D92,数据库!$B$4:$AD$1003,MATCH(P$12,数据库!$C$2:$AD$2,)+1,0))","v":""},null,"",{"$f":"IF(R92=\"\",\"\",MID($R92,S$12+1,1))","v":""},"","","","","","","","","",{"$f":"IF($D92=\"\",\"\",VLOOKUP($D92,数据库!$B$4:$AD$1003,MATCH(AC$12,数据库!$C$2:$R$2,)+1,0))","v":""},null,"","","","","","","","","","","",{"$f":"IF($D92=\"\",\"\",VLOOKUP($D92,数据库!$B$4:$AD$1003,MATCH(AP$12,数据库!$C$2:$R$2,)+1,0))","v":""},null,"","","","","","","","","","","",{"$f":"IF($D92=\"\",\"\",VLOOKUP($D92,数据库!$B$4:$AD$1003,MATCH(BC$12,数据库!$C$2:$AD$2,)+1,0))","v":""},null,"","","","","","","","","","","",{"$f":"IF($D92=\"\",\"\",VLOOKUP($D92,数据库!$B$4:$AD$1003,MATCH(BP$12,数据库!$C$2:$R$2,)+1,0))","v":""},null,"","","","","","","","","","","",{"$f":"IF($D92=\"\",\"\",VLOOKUP($D92,数据库!$B$4:$AD$1003,MATCH(CC$12,数据库!$C$2:$R$2,)+1,0))","v":""},null,"","","","","","","","","","","",{"$f":"IF($D92=\"\",\"\",VLOOKUP($D92,数据库!$B$4:$AD$1003,MATCH(CP$12,数据库!$C$2:$AD$2,)+1,0))","v":""},null,"","","","","","","","","","","",{"$f":"IF($D92=\"\",\"\",VLOOKUP($D92,数据库!$B$4:$AD$1003,MATCH(DC$12,数据库!$C$2:$R$2,)+1,0))","v":""},null,"","","","","","","","","","","",{"$f":"IF($D92=\"\",\"\",VLOOKUP($D92,数据库!$B$4:$AD$1003,MATCH(DP$12,数据库!$C$2:$R$2,)+1,0))","v":""},null,"","","","","","","","","","","",{"$f":"IF($D92=\"\",\"\",VLOOKUP($D92,数据库!$B$4:$AD$1003,MATCH(EC$12,数据库!$C$2:$AD$2,)+1,0))","v":""},null,"","","","","","","","","","","",{"$f":"IF($D92=\"\",\"\",VLOOKUP($D92,数据库!$B$4:$AD$1003,MATCH(EP$12,数据库!$C$2:$R$2,)+1,0))","v":""},null,"","","","","","","","","","","",{"$f":"IF($D92=\"\",\"\",VLOOKUP($D92,数据库!$B$4:$AD$1003,MATCH(FC$12,数据库!$C$2:$R$2,)+1,0))","v":""},null,"","","","","","","","","","","",""]
[null,null,"","","","","","","","","","","","","",{"$f":"IF($D93=\"\",\"\",VLOOKUP($D93,数据库!$B$4:$AD$1003,MATCH(P$12,数据库!$C$2:$AD$2,)+1,0))","v":""},null,"",{"$f":"IF(R93=\"\",\"\",MID($R93,S$12+1,1))","v":""},"","","","","","","","","",{"$f":"IF($D93=\"\",\"\",VLOOKUP($D93,数据库!$B$4:$AD$1003,MATCH(AC$12,数据库!$C$2:$R$2,)+1,0))","v":""},null,"","","","","","","","","","","",{"$f":"IF($D93=\"\",\"\",VLOOKUP($D93,数据库!$B$4:$AD$1003,MATCH(AP$12,数据库!$C$2:$R$2,)+1,0))","v":""},null,"","","","","","","","","","","",{"$f":"IF($D93=\"\",\"\",VLOOKUP($D93,数据库!$B$4:$AD$1003,MATCH(BC$12,数据库!$C$2:$AD$2,)+1,0))","v":""},null,"","","","","","","","","","","",{"$f":"IF($D93=\"\",\"\",VLOOKUP($D93,数据库!$B$4:$AD$1003,MATCH(BP$12,数据库!$C$2:$R$2,)+1,0))","v":""},null,"","","","","","","","","","","",{"$f":"IF($D93=\"\",\"\",VLOOKUP($D93,数据库!$B$4:$AD$1003,MATCH(CC$12,数据库!$C$2:$R$2,)+1,0))","v":""},null,"","","","","","","","","","","",{"$f":"IF($D93=\"\",\"\",VLOOKUP($D93,数据库!$B$4:$AD$1003,MATCH(CP$12,数据库!$C$2:$AD$2,)+1,0))","v":""},null,"","","","","","","","","","","",{"$f":"IF($D93=\"\",\"\",VLOOKUP($D93,数据库!$B$4:$AD$1003,MATCH(DC$12,数据库!$C$2:$R$2,)+1,0))","v":""},null,"","","","","","","","","","","",{"$f":"IF($D93=\"\",\"\",VLOOKUP($D93,数据库!$B$4:$AD$1003,MATCH(DP$12,数据库!$C$2:$R$2,)+1,0))","v":""},null,"","","","","","","","","","","",{"$f":"IF($D93=\"\",\"\",VLOOKUP($D93,数据库!$B$4:$AD$1003,MATCH(EC$12,数据库!$C$2:$AD$2,)+1,0))","v":""},null,"","","","","","","","","","","",{"$f":"IF($D93=\"\",\"\",VLOOKUP($D93,数据库!$B$4:$AD$1003,MATCH(EP$12,数据库!$C$2:$R$2,)+1,0))","v":""},null,"","","","","","","","","","","",{"$f":"IF($D93=\"\",\"\",VLOOKUP($D93,数据库!$B$4:$AD$1003,MATCH(FC$12,数据库!$C$2:$R$2,)+1,0))","v":""},null,"","","","","","","","","","","",""]
[null,null,"","","","","","","","","","","","","",{"$f":"IF($D94=\"\",\"\",VLOOKUP($D94,数据库!$B$4:$AD$1003,MATCH(P$12,数据库!$C$2:$AD$2,)+1,0))","v":""},null,"",{"$f":"IF(R94=\"\",\"\",MID($R94,S$12+1,1))","v":""},"","","","","","","","","",{"$f":"IF($D94=\"\",\"\",VLOOKUP($D94,数据库!$B$4:$AD$1003,MATCH(AC$12,数据库!$C$2:$R$2,)+1,0))","v":""},null,"","","","","","","","","","","",{"$f":"IF($D94=\"\",\"\",VLOOKUP($D94,数据库!$B$4:$AD$1003,MATCH(AP$12,数据库!$C$2:$R$2,)+1,0))","v":""},null,"","","","","","","","","","","",{"$f":"IF($D94=\"\",\"\",VLOOKUP($D94,数据库!$B$4:$AD$1003,MATCH(BC$12,数据库!$C$2:$AD$2,)+1,0))","v":""},null,"","","","","","","","","","","",{"$f":"IF($D94=\"\",\"\",VLOOKUP($D94,数据库!$B$4:$AD$1003,MATCH(BP$12,数据库!$C$2:$R$2,)+1,0))","v":""},null,"","","","","","","","","","","",{"$f":"IF($D94=\"\",\"\",VLOOKUP($D94,数据库!$B$4:$AD$1003,MATCH(CC$12,数据库!$C$2:$R$2,)+1,0))","v":""},null,"","","","","","","","","","","",{"$f":"IF($D94=\"\",\"\",VLOOKUP($D94,数据库!$B$4:$AD$1003,MATCH(CP$12,数据库!$C$2:$AD$2,)+1,0))","v":""},null,"","","","","","","","","","","",{"$f":"IF($D94=\"\",\"\",VLOOKUP($D94,数据库!$B$4:$AD$1003,MATCH(DC$12,数据库!$C$2:$R$2,)+1,0))","v":""},null,"","","","","","","","","","","",{"$f":"IF($D94=\"\",\"\",VLOOKUP($D94,数据库!$B$4:$AD$1003,MATCH(DP$12,数据库!$C$2:$R$2,)+1,0))","v":""},null,"","","","","","","","","","","",{"$f":"IF($D94=\"\",\"\",VLOOKUP($D94,数据库!$B$4:$AD$1003,MATCH(EC$12,数据库!$C$2:$AD$2,)+1,0))","v":""},null,"","","","","","","","","","","",{"$f":"IF($D94=\"\",\"\",VLOOKUP($D94,数据库!$B$4:$AD$1003,MATCH(EP$12,数据库!$C$2:$R$2,)+1,0))","v":""},null,"","","","","","","","","","","",{"$f":"IF($D94=\"\",\"\",VLOOKUP($D94,数据库!$B$4:$AD$1003,MATCH(FC$12,数据库!$C$2:$R$2,)+1,0))","v":""},null,"","","","","","","","","","","",""]
[null,null,"","","","","","","","","","","","","",{"$f":"IF($D95=\"\",\"\",VLOOKUP($D95,数据库!$B$4:$AD$1003,MATCH(P$12,数据库!$C$2:$AD$2,)+1,0))","v":""},null,"",{"$f":"IF(R95=\"\",\"\",MID($R95,S$12+1,1))","v":""},"","","","","","","","","",{"$f":"IF($D95=\"\",\"\",VLOOKUP($D95,数据库!$B$4:$AD$1003,MATCH(AC$12,数据库!$C$2:$R$2,)+1,0))","v":""},null,"","","","","","","","","","","",{"$f":"IF($D95=\"\",\"\",VLOOKUP($D95,数据库!$B$4:$AD$1003,MATCH(AP$12,数据库!$C$2:$R$2,)+1,0))","v":""},null,"","","","","","","","","","","",{"$f":"IF($D95=\"\",\"\",VLOOKUP($D95,数据库!$B$4:$AD$1003,MATCH(BC$12,数据库!$C$2:$AD$2,)+1,0))","v":""},null,"","","","","","","","","","","",{"$f":"IF($D95=\"\",\"\",VLOOKUP($D95,数据库!$B$4:$AD$1003,MATCH(BP$12,数据库!$C$2:$R$2,)+1,0))","v":""},null,"","","","","","","","","","","",{"$f":"IF($D95=\"\",\"\",VLOOKUP($D95,数据库!$B$4:$AD$1003,MATCH(CC$12,数据库!$C$2:$R$2,)+1,0))","v":""},null,"","","","","","","","","","","",{"$f":"IF($D95=\"\",\"\",VLOOKUP($D95,数据库!$B$4:$AD$1003,MATCH(CP$12,数据库!$C$2:$AD$2,)+1,0))","v":""},null,"","","","","","","","","","","",{"$f":"IF($D95=\"\",\"\",VLOOKUP($D95,数据库!$B$4:$AD$1003,MATCH(DC$12,数据库!$C$2:$R$2,)+1,0))","v":""},null,"","","","","","","","","","","",{"$f":"IF($D95=\"\",\"\",VLOOKUP($D95,数据库!$B$4:$AD$1003,MATCH(DP$12,数据库!$C$2:$R$2,)+1,0))","v":""},null,"","","","","","","","","","","",{"$f":"IF($D95=\"\",\"\",VLOOKUP($D95,数据库!$B$4:$AD$1003,MATCH(EC$12,数据库!$C$2:$AD$2,)+1,0))","v":""},null,"","","","","","","","","","","",{"$f":"IF($D95=\"\",\"\",VLOOKUP($D95,数据库!$B$4:$AD$1003,MATCH(EP$12,数据库!$C$2:$R$2,)+1,0))","v":""},null,"","","","","","","","","","","",{"$f":"IF($D95=\"\",\"\",VLOOKUP($D95,数据库!$B$4:$AD$1003,MATCH(FC$12,数据库!$C$2:$R$2,)+1,0))","v":""},null,"","","","","","","","","","","",""]
[null,null,"","","","","","","","","","","","","",{"$f":"IF($D96=\"\",\"\",VLOOKUP($D96,数据库!$B$4:$AD$1003,MATCH(P$12,数据库!$C$2:$AD$2,)+1,0))","v":""},null,"",{"$f":"IF(R96=\"\",\"\",MID($R96,S$12+1,1))","v":""},"","","","","","","","","",{"$f":"IF($D96=\"\",\"\",VLOOKUP($D96,数据库!$B$4:$AD$1003,MATCH(AC$12,数据库!$C$2:$R$2,)+1,0))","v":""},null,"","","","","","","","","","","",{"$f":"IF($D96=\"\",\"\",VLOOKUP($D96,数据库!$B$4:$AD$1003,MATCH(AP$12,数据库!$C$2:$R$2,)+1,0))","v":""},null,"","","","","","","","","","","",{"$f":"IF($D96=\"\",\"\",VLOOKUP($D96,数据库!$B$4:$AD$1003,MATCH(BC$12,数据库!$C$2:$AD$2,)+1,0))","v":""},null,"","","","","","","","","","","",{"$f":"IF($D96=\"\",\"\",VLOOKUP($D96,数据库!$B$4:$AD$1003,MATCH(BP$12,数据库!$C$2:$R$2,)+1,0))","v":""},null,"","","","","","","","","","","",{"$f":"IF($D96=\"\",\"\",VLOOKUP($D96,数据库!$B$4:$AD$1003,MATCH(CC$12,数据库!$C$2:$R$2,)+1,0))","v":""},null,"","","","","","","","","","","",{"$f":"IF($D96=\"\",\"\",VLOOKUP($D96,数据库!$B$4:$AD$1003,MATCH(CP$12,数据库!$C$2:$AD$2,)+1,0))","v":""},null,"","","","","","","","","","","",{"$f":"IF($D96=\"\",\"\",VLOOKUP($D96,数据库!$B$4:$AD$1003,MATCH(DC$12,数据库!$C$2:$R$2,)+1,0))","v":""},null,"","","","","","","","","","","",{"$f":"IF($D96=\"\",\"\",VLOOKUP($D96,数据库!$B$4:$AD$1003,MATCH(DP$12,数据库!$C$2:$R$2,)+1,0))","v":""},null,"","","","","","","","","","","",{"$f":"IF($D96=\"\",\"\",VLOOKUP($D96,数据库!$B$4:$AD$1003,MATCH(EC$12,数据库!$C$2:$AD$2,)+1,0))","v":""},null,"","","","","","","","","","","",{"$f":"IF($D96=\"\",\"\",VLOOKUP($D96,数据库!$B$4:$AD$1003,MATCH(EP$12,数据库!$C$2:$R$2,)+1,0))","v":""},null,"","","","","","","","","","","",{"$f":"IF($D96=\"\",\"\",VLOOKUP($D96,数据库!$B$4:$AD$1003,MATCH(FC$12,数据库!$C$2:$R$2,)+1,0))","v":""},null,"","","","","","","","","","","",""]
[null,null,"","","","","","","","","","","","","",{"$f":"IF($D97=\"\",\"\",VLOOKUP($D97,数据库!$B$4:$AD$1003,MATCH(P$12,数据库!$C$2:$AD$2,)+1,0))","v":""},null,"",{"$f":"IF(R97=\"\",\"\",MID($R97,S$12+1,1))","v":""},"","","","","","","","","",{"$f":"IF($D97=\"\",\"\",VLOOKUP($D97,数据库!$B$4:$AD$1003,MATCH(AC$12,数据库!$C$2:$R$2,)+1,0))","v":""},null,"","","","","","","","","","","",{"$f":"IF($D97=\"\",\"\",VLOOKUP($D97,数据库!$B$4:$AD$1003,MATCH(AP$12,数据库!$C$2:$R$2,)+1,0))","v":""},null,"","","","","","","","","","","",{"$f":"IF($D97=\"\",\"\",VLOOKUP($D97,数据库!$B$4:$AD$1003,MATCH(BC$12,数据库!$C$2:$AD$2,)+1,0))","v":""},null,"","","","","","","","","","","",{"$f":"IF($D97=\"\",\"\",VLOOKUP($D97,数据库!$B$4:$AD$1003,MATCH(BP$12,数据库!$C$2:$R$2,)+1,0))","v":""},null,"","","","","","","","","","","",{"$f":"IF($D97=\"\",\"\",VLOOKUP($D97,数据库!$B$4:$AD$1003,MATCH(CC$12,数据库!$C$2:$R$2,)+1,0))","v":""},null,"","","","","","","","","","","",{"$f":"IF($D97=\"\",\"\",VLOOKUP($D97,数据库!$B$4:$AD$1003,MATCH(CP$12,数据库!$C$2:$AD$2,)+1,0))","v":""},null,"","","","","","","","","","","",{"$f":"IF($D97=\"\",\"\",VLOOKUP($D97,数据库!$B$4:$AD$1003,MATCH(DC$12,数据库!$C$2:$R$2,)+1,0))","v":""},null,"","","","","","","","","","","",{"$f":"IF($D97=\"\",\"\",VLOOKUP($D97,数据库!$B$4:$AD$1003,MATCH(DP$12,数据库!$C$2:$R$2,)+1,0))","v":""},null,"","","","","","","","","","","",{"$f":"IF($D97=\"\",\"\",VLOOKUP($D97,数据库!$B$4:$AD$1003,MATCH(EC$12,数据库!$C$2:$AD$2,)+1,0))","v":""},null,"","","","","","","","","","","",{"$f":"IF($D97=\"\",\"\",VLOOKUP($D97,数据库!$B$4:$AD$1003,MATCH(EP$12,数据库!$C$2:$R$2,)+1,0))","v":""},null,"","","","","","","","","","","",{"$f":"IF($D97=\"\",\"\",VLOOKUP($D97,数据库!$B$4:$AD$1003,MATCH(FC$12,数据库!$C$2:$R$2,)+1,0))","v":""},null,"","","","","","","","","","","",""]
[null,null,"","","","","","","","","","","","","",{"$f":"IF($D98=\"\",\"\",VLOOKUP($D98,数据库!$B$4:$AD$1003,MATCH(P$12,数据库!$C$2:$AD$2,)+1,0))","v":""},null,"",{"$f":"IF(R98=\"\",\"\",MID($R98,S$12+1,1))","v":""},"","","","","","","","","",{"$f":"IF($D98=\"\",\"\",VLOOKUP($D98,数据库!$B$4:$AD$1003,MATCH(AC$12,数据库!$C$2:$R$2,)+1,0))","v":""},null,"","","","","","","","","","","",{"$f":"IF($D98=\"\",\"\",VLOOKUP($D98,数据库!$B$4:$AD$1003,MATCH(AP$12,数据库!$C$2:$R$2,)+1,0))","v":""},null,"","","","","","","","","","","",{"$f":"IF($D98=\"\",\"\",VLOOKUP($D98,数据库!$B$4:$AD$1003,MATCH(BC$12,数据库!$C$2:$AD$2,)+1,0))","v":""},null,"","","","","","","","","","","",{"$f":"IF($D98=\"\",\"\",VLOOKUP($D98,数据库!$B$4:$AD$1003,MATCH(BP$12,数据库!$C$2:$R$2,)+1,0))","v":""},null,"","","","","","","","","","","",{"$f":"IF($D98=\"\",\"\",VLOOKUP($D98,数据库!$B$4:$AD$1003,MATCH(CC$12,数据库!$C$2:$R$2,)+1,0))","v":""},null,"","","","","","","","","","","",{"$f":"IF($D98=\"\",\"\",VLOOKUP($D98,数据库!$B$4:$AD$1003,MATCH(CP$12,数据库!$C$2:$AD$2,)+1,0))","v":""},null,"","","","","","","","","","","",{"$f":"IF($D98=\"\",\"\",VLOOKUP($D98,数据库!$B$4:$AD$1003,MATCH(DC$12,数据库!$C$2:$R$2,)+1,0))","v":""},null,"","","","","","","","","","","",{"$f":"IF($D98=\"\",\"\",VLOOKUP($D98,数据库!$B$4:$AD$1003,MATCH(DP$12,数据库!$C$2:$R$2,)+1,0))","v":""},null,"","","","","","","","","","","",{"$f":"IF($D98=\"\",\"\",VLOOKUP($D98,数据库!$B$4:$AD$1003,MATCH(EC$12,数据库!$C$2:$AD$2,)+1,0))","v":""},null,"","","","","","","","","","","",{"$f":"IF($D98=\"\",\"\",VLOOKUP($D98,数据库!$B$4:$AD$1003,MATCH(EP$12,数据库!$C$2:$R$2,)+1,0))","v":""},null,"","","","","","","","","","","",{"$f":"IF($D98=\"\",\"\",VLOOKUP($D98,数据库!$B$4:$AD$1003,MATCH(FC$12,数据库!$C$2:$R$2,)+1,0))","v":""},null,"","","","","","","","","","","",""]
[null,null,"","","","","","","","","","","","","",{"$f":"IF($D99=\"\",\"\",VLOOKUP($D99,数据库!$B$4:$AD$1003,MATCH(P$12,数据库!$C$2:$AD$2,)+1,0))","v":""},null,"",{"$f":"IF(R99=\"\",\"\",MID($R99,S$12+1,1))","v":""},"","","","","","","","","",{"$f":"IF($D99=\"\",\"\",VLOOKUP($D99,数据库!$B$4:$AD$1003,MATCH(AC$12,数据库!$C$2:$R$2,)+1,0))","v":""},null,"","","","","","","","","","","",{"$f":"IF($D99=\"\",\"\",VLOOKUP($D99,数据库!$B$4:$AD$1003,MATCH(AP$12,数据库!$C$2:$R$2,)+1,0))","v":""},null,"","","","","","","","","",{"$f":"IF($AR99=\"\",\"\",MID($AR99,BA$12+1,1))","v":""},"",{"$f":"IF($D99=\"\",\"\",VLOOKUP($D99,数据库!$B$4:$AD$1003,MATCH(BC$12,数据库!$C$2:$AD$2,)+1,0))","v":""},null,"","","","","","","","","",{"$f":"IF($BE99=\"\",\"\",MID($BE99,BN$12+1,1))","v":""},"",{"$f":"IF($D99=\"\",\"\",VLOOKUP($D99,数据库!$B$4:$AD$1003,MATCH(BP$12,数据库!$C$2:$R$2,)+1,0))","v":""},null,"","","","","","","","","",{"$f":"IF($BR99=\"\",\"\",MID($BR99,CA$12+1,1))","v":""},"",{"$f":"IF($D99=\"\",\"\",VLOOKUP($D99,数据库!$B$4:$AD$1003,MATCH(CC$12,数据库!$C$2:$R$2,)+1,0))","v":""},null,"","","","","","","","","",{"$f":"IF($CE99=\"\",\"\",MID($CE99,CN$12+1,1))","v":""},"",{"$f":"IF($D99=\"\",\"\",VLOOKUP($D99,数据库!$B$4:$AD$1003,MATCH(CP$12,数据库!$C$2:$AD$2,)+1,0))","v":""},null,"","","","","","","","","",{"$f":"IF($CR99=\"\",\"\",MID($CR99,DA$12+1,1))","v":""},"",{"$f":"IF($D99=\"\",\"\",VLOOKUP($D99,数据库!$B$4:$AD$1003,MATCH(DC$12,数据库!$C$2:$R$2,)+1,0))","v":""},null,"","","","","","","","","",{"$f":"IF($DE99=\"\",\"\",MID($DE99,DN$12+1,1))","v":""},"",{"$f":"IF($D99=\"\",\"\",VLOOKUP($D99,数据库!$B$4:$AD$1003,MATCH(DP$12,数据库!$C$2:$R$2,)+1,0))","v":""},null,"","","","","","","","","",{"$f":"IF($DR99=\"\",\"\",MID($DR99,EA$12+1,1))","v":""},"",{"$f":"IF($D99=\"\",\"\",VLOOKUP($D99,数据库!$B$4:$AD$1003,MATCH(EC$12,数据库!$C$2:$AD$2,)+1,0))","v":""},null,"","","","","","","","","",{"$f":"IF($EE99=\"\",\"\",MID($EE99,EN$12+1,1))","v":""},"",{"$f":"IF($D99=\"\",\"\",VLOOKUP($D99,数据库!$B$4:$AD$1003,MATCH(EP$12,数据库!$C$2:$R$2,)+1,0))","v":""},null,"","","","","","","","","",{"$f":"IF($ER99=\"\",\"\",MID($ER99,FA$12+1,1))","v":""},"",{"$f":"IF($D99=\"\",\"\",VLOOKUP($D99,数据库!$B$4:$AD$1003,MATCH(FC$12,数据库!$C$2:$R$2,)+1,0))","v":""},null,"","","","","","","","","","","",""]
[null,null,"","","","","","","","","","","","","",{"$f":"IF($D100=\"\",\"\",VLOOKUP($D100,数据库!$B$4:$AD$1003,MATCH(P$12,数据库!$C$2:$AD$2,)+1,0))","v":""},null,"",{"$f":"IF(R100=\"\",\"\",MID($R100,S$12+1,1))","v":""},"","","","","","","","","",{"$f":"IF($D100=\"\",\"\",VLOOKUP($D100,数据库!$B$4:$AD$1003,MATCH(AC$12,数据库!$C$2:$R$2,)+1,0))","v":""},null,"","","","","","","","","","","",{"$f":"IF($D100=\"\",\"\",VLOOKUP($D100,数据库!$B$4:$AD$1003,MATCH(AP$12,数据库!$C$2:$R$2,)+1,0))","v":""},null,"","","","","","","","","","","",{"$f":"IF($D100=\"\",\"\",VLOOKUP($D100,数据库!$B$4:$AD$1003,MATCH(BC$12,数据库!$C$2:$AD$2,)+1,0))","v":""},null,"","","","","","","","","","","",{"$f":"IF($D100=\"\",\"\",VLOOKUP($D100,数据库!$B$4:$AD$1003,MATCH(BP$12,数据库!$C$2:$R$2,)+1,0))","v":""},null,"","","","","","","","","","","",{"$f":"IF($D100=\"\",\"\",VLOOKUP($D100,数据库!$B$4:$AD$1003,MATCH(CC$12,数据库!$C$2:$R$2,)+1,0))","v":""},null,"","","","","","","","","","","",{"$f":"IF($D100=\"\",\"\",VLOOKUP($D100,数据库!$B$4:$AD$1003,MATCH(CP$12,数据库!$C$2:$AD$2,)+1,0))","v":""},null,"","","","","","","","","","","",{"$f":"IF($D100=\"\",\"\",VLOOKUP($D100,数据库!$B$4:$AD$1003,MATCH(DC$12,数据库!$C$2:$R$2,)+1,0))","v":""},null,"","","","","","","","","","","",{"$f":"IF($D100=\"\",\"\",VLOOKUP($D100,数据库!$B$4:$AD$1003,MATCH(DP$12,数据库!$C$2:$R$2,)+1,0))","v":""},null,"","","","","","","","","","","",{"$f":"IF($D100=\"\",\"\",VLOOKUP($D100,数据库!$B$4:$AD$1003,MATCH(EC$12,数据库!$C$2:$AD$2,)+1,0))","v":""},null,"","","","","","","","","","","",{"$f":"IF($D100=\"\",\"\",VLOOKUP($D100,数据库!$B$4:$AD$1003,MATCH(EP$12,数据库!$C$2:$R$2,)+1,0))","v":""},null,"","","","","","","","","","","",{"$f":"IF($D100=\"\",\"\",VLOOKUP($D100,数据库!$B$4:$AD$1003,MATCH(FC$12,数据库!$C$2:$R$2,)+1,0))","v":""},null,"","","","","","","","","","","",""]
[null,null,"","","","","","","","","","","","","",{"$f":"IF($D101=\"\",\"\",VLOOKUP($D101,数据库!$B$4:$AD$1003,MATCH(P$12,数据库!$C$2:$AD$2,)+1,0))","v":""},null,"",{"$f":"IF(R101=\"\",\"\",MID($R101,S$12+1,1))","v":""},"","","","","","","","","",{"$f":"IF($D101=\"\",\"\",VLOOKUP($D101,数据库!$B$4:$AD$1003,MATCH(AC$12,数据库!$C$2:$R$2,)+1,0))","v":""},null,"","","","","","","","","","","",{"$f":"IF($D101=\"\",\"\",VLOOKUP($D101,数据库!$B$4:$AD$1003,MATCH(AP$12,数据库!$C$2:$R$2,)+1,0))","v":""},null,"","","","","","","","","","","",{"$f":"IF($D101=\"\",\"\",VLOOKUP($D101,数据库!$B$4:$AD$1003,MATCH(BC$12,数据库!$C$2:$AD$2,)+1,0))","v":""},null,"","","","","","","","","","","",{"$f":"IF($D101=\"\",\"\",VLOOKUP($D101,数据库!$B$4:$AD$1003,MATCH(BP$12,数据库!$C$2:$R$2,)+1,0))","v":""},null,"","","","","","","","","","","",{"$f":"IF($D101=\"\",\"\",VLOOKUP($D101,数据库!$B$4:$AD$1003,MATCH(CC$12,数据库!$C$2:$R$2,)+1,0))","v":""},null,"","","","","","","","","","","",{"$f":"IF($D101=\"\",\"\",VLOOKUP($D101,数据库!$B$4:$AD$1003,MATCH(CP$12,数据库!$C$2:$AD$2,)+1,0))","v":""},null,"","","","","","","","","","","",{"$f":"IF($D101=\"\",\"\",VLOOKUP($D101,数据库!$B$4:$AD$1003,MATCH(DC$12,数据库!$C$2:$R$2,)+1,0))","v":""},null,"","","","","","","","","","","",{"$f":"IF($D101=\"\",\"\",VLOOKUP($D101,数据库!$B$4:$AD$1003,MATCH(DP$12,数据库!$C$2:$R$2,)+1,0))","v":""},null,"","","","","","","","","","","",{"$f":"IF($D101=\"\",\"\",VLOOKUP($D101,数据库!$B$4:$AD$1003,MATCH(EC$12,数据库!$C$2:$AD$2,)+1,0))","v":""},null,"","","","","","","","","","","",{"$f":"IF($D101=\"\",\"\",VLOOKUP($D101,数据库!$B$4:$AD$1003,MATCH(EP$12,数据库!$C$2:$R$2,)+1,0))","v":""},null,"","","","","","","","","","","",{"$f":"IF($D101=\"\",\"\",VLOOKUP($D101,数据库!$B$4:$AD$1003,MATCH(FC$12,数据库!$C$2:$R$2,)+1,0))","v":""},null,"","","","","","","","","","","",""]
[null,null,"","","","","","","","","","","","","",{"$f":"IF($D102=\"\",\"\",VLOOKUP($D102,数据库!$B$4:$AD$1003,MATCH(P$12,数据库!$C$2:$AD$2,)+1,0))","v":""},null,"",{"$f":"IF(R102=\"\",\"\",MID($R102,S$12+1,1))","v":""},"","","","","","","","","",{"$f":"IF($D102=\"\",\"\",VLOOKUP($D102,数据库!$B$4:$AD$1003,MATCH(AC$12,数据库!$C$2:$R$2,)+1,0))","v":""},null,"","","","","","","","","","","",{"$f":"IF($D102=\"\",\"\",VLOOKUP($D102,数据库!$B$4:$AD$1003,MATCH(AP$12,数据库!$C$2:$R$2,)+1,0))","v":""},null,"","","","","","","","","","","",{"$f":"IF($D102=\"\",\"\",VLOOKUP($D102,数据库!$B$4:$AD$1003,MATCH(BC$12,数据库!$C$2:$AD$2,)+1,0))","v":""},null,"","","","","","","","","","","",{"$f":"IF($D102=\"\",\"\",VLOOKUP($D102,数据库!$B$4:$AD$1003,MATCH(BP$12,数据库!$C$2:$R$2,)+1,0))","v":""},null,"","","","","","","","","","","",{"$f":"IF($D102=\"\",\"\",VLOOKUP($D102,数据库!$B$4:$AD$1003,MATCH(CC$12,数据库!$C$2:$R$2,)+1,0))","v":""},null,"","","","","","","","","","","",{"$f":"IF($D102=\"\",\"\",VLOOKUP($D102,数据库!$B$4:$AD$1003,MATCH(CP$12,数据库!$C$2:$AD$2,)+1,0))","v":""},null,"","","","","","","","","","","",{"$f":"IF($D102=\"\",\"\",VLOOKUP($D102,数据库!$B$4:$AD$1003,MATCH(DC$12,数据库!$C$2:$R$2,)+1,0))","v":""},null,"","","","","","","","","","","",{"$f":"IF($D102=\"\",\"\",VLOOKUP($D102,数据库!$B$4:$AD$1003,MATCH(DP$12,数据库!$C$2:$R$2,)+1,0))","v":""},null,"","","","","","","","","","","",{"$f":"IF($D102=\"\",\"\",VLOOKUP($D102,数据库!$B$4:$AD$1003,MATCH(EC$12,数据库!$C$2:$AD$2,)+1,0))","v":""},null,"","","","","","","","","","","",{"$f":"IF($D102=\"\",\"\",VLOOKUP($D102,数据库!$B$4:$AD$1003,MATCH(EP$12,数据库!$C$2:$R$2,)+1,0))","v":""},null,"","","","","","","","","","","",{"$f":"IF($D102=\"\",\"\",VLOOKUP($D102,数据库!$B$4:$AD$1003,MATCH(FC$12,数据库!$C$2:$R$2,)+1,0))","v":""},null,"","","","","","","","","","","",""]
[null,null,"","","","","","","","","","","","","",{"$f":"IF($D103=\"\",\"\",VLOOKUP($D103,数据库!$B$4:$AD$1003,MATCH(P$12,数据库!$C$2:$AD$2,)+1,0))","v":""},null,"",{"$f":"IF(R103=\"\",\"\",MID($R103,S$12+1,1))","v":""},"","","","","","","","","",{"$f":"IF($D103=\"\",\"\",VLOOKUP($D103,数据库!$B$4:$AD$1003,MATCH(AC$12,数据库!$C$2:$R$2,)+1,0))","v":""},null,"","","","","","","","","","","",{"$f":"IF($D103=\"\",\"\",VLOOKUP($D103,数据库!$B$4:$AD$1003,MATCH(AP$12,数据库!$C$2:$R$2,)+1,0))","v":""},null,"","","","","","","","","","","",{"$f":"IF($D103=\"\",\"\",VLOOKUP($D103,数据库!$B$4:$AD$1003,MATCH(BC$12,数据库!$C$2:$AD$2,)+1,0))","v":""},null,"","","","","","","","","","","",{"$f":"IF($D103=\"\",\"\",VLOOKUP($D103,数据库!$B$4:$AD$1003,MATCH(BP$12,数据库!$C$2:$R$2,)+1,0))","v":""},null,"","","","","","","","","","","",{"$f":"IF($D103=\"\",\"\",VLOOKUP($D103,数据库!$B$4:$AD$1003,MATCH(CC$12,数据库!$C$2:$R$2,)+1,0))","v":""},null,"","","","","","","","","","","",{"$f":"IF($D103=\"\",\"\",VLOOKUP($D103,数据库!$B$4:$AD$1003,MATCH(CP$12,数据库!$C$2:$AD$2,)+1,0))","v":""},null,"","","","","","","","","","","",{"$f":"IF($D103=\"\",\"\",VLOOKUP($D103,数据库!$B$4:$AD$1003,MATCH(DC$12,数据库!$C$2:$R$2,)+1,0))","v":""},null,"","","","","","","","","","","",{"$f":"IF($D103=\"\",\"\",VLOOKUP($D103,数据库!$B$4:$AD$1003,MATCH(DP$12,数据库!$C$2:$R$2,)+1,0))","v":""},null,"","","","","","","","","","","",{"$f":"IF($D103=\"\",\"\",VLOOKUP($D103,数据库!$B$4:$AD$1003,MATCH(EC$12,数据库!$C$2:$AD$2,)+1,0))","v":""},null,"","","","","","","","","","","",{"$f":"IF($D103=\"\",\"\",VLOOKUP($D103,数据库!$B$4:$AD$1003,MATCH(EP$12,数据库!$C$2:$R$2,)+1,0))","v":""},null,"","","","","","","","","","","",{"$f":"IF($D103=\"\",\"\",VLOOKUP($D103,数据库!$B$4:$AD$1003,MATCH(FC$12,数据库!$C$2:$R$2,)+1,0))","v":""},null,"","","","","","","","","","","",""]
[null,null,"","","","","","","","","","","","","",{"$f":"IF($D104=\"\",\"\",VLOOKUP($D104,数据库!$B$4:$AD$1003,MATCH(P$12,数据库!$C$2:$AD$2,)+1,0))","v":""},null,"",{"$f":"IF(R104=\"\",\"\",MID($R104,S$12+1,1))","v":""},"","","","","","","","","",{"$f":"IF($D104=\"\",\"\",VLOOKUP($D104,数据库!$B$4:$AD$1003,MATCH(AC$12,数据库!$C$2:$R$2,)+1,0))","v":""},null,"","","","","","","","","","","",{"$f":"IF($D104=\"\",\"\",VLOOKUP($D104,数据库!$B$4:$AD$1003,MATCH(AP$12,数据库!$C$2:$R$2,)+1,0))","v":""},null,"","","","","","","","","","","",{"$f":"IF($D104=\"\",\"\",VLOOKUP($D104,数据库!$B$4:$AD$1003,MATCH(BC$12,数据库!$C$2:$AD$2,)+1,0))","v":""},null,"","","","","","","","","","","",{"$f":"IF($D104=\"\",\"\",VLOOKUP($D104,数据库!$B$4:$AD$1003,MATCH(BP$12,数据库!$C$2:$R$2,)+1,0))","v":""},null,"","","","","","","","","","","",{"$f":"IF($D104=\"\",\"\",VLOOKUP($D104,数据库!$B$4:$AD$1003,MATCH(CC$12,数据库!$C$2:$R$2,)+1,0))","v":""},null,"","","","","","","","","","","",{"$f":"IF($D104=\"\",\"\",VLOOKUP($D104,数据库!$B$4:$AD$1003,MATCH(CP$12,数据库!$C$2:$AD$2,)+1,0))","v":""},null,"","","","","","","","","","","",{"$f":"IF($D104=\"\",\"\",VLOOKUP($D104,数据库!$B$4:$AD$1003,MATCH(DC$12,数据库!$C$2:$R$2,)+1,0))","v":""},null,"","","","","","","","","","","",{"$f":"IF($D104=\"\",\"\",VLOOKUP($D104,数据库!$B$4:$AD$1003,MATCH(DP$12,数据库!$C$2:$R$2,)+1,0))","v":""},null,"","","","","","","","","","","",{"$f":"IF($D104=\"\",\"\",VLOOKUP($D104,数据库!$B$4:$AD$1003,MATCH(EC$12,数据库!$C$2:$AD$2,)+1,0))","v":""},null,"","","","","","","","","","","",{"$f":"IF($D104=\"\",\"\",VLOOKUP($D104,数据库!$B$4:$AD$1003,MATCH(EP$12,数据库!$C$2:$R$2,)+1,0))","v":""},null,"","","","","","","","","","","",{"$f":"IF($D104=\"\",\"\",VLOOKUP($D104,数据库!$B$4:$AD$1003,MATCH(FC$12,数据库!$C$2:$R$2,)+1,0))","v":""},null,"","","","","","","","","","","",""]
[null,null,"","","","","","","","","","","","","",{"$f":"IF($D105=\"\",\"\",VLOOKUP($D105,数据库!$B$4:$AD$1003,MATCH(P$12,数据库!$C$2:$AD$2,)+1,0))","v":""},null,"",{"$f":"IF(R105=\"\",\"\",MID($R105,S$12+1,1))","v":""},"","","","","","","","","",{"$f":"IF($D105=\"\",\"\",VLOOKUP($D105,数据库!$B$4:$AD$1003,MATCH(AC$12,数据库!$C$2:$R$2,)+1,0))","v":""},null,"","","","","","","","","","","",{"$f":"IF($D105=\"\",\"\",VLOOKUP($D105,数据库!$B$4:$AD$1003,MATCH(AP$12,数据库!$C$2:$R$2,)+1,0))","v":""},null,"","","","","","","","","","","",{"$f":"IF($D105=\"\",\"\",VLOOKUP($D105,数据库!$B$4:$AD$1003,MATCH(BC$12,数据库!$C$2:$AD$2,)+1,0))","v":""},null,"","","","","","","","","","","",{"$f":"IF($D105=\"\",\"\",VLOOKUP($D105,数据库!$B$4:$AD$1003,MATCH(BP$12,数据库!$C$2:$R$2,)+1,0))","v":""},null,"","","","","","","","","","","",{"$f":"IF($D105=\"\",\"\",VLOOKUP($D105,数据库!$B$4:$AD$1003,MATCH(CC$12,数据库!$C$2:$R$2,)+1,0))","v":""},null,"","","","","","","","","","","",{"$f":"IF($D105=\"\",\"\",VLOOKUP($D105,数据库!$B$4:$AD$1003,MATCH(CP$12,数据库!$C$2:$AD$2,)+1,0))","v":""},null,"","","","","","","","","","","",{"$f":"IF($D105=\"\",\"\",VLOOKUP($D105,数据库!$B$4:$AD$1003,MATCH(DC$12,数据库!$C$2:$R$2,)+1,0))","v":""},null,"","","","","","","","","","","",{"$f":"IF($D105=\"\",\"\",VLOOKUP($D105,数据库!$B$4:$AD$1003,MATCH(DP$12,数据库!$C$2:$R$2,)+1,0))","v":""},null,"","","","","","","","","","","",{"$f":"IF($D105=\"\",\"\",VLOOKUP($D105,数据库!$B$4:$AD$1003,MATCH(EC$12,数据库!$C$2:$AD$2,)+1,0))","v":""},null,"","","","","","","","","","","",{"$f":"IF($D105=\"\",\"\",VLOOKUP($D105,数据库!$B$4:$AD$1003,MATCH(EP$12,数据库!$C$2:$R$2,)+1,0))","v":""},null,"","","","","","","","","","","",{"$f":"IF($D105=\"\",\"\",VLOOKUP($D105,数据库!$B$4:$AD$1003,MATCH(FC$12,数据库!$C$2:$R$2,)+1,0))","v":""},null,"","","","","","","","","","","",""]
[null,null,"","","","","","","","","","","","","",{"$f":"IF($D106=\"\",\"\",VLOOKUP($D106,数据库!$B$4:$AD$1003,MATCH(P$12,数据库!$C$2:$AD$2,)+1,0))","v":""},null,"",{"$f":"IF(R106=\"\",\"\",MID($R106,S$12+1,1))","v":""},"","","","","","","","","",{"$f":"IF($D106=\"\",\"\",VLOOKUP($D106,数据库!$B$4:$AD$1003,MATCH(AC$12,数据库!$C$2:$R$2,)+1,0))","v":""},null,"","","","","","","","","","","",{"$f":"IF($D106=\"\",\"\",VLOOKUP($D106,数据库!$B$4:$AD$1003,MATCH(AP$12,数据库!$C$2:$R$2,)+1,0))","v":""},null,"","","","","","","","","","","",{"$f":"IF($D106=\"\",\"\",VLOOKUP($D106,数据库!$B$4:$AD$1003,MATCH(BC$12,数据库!$C$2:$AD$2,)+1,0))","v":""},null,"","","","","","","","","","","",{"$f":"IF($D106=\"\",\"\",VLOOKUP($D106,数据库!$B$4:$AD$1003,MATCH(BP$12,数据库!$C$2:$R$2,)+1,0))","v":""},null,"","","","","","","","","","","",{"$f":"IF($D106=\"\",\"\",VLOOKUP($D106,数据库!$B$4:$AD$1003,MATCH(CC$12,数据库!$C$2:$R$2,)+1,0))","v":""},null,"","","","","","","","","","","",{"$f":"IF($D106=\"\",\"\",VLOOKUP($D106,数据库!$B$4:$AD$1003,MATCH(CP$12,数据库!$C$2:$AD$2,)+1,0))","v":""},null,"","","","","","","","","","","",{"$f":"IF($D106=\"\",\"\",VLOOKUP($D106,数据库!$B$4:$AD$1003,MATCH(DC$12,数据库!$C$2:$R$2,)+1,0))","v":""},null,"","","","","","","","","","","",{"$f":"IF($D106=\"\",\"\",VLOOKUP($D106,数据库!$B$4:$AD$1003,MATCH(DP$12,数据库!$C$2:$R$2,)+1,0))","v":""},null,"","","","","","","","","","","",{"$f":"IF($D106=\"\",\"\",VLOOKUP($D106,数据库!$B$4:$AD$1003,MATCH(EC$12,数据库!$C$2:$AD$2,)+1,0))","v":""},null,"","","","","","","","","","","",{"$f":"IF($D106=\"\",\"\",VLOOKUP($D106,数据库!$B$4:$AD$1003,MATCH(EP$12,数据库!$C$2:$R$2,)+1,0))","v":""},null,"","","","","","","","","","","",{"$f":"IF($D106=\"\",\"\",VLOOKUP($D106,数据库!$B$4:$AD$1003,MATCH(FC$12,数据库!$C$2:$R$2,)+1,0))","v":""},null,"","","","","","","","","","","",""]
[null,null,"","","","","","","","","","","","","",{"$f":"IF($D107=\"\",\"\",VLOOKUP($D107,数据库!$B$4:$AD$1003,MATCH(P$12,数据库!$C$2:$AD$2,)+1,0))","v":""},null,"",{"$f":"IF(R107=\"\",\"\",MID($R107,S$12+1,1))","v":""},"","","","","","","","","",{"$f":"IF($D107=\"\",\"\",VLOOKUP($D107,数据库!$B$4:$AD$1003,MATCH(AC$12,数据库!$C$2:$R$2,)+1,0))","v":""},null,"","","","","","","","","","","",{"$f":"IF($D107=\"\",\"\",VLOOKUP($D107,数据库!$B$4:$AD$1003,MATCH(AP$12,数据库!$C$2:$R$2,)+1,0))","v":""},null,"","","","","","","","","","","",{"$f":"IF($D107=\"\",\"\",VLOOKUP($D107,数据库!$B$4:$AD$1003,MATCH(BC$12,数据库!$C$2:$AD$2,)+1,0))","v":""},null,"","","","","","","","","","","",{"$f":"IF($D107=\"\",\"\",VLOOKUP($D107,数据库!$B$4:$AD$1003,MATCH(BP$12,数据库!$C$2:$R$2,)+1,0))","v":""},null,"","","","","","","","","","","",{"$f":"IF($D107=\"\",\"\",VLOOKUP($D107,数据库!$B$4:$AD$1003,MATCH(CC$12,数据库!$C$2:$R$2,)+1,0))","v":""},null,"","","","","","","","","","","",{"$f":"IF($D107=\"\",\"\",VLOOKUP($D107,数据库!$B$4:$AD$1003,MATCH(CP$12,数据库!$C$2:$AD$2,)+1,0))","v":""},null,"","","","","","","","","","","",{"$f":"IF($D107=\"\",\"\",VLOOKUP($D107,数据库!$B$4:$AD$1003,MATCH(DC$12,数据库!$C$2:$R$2,)+1,0))","v":""},null,"","","","","","","","","","","",{"$f":"IF($D107=\"\",\"\",VLOOKUP($D107,数据库!$B$4:$AD$1003,MATCH(DP$12,数据库!$C$2:$R$2,)+1,0))","v":""},null,"","","","","","","","","","","",{"$f":"IF($D107=\"\",\"\",VLOOKUP($D107,数据库!$B$4:$AD$1003,MATCH(EC$12,数据库!$C$2:$AD$2,)+1,0))","v":""},null,"","","","","","","","","","","",{"$f":"IF($D107=\"\",\"\",VLOOKUP($D107,数据库!$B$4:$AD$1003,MATCH(EP$12,数据库!$C$2:$R$2,)+1,0))","v":""},null,"","","","","","","","","","","",{"$f":"IF($D107=\"\",\"\",VLOOKUP($D107,数据库!$B$4:$AD$1003,MATCH(FC$12,数据库!$C$2:$R$2,)+1,0))","v":""},null,"","","","","","","","","","","",""]
[null,null,"","","",{"$f":"IF($E108=\"\",\"\",MID($E108,F$12+1,1))","v":""},"","","","","","","","","",{"$f":"IF($D108=\"\",\"\",VLOOKUP($D108,数据库!$B$4:$AD$1003,MATCH(P$12,数据库!$C$2:$AD$2,)+1,0))","v":""},null,"",{"$f":"IF(R108=\"\",\"\",MID($R108,S$12+1,1))","v":""},"","","","","","","","","",{"$f":"IF($D108=\"\",\"\",VLOOKUP($D108,数据库!$B$4:$AD$1003,MATCH(AC$12,数据库!$C$2:$R$2,)+1,0))","v":""},null,"",{"$f":"IF($AE108=\"\",\"\",MID($AE108,AF$12+1,1))","v":""},"","","","","","","","","",{"$f":"IF($D108=\"\",\"\",VLOOKUP($D108,数据库!$B$4:$AD$1003,MATCH(AP$12,数据库!$C$2:$R$2,)+1,0))","v":""},null,"","","","","","","","","","","",{"$f":"IF($D108=\"\",\"\",VLOOKUP($D108,数据库!$B$4:$AD$1003,MATCH(BC$12,数据库!$C$2:$AD$2,)+1,0))","v":""},null,"","","","","","","","","","","",{"$f":"IF($D108=\"\",\"\",VLOOKUP($D108,数据库!$B$4:$AD$1003,MATCH(BP$12,数据库!$C$2:$R$2,)+1,0))","v":""},null,"","","","","","","","","","","",{"$f":"IF($D108=\"\",\"\",VLOOKUP($D108,数据库!$B$4:$AD$1003,MATCH(CC$12,数据库!$C$2:$R$2,)+1,0))","v":""},null,"","","","","","","","","","","",{"$f":"IF($D108=\"\",\"\",VLOOKUP($D108,数据库!$B$4:$AD$1003,MATCH(CP$12,数据库!$C$2:$AD$2,)+1,0))","v":""},null,"","","","","","","","","","","",{"$f":"IF($D108=\"\",\"\",VLOOKUP($D108,数据库!$B$4:$AD$1003,MATCH(DC$12,数据库!$C$2:$R$2,)+1,0))","v":""},null,"","","","","","","","","","","",{"$f":"IF($D108=\"\",\"\",VLOOKUP($D108,数据库!$B$4:$AD$1003,MATCH(DP$12,数据库!$C$2:$R$2,)+1,0))","v":""},null,"","","","","","","","","","","",{"$f":"IF($D108=\"\",\"\",VLOOKUP($D108,数据库!$B$4:$AD$1003,MATCH(EC$12,数据库!$C$2:$AD$2,)+1,0))","v":""},null,"","","","","","","","","","","",{"$f":"IF($D108=\"\",\"\",VLOOKUP($D108,数据库!$B$4:$AD$1003,MATCH(EP$12,数据库!$C$2:$R$2,)+1,0))","v":""},null,"","","","","","","","","","","",{"$f":"IF($D108=\"\",\"\",VLOOKUP($D108,数据库!$B$4:$AD$1003,MATCH(FC$12,数据库!$C$2:$R$2,)+1,0))","v":""},null,"","","","","","","","","","","",""]
[null,null,"","","","","","","","","","","","","",{"$f":"IF($D109=\"\",\"\",VLOOKUP($D109,数据库!$B$4:$AD$1003,MATCH(P$12,数据库!$C$2:$AD$2,)+1,0))","v":""},null,"",{"$f":"IF(R109=\"\",\"\",MID($R109,S$12+1,1))","v":""},"","","","","","","","","",{"$f":"IF($D109=\"\",\"\",VLOOKUP($D109,数据库!$B$4:$AD$1003,MATCH(AC$12,数据库!$C$2:$R$2,)+1,0))","v":""},null,"","","","","","","","","","","",{"$f":"IF($D109=\"\",\"\",VLOOKUP($D109,数据库!$B$4:$AD$1003,MATCH(AP$12,数据库!$C$2:$R$2,)+1,0))","v":""},null,"","","","","","","","","","","",{"$f":"IF($D109=\"\",\"\",VLOOKUP($D109,数据库!$B$4:$AD$1003,MATCH(BC$12,数据库!$C$2:$AD$2,)+1,0))","v":""},null,"","","","","","","","","","","",{"$f":"IF($D109=\"\",\"\",VLOOKUP($D109,数据库!$B$4:$AD$1003,MATCH(BP$12,数据库!$C$2:$R$2,)+1,0))","v":""},null,"","","","","","","","","","","",{"$f":"IF($D109=\"\",\"\",VLOOKUP($D109,数据库!$B$4:$AD$1003,MATCH(CC$12,数据库!$C$2:$R$2,)+1,0))","v":""},null,"","","","","","","","","","","",{"$f":"IF($D109=\"\",\"\",VLOOKUP($D109,数据库!$B$4:$AD$1003,MATCH(CP$12,数据库!$C$2:$AD$2,)+1,0))","v":""},null,"","","","","","","","","","","",{"$f":"IF($D109=\"\",\"\",VLOOKUP($D109,数据库!$B$4:$AD$1003,MATCH(DC$12,数据库!$C$2:$R$2,)+1,0))","v":""},null,"","","","","","","","","","","",{"$f":"IF($D109=\"\",\"\",VLOOKUP($D109,数据库!$B$4:$AD$1003,MATCH(DP$12,数据库!$C$2:$R$2,)+1,0))","v":""},null,"","","","","","","","","","","",{"$f":"IF($D109=\"\",\"\",VLOOKUP($D109,数据库!$B$4:$AD$1003,MATCH(EC$12,数据库!$C$2:$AD$2,)+1,0))","v":""},null,"","","","","","","","","","","",{"$f":"IF($D109=\"\",\"\",VLOOKUP($D109,数据库!$B$4:$AD$1003,MATCH(EP$12,数据库!$C$2:$R$2,)+1,0))","v":""},null,"","","","","","","","","","","",{"$f":"IF($D109=\"\",\"\",VLOOKUP($D109,数据库!$B$4:$AD$1003,MATCH(FC$12,数据库!$C$2:$R$2,)+1,0))","v":""},null,"","","","","","","","","","","",""]
[null,null,"","","","","","","","","","","","","",{"$f":"IF($D110=\"\",\"\",VLOOKUP($D110,数据库!$B$4:$AD$1003,MATCH(P$12,数据库!$C$2:$AD$2,)+1,0))","v":""},null,"",{"$f":"IF(R110=\"\",\"\",MID($R110,S$12+1,1))","v":""},"","","","","","","","","",{"$f":"IF($D110=\"\",\"\",VLOOKUP($D110,数据库!$B$4:$AD$1003,MATCH(AC$12,数据库!$C$2:$R$2,)+1,0))","v":""},null,"","","","","","","","","","","",{"$f":"IF($D110=\"\",\"\",VLOOKUP($D110,数据库!$B$4:$AD$1003,MATCH(AP$12,数据库!$C$2:$R$2,)+1,0))","v":""},null,"","","","","","","","","","","",{"$f":"IF($D110=\"\",\"\",VLOOKUP($D110,数据库!$B$4:$AD$1003,MATCH(BC$12,数据库!$C$2:$AD$2,)+1,0))","v":""},null,"","","","","","","","","","","",{"$f":"IF($D110=\"\",\"\",VLOOKUP($D110,数据库!$B$4:$AD$1003,MATCH(BP$12,数据库!$C$2:$R$2,)+1,0))","v":""},null,"","","","","","","","","","","",{"$f":"IF($D110=\"\",\"\",VLOOKUP($D110,数据库!$B$4:$AD$1003,MATCH(CC$12,数据库!$C$2:$R$2,)+1,0))","v":""},null,"","","","","","","","","","","",{"$f":"IF($D110=\"\",\"\",VLOOKUP($D110,数据库!$B$4:$AD$1003,MATCH(CP$12,数据库!$C$2:$AD$2,)+1,0))","v":""},null,"","","","","","","","","","","",{"$f":"IF($D110=\"\",\"\",VLOOKUP($D110,数据库!$B$4:$AD$1003,MATCH(DC$12,数据库!$C$2:$R$2,)+1,0))","v":""},null,"","","","","","","","","","","",{"$f":"IF($D110=\"\",\"\",VLOOKUP($D110,数据库!$B$4:$AD$1003,MATCH(DP$12,数据库!$C$2:$R$2,)+1,0))","v":""},null,"","","","","","","","","","","",{"$f":"IF($D110=\"\",\"\",VLOOKUP($D110,数据库!$B$4:$AD$1003,MATCH(EC$12,数据库!$C$2:$AD$2,)+1,0))","v":""},null,"","","","","","","","","","","",{"$f":"IF($D110=\"\",\"\",VLOOKUP($D110,数据库!$B$4:$AD$1003,MATCH(EP$12,数据库!$C$2:$R$2,)+1,0))","v":""},null,"","","","","","","","","","","",{"$f":"IF($D110=\"\",\"\",VLOOKUP($D110,数据库!$B$4:$AD$1003,MATCH(FC$12,数据库!$C$2:$R$2,)+1,0))","v":""},null,"","","","","","","","","","","",""]
[null,null,"","","","","","","","","","","","","",{"$f":"IF($D111=\"\",\"\",VLOOKUP($D111,数据库!$B$4:$AD$1003,MATCH(P$12,数据库!$C$2:$AD$2,)+1,0))","v":""},null,"",{"$f":"IF(R111=\"\",\"\",MID($R111,S$12+1,1))","v":""},"","","","","","","","","",{"$f":"IF($D111=\"\",\"\",VLOOKUP($D111,数据库!$B$4:$AD$1003,MATCH(AC$12,数据库!$C$2:$R$2,)+1,0))","v":""},null,"","","","","","","","","","","",{"$f":"IF($D111=\"\",\"\",VLOOKUP($D111,数据库!$B$4:$AD$1003,MATCH(AP$12,数据库!$C$2:$R$2,)+1,0))","v":""},null,"","","","","","","","","","","",{"$f":"IF($D111=\"\",\"\",VLOOKUP($D111,数据库!$B$4:$AD$1003,MATCH(BC$12,数据库!$C$2:$AD$2,)+1,0))","v":""},null,"","","","","","","","","","","",{"$f":"IF($D111=\"\",\"\",VLOOKUP($D111,数据库!$B$4:$AD$1003,MATCH(BP$12,数据库!$C$2:$R$2,)+1,0))","v":""},null,"","","","","","","","","","","",{"$f":"IF($D111=\"\",\"\",VLOOKUP($D111,数据库!$B$4:$AD$1003,MATCH(CC$12,数据库!$C$2:$R$2,)+1,0))","v":""},null,"","","","","","","","","","","",{"$f":"IF($D111=\"\",\"\",VLOOKUP($D111,数据库!$B$4:$AD$1003,MATCH(CP$12,数据库!$C$2:$AD$2,)+1,0))","v":""},null,"","","","","","","","","","","",{"$f":"IF($D111=\"\",\"\",VLOOKUP($D111,数据库!$B$4:$AD$1003,MATCH(DC$12,数据库!$C$2:$R$2,)+1,0))","v":""},null,"","","","","","","","","","","",{"$f":"IF($D111=\"\",\"\",VLOOKUP($D111,数据库!$B$4:$AD$1003,MATCH(DP$12,数据库!$C$2:$R$2,)+1,0))","v":""},null,"","","","","","","","","","","",{"$f":"IF($D111=\"\",\"\",VLOOKUP($D111,数据库!$B$4:$AD$1003,MATCH(EC$12,数据库!$C$2:$AD$2,)+1,0))","v":""},null,"","","","","","","","","","","",{"$f":"IF($D111=\"\",\"\",VLOOKUP($D111,数据库!$B$4:$AD$1003,MATCH(EP$12,数据库!$C$2:$R$2,)+1,0))","v":""},null,"","","","","","","","","","","",{"$f":"IF($D111=\"\",\"\",VLOOKUP($D111,数据库!$B$4:$AD$1003,MATCH(FC$12,数据库!$C$2:$R$2,)+1,0))","v":""},null,"","","","","","","","","","","",""]
[null,null,"","","","","","","","","","","","","",{"$f":"IF($D112=\"\",\"\",VLOOKUP($D112,数据库!$B$4:$AD$1003,MATCH(P$12,数据库!$C$2:$AD$2,)+1,0))","v":""},null,"",{"$f":"IF(R112=\"\",\"\",MID($R112,S$12+1,1))","v":""},"","","","","","","","","",{"$f":"IF($D112=\"\",\"\",VLOOKUP($D112,数据库!$B$4:$AD$1003,MATCH(AC$12,数据库!$C$2:$R$2,)+1,0))","v":""},null,"","","","","","","","","","","",{"$f":"IF($D112=\"\",\"\",VLOOKUP($D112,数据库!$B$4:$AD$1003,MATCH(AP$12,数据库!$C$2:$R$2,)+1,0))","v":""},null,"","","","","","","","","","","",{"$f":"IF($D112=\"\",\"\",VLOOKUP($D112,数据库!$B$4:$AD$1003,MATCH(BC$12,数据库!$C$2:$AD$2,)+1,0))","v":""},null,"","","","","","","","","","","",{"$f":"IF($D112=\"\",\"\",VLOOKUP($D112,数据库!$B$4:$AD$1003,MATCH(BP$12,数据库!$C$2:$R$2,)+1,0))","v":""},null,"","","","","","","","","","","",{"$f":"IF($D112=\"\",\"\",VLOOKUP($D112,数据库!$B$4:$AD$1003,MATCH(CC$12,数据库!$C$2:$R$2,)+1,0))","v":""},null,"","","","","","","","","","","",{"$f":"IF($D112=\"\",\"\",VLOOKUP($D112,数据库!$B$4:$AD$1003,MATCH(CP$12,数据库!$C$2:$AD$2,)+1,0))","v":""},null,"","","","","","","","","","","",{"$f":"IF($D112=\"\",\"\",VLOOKUP($D112,数据库!$B$4:$AD$1003,MATCH(DC$12,数据库!$C$2:$R$2,)+1,0))","v":""},null,"","","","","","","","","","","",{"$f":"IF($D112=\"\",\"\",VLOOKUP($D112,数据库!$B$4:$AD$1003,MATCH(DP$12,数据库!$C$2:$R$2,)+1,0))","v":""},null,"","","","","","","","","","","",{"$f":"IF($D112=\"\",\"\",VLOOKUP($D112,数据库!$B$4:$AD$1003,MATCH(EC$12,数据库!$C$2:$AD$2,)+1,0))","v":""},null,"","","","","","","","","","","",{"$f":"IF($D112=\"\",\"\",VLOOKUP($D112,数据库!$B$4:$AD$1003,MATCH(EP$12,数据库!$C$2:$R$2,)+1,0))","v":""},null,"","","","","","","","","","","",{"$f":"IF($D112=\"\",\"\",VLOOKUP($D112,数据库!$B$4:$AD$1003,MATCH(FC$12,数据库!$C$2:$R$2,)+1,0))","v":""},null,"","","","","","","","","","","",""]
[null,null,"","","","","","","","","","","","","",{"$f":"IF($D113=\"\",\"\",VLOOKUP($D113,数据库!$B$4:$AD$1003,MATCH(P$12,数据库!$C$2:$AD$2,)+1,0))","v":""},null,"",{"$f":"IF(R113=\"\",\"\",MID($R113,S$12+1,1))","v":""},"","","","","","","","","",{"$f":"IF($D113=\"\",\"\",VLOOKUP($D113,数据库!$B$4:$AD$1003,MATCH(AC$12,数据库!$C$2:$R$2,)+1,0))","v":""},null,"","","","","","","","","","","",{"$f":"IF($D113=\"\",\"\",VLOOKUP($D113,数据库!$B$4:$AD$1003,MATCH(AP$12,数据库!$C$2:$R$2,)+1,0))","v":""},null,"","","","","","","","","","","",{"$f":"IF($D113=\"\",\"\",VLOOKUP($D113,数据库!$B$4:$AD$1003,MATCH(BC$12,数据库!$C$2:$AD$2,)+1,0))","v":""},null,"","","","","","","","","","","",{"$f":"IF($D113=\"\",\"\",VLOOKUP($D113,数据库!$B$4:$AD$1003,MATCH(BP$12,数据库!$C$2:$R$2,)+1,0))","v":""},null,"","","","","","","","","","","",{"$f":"IF($D113=\"\",\"\",VLOOKUP($D113,数据库!$B$4:$AD$1003,MATCH(CC$12,数据库!$C$2:$R$2,)+1,0))","v":""},null,"","","","","","","","","","","",{"$f":"IF($D113=\"\",\"\",VLOOKUP($D113,数据库!$B$4:$AD$1003,MATCH(CP$12,数据库!$C$2:$AD$2,)+1,0))","v":""},null,"","","","","","","","","","","",{"$f":"IF($D113=\"\",\"\",VLOOKUP($D113,数据库!$B$4:$AD$1003,MATCH(DC$12,数据库!$C$2:$R$2,)+1,0))","v":""},null,"","","","","","","","","","","",{"$f":"IF($D113=\"\",\"\",VLOOKUP($D113,数据库!$B$4:$AD$1003,MATCH(DP$12,数据库!$C$2:$R$2,)+1,0))","v":""},null,"","","","","","","","","","","",{"$f":"IF($D113=\"\",\"\",VLOOKUP($D113,数据库!$B$4:$AD$1003,MATCH(EC$12,数据库!$C$2:$AD$2,)+1,0))","v":""},null,"","","","","","","","","","","",{"$f":"IF($D113=\"\",\"\",VLOOKUP($D113,数据库!$B$4:$AD$1003,MATCH(EP$12,数据库!$C$2:$R$2,)+1,0))","v":""},null,"","","","","","","","","","","",{"$f":"IF($D113=\"\",\"\",VLOOKUP($D113,数据库!$B$4:$AD$1003,MATCH(FC$12,数据库!$C$2:$R$2,)+1,0))","v":""},null,"","","","","","","","","","","",""]
[null,null,"","","","","","","","","","","","","",{"$f":"IF($D114=\"\",\"\",VLOOKUP($D114,数据库!$B$4:$AD$1003,MATCH(P$12,数据库!$C$2:$AD$2,)+1,0))","v":""},null,"",{"$f":"IF(R114=\"\",\"\",MID($R114,S$12+1,1))","v":""},"","","","","","","","","",{"$f":"IF($D114=\"\",\"\",VLOOKUP($D114,数据库!$B$4:$AD$1003,MATCH(AC$12,数据库!$C$2:$R$2,)+1,0))","v":""},null,"","","","","","","","","","","",{"$f":"IF($D114=\"\",\"\",VLOOKUP($D114,数据库!$B$4:$AD$1003,MATCH(AP$12,数据库!$C$2:$R$2,)+1,0))","v":""},null,"","","","","","","","","","","",{"$f":"IF($D114=\"\",\"\",VLOOKUP($D114,数据库!$B$4:$AD$1003,MATCH(BC$12,数据库!$C$2:$AD$2,)+1,0))","v":""},null,"","","","","","","","","","","",{"$f":"IF($D114=\"\",\"\",VLOOKUP($D114,数据库!$B$4:$AD$1003,MATCH(BP$12,数据库!$C$2:$R$2,)+1,0))","v":""},null,"","","","","","","","","","","",{"$f":"IF($D114=\"\",\"\",VLOOKUP($D114,数据库!$B$4:$AD$1003,MATCH(CC$12,数据库!$C$2:$R$2,)+1,0))","v":""},null,"","","","","","","","","","","",{"$f":"IF($D114=\"\",\"\",VLOOKUP($D114,数据库!$B$4:$AD$1003,MATCH(CP$12,数据库!$C$2:$AD$2,)+1,0))","v":""},null,"","","","","","","","","","","",{"$f":"IF($D114=\"\",\"\",VLOOKUP($D114,数据库!$B$4:$AD$1003,MATCH(DC$12,数据库!$C$2:$R$2,)+1,0))","v":""},null,"","","","","","","","","","","",{"$f":"IF($D114=\"\",\"\",VLOOKUP($D114,数据库!$B$4:$AD$1003,MATCH(DP$12,数据库!$C$2:$R$2,)+1,0))","v":""},null,"","","","","","","","","","","",{"$f":"IF($D114=\"\",\"\",VLOOKUP($D114,数据库!$B$4:$AD$1003,MATCH(EC$12,数据库!$C$2:$AD$2,)+1,0))","v":""},null,"","","","","","","","","","","",{"$f":"IF($D114=\"\",\"\",VLOOKUP($D114,数据库!$B$4:$AD$1003,MATCH(EP$12,数据库!$C$2:$R$2,)+1,0))","v":""},null,"","","","","","","","","","","",{"$f":"IF($D114=\"\",\"\",VLOOKUP($D114,数据库!$B$4:$AD$1003,MATCH(FC$12,数据库!$C$2:$R$2,)+1,0))","v":""},null,"","","","","","","","","","","",""]
[null,null,"","","","","","","","","","","","","",{"$f":"IF($D115=\"\",\"\",VLOOKUP($D115,数据库!$B$4:$AD$1003,MATCH(P$12,数据库!$C$2:$AD$2,)+1,0))","v":""},null,"",{"$f":"IF(R115=\"\",\"\",MID($R115,S$12+1,1))","v":""},"","","","","","","","","",{"$f":"IF($D115=\"\",\"\",VLOOKUP($D115,数据库!$B$4:$AD$1003,MATCH(AC$12,数据库!$C$2:$R$2,)+1,0))","v":""},null,"","","","","","","","","","","",{"$f":"IF($D115=\"\",\"\",VLOOKUP($D115,数据库!$B$4:$AD$1003,MATCH(AP$12,数据库!$C$2:$R$2,)+1,0))","v":""},null,"","","","","","","","","","","",{"$f":"IF($D115=\"\",\"\",VLOOKUP($D115,数据库!$B$4:$AD$1003,MATCH(BC$12,数据库!$C$2:$AD$2,)+1,0))","v":""},null,"","","","","","","","","","","",{"$f":"IF($D115=\"\",\"\",VLOOKUP($D115,数据库!$B$4:$AD$1003,MATCH(BP$12,数据库!$C$2:$R$2,)+1,0))","v":""},null,"","","","","","","","","","","",{"$f":"IF($D115=\"\",\"\",VLOOKUP($D115,数据库!$B$4:$AD$1003,MATCH(CC$12,数据库!$C$2:$R$2,)+1,0))","v":""},null,"","","","","","","","","","","",{"$f":"IF($D115=\"\",\"\",VLOOKUP($D115,数据库!$B$4:$AD$1003,MATCH(CP$12,数据库!$C$2:$AD$2,)+1,0))","v":""},null,"","","","","","","","","","","",{"$f":"IF($D115=\"\",\"\",VLOOKUP($D115,数据库!$B$4:$AD$1003,MATCH(DC$12,数据库!$C$2:$R$2,)+1,0))","v":""},null,"","","","","","","","","","","",{"$f":"IF($D115=\"\",\"\",VLOOKUP($D115,数据库!$B$4:$AD$1003,MATCH(DP$12,数据库!$C$2:$R$2,)+1,0))","v":""},null,"","","","","","","","","","","",{"$f":"IF($D115=\"\",\"\",VLOOKUP($D115,数据库!$B$4:$AD$1003,MATCH(EC$12,数据库!$C$2:$AD$2,)+1,0))","v":""},null,"","","","","","","","","","","",{"$f":"IF($D115=\"\",\"\",VLOOKUP($D115,数据库!$B$4:$AD$1003,MATCH(EP$12,数据库!$C$2:$R$2,)+1,0))","v":""},null,"","","","","","","","","","","",{"$f":"IF($D115=\"\",\"\",VLOOKUP($D115,数据库!$B$4:$AD$1003,MATCH(FC$12,数据库!$C$2:$R$2,)+1,0))","v":""},null,"","","","","","","","","","","",""]
[null,null,"","","","","","","","","","","","","",{"$f":"IF($D116=\"\",\"\",VLOOKUP($D116,数据库!$B$4:$AD$1003,MATCH(P$12,数据库!$C$2:$AD$2,)+1,0))","v":""},null,"",{"$f":"IF(R116=\"\",\"\",MID($R116,S$12+1,1))","v":""},"","","","","","","","","",{"$f":"IF($D116=\"\",\"\",VLOOKUP($D116,数据库!$B$4:$AD$1003,MATCH(AC$12,数据库!$C$2:$R$2,)+1,0))","v":""},null,"","","","","","","","","","","",{"$f":"IF($D116=\"\",\"\",VLOOKUP($D116,数据库!$B$4:$AD$1003,MATCH(AP$12,数据库!$C$2:$R$2,)+1,0))","v":""},null,"","","","","","","","","","","",{"$f":"IF($D116=\"\",\"\",VLOOKUP($D116,数据库!$B$4:$AD$1003,MATCH(BC$12,数据库!$C$2:$AD$2,)+1,0))","v":""},null,"","","","","","","","","","","",{"$f":"IF($D116=\"\",\"\",VLOOKUP($D116,数据库!$B$4:$AD$1003,MATCH(BP$12,数据库!$C$2:$R$2,)+1,0))","v":""},null,"","","","","","","","","","","",{"$f":"IF($D116=\"\",\"\",VLOOKUP($D116,数据库!$B$4:$AD$1003,MATCH(CC$12,数据库!$C$2:$R$2,)+1,0))","v":""},null,"","","","","","","","","","","",{"$f":"IF($D116=\"\",\"\",VLOOKUP($D116,数据库!$B$4:$AD$1003,MATCH(CP$12,数据库!$C$2:$AD$2,)+1,0))","v":""},null,"","","","","","","","","","","",{"$f":"IF($D116=\"\",\"\",VLOOKUP($D116,数据库!$B$4:$AD$1003,MATCH(DC$12,数据库!$C$2:$R$2,)+1,0))","v":""},null,"","","","","","","","","","","",{"$f":"IF($D116=\"\",\"\",VLOOKUP($D116,数据库!$B$4:$AD$1003,MATCH(DP$12,数据库!$C$2:$R$2,)+1,0))","v":""},null,"","","","","","","","","","","",{"$f":"IF($D116=\"\",\"\",VLOOKUP($D116,数据库!$B$4:$AD$1003,MATCH(EC$12,数据库!$C$2:$AD$2,)+1,0))","v":""},null,"","","","","","","","","","","",{"$f":"IF($D116=\"\",\"\",VLOOKUP($D116,数据库!$B$4:$AD$1003,MATCH(EP$12,数据库!$C$2:$R$2,)+1,0))","v":""},null,"","","","","","","","","","","",{"$f":"IF($D116=\"\",\"\",VLOOKUP($D116,数据库!$B$4:$AD$1003,MATCH(FC$12,数据库!$C$2:$R$2,)+1,0))","v":""},null,"","","","","","","","","","","",""]
[null,null,"","","","","","","","","","","","","",{"$f":"IF($D117=\"\",\"\",VLOOKUP($D117,数据库!$B$4:$AD$1003,MATCH(P$12,数据库!$C$2:$AD$2,)+1,0))","v":""},null,"",{"$f":"IF(R117=\"\",\"\",MID($R117,S$12+1,1))","v":""},"","","","","","","","","",{"$f":"IF($D117=\"\",\"\",VLOOKUP($D117,数据库!$B$4:$AD$1003,MATCH(AC$12,数据库!$C$2:$R$2,)+1,0))","v":""},null,"","","","","","","","","","","",{"$f":"IF($D117=\"\",\"\",VLOOKUP($D117,数据库!$B$4:$AD$1003,MATCH(AP$12,数据库!$C$2:$R$2,)+1,0))","v":""},null,"","","","","","","","","","","",{"$f":"IF($D117=\"\",\"\",VLOOKUP($D117,数据库!$B$4:$AD$1003,MATCH(BC$12,数据库!$C$2:$AD$2,)+1,0))","v":""},null,"","","","","","","","","","","",{"$f":"IF($D117=\"\",\"\",VLOOKUP($D117,数据库!$B$4:$AD$1003,MATCH(BP$12,数据库!$C$2:$R$2,)+1,0))","v":""},null,"","","","","","","","","","","",{"$f":"IF($D117=\"\",\"\",VLOOKUP($D117,数据库!$B$4:$AD$1003,MATCH(CC$12,数据库!$C$2:$R$2,)+1,0))","v":""},null,"","","","","","","","","","","",{"$f":"IF($D117=\"\",\"\",VLOOKUP($D117,数据库!$B$4:$AD$1003,MATCH(CP$12,数据库!$C$2:$AD$2,)+1,0))","v":""},null,"","","","","","","","","","","",{"$f":"IF($D117=\"\",\"\",VLOOKUP($D117,数据库!$B$4:$AD$1003,MATCH(DC$12,数据库!$C$2:$R$2,)+1,0))","v":""},null,"","","","","","","","","","","",{"$f":"IF($D117=\"\",\"\",VLOOKUP($D117,数据库!$B$4:$AD$1003,MATCH(DP$12,数据库!$C$2:$R$2,)+1,0))","v":""},null,"","","","","","","","","","","",{"$f":"IF($D117=\"\",\"\",VLOOKUP($D117,数据库!$B$4:$AD$1003,MATCH(EC$12,数据库!$C$2:$AD$2,)+1,0))","v":""},null,"","","","","","","","","","","",{"$f":"IF($D117=\"\",\"\",VLOOKUP($D117,数据库!$B$4:$AD$1003,MATCH(EP$12,数据库!$C$2:$R$2,)+1,0))","v":""},null,"","","","","","","","","","","",{"$f":"IF($D117=\"\",\"\",VLOOKUP($D117,数据库!$B$4:$AD$1003,MATCH(FC$12,数据库!$C$2:$R$2,)+1,0))","v":""},null,"","","","","","","","","","","",""]
[null,null,"","","","","","","","","","","","","",{"$f":"IF($D118=\"\",\"\",VLOOKUP($D118,数据库!$B$4:$AD$1003,MATCH(P$12,数据库!$C$2:$AD$2,)+1,0))","v":""},null,"",{"$f":"IF(R118=\"\",\"\",MID($R118,S$12+1,1))","v":""},"","","","","","","","","",{"$f":"IF($D118=\"\",\"\",VLOOKUP($D118,数据库!$B$4:$AD$1003,MATCH(AC$12,数据库!$C$2:$R$2,)+1,0))","v":""},null,"","","","","","","","","","","",{"$f":"IF($D118=\"\",\"\",VLOOKUP($D118,数据库!$B$4:$AD$1003,MATCH(AP$12,数据库!$C$2:$R$2,)+1,0))","v":""},null,"","","","","","","","","","","",{"$f":"IF($D118=\"\",\"\",VLOOKUP($D118,数据库!$B$4:$AD$1003,MATCH(BC$12,数据库!$C$2:$AD$2,)+1,0))","v":""},null,"","","","","","","","","","","",{"$f":"IF($D118=\"\",\"\",VLOOKUP($D118,数据库!$B$4:$AD$1003,MATCH(BP$12,数据库!$C$2:$R$2,)+1,0))","v":""},null,"","","","","","","","","","","",{"$f":"IF($D118=\"\",\"\",VLOOKUP($D118,数据库!$B$4:$AD$1003,MATCH(CC$12,数据库!$C$2:$R$2,)+1,0))","v":""},null,"","","","","","","","","","","",{"$f":"IF($D118=\"\",\"\",VLOOKUP($D118,数据库!$B$4:$AD$1003,MATCH(CP$12,数据库!$C$2:$AD$2,)+1,0))","v":""},null,"","","","","","","","","","","",{"$f":"IF($D118=\"\",\"\",VLOOKUP($D118,数据库!$B$4:$AD$1003,MATCH(DC$12,数据库!$C$2:$R$2,)+1,0))","v":""},null,"","","","","","","","","","","",{"$f":"IF($D118=\"\",\"\",VLOOKUP($D118,数据库!$B$4:$AD$1003,MATCH(DP$12,数据库!$C$2:$R$2,)+1,0))","v":""},null,"","","","","","","","","","","",{"$f":"IF($D118=\"\",\"\",VLOOKUP($D118,数据库!$B$4:$AD$1003,MATCH(EC$12,数据库!$C$2:$AD$2,)+1,0))","v":""},null,"","","","","","","","","","","",{"$f":"IF($D118=\"\",\"\",VLOOKUP($D118,数据库!$B$4:$AD$1003,MATCH(EP$12,数据库!$C$2:$R$2,)+1,0))","v":""},null,"","","","","","","","","","","",{"$f":"IF($D118=\"\",\"\",VLOOKUP($D118,数据库!$B$4:$AD$1003,MATCH(FC$12,数据库!$C$2:$R$2,)+1,0))","v":""},null,"","","","","","","","","","","",""]
[null,null,"","","","","","","","","","","","","",{"$f":"IF($D119=\"\",\"\",VLOOKUP($D119,数据库!$B$4:$AD$1003,MATCH(P$12,数据库!$C$2:$AD$2,)+1,0))","v":""},null,"",{"$f":"IF(R119=\"\",\"\",MID($R119,S$12+1,1))","v":""},"","","","","","","","","",{"$f":"IF($D119=\"\",\"\",VLOOKUP($D119,数据库!$B$4:$AD$1003,MATCH(AC$12,数据库!$C$2:$R$2,)+1,0))","v":""},null,"","","","","","","","","","","",{"$f":"IF($D119=\"\",\"\",VLOOKUP($D119,数据库!$B$4:$AD$1003,MATCH(AP$12,数据库!$C$2:$R$2,)+1,0))","v":""},null,"","","","","","","","","","","",{"$f":"IF($D119=\"\",\"\",VLOOKUP($D119,数据库!$B$4:$AD$1003,MATCH(BC$12,数据库!$C$2:$AD$2,)+1,0))","v":""},null,"","","","","","","","","","","",{"$f":"IF($D119=\"\",\"\",VLOOKUP($D119,数据库!$B$4:$AD$1003,MATCH(BP$12,数据库!$C$2:$R$2,)+1,0))","v":""},null,"","","","","","","","","","","",{"$f":"IF($D119=\"\",\"\",VLOOKUP($D119,数据库!$B$4:$AD$1003,MATCH(CC$12,数据库!$C$2:$R$2,)+1,0))","v":""},null,"","","","","","","","","","","",{"$f":"IF($D119=\"\",\"\",VLOOKUP($D119,数据库!$B$4:$AD$1003,MATCH(CP$12,数据库!$C$2:$AD$2,)+1,0))","v":""},null,"","","","","","","","","","","",{"$f":"IF($D119=\"\",\"\",VLOOKUP($D119,数据库!$B$4:$AD$1003,MATCH(DC$12,数据库!$C$2:$R$2,)+1,0))","v":""},null,"","","","","","","","","","","",{"$f":"IF($D119=\"\",\"\",VLOOKUP($D119,数据库!$B$4:$AD$1003,MATCH(DP$12,数据库!$C$2:$R$2,)+1,0))","v":""},null,"","","","","","","","","","","",{"$f":"IF($D119=\"\",\"\",VLOOKUP($D119,数据库!$B$4:$AD$1003,MATCH(EC$12,数据库!$C$2:$AD$2,)+1,0))","v":""},null,"","","","","","","","","","","",{"$f":"IF($D119=\"\",\"\",VLOOKUP($D119,数据库!$B$4:$AD$1003,MATCH(EP$12,数据库!$C$2:$R$2,)+1,0))","v":""},null,"","","","","","","","","","","",{"$f":"IF($D119=\"\",\"\",VLOOKUP($D119,数据库!$B$4:$AD$1003,MATCH(FC$12,数据库!$C$2:$R$2,)+1,0))","v":""},null,"","","","","","","","","","","",""]
[null,null,"","","","","","","","","","","","","",{"$f":"IF($D120=\"\",\"\",VLOOKUP($D120,数据库!$B$4:$AD$1003,MATCH(P$12,数据库!$C$2:$AD$2,)+1,0))","v":""},null,"",{"$f":"IF(R120=\"\",\"\",MID($R120,S$12+1,1))","v":""},"","","","","","","","","",{"$f":"IF($D120=\"\",\"\",VLOOKUP($D120,数据库!$B$4:$AD$1003,MATCH(AC$12,数据库!$C$2:$R$2,)+1,0))","v":""},null,"","","","","","","","","","","",{"$f":"IF($D120=\"\",\"\",VLOOKUP($D120,数据库!$B$4:$AD$1003,MATCH(AP$12,数据库!$C$2:$R$2,)+1,0))","v":""},null,"","","","","","","","","","","",{"$f":"IF($D120=\"\",\"\",VLOOKUP($D120,数据库!$B$4:$AD$1003,MATCH(BC$12,数据库!$C$2:$AD$2,)+1,0))","v":""},null,"","","","","","","","","","","",{"$f":"IF($D120=\"\",\"\",VLOOKUP($D120,数据库!$B$4:$AD$1003,MATCH(BP$12,数据库!$C$2:$R$2,)+1,0))","v":""},null,"","","","","","","","","","","",{"$f":"IF($D120=\"\",\"\",VLOOKUP($D120,数据库!$B$4:$AD$1003,MATCH(CC$12,数据库!$C$2:$R$2,)+1,0))","v":""},null,"","","","","","","","","","","",{"$f":"IF($D120=\"\",\"\",VLOOKUP($D120,数据库!$B$4:$AD$1003,MATCH(CP$12,数据库!$C$2:$AD$2,)+1,0))","v":""},null,"","","","","","","","","","","",{"$f":"IF($D120=\"\",\"\",VLOOKUP($D120,数据库!$B$4:$AD$1003,MATCH(DC$12,数据库!$C$2:$R$2,)+1,0))","v":""},null,"","","","","","","","","","","",{"$f":"IF($D120=\"\",\"\",VLOOKUP($D120,数据库!$B$4:$AD$1003,MATCH(DP$12,数据库!$C$2:$R$2,)+1,0))","v":""},null,"","","","","","","","","","","",{"$f":"IF($D120=\"\",\"\",VLOOKUP($D120,数据库!$B$4:$AD$1003,MATCH(EC$12,数据库!$C$2:$AD$2,)+1,0))","v":""},null,"","","","","","","","","","","",{"$f":"IF($D120=\"\",\"\",VLOOKUP($D120,数据库!$B$4:$AD$1003,MATCH(EP$12,数据库!$C$2:$R$2,)+1,0))","v":""},null,"","","","","","","","","","","",{"$f":"IF($D120=\"\",\"\",VLOOKUP($D120,数据库!$B$4:$AD$1003,MATCH(FC$12,数据库!$C$2:$R$2,)+1,0))","v":""},null,"","","","","","","","","","","",""]
[null,null,"","","","","","","","","","","","","",{"$f":"IF($D121=\"\",\"\",VLOOKUP($D121,数据库!$B$4:$AD$1003,MATCH(P$12,数据库!$C$2:$AD$2,)+1,0))","v":""},null,"",{"$f":"IF(R121=\"\",\"\",MID($R121,S$12+1,1))","v":""},"","","","","","","","","",{"$f":"IF($D121=\"\",\"\",VLOOKUP($D121,数据库!$B$4:$AD$1003,MATCH(AC$12,数据库!$C$2:$R$2,)+1,0))","v":""},null,"","","","","","","","","","","",{"$f":"IF($D121=\"\",\"\",VLOOKUP($D121,数据库!$B$4:$AD$1003,MATCH(AP$12,数据库!$C$2:$R$2,)+1,0))","v":""},null,"","","","","","","","","","","",{"$f":"IF($D121=\"\",\"\",VLOOKUP($D121,数据库!$B$4:$AD$1003,MATCH(BC$12,数据库!$C$2:$AD$2,)+1,0))","v":""},null,"","","","","","","","","","","",{"$f":"IF($D121=\"\",\"\",VLOOKUP($D121,数据库!$B$4:$AD$1003,MATCH(BP$12,数据库!$C$2:$R$2,)+1,0))","v":""},null,"","","","","","","","","","","",{"$f":"IF($D121=\"\",\"\",VLOOKUP($D121,数据库!$B$4:$AD$1003,MATCH(CC$12,数据库!$C$2:$R$2,)+1,0))","v":""},null,"","","","","","","","","","","",{"$f":"IF($D121=\"\",\"\",VLOOKUP($D121,数据库!$B$4:$AD$1003,MATCH(CP$12,数据库!$C$2:$AD$2,)+1,0))","v":""},null,"","","","","","","","","","","",{"$f":"IF($D121=\"\",\"\",VLOOKUP($D121,数据库!$B$4:$AD$1003,MATCH(DC$12,数据库!$C$2:$R$2,)+1,0))","v":""},null,"","","","","","","","","","","",{"$f":"IF($D121=\"\",\"\",VLOOKUP($D121,数据库!$B$4:$AD$1003,MATCH(DP$12,数据库!$C$2:$R$2,)+1,0))","v":""},null,"","","","","","","","","","","",{"$f":"IF($D121=\"\",\"\",VLOOKUP($D121,数据库!$B$4:$AD$1003,MATCH(EC$12,数据库!$C$2:$AD$2,)+1,0))","v":""},null,"","","","","","","","","","","",{"$f":"IF($D121=\"\",\"\",VLOOKUP($D121,数据库!$B$4:$AD$1003,MATCH(EP$12,数据库!$C$2:$R$2,)+1,0))","v":""},null,"","","","","","","","","","","",{"$f":"IF($D121=\"\",\"\",VLOOKUP($D121,数据库!$B$4:$AD$1003,MATCH(FC$12,数据库!$C$2:$R$2,)+1,0))","v":""},null,"","","","","","","","","","","",""]
[null,null,"","","","","","","","","","","","","",{"$f":"IF($D122=\"\",\"\",VLOOKUP($D122,数据库!$B$4:$AD$1003,MATCH(P$12,数据库!$C$2:$AD$2,)+1,0))","v":""},null,"",{"$f":"IF(R122=\"\",\"\",MID($R122,S$12+1,1))","v":""},"","","","","","","","","",{"$f":"IF($D122=\"\",\"\",VLOOKUP($D122,数据库!$B$4:$AD$1003,MATCH(AC$12,数据库!$C$2:$R$2,)+1,0))","v":""},null,"","","","","","","","","","","",{"$f":"IF($D122=\"\",\"\",VLOOKUP($D122,数据库!$B$4:$AD$1003,MATCH(AP$12,数据库!$C$2:$R$2,)+1,0))","v":""},null,"","","","","","","","","","","",{"$f":"IF($D122=\"\",\"\",VLOOKUP($D122,数据库!$B$4:$AD$1003,MATCH(BC$12,数据库!$C$2:$AD$2,)+1,0))","v":""},null,"","","","","","","","","","","",{"$f":"IF($D122=\"\",\"\",VLOOKUP($D122,数据库!$B$4:$AD$1003,MATCH(BP$12,数据库!$C$2:$R$2,)+1,0))","v":""},null,"","","","","","","","","","","",{"$f":"IF($D122=\"\",\"\",VLOOKUP($D122,数据库!$B$4:$AD$1003,MATCH(CC$12,数据库!$C$2:$R$2,)+1,0))","v":""},null,"","","","","","","","","","","",{"$f":"IF($D122=\"\",\"\",VLOOKUP($D122,数据库!$B$4:$AD$1003,MATCH(CP$12,数据库!$C$2:$AD$2,)+1,0))","v":""},null,"","","","","","","","","","","",{"$f":"IF($D122=\"\",\"\",VLOOKUP($D122,数据库!$B$4:$AD$1003,MATCH(DC$12,数据库!$C$2:$R$2,)+1,0))","v":""},null,"","","","","","","","","","","",{"$f":"IF($D122=\"\",\"\",VLOOKUP($D122,数据库!$B$4:$AD$1003,MATCH(DP$12,数据库!$C$2:$R$2,)+1,0))","v":""},null,"","","","","","","","","","","",{"$f":"IF($D122=\"\",\"\",VLOOKUP($D122,数据库!$B$4:$AD$1003,MATCH(EC$12,数据库!$C$2:$AD$2,)+1,0))","v":""},null,"","","","","","","","","","","",{"$f":"IF($D122=\"\",\"\",VLOOKUP($D122,数据库!$B$4:$AD$1003,MATCH(EP$12,数据库!$C$2:$R$2,)+1,0))","v":""},null,"","","","","","","","","","","",{"$f":"IF($D122=\"\",\"\",VLOOKUP($D122,数据库!$B$4:$AD$1003,MATCH(FC$12,数据库!$C$2:$R$2,)+1,0))","v":""},null,"","","","","","","","","","","",""]
[null,null,"","","","","","","","","","","","","",{"$f":"IF($D123=\"\",\"\",VLOOKUP($D123,数据库!$B$4:$AD$1003,MATCH(P$12,数据库!$C$2:$AD$2,)+1,0))","v":""},null,"",{"$f":"IF(R123=\"\",\"\",MID($R123,S$12+1,1))","v":""},"","","","","","","","","",{"$f":"IF($D123=\"\",\"\",VLOOKUP($D123,数据库!$B$4:$AD$1003,MATCH(AC$12,数据库!$C$2:$R$2,)+1,0))","v":""},null,"","","","","","","","","","","",{"$f":"IF($D123=\"\",\"\",VLOOKUP($D123,数据库!$B$4:$AD$1003,MATCH(AP$12,数据库!$C$2:$R$2,)+1,0))","v":""},null,"","","","","","","","","","","",{"$f":"IF($D123=\"\",\"\",VLOOKUP($D123,数据库!$B$4:$AD$1003,MATCH(BC$12,数据库!$C$2:$AD$2,)+1,0))","v":""},null,"","","","","","","","","","","",{"$f":"IF($D123=\"\",\"\",VLOOKUP($D123,数据库!$B$4:$AD$1003,MATCH(BP$12,数据库!$C$2:$R$2,)+1,0))","v":""},null,"","","","","","","","","","","",{"$f":"IF($D123=\"\",\"\",VLOOKUP($D123,数据库!$B$4:$AD$1003,MATCH(CC$12,数据库!$C$2:$R$2,)+1,0))","v":""},null,"","","","","","","","","","","",{"$f":"IF($D123=\"\",\"\",VLOOKUP($D123,数据库!$B$4:$AD$1003,MATCH(CP$12,数据库!$C$2:$AD$2,)+1,0))","v":""},null,"","","","","","","","","","","",{"$f":"IF($D123=\"\",\"\",VLOOKUP($D123,数据库!$B$4:$AD$1003,MATCH(DC$12,数据库!$C$2:$R$2,)+1,0))","v":""},null,"","","","","","","","","","","",{"$f":"IF($D123=\"\",\"\",VLOOKUP($D123,数据库!$B$4:$AD$1003,MATCH(DP$12,数据库!$C$2:$R$2,)+1,0))","v":""},null,"","","","","","","","","","","",{"$f":"IF($D123=\"\",\"\",VLOOKUP($D123,数据库!$B$4:$AD$1003,MATCH(EC$12,数据库!$C$2:$AD$2,)+1,0))","v":""},null,"","","","","","","","","","","",{"$f":"IF($D123=\"\",\"\",VLOOKUP($D123,数据库!$B$4:$AD$1003,MATCH(EP$12,数据库!$C$2:$R$2,)+1,0))","v":""},null,"","","","","","","","","","","",{"$f":"IF($D123=\"\",\"\",VLOOKUP($D123,数据库!$B$4:$AD$1003,MATCH(FC$12,数据库!$C$2:$R$2,)+1,0))","v":""},null,"","","","","","","","","","","",""]
[null,null,"","","","","","","","","","","","","",{"$f":"IF($D124=\"\",\"\",VLOOKUP($D124,数据库!$B$4:$AD$1003,MATCH(P$12,数据库!$C$2:$AD$2,)+1,0))","v":""},null,"",{"$f":"IF(R124=\"\",\"\",MID($R124,S$12+1,1))","v":""},"","","","","","","","","",{"$f":"IF($D124=\"\",\"\",VLOOKUP($D124,数据库!$B$4:$AD$1003,MATCH(AC$12,数据库!$C$2:$R$2,)+1,0))","v":""},null,"","","","","","","","","","","",{"$f":"IF($D124=\"\",\"\",VLOOKUP($D124,数据库!$B$4:$AD$1003,MATCH(AP$12,数据库!$C$2:$R$2,)+1,0))","v":""},null,"","","","","","","","","","","",{"$f":"IF($D124=\"\",\"\",VLOOKUP($D124,数据库!$B$4:$AD$1003,MATCH(BC$12,数据库!$C$2:$AD$2,)+1,0))","v":""},null,"","","","","","","","","","","",{"$f":"IF($D124=\"\",\"\",VLOOKUP($D124,数据库!$B$4:$AD$1003,MATCH(BP$12,数据库!$C$2:$R$2,)+1,0))","v":""},null,"","","","","","","","","","","",{"$f":"IF($D124=\"\",\"\",VLOOKUP($D124,数据库!$B$4:$AD$1003,MATCH(CC$12,数据库!$C$2:$R$2,)+1,0))","v":""},null,"","","","","","","","","","","",{"$f":"IF($D124=\"\",\"\",VLOOKUP($D124,数据库!$B$4:$AD$1003,MATCH(CP$12,数据库!$C$2:$AD$2,)+1,0))","v":""},null,"","","","","","","","","","","",{"$f":"IF($D124=\"\",\"\",VLOOKUP($D124,数据库!$B$4:$AD$1003,MATCH(DC$12,数据库!$C$2:$R$2,)+1,0))","v":""},null,"","","","","","","","","","","",{"$f":"IF($D124=\"\",\"\",VLOOKUP($D124,数据库!$B$4:$AD$1003,MATCH(DP$12,数据库!$C$2:$R$2,)+1,0))","v":""},null,"","","","","","","","","","","",{"$f":"IF($D124=\"\",\"\",VLOOKUP($D124,数据库!$B$4:$AD$1003,MATCH(EC$12,数据库!$C$2:$AD$2,)+1,0))","v":""},null,"","","","","","","","","","","",{"$f":"IF($D124=\"\",\"\",VLOOKUP($D124,数据库!$B$4:$AD$1003,MATCH(EP$12,数据库!$C$2:$R$2,)+1,0))","v":""},null,"","","","","","","","","","","",{"$f":"IF($D124=\"\",\"\",VLOOKUP($D124,数据库!$B$4:$AD$1003,MATCH(FC$12,数据库!$C$2:$R$2,)+1,0))","v":""},null,"","","","","","","","","","","",""]
[null,null,"","","","","","","","","","","","","",{"$f":"IF($D125=\"\",\"\",VLOOKUP($D125,数据库!$B$4:$AD$1003,MATCH(P$12,数据库!$C$2:$AD$2,)+1,0))","v":""},null,"",{"$f":"IF(R125=\"\",\"\",MID($R125,S$12+1,1))","v":""},"","","","","","","","","",{"$f":"IF($D125=\"\",\"\",VLOOKUP($D125,数据库!$B$4:$AD$1003,MATCH(AC$12,数据库!$C$2:$R$2,)+1,0))","v":""},null,"","","","","","","","","","","",{"$f":"IF($D125=\"\",\"\",VLOOKUP($D125,数据库!$B$4:$AD$1003,MATCH(AP$12,数据库!$C$2:$R$2,)+1,0))","v":""},null,"","","","","","","","","","","",{"$f":"IF($D125=\"\",\"\",VLOOKUP($D125,数据库!$B$4:$AD$1003,MATCH(BC$12,数据库!$C$2:$AD$2,)+1,0))","v":""},null,"","","","","","","","","","","",{"$f":"IF($D125=\"\",\"\",VLOOKUP($D125,数据库!$B$4:$AD$1003,MATCH(BP$12,数据库!$C$2:$R$2,)+1,0))","v":""},null,"","","","","","","","","","","",{"$f":"IF($D125=\"\",\"\",VLOOKUP($D125,数据库!$B$4:$AD$1003,MATCH(CC$12,数据库!$C$2:$R$2,)+1,0))","v":""},null,"","","","","","","","","","","",{"$f":"IF($D125=\"\",\"\",VLOOKUP($D125,数据库!$B$4:$AD$1003,MATCH(CP$12,数据库!$C$2:$AD$2,)+1,0))","v":""},null,"","","","","","","","","","","",{"$f":"IF($D125=\"\",\"\",VLOOKUP($D125,数据库!$B$4:$AD$1003,MATCH(DC$12,数据库!$C$2:$R$2,)+1,0))","v":""},null,"","","","","","","","","","","",{"$f":"IF($D125=\"\",\"\",VLOOKUP($D125,数据库!$B$4:$AD$1003,MATCH(DP$12,数据库!$C$2:$R$2,)+1,0))","v":""},null,"","","","","","","","","","","",{"$f":"IF($D125=\"\",\"\",VLOOKUP($D125,数据库!$B$4:$AD$1003,MATCH(EC$12,数据库!$C$2:$AD$2,)+1,0))","v":""},null,"","","","","","","","","","","",{"$f":"IF($D125=\"\",\"\",VLOOKUP($D125,数据库!$B$4:$AD$1003,MATCH(EP$12,数据库!$C$2:$R$2,)+1,0))","v":""},null,"","","","","","","","","","","",{"$f":"IF($D125=\"\",\"\",VLOOKUP($D125,数据库!$B$4:$AD$1003,MATCH(FC$12,数据库!$C$2:$R$2,)+1,0))","v":""},null,"","","","","","","","","","","",""]
[null,null,"","","","","","","","","","","","","",{"$f":"IF($D126=\"\",\"\",VLOOKUP($D126,数据库!$B$4:$AD$1003,MATCH(P$12,数据库!$C$2:$AD$2,)+1,0))","v":""},null,"",{"$f":"IF(R126=\"\",\"\",MID($R126,S$12+1,1))","v":""},"","","","","","","","","",{"$f":"IF($D126=\"\",\"\",VLOOKUP($D126,数据库!$B$4:$AD$1003,MATCH(AC$12,数据库!$C$2:$R$2,)+1,0))","v":""},null,"","","","","","","","","","","",{"$f":"IF($D126=\"\",\"\",VLOOKUP($D126,数据库!$B$4:$AD$1003,MATCH(AP$12,数据库!$C$2:$R$2,)+1,0))","v":""},null,"","","","","","","","","","","",{"$f":"IF($D126=\"\",\"\",VLOOKUP($D126,数据库!$B$4:$AD$1003,MATCH(BC$12,数据库!$C$2:$AD$2,)+1,0))","v":""},null,"","","","","","","","","","","",{"$f":"IF($D126=\"\",\"\",VLOOKUP($D126,数据库!$B$4:$AD$1003,MATCH(BP$12,数据库!$C$2:$R$2,)+1,0))","v":""},null,"","","","","","","","","","","",{"$f":"IF($D126=\"\",\"\",VLOOKUP($D126,数据库!$B$4:$AD$1003,MATCH(CC$12,数据库!$C$2:$R$2,)+1,0))","v":""},null,"","","","","","","","","","","",{"$f":"IF($D126=\"\",\"\",VLOOKUP($D126,数据库!$B$4:$AD$1003,MATCH(CP$12,数据库!$C$2:$AD$2,)+1,0))","v":""},null,"","","","","","","","","","","",{"$f":"IF($D126=\"\",\"\",VLOOKUP($D126,数据库!$B$4:$AD$1003,MATCH(DC$12,数据库!$C$2:$R$2,)+1,0))","v":""},null,"","","","","","","","","","","",{"$f":"IF($D126=\"\",\"\",VLOOKUP($D126,数据库!$B$4:$AD$1003,MATCH(DP$12,数据库!$C$2:$R$2,)+1,0))","v":""},null,"","","","","","","","","","","",{"$f":"IF($D126=\"\",\"\",VLOOKUP($D126,数据库!$B$4:$AD$1003,MATCH(EC$12,数据库!$C$2:$AD$2,)+1,0))","v":""},null,"","","","","","","","","","","",{"$f":"IF($D126=\"\",\"\",VLOOKUP($D126,数据库!$B$4:$AD$1003,MATCH(EP$12,数据库!$C$2:$R$2,)+1,0))","v":""},null,"","","","","","","","","","","",{"$f":"IF($D126=\"\",\"\",VLOOKUP($D126,数据库!$B$4:$AD$1003,MATCH(FC$12,数据库!$C$2:$R$2,)+1,0))","v":""},null,"","","","","","","","","","","",""]
[null,null,"","","","","","","","","","","","","",{"$f":"IF($D127=\"\",\"\",VLOOKUP($D127,数据库!$B$4:$AD$1003,MATCH(P$12,数据库!$C$2:$AD$2,)+1,0))","v":""},null,"",{"$f":"IF(R127=\"\",\"\",MID($R127,S$12+1,1))","v":""},"","","","","","","","","",{"$f":"IF($D127=\"\",\"\",VLOOKUP($D127,数据库!$B$4:$AD$1003,MATCH(AC$12,数据库!$C$2:$R$2,)+1,0))","v":""},null,"","","","","","","","","","","",{"$f":"IF($D127=\"\",\"\",VLOOKUP($D127,数据库!$B$4:$AD$1003,MATCH(AP$12,数据库!$C$2:$R$2,)+1,0))","v":""},null,"","","","","","","","","","","",{"$f":"IF($D127=\"\",\"\",VLOOKUP($D127,数据库!$B$4:$AD$1003,MATCH(BC$12,数据库!$C$2:$AD$2,)+1,0))","v":""},null,"","","","","","","","","","","",{"$f":"IF($D127=\"\",\"\",VLOOKUP($D127,数据库!$B$4:$AD$1003,MATCH(BP$12,数据库!$C$2:$R$2,)+1,0))","v":""},null,"","","","","","","","","","","",{"$f":"IF($D127=\"\",\"\",VLOOKUP($D127,数据库!$B$4:$AD$1003,MATCH(CC$12,数据库!$C$2:$R$2,)+1,0))","v":""},null,"","","","","","","","","","","",{"$f":"IF($D127=\"\",\"\",VLOOKUP($D127,数据库!$B$4:$AD$1003,MATCH(CP$12,数据库!$C$2:$AD$2,)+1,0))","v":""},null,"","","","","","","","","","","",{"$f":"IF($D127=\"\",\"\",VLOOKUP($D127,数据库!$B$4:$AD$1003,MATCH(DC$12,数据库!$C$2:$R$2,)+1,0))","v":""},null,"","","","","","","","","","","",{"$f":"IF($D127=\"\",\"\",VLOOKUP($D127,数据库!$B$4:$AD$1003,MATCH(DP$12,数据库!$C$2:$R$2,)+1,0))","v":""},null,"","","","","","","","","","","",{"$f":"IF($D127=\"\",\"\",VLOOKUP($D127,数据库!$B$4:$AD$1003,MATCH(EC$12,数据库!$C$2:$AD$2,)+1,0))","v":""},null,"","","","","","","","","","","",{"$f":"IF($D127=\"\",\"\",VLOOKUP($D127,数据库!$B$4:$AD$1003,MATCH(EP$12,数据库!$C$2:$R$2,)+1,0))","v":""},null,"","","","","","","","","","","",{"$f":"IF($D127=\"\",\"\",VLOOKUP($D127,数据库!$B$4:$AD$1003,MATCH(FC$12,数据库!$C$2:$R$2,)+1,0))","v":""},null,"","","","","","","","","","","",""]
[null,null,"","","","","","","","","","","","","",{"$f":"IF($D128=\"\",\"\",VLOOKUP($D128,数据库!$B$4:$AD$1003,MATCH(P$12,数据库!$C$2:$AD$2,)+1,0))","v":""},null,"",{"$f":"IF(R128=\"\",\"\",MID($R128,S$12+1,1))","v":""},"","","","","","","","","",{"$f":"IF($D128=\"\",\"\",VLOOKUP($D128,数据库!$B$4:$AD$1003,MATCH(AC$12,数据库!$C$2:$R$2,)+1,0))","v":""},null,"","","","","","","","","","","",{"$f":"IF($D128=\"\",\"\",VLOOKUP($D128,数据库!$B$4:$AD$1003,MATCH(AP$12,数据库!$C$2:$R$2,)+1,0))","v":""},null,"","","",{"$f":"IF($AR128=\"\",\"\",MID($AR128,AU$12+1,1))","v":""},"","","","","","","",{"$f":"IF($D128=\"\",\"\",VLOOKUP($D128,数据库!$B$4:$AD$1003,MATCH(BC$12,数据库!$C$2:$AD$2,)+1,0))","v":""},null,"","","",{"$f":"IF($BE128=\"\",\"\",MID($BE128,BH$12+1,1))","v":""},"","","","","","","",{"$f":"IF($D128=\"\",\"\",VLOOKUP($D128,数据库!$B$4:$AD$1003,MATCH(BP$12,数据库!$C$2:$R$2,)+1,0))","v":""},null,"","","",{"$f":"IF($BR128=\"\",\"\",MID($BR128,BU$12+1,1))","v":""},"","","","","","","",{"$f":"IF($D128=\"\",\"\",VLOOKUP($D128,数据库!$B$4:$AD$1003,MATCH(CC$12,数据库!$C$2:$R$2,)+1,0))","v":""},null,"","","",{"$f":"IF($CE128=\"\",\"\",MID($CE128,CH$12+1,1))","v":""},"","","","","","","",{"$f":"IF($D128=\"\",\"\",VLOOKUP($D128,数据库!$B$4:$AD$1003,MATCH(CP$12,数据库!$C$2:$AD$2,)+1,0))","v":""},null,"","","",{"$f":"IF($CR128=\"\",\"\",MID($CR128,CU$12+1,1))","v":""},"","","","","","","",{"$f":"IF($D128=\"\",\"\",VLOOKUP($D128,数据库!$B$4:$AD$1003,MATCH(DC$12,数据库!$C$2:$R$2,)+1,0))","v":""},null,"","","",{"$f":"IF($DE128=\"\",\"\",MID($DE128,DH$12+1,1))","v":""},"","","","","","","",{"$f":"IF($D128=\"\",\"\",VLOOKUP($D128,数据库!$B$4:$AD$1003,MATCH(DP$12,数据库!$C$2:$R$2,)+1,0))","v":""},null,"","","",{"$f":"IF($DR128=\"\",\"\",MID($DR128,DU$12+1,1))","v":""},"","","","","","","",{"$f":"IF($D128=\"\",\"\",VLOOKUP($D128,数据库!$B$4:$AD$1003,MATCH(EC$12,数据库!$C$2:$AD$2,)+1,0))","v":""},null,"","","",{"$f":"IF($EE128=\"\",\"\",MID($EE128,EH$12+1,1))","v":""},"","","","","","","",{"$f":"IF($D128=\"\",\"\",VLOOKUP($D128,数据库!$B$4:$AD$1003,MATCH(EP$12,数据库!$C$2:$R$2,)+1,0))","v":""},null,"","","",{"$f":"IF($ER128=\"\",\"\",MID($ER128,EU$12+1,1))","v":""},"","","","","","","",{"$f":"IF($D128=\"\",\"\",VLOOKUP($D128,数据库!$B$4:$AD$1003,MATCH(FC$12,数据库!$C$2:$R$2,)+1,0))","v":""},null,"","","","","","","","","","","",""]
[null,null,"","","","","","","","","","","","","",{"$f":"IF($D129=\"\",\"\",VLOOKUP($D129,数据库!$B$4:$AD$1003,MATCH(P$12,数据库!$C$2:$AD$2,)+1,0))","v":""},null,"",{"$f":"IF(R129=\"\",\"\",MID($R129,S$12+1,1))","v":""},"","","","","","","","","",{"$f":"IF($D129=\"\",\"\",VLOOKUP($D129,数据库!$B$4:$AD$1003,MATCH(AC$12,数据库!$C$2:$R$2,)+1,0))","v":""},null,"","","","","","","","","","","",{"$f":"IF($D129=\"\",\"\",VLOOKUP($D129,数据库!$B$4:$AD$1003,MATCH(AP$12,数据库!$C$2:$R$2,)+1,0))","v":""},null,"","","","","","","","","","","",{"$f":"IF($D129=\"\",\"\",VLOOKUP($D129,数据库!$B$4:$AD$1003,MATCH(BC$12,数据库!$C$2:$AD$2,)+1,0))","v":""},null,"","","","","","","","","","","",{"$f":"IF($D129=\"\",\"\",VLOOKUP($D129,数据库!$B$4:$AD$1003,MATCH(BP$12,数据库!$C$2:$R$2,)+1,0))","v":""},null,"","","","","","","","","","","",{"$f":"IF($D129=\"\",\"\",VLOOKUP($D129,数据库!$B$4:$AD$1003,MATCH(CC$12,数据库!$C$2:$R$2,)+1,0))","v":""},null,"","","","","","","","","","","",{"$f":"IF($D129=\"\",\"\",VLOOKUP($D129,数据库!$B$4:$AD$1003,MATCH(CP$12,数据库!$C$2:$AD$2,)+1,0))","v":""},null,"","","","","","","","","","","",{"$f":"IF($D129=\"\",\"\",VLOOKUP($D129,数据库!$B$4:$AD$1003,MATCH(DC$12,数据库!$C$2:$R$2,)+1,0))","v":""},null,"","","","","","","","","","","",{"$f":"IF($D129=\"\",\"\",VLOOKUP($D129,数据库!$B$4:$AD$1003,MATCH(DP$12,数据库!$C$2:$R$2,)+1,0))","v":""},null,"","","","","","","","","","","",{"$f":"IF($D129=\"\",\"\",VLOOKUP($D129,数据库!$B$4:$AD$1003,MATCH(EC$12,数据库!$C$2:$AD$2,)+1,0))","v":""},null,"","","","","","","","","","","",{"$f":"IF($D129=\"\",\"\",VLOOKUP($D129,数据库!$B$4:$AD$1003,MATCH(EP$12,数据库!$C$2:$R$2,)+1,0))","v":""},null,"","","","","","","","","","","",{"$f":"IF($D129=\"\",\"\",VLOOKUP($D129,数据库!$B$4:$AD$1003,MATCH(FC$12,数据库!$C$2:$R$2,)+1,0))","v":""},null,"","","","","","","","","","","",""]
[null,null,"","","","","","","","","","","","","",{"$f":"IF($D130=\"\",\"\",VLOOKUP($D130,数据库!$B$4:$AD$1003,MATCH(P$12,数据库!$C$2:$AD$2,)+1,0))","v":""},null,"",{"$f":"IF(R130=\"\",\"\",MID($R130,S$12+1,1))","v":""},"","","","","","","","","",{"$f":"IF($D130=\"\",\"\",VLOOKUP($D130,数据库!$B$4:$AD$1003,MATCH(AC$12,数据库!$C$2:$R$2,)+1,0))","v":""},null,"","","","","","","","","","","",{"$f":"IF($D130=\"\",\"\",VLOOKUP($D130,数据库!$B$4:$AD$1003,MATCH(AP$12,数据库!$C$2:$R$2,)+1,0))","v":""},null,"","","","","","","","","","","",{"$f":"IF($D130=\"\",\"\",VLOOKUP($D130,数据库!$B$4:$AD$1003,MATCH(BC$12,数据库!$C$2:$AD$2,)+1,0))","v":""},null,"","","","","","","","","","","",{"$f":"IF($D130=\"\",\"\",VLOOKUP($D130,数据库!$B$4:$AD$1003,MATCH(BP$12,数据库!$C$2:$R$2,)+1,0))","v":""},null,"","","","","","","","","","","",{"$f":"IF($D130=\"\",\"\",VLOOKUP($D130,数据库!$B$4:$AD$1003,MATCH(CC$12,数据库!$C$2:$R$2,)+1,0))","v":""},null,"","","","","","","","","","","",{"$f":"IF($D130=\"\",\"\",VLOOKUP($D130,数据库!$B$4:$AD$1003,MATCH(CP$12,数据库!$C$2:$AD$2,)+1,0))","v":""},null,"","","","","","","","","","","",{"$f":"IF($D130=\"\",\"\",VLOOKUP($D130,数据库!$B$4:$AD$1003,MATCH(DC$12,数据库!$C$2:$R$2,)+1,0))","v":""},null,"","","","","","","","","","","",{"$f":"IF($D130=\"\",\"\",VLOOKUP($D130,数据库!$B$4:$AD$1003,MATCH(DP$12,数据库!$C$2:$R$2,)+1,0))","v":""},null,"","","","","","","","","","","",{"$f":"IF($D130=\"\",\"\",VLOOKUP($D130,数据库!$B$4:$AD$1003,MATCH(EC$12,数据库!$C$2:$AD$2,)+1,0))","v":""},null,"","","","","","","","","","","",{"$f":"IF($D130=\"\",\"\",VLOOKUP($D130,数据库!$B$4:$AD$1003,MATCH(EP$12,数据库!$C$2:$R$2,)+1,0))","v":""},null,"","","","","","","","","","","",{"$f":"IF($D130=\"\",\"\",VLOOKUP($D130,数据库!$B$4:$AD$1003,MATCH(FC$12,数据库!$C$2:$R$2,)+1,0))","v":""},null,"","","","","","","","","","","",""]
[null,null,"","","","","","","","","","","","","",{"$f":"IF($D131=\"\",\"\",VLOOKUP($D131,数据库!$B$4:$AD$1003,MATCH(P$12,数据库!$C$2:$AD$2,)+1,0))","v":""},null,"",{"$f":"IF(R131=\"\",\"\",MID($R131,S$12+1,1))","v":""},"","","","","","","","","",{"$f":"IF($D131=\"\",\"\",VLOOKUP($D131,数据库!$B$4:$AD$1003,MATCH(AC$12,数据库!$C$2:$R$2,)+1,0))","v":""},null,"","","","","","","","","","","",{"$f":"IF($D131=\"\",\"\",VLOOKUP($D131,数据库!$B$4:$AD$1003,MATCH(AP$12,数据库!$C$2:$R$2,)+1,0))","v":""},null,"","","","","","","","","","","",{"$f":"IF($D131=\"\",\"\",VLOOKUP($D131,数据库!$B$4:$AD$1003,MATCH(BC$12,数据库!$C$2:$AD$2,)+1,0))","v":""},null,"","","","","","","","","","","",{"$f":"IF($D131=\"\",\"\",VLOOKUP($D131,数据库!$B$4:$AD$1003,MATCH(BP$12,数据库!$C$2:$R$2,)+1,0))","v":""},null,"","","","","","","","","","","",{"$f":"IF($D131=\"\",\"\",VLOOKUP($D131,数据库!$B$4:$AD$1003,MATCH(CC$12,数据库!$C$2:$R$2,)+1,0))","v":""},null,"","","","","","","","","","","",{"$f":"IF($D131=\"\",\"\",VLOOKUP($D131,数据库!$B$4:$AD$1003,MATCH(CP$12,数据库!$C$2:$AD$2,)+1,0))","v":""},null,"","","","","","","","","","","",{"$f":"IF($D131=\"\",\"\",VLOOKUP($D131,数据库!$B$4:$AD$1003,MATCH(DC$12,数据库!$C$2:$R$2,)+1,0))","v":""},null,"","","","","","","","","","","",{"$f":"IF($D131=\"\",\"\",VLOOKUP($D131,数据库!$B$4:$AD$1003,MATCH(DP$12,数据库!$C$2:$R$2,)+1,0))","v":""},null,"","","","","","","","","","","",{"$f":"IF($D131=\"\",\"\",VLOOKUP($D131,数据库!$B$4:$AD$1003,MATCH(EC$12,数据库!$C$2:$AD$2,)+1,0))","v":""},null,"","","","","","","","","","","",{"$f":"IF($D131=\"\",\"\",VLOOKUP($D131,数据库!$B$4:$AD$1003,MATCH(EP$12,数据库!$C$2:$R$2,)+1,0))","v":""},null,"","","","","","","","","","","",{"$f":"IF($D131=\"\",\"\",VLOOKUP($D131,数据库!$B$4:$AD$1003,MATCH(FC$12,数据库!$C$2:$R$2,)+1,0))","v":""},null,"","","","","","","","","","","",""]
[null,null,"","","","","","","","","","","","","",{"$f":"IF($D132=\"\",\"\",VLOOKUP($D132,数据库!$B$4:$AD$1003,MATCH(P$12,数据库!$C$2:$AD$2,)+1,0))","v":""},null,"",{"$f":"IF(R132=\"\",\"\",MID($R132,S$12+1,1))","v":""},"","","","","","","","","",{"$f":"IF($D132=\"\",\"\",VLOOKUP($D132,数据库!$B$4:$AD$1003,MATCH(AC$12,数据库!$C$2:$R$2,)+1,0))","v":""},null,"","","","","","","","","","","",{"$f":"IF($D132=\"\",\"\",VLOOKUP($D132,数据库!$B$4:$AD$1003,MATCH(AP$12,数据库!$C$2:$R$2,)+1,0))","v":""},null,"","","","","","","","","","","",{"$f":"IF($D132=\"\",\"\",VLOOKUP($D132,数据库!$B$4:$AD$1003,MATCH(BC$12,数据库!$C$2:$AD$2,)+1,0))","v":""},null,"","","","","","","","","","","",{"$f":"IF($D132=\"\",\"\",VLOOKUP($D132,数据库!$B$4:$AD$1003,MATCH(BP$12,数据库!$C$2:$R$2,)+1,0))","v":""},null,"","","","","","","","","","","",{"$f":"IF($D132=\"\",\"\",VLOOKUP($D132,数据库!$B$4:$AD$1003,MATCH(CC$12,数据库!$C$2:$R$2,)+1,0))","v":""},null,"","","","","","","","","","","",{"$f":"IF($D132=\"\",\"\",VLOOKUP($D132,数据库!$B$4:$AD$1003,MATCH(CP$12,数据库!$C$2:$AD$2,)+1,0))","v":""},null,"","","","","","","","","","","",{"$f":"IF($D132=\"\",\"\",VLOOKUP($D132,数据库!$B$4:$AD$1003,MATCH(DC$12,数据库!$C$2:$R$2,)+1,0))","v":""},null,"","","","","","","","","","","",{"$f":"IF($D132=\"\",\"\",VLOOKUP($D132,数据库!$B$4:$AD$1003,MATCH(DP$12,数据库!$C$2:$R$2,)+1,0))","v":""},null,"","","","","","","","","","","",{"$f":"IF($D132=\"\",\"\",VLOOKUP($D132,数据库!$B$4:$AD$1003,MATCH(EC$12,数据库!$C$2:$AD$2,)+1,0))","v":""},null,"","","","","","","","","","","",{"$f":"IF($D132=\"\",\"\",VLOOKUP($D132,数据库!$B$4:$AD$1003,MATCH(EP$12,数据库!$C$2:$R$2,)+1,0))","v":""},null,"","","","","","","","","","","",{"$f":"IF($D132=\"\",\"\",VLOOKUP($D132,数据库!$B$4:$AD$1003,MATCH(FC$12,数据库!$C$2:$R$2,)+1,0))","v":""},null,"","","","","","","","","","","",""]
[null,null,"","","","","","","","",{"$f":"IF($E133=\"\",\"\",MID($E133,K$12+1,1))","v":""},"","","","",{"$f":"IF($D133=\"\",\"\",VLOOKUP($D133,数据库!$B$4:$AD$1003,MATCH(P$12,数据库!$C$2:$AD$2,)+1,0))","v":""},null,"",{"$f":"IF(R133=\"\",\"\",MID($R133,S$12+1,1))","v":""},"","","","","","","","","",{"$f":"IF($D133=\"\",\"\",VLOOKUP($D133,数据库!$B$4:$AD$1003,MATCH(AC$12,数据库!$C$2:$R$2,)+1,0))","v":""},null,"","","","","","",{"$f":"IF($AE133=\"\",\"\",MID($AE133,AK$12+1,1))","v":""},"","","","",{"$f":"IF($D133=\"\",\"\",VLOOKUP($D133,数据库!$B$4:$AD$1003,MATCH(AP$12,数据库!$C$2:$R$2,)+1,0))","v":""},null,"","","","","","","","","","","",{"$f":"IF($D133=\"\",\"\",VLOOKUP($D133,数据库!$B$4:$AD$1003,MATCH(BC$12,数据库!$C$2:$AD$2,)+1,0))","v":""},null,"","","","","","","","","","","",{"$f":"IF($D133=\"\",\"\",VLOOKUP($D133,数据库!$B$4:$AD$1003,MATCH(BP$12,数据库!$C$2:$R$2,)+1,0))","v":""},null,"","","","","","","","","","","",{"$f":"IF($D133=\"\",\"\",VLOOKUP($D133,数据库!$B$4:$AD$1003,MATCH(CC$12,数据库!$C$2:$R$2,)+1,0))","v":""},null,"","","","","","","","","","","",{"$f":"IF($D133=\"\",\"\",VLOOKUP($D133,数据库!$B$4:$AD$1003,MATCH(CP$12,数据库!$C$2:$AD$2,)+1,0))","v":""},null,"","","","","","","","","","","",{"$f":"IF($D133=\"\",\"\",VLOOKUP($D133,数据库!$B$4:$AD$1003,MATCH(DC$12,数据库!$C$2:$R$2,)+1,0))","v":""},null,"","","","","","","","","","","",{"$f":"IF($D133=\"\",\"\",VLOOKUP($D133,数据库!$B$4:$AD$1003,MATCH(DP$12,数据库!$C$2:$R$2,)+1,0))","v":""},null,"","","","","","","","","","","",{"$f":"IF($D133=\"\",\"\",VLOOKUP($D133,数据库!$B$4:$AD$1003,MATCH(EC$12,数据库!$C$2:$AD$2,)+1,0))","v":""},null,"","","","","","","","","","","",{"$f":"IF($D133=\"\",\"\",VLOOKUP($D133,数据库!$B$4:$AD$1003,MATCH(EP$12,数据库!$C$2:$R$2,)+1,0))","v":""},null,"","","","","","","","","","","",{"$f":"IF($D133=\"\",\"\",VLOOKUP($D133,数据库!$B$4:$AD$1003,MATCH(FC$12,数据库!$C$2:$R$2,)+1,0))","v":""},null,"","","","","","","","","","","",""]
[null,null,"","","",{"$f":"IF($E134=\"\",\"\",MID($E134,F$12+1,1))","v":""},"","","","","","","","","",{"$f":"IF($D134=\"\",\"\",VLOOKUP($D134,数据库!$B$4:$AD$1003,MATCH(P$12,数据库!$C$2:$AD$2,)+1,0))","v":""},null,"",{"$f":"IF(R134=\"\",\"\",MID($R134,S$12+1,1))","v":""},"","","","","","","","","",{"$f":"IF($D134=\"\",\"\",VLOOKUP($D134,数据库!$B$4:$AD$1003,MATCH(AC$12,数据库!$C$2:$R$2,)+1,0))","v":""},null,"",{"$f":"IF($AE134=\"\",\"\",MID($AE134,AF$12+1,1))","v":""},"","","","","","","","","",{"$f":"IF($D134=\"\",\"\",VLOOKUP($D134,数据库!$B$4:$AD$1003,MATCH(AP$12,数据库!$C$2:$R$2,)+1,0))","v":""},null,"","","","","","","","","","","",{"$f":"IF($D134=\"\",\"\",VLOOKUP($D134,数据库!$B$4:$AD$1003,MATCH(BC$12,数据库!$C$2:$AD$2,)+1,0))","v":""},null,"","","","","","","","","","","",{"$f":"IF($D134=\"\",\"\",VLOOKUP($D134,数据库!$B$4:$AD$1003,MATCH(BP$12,数据库!$C$2:$R$2,)+1,0))","v":""},null,"","","","","","","","","","","",{"$f":"IF($D134=\"\",\"\",VLOOKUP($D134,数据库!$B$4:$AD$1003,MATCH(CC$12,数据库!$C$2:$R$2,)+1,0))","v":""},null,"","","","","","","","","","","",{"$f":"IF($D134=\"\",\"\",VLOOKUP($D134,数据库!$B$4:$AD$1003,MATCH(CP$12,数据库!$C$2:$AD$2,)+1,0))","v":""},null,"","","","","","","","","","","",{"$f":"IF($D134=\"\",\"\",VLOOKUP($D134,数据库!$B$4:$AD$1003,MATCH(DC$12,数据库!$C$2:$R$2,)+1,0))","v":""},null,"","","","","","","","","","","",{"$f":"IF($D134=\"\",\"\",VLOOKUP($D134,数据库!$B$4:$AD$1003,MATCH(DP$12,数据库!$C$2:$R$2,)+1,0))","v":""},null,"","","","","","","","","","","",{"$f":"IF($D134=\"\",\"\",VLOOKUP($D134,数据库!$B$4:$AD$1003,MATCH(EC$12,数据库!$C$2:$AD$2,)+1,0))","v":""},null,"","","","","","","","","","","",{"$f":"IF($D134=\"\",\"\",VLOOKUP($D134,数据库!$B$4:$AD$1003,MATCH(EP$12,数据库!$C$2:$R$2,)+1,0))","v":""},null,"","","","","","","","","","","",{"$f":"IF($D134=\"\",\"\",VLOOKUP($D134,数据库!$B$4:$AD$1003,MATCH(FC$12,数据库!$C$2:$R$2,)+1,0))","v":""},null,"","","","","","","","","","","",""]
[null,null,"","","","","","","","","","","","","",{"$f":"IF($D135=\"\",\"\",VLOOKUP($D135,数据库!$B$4:$AD$1003,MATCH(P$12,数据库!$C$2:$AD$2,)+1,0))","v":""},null,"",{"$f":"IF(R135=\"\",\"\",MID($R135,S$12+1,1))","v":""},"","","","","","","","","",{"$f":"IF($D135=\"\",\"\",VLOOKUP($D135,数据库!$B$4:$AD$1003,MATCH(AC$12,数据库!$C$2:$R$2,)+1,0))","v":""},null,"","","","","","","","","","","",{"$f":"IF($D135=\"\",\"\",VLOOKUP($D135,数据库!$B$4:$AD$1003,MATCH(AP$12,数据库!$C$2:$R$2,)+1,0))","v":""},null,"","","","","","","","","","","",{"$f":"IF($D135=\"\",\"\",VLOOKUP($D135,数据库!$B$4:$AD$1003,MATCH(BC$12,数据库!$C$2:$AD$2,)+1,0))","v":""},null,"","","","","","","","","","","",{"$f":"IF($D135=\"\",\"\",VLOOKUP($D135,数据库!$B$4:$AD$1003,MATCH(BP$12,数据库!$C$2:$R$2,)+1,0))","v":""},null,"","","","","","","","","","","",{"$f":"IF($D135=\"\",\"\",VLOOKUP($D135,数据库!$B$4:$AD$1003,MATCH(CC$12,数据库!$C$2:$R$2,)+1,0))","v":""},null,"","","","","","","","","","","",{"$f":"IF($D135=\"\",\"\",VLOOKUP($D135,数据库!$B$4:$AD$1003,MATCH(CP$12,数据库!$C$2:$AD$2,)+1,0))","v":""},null,"","","","","","","","","","","",{"$f":"IF($D135=\"\",\"\",VLOOKUP($D135,数据库!$B$4:$AD$1003,MATCH(DC$12,数据库!$C$2:$R$2,)+1,0))","v":""},null,"","","","","","","","","","","",{"$f":"IF($D135=\"\",\"\",VLOOKUP($D135,数据库!$B$4:$AD$1003,MATCH(DP$12,数据库!$C$2:$R$2,)+1,0))","v":""},null,"","","","","","","","","","","",{"$f":"IF($D135=\"\",\"\",VLOOKUP($D135,数据库!$B$4:$AD$1003,MATCH(EC$12,数据库!$C$2:$AD$2,)+1,0))","v":""},null,"","","","","","","","","","","",{"$f":"IF($D135=\"\",\"\",VLOOKUP($D135,数据库!$B$4:$AD$1003,MATCH(EP$12,数据库!$C$2:$R$2,)+1,0))","v":""},null,"","","","","","","","","","","",{"$f":"IF($D135=\"\",\"\",VLOOKUP($D135,数据库!$B$4:$AD$1003,MATCH(FC$12,数据库!$C$2:$R$2,)+1,0))","v":""},null,"","","","","","","","","","","",""]
[null,null,"","","","","","","","","","","","","",{"$f":"IF($D136=\"\",\"\",VLOOKUP($D136,数据库!$B$4:$AD$1003,MATCH(P$12,数据库!$C$2:$AD$2,)+1,0))","v":""},null,"",{"$f":"IF(R136=\"\",\"\",MID($R136,S$12+1,1))","v":""},"","","","","","","","","",{"$f":"IF($D136=\"\",\"\",VLOOKUP($D136,数据库!$B$4:$AD$1003,MATCH(AC$12,数据库!$C$2:$R$2,)+1,0))","v":""},null,"","","","","","","","","","","",{"$f":"IF($D136=\"\",\"\",VLOOKUP($D136,数据库!$B$4:$AD$1003,MATCH(AP$12,数据库!$C$2:$R$2,)+1,0))","v":""},null,"",{"$f":"IF($AR136=\"\",\"\",MID($AR136,AS$12+1,1))","v":""},"","","","","","","","","",{"$f":"IF($D136=\"\",\"\",VLOOKUP($D136,数据库!$B$4:$AD$1003,MATCH(BC$12,数据库!$C$2:$AD$2,)+1,0))","v":""},null,"",{"$f":"IF($BE136=\"\",\"\",MID($BE136,BF$12+1,1))","v":""},"","","","","","","","","",{"$f":"IF($D136=\"\",\"\",VLOOKUP($D136,数据库!$B$4:$AD$1003,MATCH(BP$12,数据库!$C$2:$R$2,)+1,0))","v":""},null,"",{"$f":"IF($BR136=\"\",\"\",MID($BR136,BS$12+1,1))","v":""},"","","","","","","","","",{"$f":"IF($D136=\"\",\"\",VLOOKUP($D136,数据库!$B$4:$AD$1003,MATCH(CC$12,数据库!$C$2:$R$2,)+1,0))","v":""},null,"",{"$f":"IF($CE136=\"\",\"\",MID($CE136,CF$12+1,1))","v":""},"","","","","","","","","",{"$f":"IF($D136=\"\",\"\",VLOOKUP($D136,数据库!$B$4:$AD$1003,MATCH(CP$12,数据库!$C$2:$AD$2,)+1,0))","v":""},null,"",{"$f":"IF($CR136=\"\",\"\",MID($CR136,CS$12+1,1))","v":""},"","","","","","","","","",{"$f":"IF($D136=\"\",\"\",VLOOKUP($D136,数据库!$B$4:$AD$1003,MATCH(DC$12,数据库!$C$2:$R$2,)+1,0))","v":""},null,"",{"$f":"IF($DE136=\"\",\"\",MID($DE136,DF$12+1,1))","v":""},"","","","","","","","","",{"$f":"IF($D136=\"\",\"\",VLOOKUP($D136,数据库!$B$4:$AD$1003,MATCH(DP$12,数据库!$C$2:$R$2,)+1,0))","v":""},null,"",{"$f":"IF($DR136=\"\",\"\",MID($DR136,DS$12+1,1))","v":""},"","","","","","","","","",{"$f":"IF($D136=\"\",\"\",VLOOKUP($D136,数据库!$B$4:$AD$1003,MATCH(EC$12,数据库!$C$2:$AD$2,)+1,0))","v":""},null,"",{"$f":"IF($EE136=\"\",\"\",MID($EE136,EF$12+1,1))","v":""},"","","","","","","","","",{"$f":"IF($D136=\"\",\"\",VLOOKUP($D136,数据库!$B$4:$AD$1003,MATCH(EP$12,数据库!$C$2:$R$2,)+1,0))","v":""},null,"",{"$f":"IF($ER136=\"\",\"\",MID($ER136,ES$12+1,1))","v":""},"","","","","","","","","",{"$f":"IF($D136=\"\",\"\",VLOOKUP($D136,数据库!$B$4:$AD$1003,MATCH(FC$12,数据库!$C$2:$R$2,)+1,0))","v":""},null,"","","","","","","","","","","",""]
[null,null,"","","","","","","","","","","","","",{"$f":"IF($D137=\"\",\"\",VLOOKUP($D137,数据库!$B$4:$AD$1003,MATCH(P$12,数据库!$C$2:$AD$2,)+1,0))","v":""},null,"",{"$f":"IF(R137=\"\",\"\",MID($R137,S$12+1,1))","v":""},"","","","","","","","","",{"$f":"IF($D137=\"\",\"\",VLOOKUP($D137,数据库!$B$4:$AD$1003,MATCH(AC$12,数据库!$C$2:$R$2,)+1,0))","v":""},null,"","","","","","","","","","","",{"$f":"IF($D137=\"\",\"\",VLOOKUP($D137,数据库!$B$4:$AD$1003,MATCH(AP$12,数据库!$C$2:$R$2,)+1,0))","v":""},null,"","","","","","","","","","","",{"$f":"IF($D137=\"\",\"\",VLOOKUP($D137,数据库!$B$4:$AD$1003,MATCH(BC$12,数据库!$C$2:$AD$2,)+1,0))","v":""},null,"","","","","","","","","","","",{"$f":"IF($D137=\"\",\"\",VLOOKUP($D137,数据库!$B$4:$AD$1003,MATCH(BP$12,数据库!$C$2:$R$2,)+1,0))","v":""},null,"","","","","","","","","","","",{"$f":"IF($D137=\"\",\"\",VLOOKUP($D137,数据库!$B$4:$AD$1003,MATCH(CC$12,数据库!$C$2:$R$2,)+1,0))","v":""},null,"","","","","","","","","","","",{"$f":"IF($D137=\"\",\"\",VLOOKUP($D137,数据库!$B$4:$AD$1003,MATCH(CP$12,数据库!$C$2:$AD$2,)+1,0))","v":""},null,"","","","","","","","","","","",{"$f":"IF($D137=\"\",\"\",VLOOKUP($D137,数据库!$B$4:$AD$1003,MATCH(DC$12,数据库!$C$2:$R$2,)+1,0))","v":""},null,"","","","","","","","","","","",{"$f":"IF($D137=\"\",\"\",VLOOKUP($D137,数据库!$B$4:$AD$1003,MATCH(DP$12,数据库!$C$2:$R$2,)+1,0))","v":""},null,"","","","","","","","","","","",{"$f":"IF($D137=\"\",\"\",VLOOKUP($D137,数据库!$B$4:$AD$1003,MATCH(EC$12,数据库!$C$2:$AD$2,)+1,0))","v":""},null,"","","","","","","","","","","",{"$f":"IF($D137=\"\",\"\",VLOOKUP($D137,数据库!$B$4:$AD$1003,MATCH(EP$12,数据库!$C$2:$R$2,)+1,0))","v":""},null,"","","","","","","","","","","",{"$f":"IF($D137=\"\",\"\",VLOOKUP($D137,数据库!$B$4:$AD$1003,MATCH(FC$12,数据库!$C$2:$R$2,)+1,0))","v":""},null,"","","","","","","","","","","",""]
[null,null,"","","","","","","","","","","","","",{"$f":"IF($D138=\"\",\"\",VLOOKUP($D138,数据库!$B$4:$AD$1003,MATCH(P$12,数据库!$C$2:$AD$2,)+1,0))","v":""},null,"",{"$f":"IF(R138=\"\",\"\",MID($R138,S$12+1,1))","v":""},"","","","","","","","","",{"$f":"IF($D138=\"\",\"\",VLOOKUP($D138,数据库!$B$4:$AD$1003,MATCH(AC$12,数据库!$C$2:$R$2,)+1,0))","v":""},null,"","","","","","","","","","","",{"$f":"IF($D138=\"\",\"\",VLOOKUP($D138,数据库!$B$4:$AD$1003,MATCH(AP$12,数据库!$C$2:$R$2,)+1,0))","v":""},null,"","","","","","","","","","","",{"$f":"IF($D138=\"\",\"\",VLOOKUP($D138,数据库!$B$4:$AD$1003,MATCH(BC$12,数据库!$C$2:$AD$2,)+1,0))","v":""},null,"","","","","","","","","","","",{"$f":"IF($D138=\"\",\"\",VLOOKUP($D138,数据库!$B$4:$AD$1003,MATCH(BP$12,数据库!$C$2:$R$2,)+1,0))","v":""},null,"","","","","","","","","","","",{"$f":"IF($D138=\"\",\"\",VLOOKUP($D138,数据库!$B$4:$AD$1003,MATCH(CC$12,数据库!$C$2:$R$2,)+1,0))","v":""},null,"","","","","","","","","","","",{"$f":"IF($D138=\"\",\"\",VLOOKUP($D138,数据库!$B$4:$AD$1003,MATCH(CP$12,数据库!$C$2:$AD$2,)+1,0))","v":""},null,"","","","","","","","","","","",{"$f":"IF($D138=\"\",\"\",VLOOKUP($D138,数据库!$B$4:$AD$1003,MATCH(DC$12,数据库!$C$2:$R$2,)+1,0))","v":""},null,"","","","","","","","","","","",{"$f":"IF($D138=\"\",\"\",VLOOKUP($D138,数据库!$B$4:$AD$1003,MATCH(DP$12,数据库!$C$2:$R$2,)+1,0))","v":""},null,"","","","","","","","","","","",{"$f":"IF($D138=\"\",\"\",VLOOKUP($D138,数据库!$B$4:$AD$1003,MATCH(EC$12,数据库!$C$2:$AD$2,)+1,0))","v":""},null,"","","","","","","","","","","",{"$f":"IF($D138=\"\",\"\",VLOOKUP($D138,数据库!$B$4:$AD$1003,MATCH(EP$12,数据库!$C$2:$R$2,)+1,0))","v":""},null,"","","","","","","","","","","",{"$f":"IF($D138=\"\",\"\",VLOOKUP($D138,数据库!$B$4:$AD$1003,MATCH(FC$12,数据库!$C$2:$R$2,)+1,0))","v":""},null,"","","","","","","","","","","",""]
[null,null,"","","","","","","","","","","","","",{"$f":"IF($D139=\"\",\"\",VLOOKUP($D139,数据库!$B$4:$AD$1003,MATCH(P$12,数据库!$C$2:$AD$2,)+1,0))","v":""},null,"",{"$f":"IF(R139=\"\",\"\",MID($R139,S$12+1,1))","v":""},"","","","","","","","","",{"$f":"IF($D139=\"\",\"\",VLOOKUP($D139,数据库!$B$4:$AD$1003,MATCH(AC$12,数据库!$C$2:$R$2,)+1,0))","v":""},null,"","","","","","","","","","","",{"$f":"IF($D139=\"\",\"\",VLOOKUP($D139,数据库!$B$4:$AD$1003,MATCH(AP$12,数据库!$C$2:$R$2,)+1,0))","v":""},null,"","","","","","","","","","","",{"$f":"IF($D139=\"\",\"\",VLOOKUP($D139,数据库!$B$4:$AD$1003,MATCH(BC$12,数据库!$C$2:$AD$2,)+1,0))","v":""},null,"","","","","","","","","","","",{"$f":"IF($D139=\"\",\"\",VLOOKUP($D139,数据库!$B$4:$AD$1003,MATCH(BP$12,数据库!$C$2:$R$2,)+1,0))","v":""},null,"","","","","","","","","","","",{"$f":"IF($D139=\"\",\"\",VLOOKUP($D139,数据库!$B$4:$AD$1003,MATCH(CC$12,数据库!$C$2:$R$2,)+1,0))","v":""},null,"","","","","","","","","","","",{"$f":"IF($D139=\"\",\"\",VLOOKUP($D139,数据库!$B$4:$AD$1003,MATCH(CP$12,数据库!$C$2:$AD$2,)+1,0))","v":""},null,"","","","","","","","","","","",{"$f":"IF($D139=\"\",\"\",VLOOKUP($D139,数据库!$B$4:$AD$1003,MATCH(DC$12,数据库!$C$2:$R$2,)+1,0))","v":""},null,"","","","","","","","","","","",{"$f":"IF($D139=\"\",\"\",VLOOKUP($D139,数据库!$B$4:$AD$1003,MATCH(DP$12,数据库!$C$2:$R$2,)+1,0))","v":""},null,"","","","","","","","","","","",{"$f":"IF($D139=\"\",\"\",VLOOKUP($D139,数据库!$B$4:$AD$1003,MATCH(EC$12,数据库!$C$2:$AD$2,)+1,0))","v":""},null,"","","","","","","","","","","",{"$f":"IF($D139=\"\",\"\",VLOOKUP($D139,数据库!$B$4:$AD$1003,MATCH(EP$12,数据库!$C$2:$R$2,)+1,0))","v":""},null,"","","","","","","","","","","",{"$f":"IF($D139=\"\",\"\",VLOOKUP($D139,数据库!$B$4:$AD$1003,MATCH(FC$12,数据库!$C$2:$R$2,)+1,0))","v":""},null,"","","","","","","","","","","",""]
[null,null,"","","","","","","","","","","","","",{"$f":"IF($D140=\"\",\"\",VLOOKUP($D140,数据库!$B$4:$AD$1003,MATCH(P$12,数据库!$C$2:$AD$2,)+1,0))","v":""},null,"",{"$f":"IF(R140=\"\",\"\",MID($R140,S$12+1,1))","v":""},"","","","","","","","","",{"$f":"IF($D140=\"\",\"\",VLOOKUP($D140,数据库!$B$4:$AD$1003,MATCH(AC$12,数据库!$C$2:$R$2,)+1,0))","v":""},null,"","","","","","","","","","","",{"$f":"IF($D140=\"\",\"\",VLOOKUP($D140,数据库!$B$4:$AD$1003,MATCH(AP$12,数据库!$C$2:$R$2,)+1,0))","v":""},null,"","","","","","","","","","","",{"$f":"IF($D140=\"\",\"\",VLOOKUP($D140,数据库!$B$4:$AD$1003,MATCH(BC$12,数据库!$C$2:$AD$2,)+1,0))","v":""},null,"","","","","","","","","","","",{"$f":"IF($D140=\"\",\"\",VLOOKUP($D140,数据库!$B$4:$AD$1003,MATCH(BP$12,数据库!$C$2:$R$2,)+1,0))","v":""},null,"","","","","","","","","","","",{"$f":"IF($D140=\"\",\"\",VLOOKUP($D140,数据库!$B$4:$AD$1003,MATCH(CC$12,数据库!$C$2:$R$2,)+1,0))","v":""},null,"","","","","","","","","","","",{"$f":"IF($D140=\"\",\"\",VLOOKUP($D140,数据库!$B$4:$AD$1003,MATCH(CP$12,数据库!$C$2:$AD$2,)+1,0))","v":""},null,"","","","","","","","","","","",{"$f":"IF($D140=\"\",\"\",VLOOKUP($D140,数据库!$B$4:$AD$1003,MATCH(DC$12,数据库!$C$2:$R$2,)+1,0))","v":""},null,"","","","","","","","","","","",{"$f":"IF($D140=\"\",\"\",VLOOKUP($D140,数据库!$B$4:$AD$1003,MATCH(DP$12,数据库!$C$2:$R$2,)+1,0))","v":""},null,"","","","","","","","","","","",{"$f":"IF($D140=\"\",\"\",VLOOKUP($D140,数据库!$B$4:$AD$1003,MATCH(EC$12,数据库!$C$2:$AD$2,)+1,0))","v":""},null,"","","","","","","","","","","",{"$f":"IF($D140=\"\",\"\",VLOOKUP($D140,数据库!$B$4:$AD$1003,MATCH(EP$12,数据库!$C$2:$R$2,)+1,0))","v":""},null,"","","","","","","","","","","",{"$f":"IF($D140=\"\",\"\",VLOOKUP($D140,数据库!$B$4:$AD$1003,MATCH(FC$12,数据库!$C$2:$R$2,)+1,0))","v":""},null,"","","","","","","","","","","",""]
[null,null,"","","","","","","","","","","","","",{"$f":"IF($D141=\"\",\"\",VLOOKUP($D141,数据库!$B$4:$AD$1003,MATCH(P$12,数据库!$C$2:$AD$2,)+1,0))","v":""},null,"",{"$f":"IF(R141=\"\",\"\",MID($R141,S$12+1,1))","v":""},"","","","","","","","","",{"$f":"IF($D141=\"\",\"\",VLOOKUP($D141,数据库!$B$4:$AD$1003,MATCH(AC$12,数据库!$C$2:$R$2,)+1,0))","v":""},null,"","","","","","","","","","","",{"$f":"IF($D141=\"\",\"\",VLOOKUP($D141,数据库!$B$4:$AD$1003,MATCH(AP$12,数据库!$C$2:$R$2,)+1,0))","v":""},null,"","","","","","","","","","","",{"$f":"IF($D141=\"\",\"\",VLOOKUP($D141,数据库!$B$4:$AD$1003,MATCH(BC$12,数据库!$C$2:$AD$2,)+1,0))","v":""},null,"","","","","","","","","","","",{"$f":"IF($D141=\"\",\"\",VLOOKUP($D141,数据库!$B$4:$AD$1003,MATCH(BP$12,数据库!$C$2:$R$2,)+1,0))","v":""},null,"","","","","","","","","","","",{"$f":"IF($D141=\"\",\"\",VLOOKUP($D141,数据库!$B$4:$AD$1003,MATCH(CC$12,数据库!$C$2:$R$2,)+1,0))","v":""},null,"","","","","","","","","","","",{"$f":"IF($D141=\"\",\"\",VLOOKUP($D141,数据库!$B$4:$AD$1003,MATCH(CP$12,数据库!$C$2:$AD$2,)+1,0))","v":""},null,"","","","","","","","","","","",{"$f":"IF($D141=\"\",\"\",VLOOKUP($D141,数据库!$B$4:$AD$1003,MATCH(DC$12,数据库!$C$2:$R$2,)+1,0))","v":""},null,"","","","","","","","","","","",{"$f":"IF($D141=\"\",\"\",VLOOKUP($D141,数据库!$B$4:$AD$1003,MATCH(DP$12,数据库!$C$2:$R$2,)+1,0))","v":""},null,"","","","","","","","","","","",{"$f":"IF($D141=\"\",\"\",VLOOKUP($D141,数据库!$B$4:$AD$1003,MATCH(EC$12,数据库!$C$2:$AD$2,)+1,0))","v":""},null,"","","","","","","","","","","",{"$f":"IF($D141=\"\",\"\",VLOOKUP($D141,数据库!$B$4:$AD$1003,MATCH(EP$12,数据库!$C$2:$R$2,)+1,0))","v":""},null,"","","","","","","","","","","",{"$f":"IF($D141=\"\",\"\",VLOOKUP($D141,数据库!$B$4:$AD$1003,MATCH(FC$12,数据库!$C$2:$R$2,)+1,0))","v":""},null,"","","","","","","","","","","",""]
[null,null,"","","","","","","","","","","","","",{"$f":"IF($D142=\"\",\"\",VLOOKUP($D142,数据库!$B$4:$AD$1003,MATCH(P$12,数据库!$C$2:$AD$2,)+1,0))","v":""},null,"",{"$f":"IF(R142=\"\",\"\",MID($R142,S$12+1,1))","v":""},"","","","","","","","","",{"$f":"IF($D142=\"\",\"\",VLOOKUP($D142,数据库!$B$4:$AD$1003,MATCH(AC$12,数据库!$C$2:$R$2,)+1,0))","v":""},null,"","","","","","","","","","","",{"$f":"IF($D142=\"\",\"\",VLOOKUP($D142,数据库!$B$4:$AD$1003,MATCH(AP$12,数据库!$C$2:$R$2,)+1,0))","v":""},null,"","","","","","","","","","","",{"$f":"IF($D142=\"\",\"\",VLOOKUP($D142,数据库!$B$4:$AD$1003,MATCH(BC$12,数据库!$C$2:$AD$2,)+1,0))","v":""},null,"","","","","","","","","","","",{"$f":"IF($D142=\"\",\"\",VLOOKUP($D142,数据库!$B$4:$AD$1003,MATCH(BP$12,数据库!$C$2:$R$2,)+1,0))","v":""},null,"","","","","","","","","","","",{"$f":"IF($D142=\"\",\"\",VLOOKUP($D142,数据库!$B$4:$AD$1003,MATCH(CC$12,数据库!$C$2:$R$2,)+1,0))","v":""},null,"","","","","","","","","","","",{"$f":"IF($D142=\"\",\"\",VLOOKUP($D142,数据库!$B$4:$AD$1003,MATCH(CP$12,数据库!$C$2:$AD$2,)+1,0))","v":""},null,"","","","","","","","","","","",{"$f":"IF($D142=\"\",\"\",VLOOKUP($D142,数据库!$B$4:$AD$1003,MATCH(DC$12,数据库!$C$2:$R$2,)+1,0))","v":""},null,"","","","","","","","","","","",{"$f":"IF($D142=\"\",\"\",VLOOKUP($D142,数据库!$B$4:$AD$1003,MATCH(DP$12,数据库!$C$2:$R$2,)+1,0))","v":""},null,"","","","","","","","","","","",{"$f":"IF($D142=\"\",\"\",VLOOKUP($D142,数据库!$B$4:$AD$1003,MATCH(EC$12,数据库!$C$2:$AD$2,)+1,0))","v":""},null,"","","","","","","","","","","",{"$f":"IF($D142=\"\",\"\",VLOOKUP($D142,数据库!$B$4:$AD$1003,MATCH(EP$12,数据库!$C$2:$R$2,)+1,0))","v":""},null,"","","","","","","","","","","",{"$f":"IF($D142=\"\",\"\",VLOOKUP($D142,数据库!$B$4:$AD$1003,MATCH(FC$12,数据库!$C$2:$R$2,)+1,0))","v":""},null,{"$f":"IF(E142=\"\",\"\",E142)","v":""},{"$f":"IF(R142=\"\",\"\",R142)","v":""},{"$f":"IF(AE142=\"\",\"\",AE142)","v":""},{"$f":"IF(AR142=\"\",\"\",AR142)","v":""},{"$f":"IF(BE142=\"\",\"\",BE142)","v":""},{"$f":"IF(BR142=\"\",\"\",BR142)","v":""},{"$f":"IF(CE142=\"\",\"\",CE142)","v":""},{"$f":"IF(CR142=\"\",\"\",CR142)","v":""},{"$f":"IF(DE142=\"\",\"\",DE142)","v":""},{"$f":"IF(DR142=\"\",\"\",DR142)","v":""},{"$f":"IF(EE142=\"\",\"\",EE142)","v":""},{"$f":"IF(ER142=\"\",\"\",ER142)","v":""}]
[null,null,"","","","","","","","","","","","","",{"$f":"IF($D143=\"\",\"\",VLOOKUP($D143,数据库!$B$4:$AD$1003,MATCH(P$12,数据库!$C$2:$AD$2,)+1,0))","v":""},null,"",{"$f":"IF(R143=\"\",\"\",MID($R143,S$12+1,1))","v":""},"","","","","","","","","",{"$f":"IF($D143=\"\",\"\",VLOOKUP($D143,数据库!$B$4:$AD$1003,MATCH(AC$12,数据库!$C$2:$R$2,)+1,0))","v":""},null,"","","","","","","","","","","",{"$f":"IF($D143=\"\",\"\",VLOOKUP($D143,数据库!$B$4:$AD$1003,MATCH(AP$12,数据库!$C$2:$R$2,)+1,0))","v":""},null,"","","","","","","","","","","",{"$f":"IF($D143=\"\",\"\",VLOOKUP($D143,数据库!$B$4:$AD$1003,MATCH(BC$12,数据库!$C$2:$AD$2,)+1,0))","v":""},null,"","","","","","","","","","","",{"$f":"IF($D143=\"\",\"\",VLOOKUP($D143,数据库!$B$4:$AD$1003,MATCH(BP$12,数据库!$C$2:$R$2,)+1,0))","v":""},null,"","","","","","","","","","","",{"$f":"IF($D143=\"\",\"\",VLOOKUP($D143,数据库!$B$4:$AD$1003,MATCH(CC$12,数据库!$C$2:$R$2,)+1,0))","v":""},null,"","","","","","","","","","","",{"$f":"IF($D143=\"\",\"\",VLOOKUP($D143,数据库!$B$4:$AD$1003,MATCH(CP$12,数据库!$C$2:$AD$2,)+1,0))","v":""},null,"","","","","","","","","","","",{"$f":"IF($D143=\"\",\"\",VLOOKUP($D143,数据库!$B$4:$AD$1003,MATCH(DC$12,数据库!$C$2:$R$2,)+1,0))","v":""},null,"","","","","","","","","","","",{"$f":"IF($D143=\"\",\"\",VLOOKUP($D143,数据库!$B$4:$AD$1003,MATCH(DP$12,数据库!$C$2:$R$2,)+1,0))","v":""},null,"","","","","","","","","","","",{"$f":"IF($D143=\"\",\"\",VLOOKUP($D143,数据库!$B$4:$AD$1003,MATCH(EC$12,数据库!$C$2:$AD$2,)+1,0))","v":""},null,"","","","","","","","","","","",{"$f":"IF($D143=\"\",\"\",VLOOKUP($D143,数据库!$B$4:$AD$1003,MATCH(EP$12,数据库!$C$2:$R$2,)+1,0))","v":""},null,"","","","","","","","","","","",{"$f":"IF($D143=\"\",\"\",VLOOKUP($D143,数据库!$B$4:$AD$1003,MATCH(FC$12,数据库!$C$2:$R$2,)+1,0))","v":""},null,"","","","","","","","","","","",""]
[null,null,"","","","","","","","","","","","","",{"$f":"IF($D144=\"\",\"\",VLOOKUP($D144,数据库!$B$4:$AD$1003,MATCH(P$12,数据库!$C$2:$AD$2,)+1,0))","v":""},null,"",{"$f":"IF(R144=\"\",\"\",MID($R144,S$12+1,1))","v":""},"","","","","","","","","",{"$f":"IF($D144=\"\",\"\",VLOOKUP($D144,数据库!$B$4:$AD$1003,MATCH(AC$12,数据库!$C$2:$R$2,)+1,0))","v":""},null,"","","","","","","","","","","",{"$f":"IF($D144=\"\",\"\",VLOOKUP($D144,数据库!$B$4:$AD$1003,MATCH(AP$12,数据库!$C$2:$R$2,)+1,0))","v":""},null,"","","","","","","","","","","",{"$f":"IF($D144=\"\",\"\",VLOOKUP($D144,数据库!$B$4:$AD$1003,MATCH(BC$12,数据库!$C$2:$AD$2,)+1,0))","v":""},null,"","","","","","","","","","","",{"$f":"IF($D144=\"\",\"\",VLOOKUP($D144,数据库!$B$4:$AD$1003,MATCH(BP$12,数据库!$C$2:$R$2,)+1,0))","v":""},null,"","","","","","","","","","","",{"$f":"IF($D144=\"\",\"\",VLOOKUP($D144,数据库!$B$4:$AD$1003,MATCH(CC$12,数据库!$C$2:$R$2,)+1,0))","v":""},null,"","","","","","","","","","","",{"$f":"IF($D144=\"\",\"\",VLOOKUP($D144,数据库!$B$4:$AD$1003,MATCH(CP$12,数据库!$C$2:$AD$2,)+1,0))","v":""},null,"","","","","","","","","","","",{"$f":"IF($D144=\"\",\"\",VLOOKUP($D144,数据库!$B$4:$AD$1003,MATCH(DC$12,数据库!$C$2:$R$2,)+1,0))","v":""},null,"","","","","","","","","","","",{"$f":"IF($D144=\"\",\"\",VLOOKUP($D144,数据库!$B$4:$AD$1003,MATCH(DP$12,数据库!$C$2:$R$2,)+1,0))","v":""},null,"","","","","","","","","","","",{"$f":"IF($D144=\"\",\"\",VLOOKUP($D144,数据库!$B$4:$AD$1003,MATCH(EC$12,数据库!$C$2:$AD$2,)+1,0))","v":""},null,"","","","","","","","","","","",{"$f":"IF($D144=\"\",\"\",VLOOKUP($D144,数据库!$B$4:$AD$1003,MATCH(EP$12,数据库!$C$2:$R$2,)+1,0))","v":""},null,"","","","","","","","","","","",{"$f":"IF($D144=\"\",\"\",VLOOKUP($D144,数据库!$B$4:$AD$1003,MATCH(FC$12,数据库!$C$2:$R$2,)+1,0))","v":""},null,"","","","","","","","","","","",""]
[null,null,"","","","","","","","","","","","","",{"$f":"IF($D145=\"\",\"\",VLOOKUP($D145,数据库!$B$4:$AD$1003,MATCH(P$12,数据库!$C$2:$AD$2,)+1,0))","v":""},null,"",{"$f":"IF(R145=\"\",\"\",MID($R145,S$12+1,1))","v":""},"","","","","","","","","",{"$f":"IF($D145=\"\",\"\",VLOOKUP($D145,数据库!$B$4:$AD$1003,MATCH(AC$12,数据库!$C$2:$R$2,)+1,0))","v":""},null,"","","","","","","","","","","",{"$f":"IF($D145=\"\",\"\",VLOOKUP($D145,数据库!$B$4:$AD$1003,MATCH(AP$12,数据库!$C$2:$R$2,)+1,0))","v":""},null,"","","","","","","","","","","",{"$f":"IF($D145=\"\",\"\",VLOOKUP($D145,数据库!$B$4:$AD$1003,MATCH(BC$12,数据库!$C$2:$AD$2,)+1,0))","v":""},null,"","","","","","","","","","","",{"$f":"IF($D145=\"\",\"\",VLOOKUP($D145,数据库!$B$4:$AD$1003,MATCH(BP$12,数据库!$C$2:$R$2,)+1,0))","v":""},null,"","","","","","","","","","","",{"$f":"IF($D145=\"\",\"\",VLOOKUP($D145,数据库!$B$4:$AD$1003,MATCH(CC$12,数据库!$C$2:$R$2,)+1,0))","v":""},null,"","","","","","","","","","","",{"$f":"IF($D145=\"\",\"\",VLOOKUP($D145,数据库!$B$4:$AD$1003,MATCH(CP$12,数据库!$C$2:$AD$2,)+1,0))","v":""},null,"","","","","","","","","","","",{"$f":"IF($D145=\"\",\"\",VLOOKUP($D145,数据库!$B$4:$AD$1003,MATCH(DC$12,数据库!$C$2:$R$2,)+1,0))","v":""},null,"","","","","","","","","","","",{"$f":"IF($D145=\"\",\"\",VLOOKUP($D145,数据库!$B$4:$AD$1003,MATCH(DP$12,数据库!$C$2:$R$2,)+1,0))","v":""},null,"","","","","","","","","","","",{"$f":"IF($D145=\"\",\"\",VLOOKUP($D145,数据库!$B$4:$AD$1003,MATCH(EC$12,数据库!$C$2:$AD$2,)+1,0))","v":""},null,"","","","","","","","","","","",{"$f":"IF($D145=\"\",\"\",VLOOKUP($D145,数据库!$B$4:$AD$1003,MATCH(EP$12,数据库!$C$2:$R$2,)+1,0))","v":""},null,"","","","","","","","","","","",{"$f":"IF($D145=\"\",\"\",VLOOKUP($D145,数据库!$B$4:$AD$1003,MATCH(FC$12,数据库!$C$2:$R$2,)+1,0))","v":""},null,"","","","","","","","","","","",""]
[null,null,"","","","","","","","","","","","","",{"$f":"IF($D146=\"\",\"\",VLOOKUP($D146,数据库!$B$4:$AD$1003,MATCH(P$12,数据库!$C$2:$AD$2,)+1,0))","v":""},null,"",{"$f":"IF(R146=\"\",\"\",MID($R146,S$12+1,1))","v":""},"","","","","","","","","",{"$f":"IF($D146=\"\",\"\",VLOOKUP($D146,数据库!$B$4:$AD$1003,MATCH(AC$12,数据库!$C$2:$R$2,)+1,0))","v":""},null,"","","","","","","","","","","",{"$f":"IF($D146=\"\",\"\",VLOOKUP($D146,数据库!$B$4:$AD$1003,MATCH(AP$12,数据库!$C$2:$R$2,)+1,0))","v":""},null,"","","","","","","","","","","",{"$f":"IF($D146=\"\",\"\",VLOOKUP($D146,数据库!$B$4:$AD$1003,MATCH(BC$12,数据库!$C$2:$AD$2,)+1,0))","v":""},null,"","","","","","","","","","","",{"$f":"IF($D146=\"\",\"\",VLOOKUP($D146,数据库!$B$4:$AD$1003,MATCH(BP$12,数据库!$C$2:$R$2,)+1,0))","v":""},null,"","","","","","","","","","","",{"$f":"IF($D146=\"\",\"\",VLOOKUP($D146,数据库!$B$4:$AD$1003,MATCH(CC$12,数据库!$C$2:$R$2,)+1,0))","v":""},null,"","","","","","","","","","","",{"$f":"IF($D146=\"\",\"\",VLOOKUP($D146,数据库!$B$4:$AD$1003,MATCH(CP$12,数据库!$C$2:$AD$2,)+1,0))","v":""},null,"","","","","","","","","","","",{"$f":"IF($D146=\"\",\"\",VLOOKUP($D146,数据库!$B$4:$AD$1003,MATCH(DC$12,数据库!$C$2:$R$2,)+1,0))","v":""},null,"","","","","","","","","","","",{"$f":"IF($D146=\"\",\"\",VLOOKUP($D146,数据库!$B$4:$AD$1003,MATCH(DP$12,数据库!$C$2:$R$2,)+1,0))","v":""},null,"","","","","","","","","","","",{"$f":"IF($D146=\"\",\"\",VLOOKUP($D146,数据库!$B$4:$AD$1003,MATCH(EC$12,数据库!$C$2:$AD$2,)+1,0))","v":""},null,"","","","","","","","","","","",{"$f":"IF($D146=\"\",\"\",VLOOKUP($D146,数据库!$B$4:$AD$1003,MATCH(EP$12,数据库!$C$2:$R$2,)+1,0))","v":""},null,"","","","","","","","","","","",{"$f":"IF($D146=\"\",\"\",VLOOKUP($D146,数据库!$B$4:$AD$1003,MATCH(FC$12,数据库!$C$2:$R$2,)+1,0))","v":""},null,"","","","","","","","","","","",""]
[null,null,"","","","","","","","","","","","","",{"$f":"IF($D147=\"\",\"\",VLOOKUP($D147,数据库!$B$4:$AD$1003,MATCH(P$12,数据库!$C$2:$AD$2,)+1,0))","v":""},null,"",{"$f":"IF(R147=\"\",\"\",MID($R147,S$12+1,1))","v":""},"","","","","","","","","",{"$f":"IF($D147=\"\",\"\",VLOOKUP($D147,数据库!$B$4:$AD$1003,MATCH(AC$12,数据库!$C$2:$R$2,)+1,0))","v":""},null,"","","","","","","","","","","",{"$f":"IF($D147=\"\",\"\",VLOOKUP($D147,数据库!$B$4:$AD$1003,MATCH(AP$12,数据库!$C$2:$R$2,)+1,0))","v":""},null,"","","","","","","","","","","",{"$f":"IF($D147=\"\",\"\",VLOOKUP($D147,数据库!$B$4:$AD$1003,MATCH(BC$12,数据库!$C$2:$AD$2,)+1,0))","v":""},null,"","","","","","","","","","","",{"$f":"IF($D147=\"\",\"\",VLOOKUP($D147,数据库!$B$4:$AD$1003,MATCH(BP$12,数据库!$C$2:$R$2,)+1,0))","v":""},null,"","","","","","","","","","","",{"$f":"IF($D147=\"\",\"\",VLOOKUP($D147,数据库!$B$4:$AD$1003,MATCH(CC$12,数据库!$C$2:$R$2,)+1,0))","v":""},null,"","","","","","","","","","","",{"$f":"IF($D147=\"\",\"\",VLOOKUP($D147,数据库!$B$4:$AD$1003,MATCH(CP$12,数据库!$C$2:$AD$2,)+1,0))","v":""},null,"","","","","","","","","","","",{"$f":"IF($D147=\"\",\"\",VLOOKUP($D147,数据库!$B$4:$AD$1003,MATCH(DC$12,数据库!$C$2:$R$2,)+1,0))","v":""},null,"","","","","","","","","","","",{"$f":"IF($D147=\"\",\"\",VLOOKUP($D147,数据库!$B$4:$AD$1003,MATCH(DP$12,数据库!$C$2:$R$2,)+1,0))","v":""},null,"","","","","","","","","","","",{"$f":"IF($D147=\"\",\"\",VLOOKUP($D147,数据库!$B$4:$AD$1003,MATCH(EC$12,数据库!$C$2:$AD$2,)+1,0))","v":""},null,"","","","","","","","","","","",{"$f":"IF($D147=\"\",\"\",VLOOKUP($D147,数据库!$B$4:$AD$1003,MATCH(EP$12,数据库!$C$2:$R$2,)+1,0))","v":""},null,"","","","","","","","","","","",{"$f":"IF($D147=\"\",\"\",VLOOKUP($D147,数据库!$B$4:$AD$1003,MATCH(FC$12,数据库!$C$2:$R$2,)+1,0))","v":""},null,"","","","","","","","","","","",""]
[null,null,"","","","","","","","","","","","","",{"$f":"IF($D148=\"\",\"\",VLOOKUP($D148,数据库!$B$4:$AD$1003,MATCH(P$12,数据库!$C$2:$AD$2,)+1,0))","v":""},null,"",{"$f":"IF(R148=\"\",\"\",MID($R148,S$12+1,1))","v":""},"","","","","","","","","",{"$f":"IF($D148=\"\",\"\",VLOOKUP($D148,数据库!$B$4:$AD$1003,MATCH(AC$12,数据库!$C$2:$R$2,)+1,0))","v":""},null,"","","","","","","","","","","",{"$f":"IF($D148=\"\",\"\",VLOOKUP($D148,数据库!$B$4:$AD$1003,MATCH(AP$12,数据库!$C$2:$R$2,)+1,0))","v":""},null,"","","","","","","","","","","",{"$f":"IF($D148=\"\",\"\",VLOOKUP($D148,数据库!$B$4:$AD$1003,MATCH(BC$12,数据库!$C$2:$AD$2,)+1,0))","v":""},null,"","","","","","","","","","","",{"$f":"IF($D148=\"\",\"\",VLOOKUP($D148,数据库!$B$4:$AD$1003,MATCH(BP$12,数据库!$C$2:$R$2,)+1,0))","v":""},null,"","","","","","","","","","","",{"$f":"IF($D148=\"\",\"\",VLOOKUP($D148,数据库!$B$4:$AD$1003,MATCH(CC$12,数据库!$C$2:$R$2,)+1,0))","v":""},null,"","","","","","","","","","","",{"$f":"IF($D148=\"\",\"\",VLOOKUP($D148,数据库!$B$4:$AD$1003,MATCH(CP$12,数据库!$C$2:$AD$2,)+1,0))","v":""},null,"","","","","","","","","","","",{"$f":"IF($D148=\"\",\"\",VLOOKUP($D148,数据库!$B$4:$AD$1003,MATCH(DC$12,数据库!$C$2:$R$2,)+1,0))","v":""},null,"","","","","","","","","","","",{"$f":"IF($D148=\"\",\"\",VLOOKUP($D148,数据库!$B$4:$AD$1003,MATCH(DP$12,数据库!$C$2:$R$2,)+1,0))","v":""},null,"","","","","","","","","","","",{"$f":"IF($D148=\"\",\"\",VLOOKUP($D148,数据库!$B$4:$AD$1003,MATCH(EC$12,数据库!$C$2:$AD$2,)+1,0))","v":""},null,"","","","","","","","","","","",{"$f":"IF($D148=\"\",\"\",VLOOKUP($D148,数据库!$B$4:$AD$1003,MATCH(EP$12,数据库!$C$2:$R$2,)+1,0))","v":""},null,"","","","","","","","","","","",{"$f":"IF($D148=\"\",\"\",VLOOKUP($D148,数据库!$B$4:$AD$1003,MATCH(FC$12,数据库!$C$2:$R$2,)+1,0))","v":""},null,"","","","","","","","","","","",""]
[null,null,"","","","","","","","","","","","","",{"$f":"IF($D149=\"\",\"\",VLOOKUP($D149,数据库!$B$4:$AD$1003,MATCH(P$12,数据库!$C$2:$AD$2,)+1,0))","v":""},null,"",{"$f":"IF(R149=\"\",\"\",MID($R149,S$12+1,1))","v":""},"","","","","","","","","",{"$f":"IF($D149=\"\",\"\",VLOOKUP($D149,数据库!$B$4:$AD$1003,MATCH(AC$12,数据库!$C$2:$R$2,)+1,0))","v":""},null,"","","","","","","","","","","",{"$f":"IF($D149=\"\",\"\",VLOOKUP($D149,数据库!$B$4:$AD$1003,MATCH(AP$12,数据库!$C$2:$R$2,)+1,0))","v":""},null,"","","","","","","","","","","",{"$f":"IF($D149=\"\",\"\",VLOOKUP($D149,数据库!$B$4:$AD$1003,MATCH(BC$12,数据库!$C$2:$AD$2,)+1,0))","v":""},null,"","","","","","","","","","","",{"$f":"IF($D149=\"\",\"\",VLOOKUP($D149,数据库!$B$4:$AD$1003,MATCH(BP$12,数据库!$C$2:$R$2,)+1,0))","v":""},null,"","","","","","","","","","","",{"$f":"IF($D149=\"\",\"\",VLOOKUP($D149,数据库!$B$4:$AD$1003,MATCH(CC$12,数据库!$C$2:$R$2,)+1,0))","v":""},null,"","","","","","","","","","","",{"$f":"IF($D149=\"\",\"\",VLOOKUP($D149,数据库!$B$4:$AD$1003,MATCH(CP$12,数据库!$C$2:$AD$2,)+1,0))","v":""},null,"","","","","","","","","","","",{"$f":"IF($D149=\"\",\"\",VLOOKUP($D149,数据库!$B$4:$AD$1003,MATCH(DC$12,数据库!$C$2:$R$2,)+1,0))","v":""},null,"","","","","","","","","","","",{"$f":"IF($D149=\"\",\"\",VLOOKUP($D149,数据库!$B$4:$AD$1003,MATCH(DP$12,数据库!$C$2:$R$2,)+1,0))","v":""},null,"","","","","","","","","","","",{"$f":"IF($D149=\"\",\"\",VLOOKUP($D149,数据库!$B$4:$AD$1003,MATCH(EC$12,数据库!$C$2:$AD$2,)+1,0))","v":""},null,"","","","","","","","","","","",{"$f":"IF($D149=\"\",\"\",VLOOKUP($D149,数据库!$B$4:$AD$1003,MATCH(EP$12,数据库!$C$2:$R$2,)+1,0))","v":""},null,"","","","","","","","","","","",{"$f":"IF($D149=\"\",\"\",VLOOKUP($D149,数据库!$B$4:$AD$1003,MATCH(FC$12,数据库!$C$2:$R$2,)+1,0))","v":""},null,"","","","","","","","","","","",""]
[null,null,"","","","","","","","","","","","","",{"$f":"IF($D150=\"\",\"\",VLOOKUP($D150,数据库!$B$4:$AD$1003,MATCH(P$12,数据库!$C$2:$AD$2,)+1,0))","v":""},null,"",{"$f":"IF(R150=\"\",\"\",MID($R150,S$12+1,1))","v":""},"","","","","","","","","",{"$f":"IF($D150=\"\",\"\",VLOOKUP($D150,数据库!$B$4:$AD$1003,MATCH(AC$12,数据库!$C$2:$R$2,)+1,0))","v":""},null,"","","","","","","","","","","",{"$f":"IF($D150=\"\",\"\",VLOOKUP($D150,数据库!$B$4:$AD$1003,MATCH(AP$12,数据库!$C$2:$R$2,)+1,0))","v":""},null,"","","","","","","","","","","",{"$f":"IF($D150=\"\",\"\",VLOOKUP($D150,数据库!$B$4:$AD$1003,MATCH(BC$12,数据库!$C$2:$AD$2,)+1,0))","v":""},null,"","","","","","","","","","","",{"$f":"IF($D150=\"\",\"\",VLOOKUP($D150,数据库!$B$4:$AD$1003,MATCH(BP$12,数据库!$C$2:$R$2,)+1,0))","v":""},null,"","","","","","","","","","","",{"$f":"IF($D150=\"\",\"\",VLOOKUP($D150,数据库!$B$4:$AD$1003,MATCH(CC$12,数据库!$C$2:$R$2,)+1,0))","v":""},null,"","","","","","","","","","","",{"$f":"IF($D150=\"\",\"\",VLOOKUP($D150,数据库!$B$4:$AD$1003,MATCH(CP$12,数据库!$C$2:$AD$2,)+1,0))","v":""},null,"","","","","","","","","","","",{"$f":"IF($D150=\"\",\"\",VLOOKUP($D150,数据库!$B$4:$AD$1003,MATCH(DC$12,数据库!$C$2:$R$2,)+1,0))","v":""},null,"","","","","","","","","","","",{"$f":"IF($D150=\"\",\"\",VLOOKUP($D150,数据库!$B$4:$AD$1003,MATCH(DP$12,数据库!$C$2:$R$2,)+1,0))","v":""},null,"","","","","","","","","","","",{"$f":"IF($D150=\"\",\"\",VLOOKUP($D150,数据库!$B$4:$AD$1003,MATCH(EC$12,数据库!$C$2:$AD$2,)+1,0))","v":""},null,"","","","","","","","","","","",{"$f":"IF($D150=\"\",\"\",VLOOKUP($D150,数据库!$B$4:$AD$1003,MATCH(EP$12,数据库!$C$2:$R$2,)+1,0))","v":""},null,"","","","","","","","","","","",{"$f":"IF($D150=\"\",\"\",VLOOKUP($D150,数据库!$B$4:$AD$1003,MATCH(FC$12,数据库!$C$2:$R$2,)+1,0))","v":""},null,"","","","","","","","","","","",""]
[null,null,"","","","","","","","","","","","","",{"$f":"IF($D151=\"\",\"\",VLOOKUP($D151,数据库!$B$4:$AD$1003,MATCH(P$12,数据库!$C$2:$AD$2,)+1,0))","v":""},null,"",{"$f":"IF(R151=\"\",\"\",MID($R151,S$12+1,1))","v":""},"","","","","","","","","",{"$f":"IF($D151=\"\",\"\",VLOOKUP($D151,数据库!$B$4:$AD$1003,MATCH(AC$12,数据库!$C$2:$R$2,)+1,0))","v":""},null,"","","","","","","","","","","",{"$f":"IF($D151=\"\",\"\",VLOOKUP($D151,数据库!$B$4:$AD$1003,MATCH(AP$12,数据库!$C$2:$R$2,)+1,0))","v":""},null,"","","","","","","","","","","",{"$f":"IF($D151=\"\",\"\",VLOOKUP($D151,数据库!$B$4:$AD$1003,MATCH(BC$12,数据库!$C$2:$AD$2,)+1,0))","v":""},null,"","","","","","","","","","","",{"$f":"IF($D151=\"\",\"\",VLOOKUP($D151,数据库!$B$4:$AD$1003,MATCH(BP$12,数据库!$C$2:$R$2,)+1,0))","v":""},null,"","","","","","","","","","","",{"$f":"IF($D151=\"\",\"\",VLOOKUP($D151,数据库!$B$4:$AD$1003,MATCH(CC$12,数据库!$C$2:$R$2,)+1,0))","v":""},null,"","","","","","","","","","","",{"$f":"IF($D151=\"\",\"\",VLOOKUP($D151,数据库!$B$4:$AD$1003,MATCH(CP$12,数据库!$C$2:$AD$2,)+1,0))","v":""},null,"","","","","","","","","","","",{"$f":"IF($D151=\"\",\"\",VLOOKUP($D151,数据库!$B$4:$AD$1003,MATCH(DC$12,数据库!$C$2:$R$2,)+1,0))","v":""},null,"","","","","","","","","","","",{"$f":"IF($D151=\"\",\"\",VLOOKUP($D151,数据库!$B$4:$AD$1003,MATCH(DP$12,数据库!$C$2:$R$2,)+1,0))","v":""},null,"","","","","","","","","","","",{"$f":"IF($D151=\"\",\"\",VLOOKUP($D151,数据库!$B$4:$AD$1003,MATCH(EC$12,数据库!$C$2:$AD$2,)+1,0))","v":""},null,"","","","","","","","","","","",{"$f":"IF($D151=\"\",\"\",VLOOKUP($D151,数据库!$B$4:$AD$1003,MATCH(EP$12,数据库!$C$2:$R$2,)+1,0))","v":""},null,"","","","","","","","","","","",{"$f":"IF($D151=\"\",\"\",VLOOKUP($D151,数据库!$B$4:$AD$1003,MATCH(FC$12,数据库!$C$2:$R$2,)+1,0))","v":""},null,"","","","","","","","","","","",""]
[null,null,"","","","","","","","","","","","","",{"$f":"IF($D152=\"\",\"\",VLOOKUP($D152,数据库!$B$4:$AD$1003,MATCH(P$12,数据库!$C$2:$AD$2,)+1,0))","v":""},null,"",{"$f":"IF(R152=\"\",\"\",MID($R152,S$12+1,1))","v":""},"","","","","","","","","",{"$f":"IF($D152=\"\",\"\",VLOOKUP($D152,数据库!$B$4:$AD$1003,MATCH(AC$12,数据库!$C$2:$R$2,)+1,0))","v":""},null,"","","","","","","","","","","",{"$f":"IF($D152=\"\",\"\",VLOOKUP($D152,数据库!$B$4:$AD$1003,MATCH(AP$12,数据库!$C$2:$R$2,)+1,0))","v":""},null,"","","","","","","","","","","",{"$f":"IF($D152=\"\",\"\",VLOOKUP($D152,数据库!$B$4:$AD$1003,MATCH(BC$12,数据库!$C$2:$AD$2,)+1,0))","v":""},null,"","","","","","","","","","","",{"$f":"IF($D152=\"\",\"\",VLOOKUP($D152,数据库!$B$4:$AD$1003,MATCH(BP$12,数据库!$C$2:$R$2,)+1,0))","v":""},null,"","","","","","","","","","","",{"$f":"IF($D152=\"\",\"\",VLOOKUP($D152,数据库!$B$4:$AD$1003,MATCH(CC$12,数据库!$C$2:$R$2,)+1,0))","v":""},null,"","","","","","","","","","","",{"$f":"IF($D152=\"\",\"\",VLOOKUP($D152,数据库!$B$4:$AD$1003,MATCH(CP$12,数据库!$C$2:$AD$2,)+1,0))","v":""},null,"","","","","","","","","","","",{"$f":"IF($D152=\"\",\"\",VLOOKUP($D152,数据库!$B$4:$AD$1003,MATCH(DC$12,数据库!$C$2:$R$2,)+1,0))","v":""},null,"","","","","","","","","","","",{"$f":"IF($D152=\"\",\"\",VLOOKUP($D152,数据库!$B$4:$AD$1003,MATCH(DP$12,数据库!$C$2:$R$2,)+1,0))","v":""},null,"","","","","","","","","","","",{"$f":"IF($D152=\"\",\"\",VLOOKUP($D152,数据库!$B$4:$AD$1003,MATCH(EC$12,数据库!$C$2:$AD$2,)+1,0))","v":""},null,"","","","","","","","","","","",{"$f":"IF($D152=\"\",\"\",VLOOKUP($D152,数据库!$B$4:$AD$1003,MATCH(EP$12,数据库!$C$2:$R$2,)+1,0))","v":""},null,"","","","","","","","","","","",{"$f":"IF($D152=\"\",\"\",VLOOKUP($D152,数据库!$B$4:$AD$1003,MATCH(FC$12,数据库!$C$2:$R$2,)+1,0))","v":""},null,"","","","","","","","","","","",""]
[null,null,"","","","","","","","","","","","","",{"$f":"IF($D153=\"\",\"\",VLOOKUP($D153,数据库!$B$4:$AD$1003,MATCH(P$12,数据库!$C$2:$AD$2,)+1,0))","v":""},null,"",{"$f":"IF(R153=\"\",\"\",MID($R153,S$12+1,1))","v":""},"","","","","","","","","",{"$f":"IF($D153=\"\",\"\",VLOOKUP($D153,数据库!$B$4:$AD$1003,MATCH(AC$12,数据库!$C$2:$R$2,)+1,0))","v":""},null,"","","","","","","","","","","",{"$f":"IF($D153=\"\",\"\",VLOOKUP($D153,数据库!$B$4:$AD$1003,MATCH(AP$12,数据库!$C$2:$R$2,)+1,0))","v":""},null,"","","","","","","","","","","",{"$f":"IF($D153=\"\",\"\",VLOOKUP($D153,数据库!$B$4:$AD$1003,MATCH(BC$12,数据库!$C$2:$AD$2,)+1,0))","v":""},null,"","","","","","","","","","","",{"$f":"IF($D153=\"\",\"\",VLOOKUP($D153,数据库!$B$4:$AD$1003,MATCH(BP$12,数据库!$C$2:$R$2,)+1,0))","v":""},null,"","","","","","","","","","","",{"$f":"IF($D153=\"\",\"\",VLOOKUP($D153,数据库!$B$4:$AD$1003,MATCH(CC$12,数据库!$C$2:$R$2,)+1,0))","v":""},null,"","","","","","","","","","","",{"$f":"IF($D153=\"\",\"\",VLOOKUP($D153,数据库!$B$4:$AD$1003,MATCH(CP$12,数据库!$C$2:$AD$2,)+1,0))","v":""},null,"","","","","","","","","","","",{"$f":"IF($D153=\"\",\"\",VLOOKUP($D153,数据库!$B$4:$AD$1003,MATCH(DC$12,数据库!$C$2:$R$2,)+1,0))","v":""},null,"","","","","","","","","","","",{"$f":"IF($D153=\"\",\"\",VLOOKUP($D153,数据库!$B$4:$AD$1003,MATCH(DP$12,数据库!$C$2:$R$2,)+1,0))","v":""},null,"","","","","","","","","","","",{"$f":"IF($D153=\"\",\"\",VLOOKUP($D153,数据库!$B$4:$AD$1003,MATCH(EC$12,数据库!$C$2:$AD$2,)+1,0))","v":""},null,"","","","","","","","","","","",{"$f":"IF($D153=\"\",\"\",VLOOKUP($D153,数据库!$B$4:$AD$1003,MATCH(EP$12,数据库!$C$2:$R$2,)+1,0))","v":""},null,"","","","","","","","","","","",{"$f":"IF($D153=\"\",\"\",VLOOKUP($D153,数据库!$B$4:$AD$1003,MATCH(FC$12,数据库!$C$2:$R$2,)+1,0))","v":""},null,"","","","","","","","","","","",""]
[null,null,"","","","","","","","","","","","","",{"$f":"IF($D154=\"\",\"\",VLOOKUP($D154,数据库!$B$4:$AD$1003,MATCH(P$12,数据库!$C$2:$AD$2,)+1,0))","v":""},null,"",{"$f":"IF(R154=\"\",\"\",MID($R154,S$12+1,1))","v":""},"","","","","","","","","",{"$f":"IF($D154=\"\",\"\",VLOOKUP($D154,数据库!$B$4:$AD$1003,MATCH(AC$12,数据库!$C$2:$R$2,)+1,0))","v":""},null,"","","","","","","","","","","",{"$f":"IF($D154=\"\",\"\",VLOOKUP($D154,数据库!$B$4:$AD$1003,MATCH(AP$12,数据库!$C$2:$R$2,)+1,0))","v":""},null,"","","","","","","","","","","",{"$f":"IF($D154=\"\",\"\",VLOOKUP($D154,数据库!$B$4:$AD$1003,MATCH(BC$12,数据库!$C$2:$AD$2,)+1,0))","v":""},null,"","","","","","","","","","","",{"$f":"IF($D154=\"\",\"\",VLOOKUP($D154,数据库!$B$4:$AD$1003,MATCH(BP$12,数据库!$C$2:$R$2,)+1,0))","v":""},null,"","","","","","","","","","","",{"$f":"IF($D154=\"\",\"\",VLOOKUP($D154,数据库!$B$4:$AD$1003,MATCH(CC$12,数据库!$C$2:$R$2,)+1,0))","v":""},null,"","","","","","","","","","","",{"$f":"IF($D154=\"\",\"\",VLOOKUP($D154,数据库!$B$4:$AD$1003,MATCH(CP$12,数据库!$C$2:$AD$2,)+1,0))","v":""},null,"","","","","","","","","","","",{"$f":"IF($D154=\"\",\"\",VLOOKUP($D154,数据库!$B$4:$AD$1003,MATCH(DC$12,数据库!$C$2:$R$2,)+1,0))","v":""},null,"","","","","","","","","","","",{"$f":"IF($D154=\"\",\"\",VLOOKUP($D154,数据库!$B$4:$AD$1003,MATCH(DP$12,数据库!$C$2:$R$2,)+1,0))","v":""},null,"","","","","","","","","","","",{"$f":"IF($D154=\"\",\"\",VLOOKUP($D154,数据库!$B$4:$AD$1003,MATCH(EC$12,数据库!$C$2:$AD$2,)+1,0))","v":""},null,"","","","","","","","","","","",{"$f":"IF($D154=\"\",\"\",VLOOKUP($D154,数据库!$B$4:$AD$1003,MATCH(EP$12,数据库!$C$2:$R$2,)+1,0))","v":""},null,"","","","","","","","","","","",{"$f":"IF($D154=\"\",\"\",VLOOKUP($D154,数据库!$B$4:$AD$1003,MATCH(FC$12,数据库!$C$2:$R$2,)+1,0))","v":""},null,"","","","","","","","","","","",""]
[null,null,"","","","","","","","","","","","","",{"$f":"IF($D155=\"\",\"\",VLOOKUP($D155,数据库!$B$4:$AD$1003,MATCH(P$12,数据库!$C$2:$AD$2,)+1,0))","v":""},null,"",{"$f":"IF(R155=\"\",\"\",MID($R155,S$12+1,1))","v":""},"","","","","","","","","",{"$f":"IF($D155=\"\",\"\",VLOOKUP($D155,数据库!$B$4:$AD$1003,MATCH(AC$12,数据库!$C$2:$R$2,)+1,0))","v":""},null,"","","","","","","","","","","",{"$f":"IF($D155=\"\",\"\",VLOOKUP($D155,数据库!$B$4:$AD$1003,MATCH(AP$12,数据库!$C$2:$R$2,)+1,0))","v":""},null,"","","","","","","","","","","",{"$f":"IF($D155=\"\",\"\",VLOOKUP($D155,数据库!$B$4:$AD$1003,MATCH(BC$12,数据库!$C$2:$AD$2,)+1,0))","v":""},null,"","","","","","","","","","","",{"$f":"IF($D155=\"\",\"\",VLOOKUP($D155,数据库!$B$4:$AD$1003,MATCH(BP$12,数据库!$C$2:$R$2,)+1,0))","v":""},null,"","","","","","","","","","","",{"$f":"IF($D155=\"\",\"\",VLOOKUP($D155,数据库!$B$4:$AD$1003,MATCH(CC$12,数据库!$C$2:$R$2,)+1,0))","v":""},null,"","","","","","","","","","","",{"$f":"IF($D155=\"\",\"\",VLOOKUP($D155,数据库!$B$4:$AD$1003,MATCH(CP$12,数据库!$C$2:$AD$2,)+1,0))","v":""},null,"","","","","","","","","","","",{"$f":"IF($D155=\"\",\"\",VLOOKUP($D155,数据库!$B$4:$AD$1003,MATCH(DC$12,数据库!$C$2:$R$2,)+1,0))","v":""},null,"","","","","","","","","","","",{"$f":"IF($D155=\"\",\"\",VLOOKUP($D155,数据库!$B$4:$AD$1003,MATCH(DP$12,数据库!$C$2:$R$2,)+1,0))","v":""},null,"","","","","","","","","","","",{"$f":"IF($D155=\"\",\"\",VLOOKUP($D155,数据库!$B$4:$AD$1003,MATCH(EC$12,数据库!$C$2:$AD$2,)+1,0))","v":""},null,"","","","","","","","","","","",{"$f":"IF($D155=\"\",\"\",VLOOKUP($D155,数据库!$B$4:$AD$1003,MATCH(EP$12,数据库!$C$2:$R$2,)+1,0))","v":""},null,"","","","","","","","","","","",{"$f":"IF($D155=\"\",\"\",VLOOKUP($D155,数据库!$B$4:$AD$1003,MATCH(FC$12,数据库!$C$2:$R$2,)+1,0))","v":""},null,"","","","","","","","","","","",""]
[null,null,"","","","","","","","","","","","","",{"$f":"IF($D156=\"\",\"\",VLOOKUP($D156,数据库!$B$4:$AD$1003,MATCH(P$12,数据库!$C$2:$AD$2,)+1,0))","v":""},null,"",{"$f":"IF(R156=\"\",\"\",MID($R156,S$12+1,1))","v":""},"","","","","","","","","",{"$f":"IF($D156=\"\",\"\",VLOOKUP($D156,数据库!$B$4:$AD$1003,MATCH(AC$12,数据库!$C$2:$R$2,)+1,0))","v":""},null,"","","","","","","","","","","",{"$f":"IF($D156=\"\",\"\",VLOOKUP($D156,数据库!$B$4:$AD$1003,MATCH(AP$12,数据库!$C$2:$R$2,)+1,0))","v":""},null,"","","","","","",{"$f":"IF($AR156=\"\",\"\",MID($AR156,AX$12+1,1))","v":""},"","","","",{"$f":"IF($D156=\"\",\"\",VLOOKUP($D156,数据库!$B$4:$AD$1003,MATCH(BC$12,数据库!$C$2:$AD$2,)+1,0))","v":""},null,"","","","","","",{"$f":"IF($BE156=\"\",\"\",MID($BE156,BK$12+1,1))","v":""},"","","","",{"$f":"IF($D156=\"\",\"\",VLOOKUP($D156,数据库!$B$4:$AD$1003,MATCH(BP$12,数据库!$C$2:$R$2,)+1,0))","v":""},null,"","","","","","",{"$f":"IF($BR156=\"\",\"\",MID($BR156,BX$12+1,1))","v":""},"","","","",{"$f":"IF($D156=\"\",\"\",VLOOKUP($D156,数据库!$B$4:$AD$1003,MATCH(CC$12,数据库!$C$2:$R$2,)+1,0))","v":""},null,"","","","","","",{"$f":"IF($CE156=\"\",\"\",MID($CE156,CK$12+1,1))","v":""},"","","","",{"$f":"IF($D156=\"\",\"\",VLOOKUP($D156,数据库!$B$4:$AD$1003,MATCH(CP$12,数据库!$C$2:$AD$2,)+1,0))","v":""},null,"","","","","","",{"$f":"IF($CR156=\"\",\"\",MID($CR156,CX$12+1,1))","v":""},"","","","",{"$f":"IF($D156=\"\",\"\",VLOOKUP($D156,数据库!$B$4:$AD$1003,MATCH(DC$12,数据库!$C$2:$R$2,)+1,0))","v":""},null,"","","","","","",{"$f":"IF($DE156=\"\",\"\",MID($DE156,DK$12+1,1))","v":""},"","","","",{"$f":"IF($D156=\"\",\"\",VLOOKUP($D156,数据库!$B$4:$AD$1003,MATCH(DP$12,数据库!$C$2:$R$2,)+1,0))","v":""},null,"","","","","","",{"$f":"IF($DR156=\"\",\"\",MID($DR156,DX$12+1,1))","v":""},"","","","",{"$f":"IF($D156=\"\",\"\",VLOOKUP($D156,数据库!$B$4:$AD$1003,MATCH(EC$12,数据库!$C$2:$AD$2,)+1,0))","v":""},null,"","","","","","",{"$f":"IF($EE156=\"\",\"\",MID($EE156,EK$12+1,1))","v":""},"","","","",{"$f":"IF($D156=\"\",\"\",VLOOKUP($D156,数据库!$B$4:$AD$1003,MATCH(EP$12,数据库!$C$2:$R$2,)+1,0))","v":""},null,"","","","","","",{"$f":"IF($ER156=\"\",\"\",MID($ER156,EX$12+1,1))","v":""},"","","","",{"$f":"IF($D156=\"\",\"\",VLOOKUP($D156,数据库!$B$4:$AD$1003,MATCH(FC$12,数据库!$C$2:$R$2,)+1,0))","v":""},null,"","","","","","","","","","","",""]
[null,null,"","","","","","","","","","","","","",{"$f":"IF($D157=\"\",\"\",VLOOKUP($D157,数据库!$B$4:$AD$1003,MATCH(P$12,数据库!$C$2:$AD$2,)+1,0))","v":""},null,"",{"$f":"IF(R157=\"\",\"\",MID($R157,S$12+1,1))","v":""},"","","","","","","","","",{"$f":"IF($D157=\"\",\"\",VLOOKUP($D157,数据库!$B$4:$AD$1003,MATCH(AC$12,数据库!$C$2:$R$2,)+1,0))","v":""},null,"","","","","","","","","","","",{"$f":"IF($D157=\"\",\"\",VLOOKUP($D157,数据库!$B$4:$AD$1003,MATCH(AP$12,数据库!$C$2:$R$2,)+1,0))","v":""},null,"","","","","","","","","","","",{"$f":"IF($D157=\"\",\"\",VLOOKUP($D157,数据库!$B$4:$AD$1003,MATCH(BC$12,数据库!$C$2:$AD$2,)+1,0))","v":""},null,"","","","","","","","","","","",{"$f":"IF($D157=\"\",\"\",VLOOKUP($D157,数据库!$B$4:$AD$1003,MATCH(BP$12,数据库!$C$2:$R$2,)+1,0))","v":""},null,"","","","","","","","","","","",{"$f":"IF($D157=\"\",\"\",VLOOKUP($D157,数据库!$B$4:$AD$1003,MATCH(CC$12,数据库!$C$2:$R$2,)+1,0))","v":""},null,"","","","","","","","","","","",{"$f":"IF($D157=\"\",\"\",VLOOKUP($D157,数据库!$B$4:$AD$1003,MATCH(CP$12,数据库!$C$2:$AD$2,)+1,0))","v":""},null,"","","","","","","","","","","",{"$f":"IF($D157=\"\",\"\",VLOOKUP($D157,数据库!$B$4:$AD$1003,MATCH(DC$12,数据库!$C$2:$R$2,)+1,0))","v":""},null,"","","","","","","","","","","",{"$f":"IF($D157=\"\",\"\",VLOOKUP($D157,数据库!$B$4:$AD$1003,MATCH(DP$12,数据库!$C$2:$R$2,)+1,0))","v":""},null,"","","","","","","","","","","",{"$f":"IF($D157=\"\",\"\",VLOOKUP($D157,数据库!$B$4:$AD$1003,MATCH(EC$12,数据库!$C$2:$AD$2,)+1,0))","v":""},null,"","","","","","","","","","","",{"$f":"IF($D157=\"\",\"\",VLOOKUP($D157,数据库!$B$4:$AD$1003,MATCH(EP$12,数据库!$C$2:$R$2,)+1,0))","v":""},null,"","","","","","","","","","","",{"$f":"IF($D157=\"\",\"\",VLOOKUP($D157,数据库!$B$4:$AD$1003,MATCH(FC$12,数据库!$C$2:$R$2,)+1,0))","v":""},null,"","","","","","","","","","","",""]
[null,null,"","","","","","","","","","","","","",{"$f":"IF($D158=\"\",\"\",VLOOKUP($D158,数据库!$B$4:$AD$1003,MATCH(P$12,数据库!$C$2:$AD$2,)+1,0))","v":""},null,"",{"$f":"IF(R158=\"\",\"\",MID($R158,S$12+1,1))","v":""},"","","","","","","","","",{"$f":"IF($D158=\"\",\"\",VLOOKUP($D158,数据库!$B$4:$AD$1003,MATCH(AC$12,数据库!$C$2:$R$2,)+1,0))","v":""},null,"","","","","","","","","","","",{"$f":"IF($D158=\"\",\"\",VLOOKUP($D158,数据库!$B$4:$AD$1003,MATCH(AP$12,数据库!$C$2:$R$2,)+1,0))","v":""},null,"","","","","","","","","","","",{"$f":"IF($D158=\"\",\"\",VLOOKUP($D158,数据库!$B$4:$AD$1003,MATCH(BC$12,数据库!$C$2:$AD$2,)+1,0))","v":""},null,"","","","","","","","","","","",{"$f":"IF($D158=\"\",\"\",VLOOKUP($D158,数据库!$B$4:$AD$1003,MATCH(BP$12,数据库!$C$2:$R$2,)+1,0))","v":""},null,"","","","","","","","","","","",{"$f":"IF($D158=\"\",\"\",VLOOKUP($D158,数据库!$B$4:$AD$1003,MATCH(CC$12,数据库!$C$2:$R$2,)+1,0))","v":""},null,"","","","","","","","","","","",{"$f":"IF($D158=\"\",\"\",VLOOKUP($D158,数据库!$B$4:$AD$1003,MATCH(CP$12,数据库!$C$2:$AD$2,)+1,0))","v":""},null,"","","","","","","","","","","",{"$f":"IF($D158=\"\",\"\",VLOOKUP($D158,数据库!$B$4:$AD$1003,MATCH(DC$12,数据库!$C$2:$R$2,)+1,0))","v":""},null,"","","","","","","","","","","",{"$f":"IF($D158=\"\",\"\",VLOOKUP($D158,数据库!$B$4:$AD$1003,MATCH(DP$12,数据库!$C$2:$R$2,)+1,0))","v":""},null,"","","","","","","","","","","",{"$f":"IF($D158=\"\",\"\",VLOOKUP($D158,数据库!$B$4:$AD$1003,MATCH(EC$12,数据库!$C$2:$AD$2,)+1,0))","v":""},null,"","","","","","","","","","","",{"$f":"IF($D158=\"\",\"\",VLOOKUP($D158,数据库!$B$4:$AD$1003,MATCH(EP$12,数据库!$C$2:$R$2,)+1,0))","v":""},null,"","","","","","","","","","","",{"$f":"IF($D158=\"\",\"\",VLOOKUP($D158,数据库!$B$4:$AD$1003,MATCH(FC$12,数据库!$C$2:$R$2,)+1,0))","v":""},null,"","","","","","","","","","","",""]
[null,null,"","","","","","","","","","","","","",{"$f":"IF($D159=\"\",\"\",VLOOKUP($D159,数据库!$B$4:$AD$1003,MATCH(P$12,数据库!$C$2:$AD$2,)+1,0))","v":""},null,"",{"$f":"IF(R159=\"\",\"\",MID($R159,S$12+1,1))","v":""},"","","","","","","","","",{"$f":"IF($D159=\"\",\"\",VLOOKUP($D159,数据库!$B$4:$AD$1003,MATCH(AC$12,数据库!$C$2:$R$2,)+1,0))","v":""},null,"","","","","","","","","","","",{"$f":"IF($D159=\"\",\"\",VLOOKUP($D159,数据库!$B$4:$AD$1003,MATCH(AP$12,数据库!$C$2:$R$2,)+1,0))","v":""},null,"","","","","","","","","","","",{"$f":"IF($D159=\"\",\"\",VLOOKUP($D159,数据库!$B$4:$AD$1003,MATCH(BC$12,数据库!$C$2:$AD$2,)+1,0))","v":""},null,"","","","","","","","","","","",{"$f":"IF($D159=\"\",\"\",VLOOKUP($D159,数据库!$B$4:$AD$1003,MATCH(BP$12,数据库!$C$2:$R$2,)+1,0))","v":""},null,"","","","","","","","","","","",{"$f":"IF($D159=\"\",\"\",VLOOKUP($D159,数据库!$B$4:$AD$1003,MATCH(CC$12,数据库!$C$2:$R$2,)+1,0))","v":""},null,"","","","","","","","","","","",{"$f":"IF($D159=\"\",\"\",VLOOKUP($D159,数据库!$B$4:$AD$1003,MATCH(CP$12,数据库!$C$2:$AD$2,)+1,0))","v":""},null,"","","","","","","","","","","",{"$f":"IF($D159=\"\",\"\",VLOOKUP($D159,数据库!$B$4:$AD$1003,MATCH(DC$12,数据库!$C$2:$R$2,)+1,0))","v":""},null,"","","","","","","","","","","",{"$f":"IF($D159=\"\",\"\",VLOOKUP($D159,数据库!$B$4:$AD$1003,MATCH(DP$12,数据库!$C$2:$R$2,)+1,0))","v":""},null,"","","","","","","","","","","",{"$f":"IF($D159=\"\",\"\",VLOOKUP($D159,数据库!$B$4:$AD$1003,MATCH(EC$12,数据库!$C$2:$AD$2,)+1,0))","v":""},null,"","","","","","","","","","","",{"$f":"IF($D159=\"\",\"\",VLOOKUP($D159,数据库!$B$4:$AD$1003,MATCH(EP$12,数据库!$C$2:$R$2,)+1,0))","v":""},null,"","","","","","","","","","","",{"$f":"IF($D159=\"\",\"\",VLOOKUP($D159,数据库!$B$4:$AD$1003,MATCH(FC$12,数据库!$C$2:$R$2,)+1,0))","v":""},null,"","","","","","","","","","","",""]
[null,null,"","","","","","","","","","","","","",{"$f":"IF($D160=\"\",\"\",VLOOKUP($D160,数据库!$B$4:$AD$1003,MATCH(P$12,数据库!$C$2:$AD$2,)+1,0))","v":""},null,"",{"$f":"IF(R160=\"\",\"\",MID($R160,S$12+1,1))","v":""},"","","","","","","","","",{"$f":"IF($D160=\"\",\"\",VLOOKUP($D160,数据库!$B$4:$AD$1003,MATCH(AC$12,数据库!$C$2:$R$2,)+1,0))","v":""},null,"","","","","","","","","","","",{"$f":"IF($D160=\"\",\"\",VLOOKUP($D160,数据库!$B$4:$AD$1003,MATCH(AP$12,数据库!$C$2:$R$2,)+1,0))","v":""},null,"","","","","","","","","","","",{"$f":"IF($D160=\"\",\"\",VLOOKUP($D160,数据库!$B$4:$AD$1003,MATCH(BC$12,数据库!$C$2:$AD$2,)+1,0))","v":""},null,"","","","","","","","","","","",{"$f":"IF($D160=\"\",\"\",VLOOKUP($D160,数据库!$B$4:$AD$1003,MATCH(BP$12,数据库!$C$2:$R$2,)+1,0))","v":""},null,"","","","","","","","","","","",{"$f":"IF($D160=\"\",\"\",VLOOKUP($D160,数据库!$B$4:$AD$1003,MATCH(CC$12,数据库!$C$2:$R$2,)+1,0))","v":""},null,"","","","","","","","","","","",{"$f":"IF($D160=\"\",\"\",VLOOKUP($D160,数据库!$B$4:$AD$1003,MATCH(CP$12,数据库!$C$2:$AD$2,)+1,0))","v":""},null,"","","","","","","","","","","",{"$f":"IF($D160=\"\",\"\",VLOOKUP($D160,数据库!$B$4:$AD$1003,MATCH(DC$12,数据库!$C$2:$R$2,)+1,0))","v":""},null,"","","","","","","","","","","",{"$f":"IF($D160=\"\",\"\",VLOOKUP($D160,数据库!$B$4:$AD$1003,MATCH(DP$12,数据库!$C$2:$R$2,)+1,0))","v":""},null,"","","","","","","","","","","",{"$f":"IF($D160=\"\",\"\",VLOOKUP($D160,数据库!$B$4:$AD$1003,MATCH(EC$12,数据库!$C$2:$AD$2,)+1,0))","v":""},null,"","","","","","","","","","","",{"$f":"IF($D160=\"\",\"\",VLOOKUP($D160,数据库!$B$4:$AD$1003,MATCH(EP$12,数据库!$C$2:$R$2,)+1,0))","v":""},null,"","","","","","","","","","","",{"$f":"IF($D160=\"\",\"\",VLOOKUP($D160,数据库!$B$4:$AD$1003,MATCH(FC$12,数据库!$C$2:$R$2,)+1,0))","v":""},null,"","","","","","","","","","","",""]
[null,null,"","","","","","","","","","","",{"$f":"IF($E161=\"\",\"\",MID($E161,N$12+1,1))","v":""},"",{"$f":"IF($D161=\"\",\"\",VLOOKUP($D161,数据库!$B$4:$AD$1003,MATCH(P$12,数据库!$C$2:$AD$2,)+1,0))","v":""},null,"",{"$f":"IF(R161=\"\",\"\",MID($R161,S$12+1,1))","v":""},"","","","","","","","","",{"$f":"IF($D161=\"\",\"\",VLOOKUP($D161,数据库!$B$4:$AD$1003,MATCH(AC$12,数据库!$C$2:$R$2,)+1,0))","v":""},null,"","","","","","","","","",{"$f":"IF($AE161=\"\",\"\",MID($AE161,AN$12+1,1))","v":""},"",{"$f":"IF($D161=\"\",\"\",VLOOKUP($D161,数据库!$B$4:$AD$1003,MATCH(AP$12,数据库!$C$2:$R$2,)+1,0))","v":""},null,"","","","","","","","","","","",{"$f":"IF($D161=\"\",\"\",VLOOKUP($D161,数据库!$B$4:$AD$1003,MATCH(BC$12,数据库!$C$2:$AD$2,)+1,0))","v":""},null,"","","","","","","","","","","",{"$f":"IF($D161=\"\",\"\",VLOOKUP($D161,数据库!$B$4:$AD$1003,MATCH(BP$12,数据库!$C$2:$R$2,)+1,0))","v":""},null,"","","","","","","","","","","",{"$f":"IF($D161=\"\",\"\",VLOOKUP($D161,数据库!$B$4:$AD$1003,MATCH(CC$12,数据库!$C$2:$R$2,)+1,0))","v":""},null,"","","","","","","","","","","",{"$f":"IF($D161=\"\",\"\",VLOOKUP($D161,数据库!$B$4:$AD$1003,MATCH(CP$12,数据库!$C$2:$AD$2,)+1,0))","v":""},null,"","","","","","","","","","","",{"$f":"IF($D161=\"\",\"\",VLOOKUP($D161,数据库!$B$4:$AD$1003,MATCH(DC$12,数据库!$C$2:$R$2,)+1,0))","v":""},null,"","","","","","","","","","","",{"$f":"IF($D161=\"\",\"\",VLOOKUP($D161,数据库!$B$4:$AD$1003,MATCH(DP$12,数据库!$C$2:$R$2,)+1,0))","v":""},null,"","","","","","","","","","","",{"$f":"IF($D161=\"\",\"\",VLOOKUP($D161,数据库!$B$4:$AD$1003,MATCH(EC$12,数据库!$C$2:$AD$2,)+1,0))","v":""},null,"","","","","","","","","","","",{"$f":"IF($D161=\"\",\"\",VLOOKUP($D161,数据库!$B$4:$AD$1003,MATCH(EP$12,数据库!$C$2:$R$2,)+1,0))","v":""},null,"","","","","","","","","","","",{"$f":"IF($D161=\"\",\"\",VLOOKUP($D161,数据库!$B$4:$AD$1003,MATCH(FC$12,数据库!$C$2:$R$2,)+1,0))","v":""},null,"","","","","","","","","","","",""]
[null,null,"","","","","","","","","","","","","",{"$f":"IF($D162=\"\",\"\",VLOOKUP($D162,数据库!$B$4:$AD$1003,MATCH(P$12,数据库!$C$2:$AD$2,)+1,0))","v":""},null,"",{"$f":"IF(R162=\"\",\"\",MID($R162,S$12+1,1))","v":""},"","","","","","","","","",{"$f":"IF($D162=\"\",\"\",VLOOKUP($D162,数据库!$B$4:$AD$1003,MATCH(AC$12,数据库!$C$2:$R$2,)+1,0))","v":""},null,"","","","","","","","","","","",{"$f":"IF($D162=\"\",\"\",VLOOKUP($D162,数据库!$B$4:$AD$1003,MATCH(AP$12,数据库!$C$2:$R$2,)+1,0))","v":""},null,"","","","","","","","","","","",{"$f":"IF($D162=\"\",\"\",VLOOKUP($D162,数据库!$B$4:$AD$1003,MATCH(BC$12,数据库!$C$2:$AD$2,)+1,0))","v":""},null,"","","","","","","","","","","",{"$f":"IF($D162=\"\",\"\",VLOOKUP($D162,数据库!$B$4:$AD$1003,MATCH(BP$12,数据库!$C$2:$R$2,)+1,0))","v":""},null,"","","","","","","","","","","",{"$f":"IF($D162=\"\",\"\",VLOOKUP($D162,数据库!$B$4:$AD$1003,MATCH(CC$12,数据库!$C$2:$R$2,)+1,0))","v":""},null,"","","","","","","","","","","",{"$f":"IF($D162=\"\",\"\",VLOOKUP($D162,数据库!$B$4:$AD$1003,MATCH(CP$12,数据库!$C$2:$AD$2,)+1,0))","v":""},null,"","","","","","","","","","","",{"$f":"IF($D162=\"\",\"\",VLOOKUP($D162,数据库!$B$4:$AD$1003,MATCH(DC$12,数据库!$C$2:$R$2,)+1,0))","v":""},null,"","","","","","","","","","","",{"$f":"IF($D162=\"\",\"\",VLOOKUP($D162,数据库!$B$4:$AD$1003,MATCH(DP$12,数据库!$C$2:$R$2,)+1,0))","v":""},null,"","","","","","","","","","","",{"$f":"IF($D162=\"\",\"\",VLOOKUP($D162,数据库!$B$4:$AD$1003,MATCH(EC$12,数据库!$C$2:$AD$2,)+1,0))","v":""},null,"","","","","","","","","","","",{"$f":"IF($D162=\"\",\"\",VLOOKUP($D162,数据库!$B$4:$AD$1003,MATCH(EP$12,数据库!$C$2:$R$2,)+1,0))","v":""},null,"","","","","","","","","","","",{"$f":"IF($D162=\"\",\"\",VLOOKUP($D162,数据库!$B$4:$AD$1003,MATCH(FC$12,数据库!$C$2:$R$2,)+1,0))","v":""},null,"","","","","","","","","","","",""]
[null,null,"","","","","","","","","","","","","",{"$f":"IF($D163=\"\",\"\",VLOOKUP($D163,数据库!$B$4:$AD$1003,MATCH(P$12,数据库!$C$2:$AD$2,)+1,0))","v":""},null,"",{"$f":"IF(R163=\"\",\"\",MID($R163,S$12+1,1))","v":""},"","","","","","","","","",{"$f":"IF($D163=\"\",\"\",VLOOKUP($D163,数据库!$B$4:$AD$1003,MATCH(AC$12,数据库!$C$2:$R$2,)+1,0))","v":""},null,"","","","","","","","","","","",{"$f":"IF($D163=\"\",\"\",VLOOKUP($D163,数据库!$B$4:$AD$1003,MATCH(AP$12,数据库!$C$2:$R$2,)+1,0))","v":""},null,"","","","","","","","","","","",{"$f":"IF($D163=\"\",\"\",VLOOKUP($D163,数据库!$B$4:$AD$1003,MATCH(BC$12,数据库!$C$2:$AD$2,)+1,0))","v":""},null,"","","","","","","","","","","",{"$f":"IF($D163=\"\",\"\",VLOOKUP($D163,数据库!$B$4:$AD$1003,MATCH(BP$12,数据库!$C$2:$R$2,)+1,0))","v":""},null,"","","","","","","","","","","",{"$f":"IF($D163=\"\",\"\",VLOOKUP($D163,数据库!$B$4:$AD$1003,MATCH(CC$12,数据库!$C$2:$R$2,)+1,0))","v":""},null,"","","","","","","","","","","",{"$f":"IF($D163=\"\",\"\",VLOOKUP($D163,数据库!$B$4:$AD$1003,MATCH(CP$12,数据库!$C$2:$AD$2,)+1,0))","v":""},null,"","","","","","","","","","","",{"$f":"IF($D163=\"\",\"\",VLOOKUP($D163,数据库!$B$4:$AD$1003,MATCH(DC$12,数据库!$C$2:$R$2,)+1,0))","v":""},null,"","","","","","","","","","","",{"$f":"IF($D163=\"\",\"\",VLOOKUP($D163,数据库!$B$4:$AD$1003,MATCH(DP$12,数据库!$C$2:$R$2,)+1,0))","v":""},null,"","","","","","","","","","","",{"$f":"IF($D163=\"\",\"\",VLOOKUP($D163,数据库!$B$4:$AD$1003,MATCH(EC$12,数据库!$C$2:$AD$2,)+1,0))","v":""},null,"","","","","","","","","","","",{"$f":"IF($D163=\"\",\"\",VLOOKUP($D163,数据库!$B$4:$AD$1003,MATCH(EP$12,数据库!$C$2:$R$2,)+1,0))","v":""},null,"","","","","","","","","","","",{"$f":"IF($D163=\"\",\"\",VLOOKUP($D163,数据库!$B$4:$AD$1003,MATCH(FC$12,数据库!$C$2:$R$2,)+1,0))","v":""},null,"","","","","","","","","","","",""]
[null,null,"","","","","","","","","","","","","",{"$f":"IF($D164=\"\",\"\",VLOOKUP($D164,数据库!$B$4:$AD$1003,MATCH(P$12,数据库!$C$2:$AD$2,)+1,0))","v":""},null,"",{"$f":"IF(R164=\"\",\"\",MID($R164,S$12+1,1))","v":""},"","","","","","","","","",{"$f":"IF($D164=\"\",\"\",VLOOKUP($D164,数据库!$B$4:$AD$1003,MATCH(AC$12,数据库!$C$2:$R$2,)+1,0))","v":""},null,"","","","","","","","","","","",{"$f":"IF($D164=\"\",\"\",VLOOKUP($D164,数据库!$B$4:$AD$1003,MATCH(AP$12,数据库!$C$2:$R$2,)+1,0))","v":""},null,"","","","","","","","","","","",{"$f":"IF($D164=\"\",\"\",VLOOKUP($D164,数据库!$B$4:$AD$1003,MATCH(BC$12,数据库!$C$2:$AD$2,)+1,0))","v":""},null,"","","","","","","","","","","",{"$f":"IF($D164=\"\",\"\",VLOOKUP($D164,数据库!$B$4:$AD$1003,MATCH(BP$12,数据库!$C$2:$R$2,)+1,0))","v":""},null,"","","","","","","","","","","",{"$f":"IF($D164=\"\",\"\",VLOOKUP($D164,数据库!$B$4:$AD$1003,MATCH(CC$12,数据库!$C$2:$R$2,)+1,0))","v":""},null,"","","","","","","","","","","",{"$f":"IF($D164=\"\",\"\",VLOOKUP($D164,数据库!$B$4:$AD$1003,MATCH(CP$12,数据库!$C$2:$AD$2,)+1,0))","v":""},null,"","","","","","","","","","","",{"$f":"IF($D164=\"\",\"\",VLOOKUP($D164,数据库!$B$4:$AD$1003,MATCH(DC$12,数据库!$C$2:$R$2,)+1,0))","v":""},null,"","","","","","","","","","","",{"$f":"IF($D164=\"\",\"\",VLOOKUP($D164,数据库!$B$4:$AD$1003,MATCH(DP$12,数据库!$C$2:$R$2,)+1,0))","v":""},null,"","","","","","","","","","","",{"$f":"IF($D164=\"\",\"\",VLOOKUP($D164,数据库!$B$4:$AD$1003,MATCH(EC$12,数据库!$C$2:$AD$2,)+1,0))","v":""},null,"","","","","","","","","","","",{"$f":"IF($D164=\"\",\"\",VLOOKUP($D164,数据库!$B$4:$AD$1003,MATCH(EP$12,数据库!$C$2:$R$2,)+1,0))","v":""},null,"","","","","","","","","","","",{"$f":"IF($D164=\"\",\"\",VLOOKUP($D164,数据库!$B$4:$AD$1003,MATCH(FC$12,数据库!$C$2:$R$2,)+1,0))","v":""},null,"","","","","","","","","","","",""]
[null,null,"","","","","","","","","","","","","",{"$f":"IF($D165=\"\",\"\",VLOOKUP($D165,数据库!$B$4:$AD$1003,MATCH(P$12,数据库!$C$2:$AD$2,)+1,0))","v":""},null,"",{"$f":"IF(R165=\"\",\"\",MID($R165,S$12+1,1))","v":""},"","","","","","","","","",{"$f":"IF($D165=\"\",\"\",VLOOKUP($D165,数据库!$B$4:$AD$1003,MATCH(AC$12,数据库!$C$2:$R$2,)+1,0))","v":""},null,"","","","","","","","","","","",{"$f":"IF($D165=\"\",\"\",VLOOKUP($D165,数据库!$B$4:$AD$1003,MATCH(AP$12,数据库!$C$2:$R$2,)+1,0))","v":""},null,"","","","","","","","","","","",{"$f":"IF($D165=\"\",\"\",VLOOKUP($D165,数据库!$B$4:$AD$1003,MATCH(BC$12,数据库!$C$2:$AD$2,)+1,0))","v":""},null,"","","","","","","","","","","",{"$f":"IF($D165=\"\",\"\",VLOOKUP($D165,数据库!$B$4:$AD$1003,MATCH(BP$12,数据库!$C$2:$R$2,)+1,0))","v":""},null,"","","","","","","","","","","",{"$f":"IF($D165=\"\",\"\",VLOOKUP($D165,数据库!$B$4:$AD$1003,MATCH(CC$12,数据库!$C$2:$R$2,)+1,0))","v":""},null,"","","","","","","","","","","",{"$f":"IF($D165=\"\",\"\",VLOOKUP($D165,数据库!$B$4:$AD$1003,MATCH(CP$12,数据库!$C$2:$AD$2,)+1,0))","v":""},null,"","","","","","","","","","","",{"$f":"IF($D165=\"\",\"\",VLOOKUP($D165,数据库!$B$4:$AD$1003,MATCH(DC$12,数据库!$C$2:$R$2,)+1,0))","v":""},null,"","","","","","","","","","","",{"$f":"IF($D165=\"\",\"\",VLOOKUP($D165,数据库!$B$4:$AD$1003,MATCH(DP$12,数据库!$C$2:$R$2,)+1,0))","v":""},null,"","","","","","","","","","","",{"$f":"IF($D165=\"\",\"\",VLOOKUP($D165,数据库!$B$4:$AD$1003,MATCH(EC$12,数据库!$C$2:$AD$2,)+1,0))","v":""},null,"","","","","","","","","","","",{"$f":"IF($D165=\"\",\"\",VLOOKUP($D165,数据库!$B$4:$AD$1003,MATCH(EP$12,数据库!$C$2:$R$2,)+1,0))","v":""},null,"","","","","","","","","","","",{"$f":"IF($D165=\"\",\"\",VLOOKUP($D165,数据库!$B$4:$AD$1003,MATCH(FC$12,数据库!$C$2:$R$2,)+1,0))","v":""},null,"","","","","","","","","","","",""]
[null,null,"","","","","","","","","","","","","",{"$f":"IF($D166=\"\",\"\",VLOOKUP($D166,数据库!$B$4:$AD$1003,MATCH(P$12,数据库!$C$2:$AD$2,)+1,0))","v":""},null,"",{"$f":"IF(R166=\"\",\"\",MID($R166,S$12+1,1))","v":""},"","","","","","","","","",{"$f":"IF($D166=\"\",\"\",VLOOKUP($D166,数据库!$B$4:$AD$1003,MATCH(AC$12,数据库!$C$2:$R$2,)+1,0))","v":""},null,"","","","","","","","","","","",{"$f":"IF($D166=\"\",\"\",VLOOKUP($D166,数据库!$B$4:$AD$1003,MATCH(AP$12,数据库!$C$2:$R$2,)+1,0))","v":""},null,"","","","","","","","","","","",{"$f":"IF($D166=\"\",\"\",VLOOKUP($D166,数据库!$B$4:$AD$1003,MATCH(BC$12,数据库!$C$2:$AD$2,)+1,0))","v":""},null,"","","","","","","","","","","",{"$f":"IF($D166=\"\",\"\",VLOOKUP($D166,数据库!$B$4:$AD$1003,MATCH(BP$12,数据库!$C$2:$R$2,)+1,0))","v":""},null,"","","","","","","","","","","",{"$f":"IF($D166=\"\",\"\",VLOOKUP($D166,数据库!$B$4:$AD$1003,MATCH(CC$12,数据库!$C$2:$R$2,)+1,0))","v":""},null,"","","","","","","","","","","",{"$f":"IF($D166=\"\",\"\",VLOOKUP($D166,数据库!$B$4:$AD$1003,MATCH(CP$12,数据库!$C$2:$AD$2,)+1,0))","v":""},null,"","","","","","","","","","","",{"$f":"IF($D166=\"\",\"\",VLOOKUP($D166,数据库!$B$4:$AD$1003,MATCH(DC$12,数据库!$C$2:$R$2,)+1,0))","v":""},null,"","","","","","","","","","","",{"$f":"IF($D166=\"\",\"\",VLOOKUP($D166,数据库!$B$4:$AD$1003,MATCH(DP$12,数据库!$C$2:$R$2,)+1,0))","v":""},null,"","","","","","","","","","","",{"$f":"IF($D166=\"\",\"\",VLOOKUP($D166,数据库!$B$4:$AD$1003,MATCH(EC$12,数据库!$C$2:$AD$2,)+1,0))","v":""},null,"","","","","","","","","","","",{"$f":"IF($D166=\"\",\"\",VLOOKUP($D166,数据库!$B$4:$AD$1003,MATCH(EP$12,数据库!$C$2:$R$2,)+1,0))","v":""},null,"","","","","","","","","","","",{"$f":"IF($D166=\"\",\"\",VLOOKUP($D166,数据库!$B$4:$AD$1003,MATCH(FC$12,数据库!$C$2:$R$2,)+1,0))","v":""},null,"","","","","","","","","","","",""]
[null,null,"","","","","","","","","","","","","",{"$f":"IF($D167=\"\",\"\",VLOOKUP($D167,数据库!$B$4:$AD$1003,MATCH(P$12,数据库!$C$2:$AD$2,)+1,0))","v":""},null,"",{"$f":"IF(R167=\"\",\"\",MID($R167,S$12+1,1))","v":""},"","","","","","","","","",{"$f":"IF($D167=\"\",\"\",VLOOKUP($D167,数据库!$B$4:$AD$1003,MATCH(AC$12,数据库!$C$2:$R$2,)+1,0))","v":""},null,"","","","","","","","","","","",{"$f":"IF($D167=\"\",\"\",VLOOKUP($D167,数据库!$B$4:$AD$1003,MATCH(AP$12,数据库!$C$2:$R$2,)+1,0))","v":""},null,"","","","","","","","","","","",{"$f":"IF($D167=\"\",\"\",VLOOKUP($D167,数据库!$B$4:$AD$1003,MATCH(BC$12,数据库!$C$2:$AD$2,)+1,0))","v":""},null,"","","","","","","","","","","",{"$f":"IF($D167=\"\",\"\",VLOOKUP($D167,数据库!$B$4:$AD$1003,MATCH(BP$12,数据库!$C$2:$R$2,)+1,0))","v":""},null,"","","","","","","","","","","",{"$f":"IF($D167=\"\",\"\",VLOOKUP($D167,数据库!$B$4:$AD$1003,MATCH(CC$12,数据库!$C$2:$R$2,)+1,0))","v":""},null,"","","","","","","","","","","",{"$f":"IF($D167=\"\",\"\",VLOOKUP($D167,数据库!$B$4:$AD$1003,MATCH(CP$12,数据库!$C$2:$AD$2,)+1,0))","v":""},null,"","","","","","","","","","","",{"$f":"IF($D167=\"\",\"\",VLOOKUP($D167,数据库!$B$4:$AD$1003,MATCH(DC$12,数据库!$C$2:$R$2,)+1,0))","v":""},null,"","","","","","","","","","","",{"$f":"IF($D167=\"\",\"\",VLOOKUP($D167,数据库!$B$4:$AD$1003,MATCH(DP$12,数据库!$C$2:$R$2,)+1,0))","v":""},null,"","","","","","","","","","","",{"$f":"IF($D167=\"\",\"\",VLOOKUP($D167,数据库!$B$4:$AD$1003,MATCH(EC$12,数据库!$C$2:$AD$2,)+1,0))","v":""},null,"","","","","","","","","","","",{"$f":"IF($D167=\"\",\"\",VLOOKUP($D167,数据库!$B$4:$AD$1003,MATCH(EP$12,数据库!$C$2:$R$2,)+1,0))","v":""},null,"","","","","","","","","","","",{"$f":"IF($D167=\"\",\"\",VLOOKUP($D167,数据库!$B$4:$AD$1003,MATCH(FC$12,数据库!$C$2:$R$2,)+1,0))","v":""},null,"","","","","","","","","","","",""]
[null,null,"","","","","","","","","","","","","",{"$f":"IF($D168=\"\",\"\",VLOOKUP($D168,数据库!$B$4:$AD$1003,MATCH(P$12,数据库!$C$2:$AD$2,)+1,0))","v":""},null,"",{"$f":"IF(R168=\"\",\"\",MID($R168,S$12+1,1))","v":""},"","","","","","","","","",{"$f":"IF($D168=\"\",\"\",VLOOKUP($D168,数据库!$B$4:$AD$1003,MATCH(AC$12,数据库!$C$2:$R$2,)+1,0))","v":""},null,"","","","","","","","","","","",{"$f":"IF($D168=\"\",\"\",VLOOKUP($D168,数据库!$B$4:$AD$1003,MATCH(AP$12,数据库!$C$2:$R$2,)+1,0))","v":""},null,"","","","","","","","","","","",{"$f":"IF($D168=\"\",\"\",VLOOKUP($D168,数据库!$B$4:$AD$1003,MATCH(BC$12,数据库!$C$2:$AD$2,)+1,0))","v":""},null,"","","","","","","","","","","",{"$f":"IF($D168=\"\",\"\",VLOOKUP($D168,数据库!$B$4:$AD$1003,MATCH(BP$12,数据库!$C$2:$R$2,)+1,0))","v":""},null,"","","","","","","","","","","",{"$f":"IF($D168=\"\",\"\",VLOOKUP($D168,数据库!$B$4:$AD$1003,MATCH(CC$12,数据库!$C$2:$R$2,)+1,0))","v":""},null,"","","","","","","","","","","",{"$f":"IF($D168=\"\",\"\",VLOOKUP($D168,数据库!$B$4:$AD$1003,MATCH(CP$12,数据库!$C$2:$AD$2,)+1,0))","v":""},null,"","","","","","","","","","","",{"$f":"IF($D168=\"\",\"\",VLOOKUP($D168,数据库!$B$4:$AD$1003,MATCH(DC$12,数据库!$C$2:$R$2,)+1,0))","v":""},null,"","","","","","","","","","","",{"$f":"IF($D168=\"\",\"\",VLOOKUP($D168,数据库!$B$4:$AD$1003,MATCH(DP$12,数据库!$C$2:$R$2,)+1,0))","v":""},null,"","","","","","","","","","","",{"$f":"IF($D168=\"\",\"\",VLOOKUP($D168,数据库!$B$4:$AD$1003,MATCH(EC$12,数据库!$C$2:$AD$2,)+1,0))","v":""},null,"","","","","","","","","","","",{"$f":"IF($D168=\"\",\"\",VLOOKUP($D168,数据库!$B$4:$AD$1003,MATCH(EP$12,数据库!$C$2:$R$2,)+1,0))","v":""},null,"","","","","","","","","","","",{"$f":"IF($D168=\"\",\"\",VLOOKUP($D168,数据库!$B$4:$AD$1003,MATCH(FC$12,数据库!$C$2:$R$2,)+1,0))","v":""},null,"","","","","","","","","","","",""]
[null,null,"","","","","","","","","","","","","",{"$f":"IF($D169=\"\",\"\",VLOOKUP($D169,数据库!$B$4:$AD$1003,MATCH(P$12,数据库!$C$2:$AD$2,)+1,0))","v":""},null,"",{"$f":"IF(R169=\"\",\"\",MID($R169,S$12+1,1))","v":""},"","","","","","","","","",{"$f":"IF($D169=\"\",\"\",VLOOKUP($D169,数据库!$B$4:$AD$1003,MATCH(AC$12,数据库!$C$2:$R$2,)+1,0))","v":""},null,"","","","","","","","","","","",{"$f":"IF($D169=\"\",\"\",VLOOKUP($D169,数据库!$B$4:$AD$1003,MATCH(AP$12,数据库!$C$2:$R$2,)+1,0))","v":""},null,"","","","","","","","","","","",{"$f":"IF($D169=\"\",\"\",VLOOKUP($D169,数据库!$B$4:$AD$1003,MATCH(BC$12,数据库!$C$2:$AD$2,)+1,0))","v":""},null,"","","","","","","","","","","",{"$f":"IF($D169=\"\",\"\",VLOOKUP($D169,数据库!$B$4:$AD$1003,MATCH(BP$12,数据库!$C$2:$R$2,)+1,0))","v":""},null,"","","","","","","","","","","",{"$f":"IF($D169=\"\",\"\",VLOOKUP($D169,数据库!$B$4:$AD$1003,MATCH(CC$12,数据库!$C$2:$R$2,)+1,0))","v":""},null,"","","","","","","","","","","",{"$f":"IF($D169=\"\",\"\",VLOOKUP($D169,数据库!$B$4:$AD$1003,MATCH(CP$12,数据库!$C$2:$AD$2,)+1,0))","v":""},null,"","","","","","","","","","","",{"$f":"IF($D169=\"\",\"\",VLOOKUP($D169,数据库!$B$4:$AD$1003,MATCH(DC$12,数据库!$C$2:$R$2,)+1,0))","v":""},null,"","","","","","","","","","","",{"$f":"IF($D169=\"\",\"\",VLOOKUP($D169,数据库!$B$4:$AD$1003,MATCH(DP$12,数据库!$C$2:$R$2,)+1,0))","v":""},null,"","","","","","","","","","","",{"$f":"IF($D169=\"\",\"\",VLOOKUP($D169,数据库!$B$4:$AD$1003,MATCH(EC$12,数据库!$C$2:$AD$2,)+1,0))","v":""},null,"","","","","","","","","","","",{"$f":"IF($D169=\"\",\"\",VLOOKUP($D169,数据库!$B$4:$AD$1003,MATCH(EP$12,数据库!$C$2:$R$2,)+1,0))","v":""},null,"","","","","","","","","","","",{"$f":"IF($D169=\"\",\"\",VLOOKUP($D169,数据库!$B$4:$AD$1003,MATCH(FC$12,数据库!$C$2:$R$2,)+1,0))","v":""},null,"","","","","","","","","","","",""]
[null,null,"","","","","","","","","","","","","",{"$f":"IF($D170=\"\",\"\",VLOOKUP($D170,数据库!$B$4:$AD$1003,MATCH(P$12,数据库!$C$2:$AD$2,)+1,0))","v":""},null,"",{"$f":"IF(R170=\"\",\"\",MID($R170,S$12+1,1))","v":""},"","","","","","","","","",{"$f":"IF($D170=\"\",\"\",VLOOKUP($D170,数据库!$B$4:$AD$1003,MATCH(AC$12,数据库!$C$2:$R$2,)+1,0))","v":""},null,"","","","","","","","","","","",{"$f":"IF($D170=\"\",\"\",VLOOKUP($D170,数据库!$B$4:$AD$1003,MATCH(AP$12,数据库!$C$2:$R$2,)+1,0))","v":""},null,"","","","","","","","","","","",{"$f":"IF($D170=\"\",\"\",VLOOKUP($D170,数据库!$B$4:$AD$1003,MATCH(BC$12,数据库!$C$2:$AD$2,)+1,0))","v":""},null,"","","","","","","","","","","",{"$f":"IF($D170=\"\",\"\",VLOOKUP($D170,数据库!$B$4:$AD$1003,MATCH(BP$12,数据库!$C$2:$R$2,)+1,0))","v":""},null,"","","","","","","","","","","",{"$f":"IF($D170=\"\",\"\",VLOOKUP($D170,数据库!$B$4:$AD$1003,MATCH(CC$12,数据库!$C$2:$R$2,)+1,0))","v":""},null,"","","","","","","","","","","",{"$f":"IF($D170=\"\",\"\",VLOOKUP($D170,数据库!$B$4:$AD$1003,MATCH(CP$12,数据库!$C$2:$AD$2,)+1,0))","v":""},null,"","","","","","","","","","","",{"$f":"IF($D170=\"\",\"\",VLOOKUP($D170,数据库!$B$4:$AD$1003,MATCH(DC$12,数据库!$C$2:$R$2,)+1,0))","v":""},null,"","","","","","","","","","","",{"$f":"IF($D170=\"\",\"\",VLOOKUP($D170,数据库!$B$4:$AD$1003,MATCH(DP$12,数据库!$C$2:$R$2,)+1,0))","v":""},null,"","","","","","","","","","","",{"$f":"IF($D170=\"\",\"\",VLOOKUP($D170,数据库!$B$4:$AD$1003,MATCH(EC$12,数据库!$C$2:$AD$2,)+1,0))","v":""},null,"","","","","","","","","","","",{"$f":"IF($D170=\"\",\"\",VLOOKUP($D170,数据库!$B$4:$AD$1003,MATCH(EP$12,数据库!$C$2:$R$2,)+1,0))","v":""},null,"","","","","","","","","","","",{"$f":"IF($D170=\"\",\"\",VLOOKUP($D170,数据库!$B$4:$AD$1003,MATCH(FC$12,数据库!$C$2:$R$2,)+1,0))","v":""},null,"","","","","","","","","","","",""]
[null,null,"","","","","","","","","","","","","",{"$f":"IF($D171=\"\",\"\",VLOOKUP($D171,数据库!$B$4:$AD$1003,MATCH(P$12,数据库!$C$2:$AD$2,)+1,0))","v":""},null,"",{"$f":"IF(R171=\"\",\"\",MID($R171,S$12+1,1))","v":""},"","","","","","","","","",{"$f":"IF($D171=\"\",\"\",VLOOKUP($D171,数据库!$B$4:$AD$1003,MATCH(AC$12,数据库!$C$2:$R$2,)+1,0))","v":""},null,"","","","","","","","","","","",{"$f":"IF($D171=\"\",\"\",VLOOKUP($D171,数据库!$B$4:$AD$1003,MATCH(AP$12,数据库!$C$2:$R$2,)+1,0))","v":""},null,"","","","","","","","","","","",{"$f":"IF($D171=\"\",\"\",VLOOKUP($D171,数据库!$B$4:$AD$1003,MATCH(BC$12,数据库!$C$2:$AD$2,)+1,0))","v":""},null,"","","","","","","","","","","",{"$f":"IF($D171=\"\",\"\",VLOOKUP($D171,数据库!$B$4:$AD$1003,MATCH(BP$12,数据库!$C$2:$R$2,)+1,0))","v":""},null,"","","","","","","","","","","",{"$f":"IF($D171=\"\",\"\",VLOOKUP($D171,数据库!$B$4:$AD$1003,MATCH(CC$12,数据库!$C$2:$R$2,)+1,0))","v":""},null,"","","","","","","","","","","",{"$f":"IF($D171=\"\",\"\",VLOOKUP($D171,数据库!$B$4:$AD$1003,MATCH(CP$12,数据库!$C$2:$AD$2,)+1,0))","v":""},null,"","","","","","","","","","","",{"$f":"IF($D171=\"\",\"\",VLOOKUP($D171,数据库!$B$4:$AD$1003,MATCH(DC$12,数据库!$C$2:$R$2,)+1,0))","v":""},null,"","","","","","","","","","","",{"$f":"IF($D171=\"\",\"\",VLOOKUP($D171,数据库!$B$4:$AD$1003,MATCH(DP$12,数据库!$C$2:$R$2,)+1,0))","v":""},null,"","","","","","","","","","","",{"$f":"IF($D171=\"\",\"\",VLOOKUP($D171,数据库!$B$4:$AD$1003,MATCH(EC$12,数据库!$C$2:$AD$2,)+1,0))","v":""},null,"","","","","","","","","","","",{"$f":"IF($D171=\"\",\"\",VLOOKUP($D171,数据库!$B$4:$AD$1003,MATCH(EP$12,数据库!$C$2:$R$2,)+1,0))","v":""},null,"","","","","","","","","","","",{"$f":"IF($D171=\"\",\"\",VLOOKUP($D171,数据库!$B$4:$AD$1003,MATCH(FC$12,数据库!$C$2:$R$2,)+1,0))","v":""},null,"","","","","","","","","","","",""]
[null,null,"","","","","","","","","","","","","",{"$f":"IF($D172=\"\",\"\",VLOOKUP($D172,数据库!$B$4:$AD$1003,MATCH(P$12,数据库!$C$2:$AD$2,)+1,0))","v":""},null,"",{"$f":"IF(R172=\"\",\"\",MID($R172,S$12+1,1))","v":""},"","","","","","","","","",{"$f":"IF($D172=\"\",\"\",VLOOKUP($D172,数据库!$B$4:$AD$1003,MATCH(AC$12,数据库!$C$2:$R$2,)+1,0))","v":""},null,"","","","","","","","","","","",{"$f":"IF($D172=\"\",\"\",VLOOKUP($D172,数据库!$B$4:$AD$1003,MATCH(AP$12,数据库!$C$2:$R$2,)+1,0))","v":""},null,"","","","","","","","","","","",{"$f":"IF($D172=\"\",\"\",VLOOKUP($D172,数据库!$B$4:$AD$1003,MATCH(BC$12,数据库!$C$2:$AD$2,)+1,0))","v":""},null,"","","","","","","","","","","",{"$f":"IF($D172=\"\",\"\",VLOOKUP($D172,数据库!$B$4:$AD$1003,MATCH(BP$12,数据库!$C$2:$R$2,)+1,0))","v":""},null,"","","","","","","","","","","",{"$f":"IF($D172=\"\",\"\",VLOOKUP($D172,数据库!$B$4:$AD$1003,MATCH(CC$12,数据库!$C$2:$R$2,)+1,0))","v":""},null,"","","","","","","","","","","",{"$f":"IF($D172=\"\",\"\",VLOOKUP($D172,数据库!$B$4:$AD$1003,MATCH(CP$12,数据库!$C$2:$AD$2,)+1,0))","v":""},null,"","","","","","","","","","","",{"$f":"IF($D172=\"\",\"\",VLOOKUP($D172,数据库!$B$4:$AD$1003,MATCH(DC$12,数据库!$C$2:$R$2,)+1,0))","v":""},null,"","","","","","","","","","","",{"$f":"IF($D172=\"\",\"\",VLOOKUP($D172,数据库!$B$4:$AD$1003,MATCH(DP$12,数据库!$C$2:$R$2,)+1,0))","v":""},null,"","","","","","","","","","","",{"$f":"IF($D172=\"\",\"\",VLOOKUP($D172,数据库!$B$4:$AD$1003,MATCH(EC$12,数据库!$C$2:$AD$2,)+1,0))","v":""},null,"","","","","","","","","","","",{"$f":"IF($D172=\"\",\"\",VLOOKUP($D172,数据库!$B$4:$AD$1003,MATCH(EP$12,数据库!$C$2:$R$2,)+1,0))","v":""},null,"","","","","","","","","","","",{"$f":"IF($D172=\"\",\"\",VLOOKUP($D172,数据库!$B$4:$AD$1003,MATCH(FC$12,数据库!$C$2:$R$2,)+1,0))","v":""},null,"","","","","","","","","","","",""]
[null,null,"","","","","","","","","","","","","",{"$f":"IF($D173=\"\",\"\",VLOOKUP($D173,数据库!$B$4:$AD$1003,MATCH(P$12,数据库!$C$2:$AD$2,)+1,0))","v":""},null,"",{"$f":"IF(R173=\"\",\"\",MID($R173,S$12+1,1))","v":""},"","","","","","","","","",{"$f":"IF($D173=\"\",\"\",VLOOKUP($D173,数据库!$B$4:$AD$1003,MATCH(AC$12,数据库!$C$2:$R$2,)+1,0))","v":""},null,"","","","","","","","","","","",{"$f":"IF($D173=\"\",\"\",VLOOKUP($D173,数据库!$B$4:$AD$1003,MATCH(AP$12,数据库!$C$2:$R$2,)+1,0))","v":""},null,"","","","","","","","","","","",{"$f":"IF($D173=\"\",\"\",VLOOKUP($D173,数据库!$B$4:$AD$1003,MATCH(BC$12,数据库!$C$2:$AD$2,)+1,0))","v":""},null,"","","","","","","","","","","",{"$f":"IF($D173=\"\",\"\",VLOOKUP($D173,数据库!$B$4:$AD$1003,MATCH(BP$12,数据库!$C$2:$R$2,)+1,0))","v":""},null,"","","","","","","","","","","",{"$f":"IF($D173=\"\",\"\",VLOOKUP($D173,数据库!$B$4:$AD$1003,MATCH(CC$12,数据库!$C$2:$R$2,)+1,0))","v":""},null,"","","","","","","","","","","",{"$f":"IF($D173=\"\",\"\",VLOOKUP($D173,数据库!$B$4:$AD$1003,MATCH(CP$12,数据库!$C$2:$AD$2,)+1,0))","v":""},null,"","","","","","","","","","","",{"$f":"IF($D173=\"\",\"\",VLOOKUP($D173,数据库!$B$4:$AD$1003,MATCH(DC$12,数据库!$C$2:$R$2,)+1,0))","v":""},null,"","","","","","","","","","","",{"$f":"IF($D173=\"\",\"\",VLOOKUP($D173,数据库!$B$4:$AD$1003,MATCH(DP$12,数据库!$C$2:$R$2,)+1,0))","v":""},null,"","","","","","","","","","","",{"$f":"IF($D173=\"\",\"\",VLOOKUP($D173,数据库!$B$4:$AD$1003,MATCH(EC$12,数据库!$C$2:$AD$2,)+1,0))","v":""},null,"","","","","","","","","","","",{"$f":"IF($D173=\"\",\"\",VLOOKUP($D173,数据库!$B$4:$AD$1003,MATCH(EP$12,数据库!$C$2:$R$2,)+1,0))","v":""},null,"","","","","","","","","","","",{"$f":"IF($D173=\"\",\"\",VLOOKUP($D173,数据库!$B$4:$AD$1003,MATCH(FC$12,数据库!$C$2:$R$2,)+1,0))","v":""},null,"","","","","","","","","","","",""]
[null,null,"","","","","","","","","","","","","",{"$f":"IF($D174=\"\",\"\",VLOOKUP($D174,数据库!$B$4:$AD$1003,MATCH(P$12,数据库!$C$2:$AD$2,)+1,0))","v":""},null,"",{"$f":"IF(R174=\"\",\"\",MID($R174,S$12+1,1))","v":""},"","","","","","","","","",{"$f":"IF($D174=\"\",\"\",VLOOKUP($D174,数据库!$B$4:$AD$1003,MATCH(AC$12,数据库!$C$2:$R$2,)+1,0))","v":""},null,"","","","","","","","","","","",{"$f":"IF($D174=\"\",\"\",VLOOKUP($D174,数据库!$B$4:$AD$1003,MATCH(AP$12,数据库!$C$2:$R$2,)+1,0))","v":""},null,"","","","","","","","","","","",{"$f":"IF($D174=\"\",\"\",VLOOKUP($D174,数据库!$B$4:$AD$1003,MATCH(BC$12,数据库!$C$2:$AD$2,)+1,0))","v":""},null,"","","","","","","","","","","",{"$f":"IF($D174=\"\",\"\",VLOOKUP($D174,数据库!$B$4:$AD$1003,MATCH(BP$12,数据库!$C$2:$R$2,)+1,0))","v":""},null,"","","","","","","","","","","",{"$f":"IF($D174=\"\",\"\",VLOOKUP($D174,数据库!$B$4:$AD$1003,MATCH(CC$12,数据库!$C$2:$R$2,)+1,0))","v":""},null,"","","","","","","","","","","",{"$f":"IF($D174=\"\",\"\",VLOOKUP($D174,数据库!$B$4:$AD$1003,MATCH(CP$12,数据库!$C$2:$AD$2,)+1,0))","v":""},null,"","","","","","","","","","","",{"$f":"IF($D174=\"\",\"\",VLOOKUP($D174,数据库!$B$4:$AD$1003,MATCH(DC$12,数据库!$C$2:$R$2,)+1,0))","v":""},null,"","","","","","","","","","","",{"$f":"IF($D174=\"\",\"\",VLOOKUP($D174,数据库!$B$4:$AD$1003,MATCH(DP$12,数据库!$C$2:$R$2,)+1,0))","v":""},null,"","","","","","","","","","","",{"$f":"IF($D174=\"\",\"\",VLOOKUP($D174,数据库!$B$4:$AD$1003,MATCH(EC$12,数据库!$C$2:$AD$2,)+1,0))","v":""},null,"","","","","","","","","","","",{"$f":"IF($D174=\"\",\"\",VLOOKUP($D174,数据库!$B$4:$AD$1003,MATCH(EP$12,数据库!$C$2:$R$2,)+1,0))","v":""},null,"","","","","","","","","","","",{"$f":"IF($D174=\"\",\"\",VLOOKUP($D174,数据库!$B$4:$AD$1003,MATCH(FC$12,数据库!$C$2:$R$2,)+1,0))","v":""},null,"","","","","","","","","","","",""]
[null,null,"","","","","","","","","","","","","",{"$f":"IF($D175=\"\",\"\",VLOOKUP($D175,数据库!$B$4:$AD$1003,MATCH(P$12,数据库!$C$2:$AD$2,)+1,0))","v":""},null,"",{"$f":"IF(R175=\"\",\"\",MID($R175,S$12+1,1))","v":""},"","","","","","","","","",{"$f":"IF($D175=\"\",\"\",VLOOKUP($D175,数据库!$B$4:$AD$1003,MATCH(AC$12,数据库!$C$2:$R$2,)+1,0))","v":""},null,"","","","","","","","","","","",{"$f":"IF($D175=\"\",\"\",VLOOKUP($D175,数据库!$B$4:$AD$1003,MATCH(AP$12,数据库!$C$2:$R$2,)+1,0))","v":""},null,"","","","","","","","","","","",{"$f":"IF($D175=\"\",\"\",VLOOKUP($D175,数据库!$B$4:$AD$1003,MATCH(BC$12,数据库!$C$2:$AD$2,)+1,0))","v":""},null,"","","","","","","","","","","",{"$f":"IF($D175=\"\",\"\",VLOOKUP($D175,数据库!$B$4:$AD$1003,MATCH(BP$12,数据库!$C$2:$R$2,)+1,0))","v":""},null,"","","","","","","","","","","",{"$f":"IF($D175=\"\",\"\",VLOOKUP($D175,数据库!$B$4:$AD$1003,MATCH(CC$12,数据库!$C$2:$R$2,)+1,0))","v":""},null,"","","","","","","","","","","",{"$f":"IF($D175=\"\",\"\",VLOOKUP($D175,数据库!$B$4:$AD$1003,MATCH(CP$12,数据库!$C$2:$AD$2,)+1,0))","v":""},null,"","","","","","","","","","","",{"$f":"IF($D175=\"\",\"\",VLOOKUP($D175,数据库!$B$4:$AD$1003,MATCH(DC$12,数据库!$C$2:$R$2,)+1,0))","v":""},null,"","","","","","","","","","","",{"$f":"IF($D175=\"\",\"\",VLOOKUP($D175,数据库!$B$4:$AD$1003,MATCH(DP$12,数据库!$C$2:$R$2,)+1,0))","v":""},null,"","","","","","","","","","","",{"$f":"IF($D175=\"\",\"\",VLOOKUP($D175,数据库!$B$4:$AD$1003,MATCH(EC$12,数据库!$C$2:$AD$2,)+1,0))","v":""},null,"","","","","","","","","","","",{"$f":"IF($D175=\"\",\"\",VLOOKUP($D175,数据库!$B$4:$AD$1003,MATCH(EP$12,数据库!$C$2:$R$2,)+1,0))","v":""},null,"","","","","","","","","","","",{"$f":"IF($D175=\"\",\"\",VLOOKUP($D175,数据库!$B$4:$AD$1003,MATCH(FC$12,数据库!$C$2:$R$2,)+1,0))","v":""},null,"","","","","","","","","","","",""]
[null,null,"","","","","","","","","","","","","",{"$f":"IF($D176=\"\",\"\",VLOOKUP($D176,数据库!$B$4:$AD$1003,MATCH(P$12,数据库!$C$2:$AD$2,)+1,0))","v":""},null,"",{"$f":"IF(R176=\"\",\"\",MID($R176,S$12+1,1))","v":""},"","","","","","","","","",{"$f":"IF($D176=\"\",\"\",VLOOKUP($D176,数据库!$B$4:$AD$1003,MATCH(AC$12,数据库!$C$2:$R$2,)+1,0))","v":""},null,"","","","","","","","","","","",{"$f":"IF($D176=\"\",\"\",VLOOKUP($D176,数据库!$B$4:$AD$1003,MATCH(AP$12,数据库!$C$2:$R$2,)+1,0))","v":""},null,"","","","","","","","","","","",{"$f":"IF($D176=\"\",\"\",VLOOKUP($D176,数据库!$B$4:$AD$1003,MATCH(BC$12,数据库!$C$2:$AD$2,)+1,0))","v":""},null,"","","","","","","","","","","",{"$f":"IF($D176=\"\",\"\",VLOOKUP($D176,数据库!$B$4:$AD$1003,MATCH(BP$12,数据库!$C$2:$R$2,)+1,0))","v":""},null,"","","","","","","","","","","",{"$f":"IF($D176=\"\",\"\",VLOOKUP($D176,数据库!$B$4:$AD$1003,MATCH(CC$12,数据库!$C$2:$R$2,)+1,0))","v":""},null,"","","","","","","","","","","",{"$f":"IF($D176=\"\",\"\",VLOOKUP($D176,数据库!$B$4:$AD$1003,MATCH(CP$12,数据库!$C$2:$AD$2,)+1,0))","v":""},null,"","","","","","","","","","","",{"$f":"IF($D176=\"\",\"\",VLOOKUP($D176,数据库!$B$4:$AD$1003,MATCH(DC$12,数据库!$C$2:$R$2,)+1,0))","v":""},null,"","","","","","","","","","","",{"$f":"IF($D176=\"\",\"\",VLOOKUP($D176,数据库!$B$4:$AD$1003,MATCH(DP$12,数据库!$C$2:$R$2,)+1,0))","v":""},null,"","","","","","","","","","","",{"$f":"IF($D176=\"\",\"\",VLOOKUP($D176,数据库!$B$4:$AD$1003,MATCH(EC$12,数据库!$C$2:$AD$2,)+1,0))","v":""},null,"","","","","","","","","","","",{"$f":"IF($D176=\"\",\"\",VLOOKUP($D176,数据库!$B$4:$AD$1003,MATCH(EP$12,数据库!$C$2:$R$2,)+1,0))","v":""},null,"","","","","","","","","","","",{"$f":"IF($D176=\"\",\"\",VLOOKUP($D176,数据库!$B$4:$AD$1003,MATCH(FC$12,数据库!$C$2:$R$2,)+1,0))","v":""},null,"","","","","","","","","","","",""]
[null,null,"","","","","","","","","","","","","",{"$f":"IF($D177=\"\",\"\",VLOOKUP($D177,数据库!$B$4:$AD$1003,MATCH(P$12,数据库!$C$2:$AD$2,)+1,0))","v":""},null,"",{"$f":"IF(R177=\"\",\"\",MID($R177,S$12+1,1))","v":""},"","","","","","","","","",{"$f":"IF($D177=\"\",\"\",VLOOKUP($D177,数据库!$B$4:$AD$1003,MATCH(AC$12,数据库!$C$2:$R$2,)+1,0))","v":""},null,"","","","","","","","","","","",{"$f":"IF($D177=\"\",\"\",VLOOKUP($D177,数据库!$B$4:$AD$1003,MATCH(AP$12,数据库!$C$2:$R$2,)+1,0))","v":""},null,"","","","","","","","","","","",{"$f":"IF($D177=\"\",\"\",VLOOKUP($D177,数据库!$B$4:$AD$1003,MATCH(BC$12,数据库!$C$2:$AD$2,)+1,0))","v":""},null,"","","","","","","","","","","",{"$f":"IF($D177=\"\",\"\",VLOOKUP($D177,数据库!$B$4:$AD$1003,MATCH(BP$12,数据库!$C$2:$R$2,)+1,0))","v":""},null,"","","","","","","","","","","",{"$f":"IF($D177=\"\",\"\",VLOOKUP($D177,数据库!$B$4:$AD$1003,MATCH(CC$12,数据库!$C$2:$R$2,)+1,0))","v":""},null,"","","","","","","","","","","",{"$f":"IF($D177=\"\",\"\",VLOOKUP($D177,数据库!$B$4:$AD$1003,MATCH(CP$12,数据库!$C$2:$AD$2,)+1,0))","v":""},null,"","","","","","","","","","","",{"$f":"IF($D177=\"\",\"\",VLOOKUP($D177,数据库!$B$4:$AD$1003,MATCH(DC$12,数据库!$C$2:$R$2,)+1,0))","v":""},null,"","","","","","","","","","","",{"$f":"IF($D177=\"\",\"\",VLOOKUP($D177,数据库!$B$4:$AD$1003,MATCH(DP$12,数据库!$C$2:$R$2,)+1,0))","v":""},null,"","","","","","","","","","","",{"$f":"IF($D177=\"\",\"\",VLOOKUP($D177,数据库!$B$4:$AD$1003,MATCH(EC$12,数据库!$C$2:$AD$2,)+1,0))","v":""},null,"","","","","","","","","","","",{"$f":"IF($D177=\"\",\"\",VLOOKUP($D177,数据库!$B$4:$AD$1003,MATCH(EP$12,数据库!$C$2:$R$2,)+1,0))","v":""},null,"","","","","","","","","","","",{"$f":"IF($D177=\"\",\"\",VLOOKUP($D177,数据库!$B$4:$AD$1003,MATCH(FC$12,数据库!$C$2:$R$2,)+1,0))","v":""},null,"","","","","","","","","","","",""]
[null,null,"","","","","","","","","","","","","",{"$f":"IF($D178=\"\",\"\",VLOOKUP($D178,数据库!$B$4:$AD$1003,MATCH(P$12,数据库!$C$2:$AD$2,)+1,0))","v":""},null,"",{"$f":"IF(R178=\"\",\"\",MID($R178,S$12+1,1))","v":""},"","","","","","","","","",{"$f":"IF($D178=\"\",\"\",VLOOKUP($D178,数据库!$B$4:$AD$1003,MATCH(AC$12,数据库!$C$2:$R$2,)+1,0))","v":""},null,"","","","","","","","","","","",{"$f":"IF($D178=\"\",\"\",VLOOKUP($D178,数据库!$B$4:$AD$1003,MATCH(AP$12,数据库!$C$2:$R$2,)+1,0))","v":""},null,"","","","","","","","","","","",{"$f":"IF($D178=\"\",\"\",VLOOKUP($D178,数据库!$B$4:$AD$1003,MATCH(BC$12,数据库!$C$2:$AD$2,)+1,0))","v":""},null,"","","","","","","","","","","",{"$f":"IF($D178=\"\",\"\",VLOOKUP($D178,数据库!$B$4:$AD$1003,MATCH(BP$12,数据库!$C$2:$R$2,)+1,0))","v":""},null,"","","","","","","","","","","",{"$f":"IF($D178=\"\",\"\",VLOOKUP($D178,数据库!$B$4:$AD$1003,MATCH(CC$12,数据库!$C$2:$R$2,)+1,0))","v":""},null,"","","","","","","","","","","",{"$f":"IF($D178=\"\",\"\",VLOOKUP($D178,数据库!$B$4:$AD$1003,MATCH(CP$12,数据库!$C$2:$AD$2,)+1,0))","v":""},null,"","","","","","","","","","","",{"$f":"IF($D178=\"\",\"\",VLOOKUP($D178,数据库!$B$4:$AD$1003,MATCH(DC$12,数据库!$C$2:$R$2,)+1,0))","v":""},null,"","","","","","","","","","","",{"$f":"IF($D178=\"\",\"\",VLOOKUP($D178,数据库!$B$4:$AD$1003,MATCH(DP$12,数据库!$C$2:$R$2,)+1,0))","v":""},null,"","","","","","","","","","","",{"$f":"IF($D178=\"\",\"\",VLOOKUP($D178,数据库!$B$4:$AD$1003,MATCH(EC$12,数据库!$C$2:$AD$2,)+1,0))","v":""},null,"","","","","","","","","","","",{"$f":"IF($D178=\"\",\"\",VLOOKUP($D178,数据库!$B$4:$AD$1003,MATCH(EP$12,数据库!$C$2:$R$2,)+1,0))","v":""},null,"","","","","","","","","","","",{"$f":"IF($D178=\"\",\"\",VLOOKUP($D178,数据库!$B$4:$AD$1003,MATCH(FC$12,数据库!$C$2:$R$2,)+1,0))","v":""},null,"","","","","","","","","","","",""]
[null,null,"","","","","","","","","","","","","",{"$f":"IF($D179=\"\",\"\",VLOOKUP($D179,数据库!$B$4:$AD$1003,MATCH(P$12,数据库!$C$2:$AD$2,)+1,0))","v":""},null,"",{"$f":"IF(R179=\"\",\"\",MID($R179,S$12+1,1))","v":""},"","","","","","","","","",{"$f":"IF($D179=\"\",\"\",VLOOKUP($D179,数据库!$B$4:$AD$1003,MATCH(AC$12,数据库!$C$2:$R$2,)+1,0))","v":""},null,"","","","","","","","","","","",{"$f":"IF($D179=\"\",\"\",VLOOKUP($D179,数据库!$B$4:$AD$1003,MATCH(AP$12,数据库!$C$2:$R$2,)+1,0))","v":""},null,"","","","","","","","","","","",{"$f":"IF($D179=\"\",\"\",VLOOKUP($D179,数据库!$B$4:$AD$1003,MATCH(BC$12,数据库!$C$2:$AD$2,)+1,0))","v":""},null,"","","","","","","","","","","",{"$f":"IF($D179=\"\",\"\",VLOOKUP($D179,数据库!$B$4:$AD$1003,MATCH(BP$12,数据库!$C$2:$R$2,)+1,0))","v":""},null,"","","","","","","","","","","",{"$f":"IF($D179=\"\",\"\",VLOOKUP($D179,数据库!$B$4:$AD$1003,MATCH(CC$12,数据库!$C$2:$R$2,)+1,0))","v":""},null,"","","","","","","","","","","",{"$f":"IF($D179=\"\",\"\",VLOOKUP($D179,数据库!$B$4:$AD$1003,MATCH(CP$12,数据库!$C$2:$AD$2,)+1,0))","v":""},null,"","","","","","","","","","","",{"$f":"IF($D179=\"\",\"\",VLOOKUP($D179,数据库!$B$4:$AD$1003,MATCH(DC$12,数据库!$C$2:$R$2,)+1,0))","v":""},null,"","","","","","","","","","","",{"$f":"IF($D179=\"\",\"\",VLOOKUP($D179,数据库!$B$4:$AD$1003,MATCH(DP$12,数据库!$C$2:$R$2,)+1,0))","v":""},null,"","","","","","","","","","","",{"$f":"IF($D179=\"\",\"\",VLOOKUP($D179,数据库!$B$4:$AD$1003,MATCH(EC$12,数据库!$C$2:$AD$2,)+1,0))","v":""},null,"","","","","","","","","","","",{"$f":"IF($D179=\"\",\"\",VLOOKUP($D179,数据库!$B$4:$AD$1003,MATCH(EP$12,数据库!$C$2:$R$2,)+1,0))","v":""},null,"","","","","","","","","","","",{"$f":"IF($D179=\"\",\"\",VLOOKUP($D179,数据库!$B$4:$AD$1003,MATCH(FC$12,数据库!$C$2:$R$2,)+1,0))","v":""},null,"","","","","","","","","","","",""]
[null,null,"","","","","","","","","","","","","",{"$f":"IF($D180=\"\",\"\",VLOOKUP($D180,数据库!$B$4:$AD$1003,MATCH(P$12,数据库!$C$2:$AD$2,)+1,0))","v":""},null,"",{"$f":"IF(R180=\"\",\"\",MID($R180,S$12+1,1))","v":""},"","","","","","","","","",{"$f":"IF($D180=\"\",\"\",VLOOKUP($D180,数据库!$B$4:$AD$1003,MATCH(AC$12,数据库!$C$2:$R$2,)+1,0))","v":""},null,"","","","","","","","","","","",{"$f":"IF($D180=\"\",\"\",VLOOKUP($D180,数据库!$B$4:$AD$1003,MATCH(AP$12,数据库!$C$2:$R$2,)+1,0))","v":""},null,"","","","","","","","","","","",{"$f":"IF($D180=\"\",\"\",VLOOKUP($D180,数据库!$B$4:$AD$1003,MATCH(BC$12,数据库!$C$2:$AD$2,)+1,0))","v":""},null,"","","","","","","","","","","",{"$f":"IF($D180=\"\",\"\",VLOOKUP($D180,数据库!$B$4:$AD$1003,MATCH(BP$12,数据库!$C$2:$R$2,)+1,0))","v":""},null,"","","","","","","","","","","",{"$f":"IF($D180=\"\",\"\",VLOOKUP($D180,数据库!$B$4:$AD$1003,MATCH(CC$12,数据库!$C$2:$R$2,)+1,0))","v":""},null,"","","","","","","","","","","",{"$f":"IF($D180=\"\",\"\",VLOOKUP($D180,数据库!$B$4:$AD$1003,MATCH(CP$12,数据库!$C$2:$AD$2,)+1,0))","v":""},null,"","","","","","","","","","","",{"$f":"IF($D180=\"\",\"\",VLOOKUP($D180,数据库!$B$4:$AD$1003,MATCH(DC$12,数据库!$C$2:$R$2,)+1,0))","v":""},null,"","","","","","","","","","","",{"$f":"IF($D180=\"\",\"\",VLOOKUP($D180,数据库!$B$4:$AD$1003,MATCH(DP$12,数据库!$C$2:$R$2,)+1,0))","v":""},null,"","","","","","","","","","","",{"$f":"IF($D180=\"\",\"\",VLOOKUP($D180,数据库!$B$4:$AD$1003,MATCH(EC$12,数据库!$C$2:$AD$2,)+1,0))","v":""},null,"","","","","","","","","","","",{"$f":"IF($D180=\"\",\"\",VLOOKUP($D180,数据库!$B$4:$AD$1003,MATCH(EP$12,数据库!$C$2:$R$2,)+1,0))","v":""},null,"","","","","","","","","","","",{"$f":"IF($D180=\"\",\"\",VLOOKUP($D180,数据库!$B$4:$AD$1003,MATCH(FC$12,数据库!$C$2:$R$2,)+1,0))","v":""},null,"","","","","","","","","","","",""]
[null,null,"","","","","","","","","","","","","",{"$f":"IF($D181=\"\",\"\",VLOOKUP($D181,数据库!$B$4:$AD$1003,MATCH(P$12,数据库!$C$2:$AD$2,)+1,0))","v":""},null,"",{"$f":"IF(R181=\"\",\"\",MID($R181,S$12+1,1))","v":""},"","","","","","","","","",{"$f":"IF($D181=\"\",\"\",VLOOKUP($D181,数据库!$B$4:$AD$1003,MATCH(AC$12,数据库!$C$2:$R$2,)+1,0))","v":""},null,"","","","","","","","","","","",{"$f":"IF($D181=\"\",\"\",VLOOKUP($D181,数据库!$B$4:$AD$1003,MATCH(AP$12,数据库!$C$2:$R$2,)+1,0))","v":""},null,"","","","","","","","","","","",{"$f":"IF($D181=\"\",\"\",VLOOKUP($D181,数据库!$B$4:$AD$1003,MATCH(BC$12,数据库!$C$2:$AD$2,)+1,0))","v":""},null,"","","","","","","","","","","",{"$f":"IF($D181=\"\",\"\",VLOOKUP($D181,数据库!$B$4:$AD$1003,MATCH(BP$12,数据库!$C$2:$R$2,)+1,0))","v":""},null,"","","","","","","","","","","",{"$f":"IF($D181=\"\",\"\",VLOOKUP($D181,数据库!$B$4:$AD$1003,MATCH(CC$12,数据库!$C$2:$R$2,)+1,0))","v":""},null,"","","","","","","","","","","",{"$f":"IF($D181=\"\",\"\",VLOOKUP($D181,数据库!$B$4:$AD$1003,MATCH(CP$12,数据库!$C$2:$AD$2,)+1,0))","v":""},null,"","","","","","","","","","","",{"$f":"IF($D181=\"\",\"\",VLOOKUP($D181,数据库!$B$4:$AD$1003,MATCH(DC$12,数据库!$C$2:$R$2,)+1,0))","v":""},null,"","","","","","","","","","","",{"$f":"IF($D181=\"\",\"\",VLOOKUP($D181,数据库!$B$4:$AD$1003,MATCH(DP$12,数据库!$C$2:$R$2,)+1,0))","v":""},null,"","","","","","","","","","","",{"$f":"IF($D181=\"\",\"\",VLOOKUP($D181,数据库!$B$4:$AD$1003,MATCH(EC$12,数据库!$C$2:$AD$2,)+1,0))","v":""},null,"","","","","","","","","","","",{"$f":"IF($D181=\"\",\"\",VLOOKUP($D181,数据库!$B$4:$AD$1003,MATCH(EP$12,数据库!$C$2:$R$2,)+1,0))","v":""},null,"","","","","","","","","","","",{"$f":"IF($D181=\"\",\"\",VLOOKUP($D181,数据库!$B$4:$AD$1003,MATCH(FC$12,数据库!$C$2:$R$2,)+1,0))","v":""},null,"","","","","","","","","","","",""]
[null,null,"","","","","","","","","","","","","",{"$f":"IF($D182=\"\",\"\",VLOOKUP($D182,数据库!$B$4:$AD$1003,MATCH(P$12,数据库!$C$2:$AD$2,)+1,0))","v":""},null,"",{"$f":"IF(R182=\"\",\"\",MID($R182,S$12+1,1))","v":""},"","","","","","","","","",{"$f":"IF($D182=\"\",\"\",VLOOKUP($D182,数据库!$B$4:$AD$1003,MATCH(AC$12,数据库!$C$2:$R$2,)+1,0))","v":""},null,"","","","","","","","","","","",{"$f":"IF($D182=\"\",\"\",VLOOKUP($D182,数据库!$B$4:$AD$1003,MATCH(AP$12,数据库!$C$2:$R$2,)+1,0))","v":""},null,"","","","","","","","","","","",{"$f":"IF($D182=\"\",\"\",VLOOKUP($D182,数据库!$B$4:$AD$1003,MATCH(BC$12,数据库!$C$2:$AD$2,)+1,0))","v":""},null,"","","","","","","","","","","",{"$f":"IF($D182=\"\",\"\",VLOOKUP($D182,数据库!$B$4:$AD$1003,MATCH(BP$12,数据库!$C$2:$R$2,)+1,0))","v":""},null,"","","","","","","","","","","",{"$f":"IF($D182=\"\",\"\",VLOOKUP($D182,数据库!$B$4:$AD$1003,MATCH(CC$12,数据库!$C$2:$R$2,)+1,0))","v":""},null,"","","","","","","","","","","",{"$f":"IF($D182=\"\",\"\",VLOOKUP($D182,数据库!$B$4:$AD$1003,MATCH(CP$12,数据库!$C$2:$AD$2,)+1,0))","v":""},null,"","","","","","","","","","","",{"$f":"IF($D182=\"\",\"\",VLOOKUP($D182,数据库!$B$4:$AD$1003,MATCH(DC$12,数据库!$C$2:$R$2,)+1,0))","v":""},null,"","","","","","","","","","","",{"$f":"IF($D182=\"\",\"\",VLOOKUP($D182,数据库!$B$4:$AD$1003,MATCH(DP$12,数据库!$C$2:$R$2,)+1,0))","v":""},null,"","","","","","","","","","","",{"$f":"IF($D182=\"\",\"\",VLOOKUP($D182,数据库!$B$4:$AD$1003,MATCH(EC$12,数据库!$C$2:$AD$2,)+1,0))","v":""},null,"","","","","","","","","","","",{"$f":"IF($D182=\"\",\"\",VLOOKUP($D182,数据库!$B$4:$AD$1003,MATCH(EP$12,数据库!$C$2:$R$2,)+1,0))","v":""},null,"","","","","","","","","","","",{"$f":"IF($D182=\"\",\"\",VLOOKUP($D182,数据库!$B$4:$AD$1003,MATCH(FC$12,数据库!$C$2:$R$2,)+1,0))","v":""},null,"","","","","","","","","","","",""]
[null,null,"","","","","","","","","","","","","",{"$f":"IF($D183=\"\",\"\",VLOOKUP($D183,数据库!$B$4:$AD$1003,MATCH(P$12,数据库!$C$2:$AD$2,)+1,0))","v":""},null,"",{"$f":"IF(R183=\"\",\"\",MID($R183,S$12+1,1))","v":""},"","","","","","","","","",{"$f":"IF($D183=\"\",\"\",VLOOKUP($D183,数据库!$B$4:$AD$1003,MATCH(AC$12,数据库!$C$2:$R$2,)+1,0))","v":""},null,"","","","","","","","","","","",{"$f":"IF($D183=\"\",\"\",VLOOKUP($D183,数据库!$B$4:$AD$1003,MATCH(AP$12,数据库!$C$2:$R$2,)+1,0))","v":""},null,"","","","","","","","","","","",{"$f":"IF($D183=\"\",\"\",VLOOKUP($D183,数据库!$B$4:$AD$1003,MATCH(BC$12,数据库!$C$2:$AD$2,)+1,0))","v":""},null,"","","","","","","","","","","",{"$f":"IF($D183=\"\",\"\",VLOOKUP($D183,数据库!$B$4:$AD$1003,MATCH(BP$12,数据库!$C$2:$R$2,)+1,0))","v":""},null,"","","","","","","","","","","",{"$f":"IF($D183=\"\",\"\",VLOOKUP($D183,数据库!$B$4:$AD$1003,MATCH(CC$12,数据库!$C$2:$R$2,)+1,0))","v":""},null,"","","","","","","","","","","",{"$f":"IF($D183=\"\",\"\",VLOOKUP($D183,数据库!$B$4:$AD$1003,MATCH(CP$12,数据库!$C$2:$AD$2,)+1,0))","v":""},null,"","","","","","","","","","","",{"$f":"IF($D183=\"\",\"\",VLOOKUP($D183,数据库!$B$4:$AD$1003,MATCH(DC$12,数据库!$C$2:$R$2,)+1,0))","v":""},null,"","","","","","","","","","","",{"$f":"IF($D183=\"\",\"\",VLOOKUP($D183,数据库!$B$4:$AD$1003,MATCH(DP$12,数据库!$C$2:$R$2,)+1,0))","v":""},null,"","","","","","","","","","","",{"$f":"IF($D183=\"\",\"\",VLOOKUP($D183,数据库!$B$4:$AD$1003,MATCH(EC$12,数据库!$C$2:$AD$2,)+1,0))","v":""},null,"","","","","","","","","","","",{"$f":"IF($D183=\"\",\"\",VLOOKUP($D183,数据库!$B$4:$AD$1003,MATCH(EP$12,数据库!$C$2:$R$2,)+1,0))","v":""},null,"","","","","","","","","","","",{"$f":"IF($D183=\"\",\"\",VLOOKUP($D183,数据库!$B$4:$AD$1003,MATCH(FC$12,数据库!$C$2:$R$2,)+1,0))","v":""},null,"","","","","","","","","","","",""]
[null,null,"","","","","","","","","","","","","",{"$f":"IF($D184=\"\",\"\",VLOOKUP($D184,数据库!$B$4:$AD$1003,MATCH(P$12,数据库!$C$2:$AD$2,)+1,0))","v":""},null,"",{"$f":"IF(R184=\"\",\"\",MID($R184,S$12+1,1))","v":""},"","","","","","","","","",{"$f":"IF($D184=\"\",\"\",VLOOKUP($D184,数据库!$B$4:$AD$1003,MATCH(AC$12,数据库!$C$2:$R$2,)+1,0))","v":""},null,"","","","","","","","","","","",{"$f":"IF($D184=\"\",\"\",VLOOKUP($D184,数据库!$B$4:$AD$1003,MATCH(AP$12,数据库!$C$2:$R$2,)+1,0))","v":""},null,"","","","","","","","","",{"$f":"IF($AR184=\"\",\"\",MID($AR184,BA$12+1,1))","v":""},"",{"$f":"IF($D184=\"\",\"\",VLOOKUP($D184,数据库!$B$4:$AD$1003,MATCH(BC$12,数据库!$C$2:$AD$2,)+1,0))","v":""},null,"","","","","","","","","",{"$f":"IF($BE184=\"\",\"\",MID($BE184,BN$12+1,1))","v":""},"",{"$f":"IF($D184=\"\",\"\",VLOOKUP($D184,数据库!$B$4:$AD$1003,MATCH(BP$12,数据库!$C$2:$R$2,)+1,0))","v":""},null,"","","","","","","","","",{"$f":"IF($BR184=\"\",\"\",MID($BR184,CA$12+1,1))","v":""},"",{"$f":"IF($D184=\"\",\"\",VLOOKUP($D184,数据库!$B$4:$AD$1003,MATCH(CC$12,数据库!$C$2:$R$2,)+1,0))","v":""},null,"","","","","","","","","",{"$f":"IF($CE184=\"\",\"\",MID($CE184,CN$12+1,1))","v":""},"",{"$f":"IF($D184=\"\",\"\",VLOOKUP($D184,数据库!$B$4:$AD$1003,MATCH(CP$12,数据库!$C$2:$AD$2,)+1,0))","v":""},null,"","","","","","","","","",{"$f":"IF($CR184=\"\",\"\",MID($CR184,DA$12+1,1))","v":""},"",{"$f":"IF($D184=\"\",\"\",VLOOKUP($D184,数据库!$B$4:$AD$1003,MATCH(DC$12,数据库!$C$2:$R$2,)+1,0))","v":""},null,"","","","","","","","","",{"$f":"IF($DE184=\"\",\"\",MID($DE184,DN$12+1,1))","v":""},"",{"$f":"IF($D184=\"\",\"\",VLOOKUP($D184,数据库!$B$4:$AD$1003,MATCH(DP$12,数据库!$C$2:$R$2,)+1,0))","v":""},null,"","","","","","","","","",{"$f":"IF($DR184=\"\",\"\",MID($DR184,EA$12+1,1))","v":""},"",{"$f":"IF($D184=\"\",\"\",VLOOKUP($D184,数据库!$B$4:$AD$1003,MATCH(EC$12,数据库!$C$2:$AD$2,)+1,0))","v":""},null,"","","","","","","","","",{"$f":"IF($EE184=\"\",\"\",MID($EE184,EN$12+1,1))","v":""},"",{"$f":"IF($D184=\"\",\"\",VLOOKUP($D184,数据库!$B$4:$AD$1003,MATCH(EP$12,数据库!$C$2:$R$2,)+1,0))","v":""},null,"","","","","","","","","",{"$f":"IF($ER184=\"\",\"\",MID($ER184,FA$12+1,1))","v":""},"",{"$f":"IF($D184=\"\",\"\",VLOOKUP($D184,数据库!$B$4:$AD$1003,MATCH(FC$12,数据库!$C$2:$R$2,)+1,0))","v":""},null,"","","","","","","","","","","",""]
[null,null,"","","","","","","","","","","","","",{"$f":"IF($D185=\"\",\"\",VLOOKUP($D185,数据库!$B$4:$AD$1003,MATCH(P$12,数据库!$C$2:$AD$2,)+1,0))","v":""},null,"",{"$f":"IF(R185=\"\",\"\",MID($R185,S$12+1,1))","v":""},"","","","","","","","","",{"$f":"IF($D185=\"\",\"\",VLOOKUP($D185,数据库!$B$4:$AD$1003,MATCH(AC$12,数据库!$C$2:$R$2,)+1,0))","v":""},null,"","","","","","","","","","","",{"$f":"IF($D185=\"\",\"\",VLOOKUP($D185,数据库!$B$4:$AD$1003,MATCH(AP$12,数据库!$C$2:$R$2,)+1,0))","v":""},null,"","","","","","","","","","","",{"$f":"IF($D185=\"\",\"\",VLOOKUP($D185,数据库!$B$4:$AD$1003,MATCH(BC$12,数据库!$C$2:$AD$2,)+1,0))","v":""},null,"","","","","","","","","","","",{"$f":"IF($D185=\"\",\"\",VLOOKUP($D185,数据库!$B$4:$AD$1003,MATCH(BP$12,数据库!$C$2:$R$2,)+1,0))","v":""},null,"","","","","","","","","","","",{"$f":"IF($D185=\"\",\"\",VLOOKUP($D185,数据库!$B$4:$AD$1003,MATCH(CC$12,数据库!$C$2:$R$2,)+1,0))","v":""},null,"","","","","","","","","","","",{"$f":"IF($D185=\"\",\"\",VLOOKUP($D185,数据库!$B$4:$AD$1003,MATCH(CP$12,数据库!$C$2:$AD$2,)+1,0))","v":""},null,"","","","","","","","","","","",{"$f":"IF($D185=\"\",\"\",VLOOKUP($D185,数据库!$B$4:$AD$1003,MATCH(DC$12,数据库!$C$2:$R$2,)+1,0))","v":""},null,"","","","","","","","","","","",{"$f":"IF($D185=\"\",\"\",VLOOKUP($D185,数据库!$B$4:$AD$1003,MATCH(DP$12,数据库!$C$2:$R$2,)+1,0))","v":""},null,"","","","","","","","","","","",{"$f":"IF($D185=\"\",\"\",VLOOKUP($D185,数据库!$B$4:$AD$1003,MATCH(EC$12,数据库!$C$2:$AD$2,)+1,0))","v":""},null,"","","","","","","","","","","",{"$f":"IF($D185=\"\",\"\",VLOOKUP($D185,数据库!$B$4:$AD$1003,MATCH(EP$12,数据库!$C$2:$R$2,)+1,0))","v":""},null,"","","","","","","","","","","",{"$f":"IF($D185=\"\",\"\",VLOOKUP($D185,数据库!$B$4:$AD$1003,MATCH(FC$12,数据库!$C$2:$R$2,)+1,0))","v":""},null,"","","","","","","","","","","",""]
[null,null,"","","","","","","","","","","","","",{"$f":"IF($D186=\"\",\"\",VLOOKUP($D186,数据库!$B$4:$AD$1003,MATCH(P$12,数据库!$C$2:$AD$2,)+1,0))","v":""},null,"",{"$f":"IF(R186=\"\",\"\",MID($R186,S$12+1,1))","v":""},"","","","","","","","","",{"$f":"IF($D186=\"\",\"\",VLOOKUP($D186,数据库!$B$4:$AD$1003,MATCH(AC$12,数据库!$C$2:$R$2,)+1,0))","v":""},null,"","","","","","","","","","","",{"$f":"IF($D186=\"\",\"\",VLOOKUP($D186,数据库!$B$4:$AD$1003,MATCH(AP$12,数据库!$C$2:$R$2,)+1,0))","v":""},null,"","","","","","","","","","","",{"$f":"IF($D186=\"\",\"\",VLOOKUP($D186,数据库!$B$4:$AD$1003,MATCH(BC$12,数据库!$C$2:$AD$2,)+1,0))","v":""},null,"","","","","","","","","","","",{"$f":"IF($D186=\"\",\"\",VLOOKUP($D186,数据库!$B$4:$AD$1003,MATCH(BP$12,数据库!$C$2:$R$2,)+1,0))","v":""},null,"","","","","","","","","","","",{"$f":"IF($D186=\"\",\"\",VLOOKUP($D186,数据库!$B$4:$AD$1003,MATCH(CC$12,数据库!$C$2:$R$2,)+1,0))","v":""},null,"","","","","","","","","","","",{"$f":"IF($D186=\"\",\"\",VLOOKUP($D186,数据库!$B$4:$AD$1003,MATCH(CP$12,数据库!$C$2:$AD$2,)+1,0))","v":""},null,"","","","","","","","","","","",{"$f":"IF($D186=\"\",\"\",VLOOKUP($D186,数据库!$B$4:$AD$1003,MATCH(DC$12,数据库!$C$2:$R$2,)+1,0))","v":""},null,"","","","","","","","","","","",{"$f":"IF($D186=\"\",\"\",VLOOKUP($D186,数据库!$B$4:$AD$1003,MATCH(DP$12,数据库!$C$2:$R$2,)+1,0))","v":""},null,"","","","","","","","","","","",{"$f":"IF($D186=\"\",\"\",VLOOKUP($D186,数据库!$B$4:$AD$1003,MATCH(EC$12,数据库!$C$2:$AD$2,)+1,0))","v":""},null,"","","","","","","","","","","",{"$f":"IF($D186=\"\",\"\",VLOOKUP($D186,数据库!$B$4:$AD$1003,MATCH(EP$12,数据库!$C$2:$R$2,)+1,0))","v":""},null,"","","","","","","","","","","",{"$f":"IF($D186=\"\",\"\",VLOOKUP($D186,数据库!$B$4:$AD$1003,MATCH(FC$12,数据库!$C$2:$R$2,)+1,0))","v":""},null,"","","","","","","","","","","",""]
[null,null,"","","","","","","","","","","","","",{"$f":"IF($D187=\"\",\"\",VLOOKUP($D187,数据库!$B$4:$AD$1003,MATCH(P$12,数据库!$C$2:$AD$2,)+1,0))","v":""},null,"",{"$f":"IF(R187=\"\",\"\",MID($R187,S$12+1,1))","v":""},"","","","","","","","","",{"$f":"IF($D187=\"\",\"\",VLOOKUP($D187,数据库!$B$4:$AD$1003,MATCH(AC$12,数据库!$C$2:$R$2,)+1,0))","v":""},null,"","","","","","","","","","","",{"$f":"IF($D187=\"\",\"\",VLOOKUP($D187,数据库!$B$4:$AD$1003,MATCH(AP$12,数据库!$C$2:$R$2,)+1,0))","v":""},null,"","","","","","","","","","","",{"$f":"IF($D187=\"\",\"\",VLOOKUP($D187,数据库!$B$4:$AD$1003,MATCH(BC$12,数据库!$C$2:$AD$2,)+1,0))","v":""},null,"","","","","","","","","","","",{"$f":"IF($D187=\"\",\"\",VLOOKUP($D187,数据库!$B$4:$AD$1003,MATCH(BP$12,数据库!$C$2:$R$2,)+1,0))","v":""},null,"","","","","","","","","","","",{"$f":"IF($D187=\"\",\"\",VLOOKUP($D187,数据库!$B$4:$AD$1003,MATCH(CC$12,数据库!$C$2:$R$2,)+1,0))","v":""},null,"","","","","","","","","","","",{"$f":"IF($D187=\"\",\"\",VLOOKUP($D187,数据库!$B$4:$AD$1003,MATCH(CP$12,数据库!$C$2:$AD$2,)+1,0))","v":""},null,"","","","","","","","","","","",{"$f":"IF($D187=\"\",\"\",VLOOKUP($D187,数据库!$B$4:$AD$1003,MATCH(DC$12,数据库!$C$2:$R$2,)+1,0))","v":""},null,"","","","","","","","","","","",{"$f":"IF($D187=\"\",\"\",VLOOKUP($D187,数据库!$B$4:$AD$1003,MATCH(DP$12,数据库!$C$2:$R$2,)+1,0))","v":""},null,"","","","","","","","","","","",{"$f":"IF($D187=\"\",\"\",VLOOKUP($D187,数据库!$B$4:$AD$1003,MATCH(EC$12,数据库!$C$2:$AD$2,)+1,0))","v":""},null,"","","","","","","","","","","",{"$f":"IF($D187=\"\",\"\",VLOOKUP($D187,数据库!$B$4:$AD$1003,MATCH(EP$12,数据库!$C$2:$R$2,)+1,0))","v":""},null,"","","","","","","","","","","",{"$f":"IF($D187=\"\",\"\",VLOOKUP($D187,数据库!$B$4:$AD$1003,MATCH(FC$12,数据库!$C$2:$R$2,)+1,0))","v":""},null,"","","","","","","","","","","",""]
[null,null,"","","","","","","","","","","","","",{"$f":"IF($D188=\"\",\"\",VLOOKUP($D188,数据库!$B$4:$AD$1003,MATCH(P$12,数据库!$C$2:$AD$2,)+1,0))","v":""},null,"",{"$f":"IF(R188=\"\",\"\",MID($R188,S$12+1,1))","v":""},"","","","","","","","","",{"$f":"IF($D188=\"\",\"\",VLOOKUP($D188,数据库!$B$4:$AD$1003,MATCH(AC$12,数据库!$C$2:$R$2,)+1,0))","v":""},null,"","","","","","","","","","","",{"$f":"IF($D188=\"\",\"\",VLOOKUP($D188,数据库!$B$4:$AD$1003,MATCH(AP$12,数据库!$C$2:$R$2,)+1,0))","v":""},null,"","","","","","","","","","","",{"$f":"IF($D188=\"\",\"\",VLOOKUP($D188,数据库!$B$4:$AD$1003,MATCH(BC$12,数据库!$C$2:$AD$2,)+1,0))","v":""},null,"","","","","","","","","","","",{"$f":"IF($D188=\"\",\"\",VLOOKUP($D188,数据库!$B$4:$AD$1003,MATCH(BP$12,数据库!$C$2:$R$2,)+1,0))","v":""},null,"","","","","","","","","","","",{"$f":"IF($D188=\"\",\"\",VLOOKUP($D188,数据库!$B$4:$AD$1003,MATCH(CC$12,数据库!$C$2:$R$2,)+1,0))","v":""},null,"","","","","","","","","","","",{"$f":"IF($D188=\"\",\"\",VLOOKUP($D188,数据库!$B$4:$AD$1003,MATCH(CP$12,数据库!$C$2:$AD$2,)+1,0))","v":""},null,"","","","","","","","","","","",{"$f":"IF($D188=\"\",\"\",VLOOKUP($D188,数据库!$B$4:$AD$1003,MATCH(DC$12,数据库!$C$2:$R$2,)+1,0))","v":""},null,"","","","","","","","","","","",{"$f":"IF($D188=\"\",\"\",VLOOKUP($D188,数据库!$B$4:$AD$1003,MATCH(DP$12,数据库!$C$2:$R$2,)+1,0))","v":""},null,"","","","","","","","","","","",{"$f":"IF($D188=\"\",\"\",VLOOKUP($D188,数据库!$B$4:$AD$1003,MATCH(EC$12,数据库!$C$2:$AD$2,)+1,0))","v":""},null,"","","","","","","","","","","",{"$f":"IF($D188=\"\",\"\",VLOOKUP($D188,数据库!$B$4:$AD$1003,MATCH(EP$12,数据库!$C$2:$R$2,)+1,0))","v":""},null,"","","","","","","","","","","",{"$f":"IF($D188=\"\",\"\",VLOOKUP($D188,数据库!$B$4:$AD$1003,MATCH(FC$12,数据库!$C$2:$R$2,)+1,0))","v":""},null,"","","","","","","","","","","",""]
[null,null,"","","","","","","","","","","","","",{"$f":"IF($D189=\"\",\"\",VLOOKUP($D189,数据库!$B$4:$AD$1003,MATCH(P$12,数据库!$C$2:$AD$2,)+1,0))","v":""},null,"",{"$f":"IF(R189=\"\",\"\",MID($R189,S$12+1,1))","v":""},"","","","","","","","","",{"$f":"IF($D189=\"\",\"\",VLOOKUP($D189,数据库!$B$4:$AD$1003,MATCH(AC$12,数据库!$C$2:$R$2,)+1,0))","v":""},null,"","","","","","","","","","","",{"$f":"IF($D189=\"\",\"\",VLOOKUP($D189,数据库!$B$4:$AD$1003,MATCH(AP$12,数据库!$C$2:$R$2,)+1,0))","v":""},null,"","","","","","","","","","","",{"$f":"IF($D189=\"\",\"\",VLOOKUP($D189,数据库!$B$4:$AD$1003,MATCH(BC$12,数据库!$C$2:$AD$2,)+1,0))","v":""},null,"","","","","","","","","","","",{"$f":"IF($D189=\"\",\"\",VLOOKUP($D189,数据库!$B$4:$AD$1003,MATCH(BP$12,数据库!$C$2:$R$2,)+1,0))","v":""},null,"","","","","","","","","","","",{"$f":"IF($D189=\"\",\"\",VLOOKUP($D189,数据库!$B$4:$AD$1003,MATCH(CC$12,数据库!$C$2:$R$2,)+1,0))","v":""},null,"","","","","","","","","","","",{"$f":"IF($D189=\"\",\"\",VLOOKUP($D189,数据库!$B$4:$AD$1003,MATCH(CP$12,数据库!$C$2:$AD$2,)+1,0))","v":""},null,"","","","","","","","","","","",{"$f":"IF($D189=\"\",\"\",VLOOKUP($D189,数据库!$B$4:$AD$1003,MATCH(DC$12,数据库!$C$2:$R$2,)+1,0))","v":""},null,"","","","","","","","","","","",{"$f":"IF($D189=\"\",\"\",VLOOKUP($D189,数据库!$B$4:$AD$1003,MATCH(DP$12,数据库!$C$2:$R$2,)+1,0))","v":""},null,"","","","","","","","","","","",{"$f":"IF($D189=\"\",\"\",VLOOKUP($D189,数据库!$B$4:$AD$1003,MATCH(EC$12,数据库!$C$2:$AD$2,)+1,0))","v":""},null,"","","","","","","","","","","",{"$f":"IF($D189=\"\",\"\",VLOOKUP($D189,数据库!$B$4:$AD$1003,MATCH(EP$12,数据库!$C$2:$R$2,)+1,0))","v":""},null,"","","","","","","","","","","",{"$f":"IF($D189=\"\",\"\",VLOOKUP($D189,数据库!$B$4:$AD$1003,MATCH(FC$12,数据库!$C$2:$R$2,)+1,0))","v":""},null,"","","","","","","","","","","",""]
[null,null,"","","","","",{"$f":"IF($E190=\"\",\"\",MID($E190,H$12+1,1))","v":""},"","","","","","","",{"$f":"IF($D190=\"\",\"\",VLOOKUP($D190,数据库!$B$4:$AD$1003,MATCH(P$12,数据库!$C$2:$AD$2,)+1,0))","v":""},null,"",{"$f":"IF(R190=\"\",\"\",MID($R190,S$12+1,1))","v":""},"","","","","","","","","",{"$f":"IF($D190=\"\",\"\",VLOOKUP($D190,数据库!$B$4:$AD$1003,MATCH(AC$12,数据库!$C$2:$R$2,)+1,0))","v":""},null,"","","",{"$f":"IF($AE190=\"\",\"\",MID($AE190,AH$12+1,1))","v":""},"","","","","","","",{"$f":"IF($D190=\"\",\"\",VLOOKUP($D190,数据库!$B$4:$AD$1003,MATCH(AP$12,数据库!$C$2:$R$2,)+1,0))","v":""},null,"","","","","","","","","","","",{"$f":"IF($D190=\"\",\"\",VLOOKUP($D190,数据库!$B$4:$AD$1003,MATCH(BC$12,数据库!$C$2:$AD$2,)+1,0))","v":""},null,"","","","","","","","","","","",{"$f":"IF($D190=\"\",\"\",VLOOKUP($D190,数据库!$B$4:$AD$1003,MATCH(BP$12,数据库!$C$2:$R$2,)+1,0))","v":""},null,"","","","","","","","","","","",{"$f":"IF($D190=\"\",\"\",VLOOKUP($D190,数据库!$B$4:$AD$1003,MATCH(CC$12,数据库!$C$2:$R$2,)+1,0))","v":""},null,"","","","","","","","","","","",{"$f":"IF($D190=\"\",\"\",VLOOKUP($D190,数据库!$B$4:$AD$1003,MATCH(CP$12,数据库!$C$2:$AD$2,)+1,0))","v":""},null,"","","","","","","","","","","",{"$f":"IF($D190=\"\",\"\",VLOOKUP($D190,数据库!$B$4:$AD$1003,MATCH(DC$12,数据库!$C$2:$R$2,)+1,0))","v":""},null,"","","","","","","","","","","",{"$f":"IF($D190=\"\",\"\",VLOOKUP($D190,数据库!$B$4:$AD$1003,MATCH(DP$12,数据库!$C$2:$R$2,)+1,0))","v":""},null,"","","","","","","","","","","",{"$f":"IF($D190=\"\",\"\",VLOOKUP($D190,数据库!$B$4:$AD$1003,MATCH(EC$12,数据库!$C$2:$AD$2,)+1,0))","v":""},null,"","","","","","","","","","","",{"$f":"IF($D190=\"\",\"\",VLOOKUP($D190,数据库!$B$4:$AD$1003,MATCH(EP$12,数据库!$C$2:$R$2,)+1,0))","v":""},null,"","","","","","","","","","","",{"$f":"IF($D190=\"\",\"\",VLOOKUP($D190,数据库!$B$4:$AD$1003,MATCH(FC$12,数据库!$C$2:$R$2,)+1,0))","v":""},null,"","","","","","","","","","","",""]
[null,null,"","","","","","","","","","","","","",{"$f":"IF($D191=\"\",\"\",VLOOKUP($D191,数据库!$B$4:$AD$1003,MATCH(P$12,数据库!$C$2:$AD$2,)+1,0))","v":""},null,"",{"$f":"IF(R191=\"\",\"\",MID($R191,S$12+1,1))","v":""},"","","","","","","","","",{"$f":"IF($D191=\"\",\"\",VLOOKUP($D191,数据库!$B$4:$AD$1003,MATCH(AC$12,数据库!$C$2:$R$2,)+1,0))","v":""},null,"","","","","","","","","","","",{"$f":"IF($D191=\"\",\"\",VLOOKUP($D191,数据库!$B$4:$AD$1003,MATCH(AP$12,数据库!$C$2:$R$2,)+1,0))","v":""},null,"","","","","","","","","","","",{"$f":"IF($D191=\"\",\"\",VLOOKUP($D191,数据库!$B$4:$AD$1003,MATCH(BC$12,数据库!$C$2:$AD$2,)+1,0))","v":""},null,"","","","","","","","","","","",{"$f":"IF($D191=\"\",\"\",VLOOKUP($D191,数据库!$B$4:$AD$1003,MATCH(BP$12,数据库!$C$2:$R$2,)+1,0))","v":""},null,"","","","","","","","","","","",{"$f":"IF($D191=\"\",\"\",VLOOKUP($D191,数据库!$B$4:$AD$1003,MATCH(CC$12,数据库!$C$2:$R$2,)+1,0))","v":""},null,"","","","","","","","","","","",{"$f":"IF($D191=\"\",\"\",VLOOKUP($D191,数据库!$B$4:$AD$1003,MATCH(CP$12,数据库!$C$2:$AD$2,)+1,0))","v":""},null,"","","","","","","","","","","",{"$f":"IF($D191=\"\",\"\",VLOOKUP($D191,数据库!$B$4:$AD$1003,MATCH(DC$12,数据库!$C$2:$R$2,)+1,0))","v":""},null,"","","","","","","","","","","",{"$f":"IF($D191=\"\",\"\",VLOOKUP($D191,数据库!$B$4:$AD$1003,MATCH(DP$12,数据库!$C$2:$R$2,)+1,0))","v":""},null,"","","","","","","","","","","",{"$f":"IF($D191=\"\",\"\",VLOOKUP($D191,数据库!$B$4:$AD$1003,MATCH(EC$12,数据库!$C$2:$AD$2,)+1,0))","v":""},null,"","","","","","","","","","","",{"$f":"IF($D191=\"\",\"\",VLOOKUP($D191,数据库!$B$4:$AD$1003,MATCH(EP$12,数据库!$C$2:$R$2,)+1,0))","v":""},null,"","","","","","","","","","","",{"$f":"IF($D191=\"\",\"\",VLOOKUP($D191,数据库!$B$4:$AD$1003,MATCH(FC$12,数据库!$C$2:$R$2,)+1,0))","v":""},null,"","","","","","","","","","","",""]
[null,null,"","","","","","","","","","","","","",{"$f":"IF($D192=\"\",\"\",VLOOKUP($D192,数据库!$B$4:$AD$1003,MATCH(P$12,数据库!$C$2:$AD$2,)+1,0))","v":""},null,"",{"$f":"IF(R192=\"\",\"\",MID($R192,S$12+1,1))","v":""},"","","","","","","","","",{"$f":"IF($D192=\"\",\"\",VLOOKUP($D192,数据库!$B$4:$AD$1003,MATCH(AC$12,数据库!$C$2:$R$2,)+1,0))","v":""},null,"","","","","","","","","","","",{"$f":"IF($D192=\"\",\"\",VLOOKUP($D192,数据库!$B$4:$AD$1003,MATCH(AP$12,数据库!$C$2:$R$2,)+1,0))","v":""},null,"","","","","","","","","","","",{"$f":"IF($D192=\"\",\"\",VLOOKUP($D192,数据库!$B$4:$AD$1003,MATCH(BC$12,数据库!$C$2:$AD$2,)+1,0))","v":""},null,"","","","","","","","","","","",{"$f":"IF($D192=\"\",\"\",VLOOKUP($D192,数据库!$B$4:$AD$1003,MATCH(BP$12,数据库!$C$2:$R$2,)+1,0))","v":""},null,"","","","","","","","","","","",{"$f":"IF($D192=\"\",\"\",VLOOKUP($D192,数据库!$B$4:$AD$1003,MATCH(CC$12,数据库!$C$2:$R$2,)+1,0))","v":""},null,"","","","","","","","","","","",{"$f":"IF($D192=\"\",\"\",VLOOKUP($D192,数据库!$B$4:$AD$1003,MATCH(CP$12,数据库!$C$2:$AD$2,)+1,0))","v":""},null,"","","","","","","","","","","",{"$f":"IF($D192=\"\",\"\",VLOOKUP($D192,数据库!$B$4:$AD$1003,MATCH(DC$12,数据库!$C$2:$R$2,)+1,0))","v":""},null,"","","","","","","","","","","",{"$f":"IF($D192=\"\",\"\",VLOOKUP($D192,数据库!$B$4:$AD$1003,MATCH(DP$12,数据库!$C$2:$R$2,)+1,0))","v":""},null,"","","","","","","","","","","",{"$f":"IF($D192=\"\",\"\",VLOOKUP($D192,数据库!$B$4:$AD$1003,MATCH(EC$12,数据库!$C$2:$AD$2,)+1,0))","v":""},null,"","","","","","","","","","","",{"$f":"IF($D192=\"\",\"\",VLOOKUP($D192,数据库!$B$4:$AD$1003,MATCH(EP$12,数据库!$C$2:$R$2,)+1,0))","v":""},null,"","","","","","","","","","","",{"$f":"IF($D192=\"\",\"\",VLOOKUP($D192,数据库!$B$4:$AD$1003,MATCH(FC$12,数据库!$C$2:$R$2,)+1,0))","v":""},null,"","","","","","","","","","","",""]
[null,null,"","","","","","","","","","","","","",{"$f":"IF($D193=\"\",\"\",VLOOKUP($D193,数据库!$B$4:$AD$1003,MATCH(P$12,数据库!$C$2:$AD$2,)+1,0))","v":""},null,"",{"$f":"IF(R193=\"\",\"\",MID($R193,S$12+1,1))","v":""},"","","","","","","","","",{"$f":"IF($D193=\"\",\"\",VLOOKUP($D193,数据库!$B$4:$AD$1003,MATCH(AC$12,数据库!$C$2:$R$2,)+1,0))","v":""},null,"","","","","","","","","","","",{"$f":"IF($D193=\"\",\"\",VLOOKUP($D193,数据库!$B$4:$AD$1003,MATCH(AP$12,数据库!$C$2:$R$2,)+1,0))","v":""},null,"","","","","","","","","","","",{"$f":"IF($D193=\"\",\"\",VLOOKUP($D193,数据库!$B$4:$AD$1003,MATCH(BC$12,数据库!$C$2:$AD$2,)+1,0))","v":""},null,"","","","","","","","","","","",{"$f":"IF($D193=\"\",\"\",VLOOKUP($D193,数据库!$B$4:$AD$1003,MATCH(BP$12,数据库!$C$2:$R$2,)+1,0))","v":""},null,"","","","","","","","","","","",{"$f":"IF($D193=\"\",\"\",VLOOKUP($D193,数据库!$B$4:$AD$1003,MATCH(CC$12,数据库!$C$2:$R$2,)+1,0))","v":""},null,"","","","","","","","","","","",{"$f":"IF($D193=\"\",\"\",VLOOKUP($D193,数据库!$B$4:$AD$1003,MATCH(CP$12,数据库!$C$2:$AD$2,)+1,0))","v":""},null,"","","","","","","","","","","",{"$f":"IF($D193=\"\",\"\",VLOOKUP($D193,数据库!$B$4:$AD$1003,MATCH(DC$12,数据库!$C$2:$R$2,)+1,0))","v":""},null,"","","","","","","","","","","",{"$f":"IF($D193=\"\",\"\",VLOOKUP($D193,数据库!$B$4:$AD$1003,MATCH(DP$12,数据库!$C$2:$R$2,)+1,0))","v":""},null,"","","","","","","","","","","",{"$f":"IF($D193=\"\",\"\",VLOOKUP($D193,数据库!$B$4:$AD$1003,MATCH(EC$12,数据库!$C$2:$AD$2,)+1,0))","v":""},null,"","","","","","","","","","","",{"$f":"IF($D193=\"\",\"\",VLOOKUP($D193,数据库!$B$4:$AD$1003,MATCH(EP$12,数据库!$C$2:$R$2,)+1,0))","v":""},null,"","","","","","","","","","","",{"$f":"IF($D193=\"\",\"\",VLOOKUP($D193,数据库!$B$4:$AD$1003,MATCH(FC$12,数据库!$C$2:$R$2,)+1,0))","v":""},null,"","","","","","","","","","","",""]
[null,null,"","","","","","","","","","","","","",{"$f":"IF($D194=\"\",\"\",VLOOKUP($D194,数据库!$B$4:$AD$1003,MATCH(P$12,数据库!$C$2:$AD$2,)+1,0))","v":""},null,"",{"$f":"IF(R194=\"\",\"\",MID($R194,S$12+1,1))","v":""},"","","","","","","","","",{"$f":"IF($D194=\"\",\"\",VLOOKUP($D194,数据库!$B$4:$AD$1003,MATCH(AC$12,数据库!$C$2:$R$2,)+1,0))","v":""},null,"","","","","","","","","","","",{"$f":"IF($D194=\"\",\"\",VLOOKUP($D194,数据库!$B$4:$AD$1003,MATCH(AP$12,数据库!$C$2:$R$2,)+1,0))","v":""},null,"","","","","","","","","","","",{"$f":"IF($D194=\"\",\"\",VLOOKUP($D194,数据库!$B$4:$AD$1003,MATCH(BC$12,数据库!$C$2:$AD$2,)+1,0))","v":""},null,"","","","","","","","","","","",{"$f":"IF($D194=\"\",\"\",VLOOKUP($D194,数据库!$B$4:$AD$1003,MATCH(BP$12,数据库!$C$2:$R$2,)+1,0))","v":""},null,"","","","","","","","","","","",{"$f":"IF($D194=\"\",\"\",VLOOKUP($D194,数据库!$B$4:$AD$1003,MATCH(CC$12,数据库!$C$2:$R$2,)+1,0))","v":""},null,"","","","","","","","","","","",{"$f":"IF($D194=\"\",\"\",VLOOKUP($D194,数据库!$B$4:$AD$1003,MATCH(CP$12,数据库!$C$2:$AD$2,)+1,0))","v":""},null,"","","","","","","","","","","",{"$f":"IF($D194=\"\",\"\",VLOOKUP($D194,数据库!$B$4:$AD$1003,MATCH(DC$12,数据库!$C$2:$R$2,)+1,0))","v":""},null,"","","","","","","","","","","",{"$f":"IF($D194=\"\",\"\",VLOOKUP($D194,数据库!$B$4:$AD$1003,MATCH(DP$12,数据库!$C$2:$R$2,)+1,0))","v":""},null,"","","","","","","","","","","",{"$f":"IF($D194=\"\",\"\",VLOOKUP($D194,数据库!$B$4:$AD$1003,MATCH(EC$12,数据库!$C$2:$AD$2,)+1,0))","v":""},null,"","","","","","","","","","","",{"$f":"IF($D194=\"\",\"\",VLOOKUP($D194,数据库!$B$4:$AD$1003,MATCH(EP$12,数据库!$C$2:$R$2,)+1,0))","v":""},null,"","","","","","","","","","","",{"$f":"IF($D194=\"\",\"\",VLOOKUP($D194,数据库!$B$4:$AD$1003,MATCH(FC$12,数据库!$C$2:$R$2,)+1,0))","v":""},null,"","","","","","","","","","","",""]
[null,null,"","","","","","","","","","","","","",{"$f":"IF($D195=\"\",\"\",VLOOKUP($D195,数据库!$B$4:$AD$1003,MATCH(P$12,数据库!$C$2:$AD$2,)+1,0))","v":""},null,"",{"$f":"IF(R195=\"\",\"\",MID($R195,S$12+1,1))","v":""},"","","","","","","","","",{"$f":"IF($D195=\"\",\"\",VLOOKUP($D195,数据库!$B$4:$AD$1003,MATCH(AC$12,数据库!$C$2:$R$2,)+1,0))","v":""},null,"","","","","","","","","","","",{"$f":"IF($D195=\"\",\"\",VLOOKUP($D195,数据库!$B$4:$AD$1003,MATCH(AP$12,数据库!$C$2:$R$2,)+1,0))","v":""},null,"","","","","","","","","","","",{"$f":"IF($D195=\"\",\"\",VLOOKUP($D195,数据库!$B$4:$AD$1003,MATCH(BC$12,数据库!$C$2:$AD$2,)+1,0))","v":""},null,"","","","","","","","","","","",{"$f":"IF($D195=\"\",\"\",VLOOKUP($D195,数据库!$B$4:$AD$1003,MATCH(BP$12,数据库!$C$2:$R$2,)+1,0))","v":""},null,"","","","","","","","","","","",{"$f":"IF($D195=\"\",\"\",VLOOKUP($D195,数据库!$B$4:$AD$1003,MATCH(CC$12,数据库!$C$2:$R$2,)+1,0))","v":""},null,"","","","","","","","","","","",{"$f":"IF($D195=\"\",\"\",VLOOKUP($D195,数据库!$B$4:$AD$1003,MATCH(CP$12,数据库!$C$2:$AD$2,)+1,0))","v":""},null,"","","","","","","","","","","",{"$f":"IF($D195=\"\",\"\",VLOOKUP($D195,数据库!$B$4:$AD$1003,MATCH(DC$12,数据库!$C$2:$R$2,)+1,0))","v":""},null,"","","","","","","","","","","",{"$f":"IF($D195=\"\",\"\",VLOOKUP($D195,数据库!$B$4:$AD$1003,MATCH(DP$12,数据库!$C$2:$R$2,)+1,0))","v":""},null,"","","","","","","","","","","",{"$f":"IF($D195=\"\",\"\",VLOOKUP($D195,数据库!$B$4:$AD$1003,MATCH(EC$12,数据库!$C$2:$AD$2,)+1,0))","v":""},null,"","","","","","","","","","","",{"$f":"IF($D195=\"\",\"\",VLOOKUP($D195,数据库!$B$4:$AD$1003,MATCH(EP$12,数据库!$C$2:$R$2,)+1,0))","v":""},null,"","","","","","","","","","","",{"$f":"IF($D195=\"\",\"\",VLOOKUP($D195,数据库!$B$4:$AD$1003,MATCH(FC$12,数据库!$C$2:$R$2,)+1,0))","v":""},null,"","","","","","","","","","","",""]
[null,null,"","","","","","","","","","","","","",{"$f":"IF($D196=\"\",\"\",VLOOKUP($D196,数据库!$B$4:$AD$1003,MATCH(P$12,数据库!$C$2:$AD$2,)+1,0))","v":""},null,"",{"$f":"IF(R196=\"\",\"\",MID($R196,S$12+1,1))","v":""},"","","","","","","","","",{"$f":"IF($D196=\"\",\"\",VLOOKUP($D196,数据库!$B$4:$AD$1003,MATCH(AC$12,数据库!$C$2:$R$2,)+1,0))","v":""},null,"","","","","","","","","","","",{"$f":"IF($D196=\"\",\"\",VLOOKUP($D196,数据库!$B$4:$AD$1003,MATCH(AP$12,数据库!$C$2:$R$2,)+1,0))","v":""},null,"","","","","","","","","","","",{"$f":"IF($D196=\"\",\"\",VLOOKUP($D196,数据库!$B$4:$AD$1003,MATCH(BC$12,数据库!$C$2:$AD$2,)+1,0))","v":""},null,"","","","","","","","","","","",{"$f":"IF($D196=\"\",\"\",VLOOKUP($D196,数据库!$B$4:$AD$1003,MATCH(BP$12,数据库!$C$2:$R$2,)+1,0))","v":""},null,"","","","","","","","","","","",{"$f":"IF($D196=\"\",\"\",VLOOKUP($D196,数据库!$B$4:$AD$1003,MATCH(CC$12,数据库!$C$2:$R$2,)+1,0))","v":""},null,"","","","","","","","","","","",{"$f":"IF($D196=\"\",\"\",VLOOKUP($D196,数据库!$B$4:$AD$1003,MATCH(CP$12,数据库!$C$2:$AD$2,)+1,0))","v":""},null,"","","","","","","","","","","",{"$f":"IF($D196=\"\",\"\",VLOOKUP($D196,数据库!$B$4:$AD$1003,MATCH(DC$12,数据库!$C$2:$R$2,)+1,0))","v":""},null,"","","","","","","","","","","",{"$f":"IF($D196=\"\",\"\",VLOOKUP($D196,数据库!$B$4:$AD$1003,MATCH(DP$12,数据库!$C$2:$R$2,)+1,0))","v":""},null,"","","","","","","","","","","",{"$f":"IF($D196=\"\",\"\",VLOOKUP($D196,数据库!$B$4:$AD$1003,MATCH(EC$12,数据库!$C$2:$AD$2,)+1,0))","v":""},null,"","","","","","","","","","","",{"$f":"IF($D196=\"\",\"\",VLOOKUP($D196,数据库!$B$4:$AD$1003,MATCH(EP$12,数据库!$C$2:$R$2,)+1,0))","v":""},null,"","","","","","","","","","","",{"$f":"IF($D196=\"\",\"\",VLOOKUP($D196,数据库!$B$4:$AD$1003,MATCH(FC$12,数据库!$C$2:$R$2,)+1,0))","v":""},null,"","","","","","","","","","","",""]
[null,null,"","","","","","","","","","","","","",{"$f":"IF($D197=\"\",\"\",VLOOKUP($D197,数据库!$B$4:$AD$1003,MATCH(P$12,数据库!$C$2:$AD$2,)+1,0))","v":""},null,"",{"$f":"IF(R197=\"\",\"\",MID($R197,S$12+1,1))","v":""},"","","","","","","","","",{"$f":"IF($D197=\"\",\"\",VLOOKUP($D197,数据库!$B$4:$AD$1003,MATCH(AC$12,数据库!$C$2:$R$2,)+1,0))","v":""},null,"","","","","","","","","","","",{"$f":"IF($D197=\"\",\"\",VLOOKUP($D197,数据库!$B$4:$AD$1003,MATCH(AP$12,数据库!$C$2:$R$2,)+1,0))","v":""},null,"","","","","","","","","","","",{"$f":"IF($D197=\"\",\"\",VLOOKUP($D197,数据库!$B$4:$AD$1003,MATCH(BC$12,数据库!$C$2:$AD$2,)+1,0))","v":""},null,"","","","","","","","","","","",{"$f":"IF($D197=\"\",\"\",VLOOKUP($D197,数据库!$B$4:$AD$1003,MATCH(BP$12,数据库!$C$2:$R$2,)+1,0))","v":""},null,"","","","","","","","","","","",{"$f":"IF($D197=\"\",\"\",VLOOKUP($D197,数据库!$B$4:$AD$1003,MATCH(CC$12,数据库!$C$2:$R$2,)+1,0))","v":""},null,"","","","","","","","","","","",{"$f":"IF($D197=\"\",\"\",VLOOKUP($D197,数据库!$B$4:$AD$1003,MATCH(CP$12,数据库!$C$2:$AD$2,)+1,0))","v":""},null,"","","","","","","","","","","",{"$f":"IF($D197=\"\",\"\",VLOOKUP($D197,数据库!$B$4:$AD$1003,MATCH(DC$12,数据库!$C$2:$R$2,)+1,0))","v":""},null,"","","","","","","","","","","",{"$f":"IF($D197=\"\",\"\",VLOOKUP($D197,数据库!$B$4:$AD$1003,MATCH(DP$12,数据库!$C$2:$R$2,)+1,0))","v":""},null,"","","","","","","","","","","",{"$f":"IF($D197=\"\",\"\",VLOOKUP($D197,数据库!$B$4:$AD$1003,MATCH(EC$12,数据库!$C$2:$AD$2,)+1,0))","v":""},null,"","","","","","","","","","","",{"$f":"IF($D197=\"\",\"\",VLOOKUP($D197,数据库!$B$4:$AD$1003,MATCH(EP$12,数据库!$C$2:$R$2,)+1,0))","v":""},null,"","","","","","","","","","","",{"$f":"IF($D197=\"\",\"\",VLOOKUP($D197,数据库!$B$4:$AD$1003,MATCH(FC$12,数据库!$C$2:$R$2,)+1,0))","v":""},null,"","","","","","","","","","","",""]
[null,null,"","","",{"$f":"IF($E198=\"\",\"\",MID($E198,F$12+1,1))","v":""},"","","","","","","","","",{"$f":"IF($D198=\"\",\"\",VLOOKUP($D198,数据库!$B$4:$AD$1003,MATCH(P$12,数据库!$C$2:$AD$2,)+1,0))","v":""},null,"",{"$f":"IF(R198=\"\",\"\",MID($R198,S$12+1,1))","v":""},"","","","","","","","","",{"$f":"IF($D198=\"\",\"\",VLOOKUP($D198,数据库!$B$4:$AD$1003,MATCH(AC$12,数据库!$C$2:$R$2,)+1,0))","v":""},null,"",{"$f":"IF($AE198=\"\",\"\",MID($AE198,AF$12+1,1))","v":""},"","","","","","","","","",{"$f":"IF($D198=\"\",\"\",VLOOKUP($D198,数据库!$B$4:$AD$1003,MATCH(AP$12,数据库!$C$2:$R$2,)+1,0))","v":""},null,"","","","","","","","","","","",{"$f":"IF($D198=\"\",\"\",VLOOKUP($D198,数据库!$B$4:$AD$1003,MATCH(BC$12,数据库!$C$2:$AD$2,)+1,0))","v":""},null,"","","","","","","","","","","",{"$f":"IF($D198=\"\",\"\",VLOOKUP($D198,数据库!$B$4:$AD$1003,MATCH(BP$12,数据库!$C$2:$R$2,)+1,0))","v":""},null,"","","","","","","","","","","",{"$f":"IF($D198=\"\",\"\",VLOOKUP($D198,数据库!$B$4:$AD$1003,MATCH(CC$12,数据库!$C$2:$R$2,)+1,0))","v":""},null,"","","","","","","","","","","",{"$f":"IF($D198=\"\",\"\",VLOOKUP($D198,数据库!$B$4:$AD$1003,MATCH(CP$12,数据库!$C$2:$AD$2,)+1,0))","v":""},null,"","","","","","","","","","","",{"$f":"IF($D198=\"\",\"\",VLOOKUP($D198,数据库!$B$4:$AD$1003,MATCH(DC$12,数据库!$C$2:$R$2,)+1,0))","v":""},null,"","","","","","","","","","","",{"$f":"IF($D198=\"\",\"\",VLOOKUP($D198,数据库!$B$4:$AD$1003,MATCH(DP$12,数据库!$C$2:$R$2,)+1,0))","v":""},null,"","","","","","","","","","","",{"$f":"IF($D198=\"\",\"\",VLOOKUP($D198,数据库!$B$4:$AD$1003,MATCH(EC$12,数据库!$C$2:$AD$2,)+1,0))","v":""},null,"","","","","","","","","","","",{"$f":"IF($D198=\"\",\"\",VLOOKUP($D198,数据库!$B$4:$AD$1003,MATCH(EP$12,数据库!$C$2:$R$2,)+1,0))","v":""},null,"","","","","","","","","","","",{"$f":"IF($D198=\"\",\"\",VLOOKUP($D198,数据库!$B$4:$AD$1003,MATCH(FC$12,数据库!$C$2:$R$2,)+1,0))","v":""},null,"","","","","","","","","","","",""]
[null,null,"","","","","","","","","","","","","",{"$f":"IF($D199=\"\",\"\",VLOOKUP($D199,数据库!$B$4:$AD$1003,MATCH(P$12,数据库!$C$2:$AD$2,)+1,0))","v":""},null,"",{"$f":"IF(R199=\"\",\"\",MID($R199,S$12+1,1))","v":""},"","","","","","","","","",{"$f":"IF($D199=\"\",\"\",VLOOKUP($D199,数据库!$B$4:$AD$1003,MATCH(AC$12,数据库!$C$2:$R$2,)+1,0))","v":""},null,"","","","","","","","","","","",{"$f":"IF($D199=\"\",\"\",VLOOKUP($D199,数据库!$B$4:$AD$1003,MATCH(AP$12,数据库!$C$2:$R$2,)+1,0))","v":""},null,"","","","","","","","","","","",{"$f":"IF($D199=\"\",\"\",VLOOKUP($D199,数据库!$B$4:$AD$1003,MATCH(BC$12,数据库!$C$2:$AD$2,)+1,0))","v":""},null,"","","","","","","","","","","",{"$f":"IF($D199=\"\",\"\",VLOOKUP($D199,数据库!$B$4:$AD$1003,MATCH(BP$12,数据库!$C$2:$R$2,)+1,0))","v":""},null,"","","","","","","","","","","",{"$f":"IF($D199=\"\",\"\",VLOOKUP($D199,数据库!$B$4:$AD$1003,MATCH(CC$12,数据库!$C$2:$R$2,)+1,0))","v":""},null,"","","","","","","","","","","",{"$f":"IF($D199=\"\",\"\",VLOOKUP($D199,数据库!$B$4:$AD$1003,MATCH(CP$12,数据库!$C$2:$AD$2,)+1,0))","v":""},null,"","","","","","","","","","","",{"$f":"IF($D199=\"\",\"\",VLOOKUP($D199,数据库!$B$4:$AD$1003,MATCH(DC$12,数据库!$C$2:$R$2,)+1,0))","v":""},null,"","","","","","","","","","","",{"$f":"IF($D199=\"\",\"\",VLOOKUP($D199,数据库!$B$4:$AD$1003,MATCH(DP$12,数据库!$C$2:$R$2,)+1,0))","v":""},null,"","","","","","","","","","","",{"$f":"IF($D199=\"\",\"\",VLOOKUP($D199,数据库!$B$4:$AD$1003,MATCH(EC$12,数据库!$C$2:$AD$2,)+1,0))","v":""},null,"","","","","","","","","","","",{"$f":"IF($D199=\"\",\"\",VLOOKUP($D199,数据库!$B$4:$AD$1003,MATCH(EP$12,数据库!$C$2:$R$2,)+1,0))","v":""},null,"","","","","","","","","","","",{"$f":"IF($D199=\"\",\"\",VLOOKUP($D199,数据库!$B$4:$AD$1003,MATCH(FC$12,数据库!$C$2:$R$2,)+1,0))","v":""},null,"","","","","","","","","","","",""]
[null,null,"","","","","","","","","","","","","",{"$f":"IF($D200=\"\",\"\",VLOOKUP($D200,数据库!$B$4:$AD$1003,MATCH(P$12,数据库!$C$2:$AD$2,)+1,0))","v":""},null,"",{"$f":"IF(R200=\"\",\"\",MID($R200,S$12+1,1))","v":""},"","","","","","","","","",{"$f":"IF($D200=\"\",\"\",VLOOKUP($D200,数据库!$B$4:$AD$1003,MATCH(AC$12,数据库!$C$2:$R$2,)+1,0))","v":""},null,"","","","","","","","","","","",{"$f":"IF($D200=\"\",\"\",VLOOKUP($D200,数据库!$B$4:$AD$1003,MATCH(AP$12,数据库!$C$2:$R$2,)+1,0))","v":""},null,"",{"$f":"IF($AR200=\"\",\"\",MID($AR200,AS$12+1,1))","v":""},"","","","","","","","","",{"$f":"IF($D200=\"\",\"\",VLOOKUP($D200,数据库!$B$4:$AD$1003,MATCH(BC$12,数据库!$C$2:$AD$2,)+1,0))","v":""},null,"",{"$f":"IF($BE200=\"\",\"\",MID($BE200,BF$12+1,1))","v":""},"","","","","","","","","",{"$f":"IF($D200=\"\",\"\",VLOOKUP($D200,数据库!$B$4:$AD$1003,MATCH(BP$12,数据库!$C$2:$R$2,)+1,0))","v":""},null,"",{"$f":"IF($BR200=\"\",\"\",MID($BR200,BS$12+1,1))","v":""},"","","","","","","","","",{"$f":"IF($D200=\"\",\"\",VLOOKUP($D200,数据库!$B$4:$AD$1003,MATCH(CC$12,数据库!$C$2:$R$2,)+1,0))","v":""},null,"",{"$f":"IF($CE200=\"\",\"\",MID($CE200,CF$12+1,1))","v":""},"","","","","","","","","",{"$f":"IF($D200=\"\",\"\",VLOOKUP($D200,数据库!$B$4:$AD$1003,MATCH(CP$12,数据库!$C$2:$AD$2,)+1,0))","v":""},null,"",{"$f":"IF($CR200=\"\",\"\",MID($CR200,CS$12+1,1))","v":""},"","","","","","","","","",{"$f":"IF($D200=\"\",\"\",VLOOKUP($D200,数据库!$B$4:$AD$1003,MATCH(DC$12,数据库!$C$2:$R$2,)+1,0))","v":""},null,"",{"$f":"IF($DE200=\"\",\"\",MID($DE200,DF$12+1,1))","v":""},"","","","","","","","","",{"$f":"IF($D200=\"\",\"\",VLOOKUP($D200,数据库!$B$4:$AD$1003,MATCH(DP$12,数据库!$C$2:$R$2,)+1,0))","v":""},null,"",{"$f":"IF($DR200=\"\",\"\",MID($DR200,DS$12+1,1))","v":""},"","","","","","","","","",{"$f":"IF($D200=\"\",\"\",VLOOKUP($D200,数据库!$B$4:$AD$1003,MATCH(EC$12,数据库!$C$2:$AD$2,)+1,0))","v":""},null,"",{"$f":"IF($EE200=\"\",\"\",MID($EE200,EF$12+1,1))","v":""},"","","","","","","","","",{"$f":"IF($D200=\"\",\"\",VLOOKUP($D200,数据库!$B$4:$AD$1003,MATCH(EP$12,数据库!$C$2:$R$2,)+1,0))","v":""},null,"",{"$f":"IF($ER200=\"\",\"\",MID($ER200,ES$12+1,1))","v":""},"","","","","","","","","",{"$f":"IF($D200=\"\",\"\",VLOOKUP($D200,数据库!$B$4:$AD$1003,MATCH(FC$12,数据库!$C$2:$R$2,)+1,0))","v":""},null,"","","","","","","","","","","",""]
[null,null,"","","","","","","","","","","","","",{"$f":"IF($D201=\"\",\"\",VLOOKUP($D201,数据库!$B$4:$AD$1003,MATCH(P$12,数据库!$C$2:$AD$2,)+1,0))","v":""},null,"",{"$f":"IF(R201=\"\",\"\",MID($R201,S$12+1,1))","v":""},"","","","","","","","","",{"$f":"IF($D201=\"\",\"\",VLOOKUP($D201,数据库!$B$4:$AD$1003,MATCH(AC$12,数据库!$C$2:$R$2,)+1,0))","v":""},null,"","","","","","","","","","","",{"$f":"IF($D201=\"\",\"\",VLOOKUP($D201,数据库!$B$4:$AD$1003,MATCH(AP$12,数据库!$C$2:$R$2,)+1,0))","v":""},null,"","","","","","","","","","","",{"$f":"IF($D201=\"\",\"\",VLOOKUP($D201,数据库!$B$4:$AD$1003,MATCH(BC$12,数据库!$C$2:$AD$2,)+1,0))","v":""},null,"","","","","","","","","","","",{"$f":"IF($D201=\"\",\"\",VLOOKUP($D201,数据库!$B$4:$AD$1003,MATCH(BP$12,数据库!$C$2:$R$2,)+1,0))","v":""},null,"","","","","","","","","","","",{"$f":"IF($D201=\"\",\"\",VLOOKUP($D201,数据库!$B$4:$AD$1003,MATCH(CC$12,数据库!$C$2:$R$2,)+1,0))","v":""},null,"","","","","","","","","","","",{"$f":"IF($D201=\"\",\"\",VLOOKUP($D201,数据库!$B$4:$AD$1003,MATCH(CP$12,数据库!$C$2:$AD$2,)+1,0))","v":""},null,"","","","","","","","","","","",{"$f":"IF($D201=\"\",\"\",VLOOKUP($D201,数据库!$B$4:$AD$1003,MATCH(DC$12,数据库!$C$2:$R$2,)+1,0))","v":""},null,"","","","","","","","","","","",{"$f":"IF($D201=\"\",\"\",VLOOKUP($D201,数据库!$B$4:$AD$1003,MATCH(DP$12,数据库!$C$2:$R$2,)+1,0))","v":""},null,"","","","","","","","","","","",{"$f":"IF($D201=\"\",\"\",VLOOKUP($D201,数据库!$B$4:$AD$1003,MATCH(EC$12,数据库!$C$2:$AD$2,)+1,0))","v":""},null,"","","","","","","","","","","",{"$f":"IF($D201=\"\",\"\",VLOOKUP($D201,数据库!$B$4:$AD$1003,MATCH(EP$12,数据库!$C$2:$R$2,)+1,0))","v":""},null,"","","","","","","","","","","",{"$f":"IF($D201=\"\",\"\",VLOOKUP($D201,数据库!$B$4:$AD$1003,MATCH(FC$12,数据库!$C$2:$R$2,)+1,0))","v":""},null,"","","","","","","","","","","",""]
[null,null,"","","","","","","","","","","","","",{"$f":"IF($D202=\"\",\"\",VLOOKUP($D202,数据库!$B$4:$AD$1003,MATCH(P$12,数据库!$C$2:$AD$2,)+1,0))","v":""},null,"",{"$f":"IF(R202=\"\",\"\",MID($R202,S$12+1,1))","v":""},"","","","","","","","","",{"$f":"IF($D202=\"\",\"\",VLOOKUP($D202,数据库!$B$4:$AD$1003,MATCH(AC$12,数据库!$C$2:$R$2,)+1,0))","v":""},null,"","","","","","","","","","","",{"$f":"IF($D202=\"\",\"\",VLOOKUP($D202,数据库!$B$4:$AD$1003,MATCH(AP$12,数据库!$C$2:$R$2,)+1,0))","v":""},null,"","","","","","","","","","","",{"$f":"IF($D202=\"\",\"\",VLOOKUP($D202,数据库!$B$4:$AD$1003,MATCH(BC$12,数据库!$C$2:$AD$2,)+1,0))","v":""},null,"","","","","","","","","","","",{"$f":"IF($D202=\"\",\"\",VLOOKUP($D202,数据库!$B$4:$AD$1003,MATCH(BP$12,数据库!$C$2:$R$2,)+1,0))","v":""},null,"","","","","","","","","","","",{"$f":"IF($D202=\"\",\"\",VLOOKUP($D202,数据库!$B$4:$AD$1003,MATCH(CC$12,数据库!$C$2:$R$2,)+1,0))","v":""},null,"","","","","","","","","","","",{"$f":"IF($D202=\"\",\"\",VLOOKUP($D202,数据库!$B$4:$AD$1003,MATCH(CP$12,数据库!$C$2:$AD$2,)+1,0))","v":""},null,"","","","","","","","","","","",{"$f":"IF($D202=\"\",\"\",VLOOKUP($D202,数据库!$B$4:$AD$1003,MATCH(DC$12,数据库!$C$2:$R$2,)+1,0))","v":""},null,"","","","","","","","","","","",{"$f":"IF($D202=\"\",\"\",VLOOKUP($D202,数据库!$B$4:$AD$1003,MATCH(DP$12,数据库!$C$2:$R$2,)+1,0))","v":""},null,"","","","","","","","","","","",{"$f":"IF($D202=\"\",\"\",VLOOKUP($D202,数据库!$B$4:$AD$1003,MATCH(EC$12,数据库!$C$2:$AD$2,)+1,0))","v":""},null,"","","","","","","","","","","",{"$f":"IF($D202=\"\",\"\",VLOOKUP($D202,数据库!$B$4:$AD$1003,MATCH(EP$12,数据库!$C$2:$R$2,)+1,0))","v":""},null,"","","","","","","","","","","",{"$f":"IF($D202=\"\",\"\",VLOOKUP($D202,数据库!$B$4:$AD$1003,MATCH(FC$12,数据库!$C$2:$R$2,)+1,0))","v":""},null,"","","","","","","","","","","",""]
[null,null,"","","","","","","","","","","","","",{"$f":"IF($D203=\"\",\"\",VLOOKUP($D203,数据库!$B$4:$AD$1003,MATCH(P$12,数据库!$C$2:$AD$2,)+1,0))","v":""},null,"",{"$f":"IF(R203=\"\",\"\",MID($R203,S$12+1,1))","v":""},"","","","","","","","","",{"$f":"IF($D203=\"\",\"\",VLOOKUP($D203,数据库!$B$4:$AD$1003,MATCH(AC$12,数据库!$C$2:$R$2,)+1,0))","v":""},null,"","","","","","","","","","","",{"$f":"IF($D203=\"\",\"\",VLOOKUP($D203,数据库!$B$4:$AD$1003,MATCH(AP$12,数据库!$C$2:$R$2,)+1,0))","v":""},null,"","","","","","","","","","","",{"$f":"IF($D203=\"\",\"\",VLOOKUP($D203,数据库!$B$4:$AD$1003,MATCH(BC$12,数据库!$C$2:$AD$2,)+1,0))","v":""},null,"","","","","","","","","","","",{"$f":"IF($D203=\"\",\"\",VLOOKUP($D203,数据库!$B$4:$AD$1003,MATCH(BP$12,数据库!$C$2:$R$2,)+1,0))","v":""},null,"","","","","","","","","","","",{"$f":"IF($D203=\"\",\"\",VLOOKUP($D203,数据库!$B$4:$AD$1003,MATCH(CC$12,数据库!$C$2:$R$2,)+1,0))","v":""},null,"","","","","","","","","","","",{"$f":"IF($D203=\"\",\"\",VLOOKUP($D203,数据库!$B$4:$AD$1003,MATCH(CP$12,数据库!$C$2:$AD$2,)+1,0))","v":""},null,"","","","","","","","","","","",{"$f":"IF($D203=\"\",\"\",VLOOKUP($D203,数据库!$B$4:$AD$1003,MATCH(DC$12,数据库!$C$2:$R$2,)+1,0))","v":""},null,"","","","","","","","","","","",{"$f":"IF($D203=\"\",\"\",VLOOKUP($D203,数据库!$B$4:$AD$1003,MATCH(DP$12,数据库!$C$2:$R$2,)+1,0))","v":""},null,"","","","","","","","","","","",{"$f":"IF($D203=\"\",\"\",VLOOKUP($D203,数据库!$B$4:$AD$1003,MATCH(EC$12,数据库!$C$2:$AD$2,)+1,0))","v":""},null,"","","","","","","","","","","",{"$f":"IF($D203=\"\",\"\",VLOOKUP($D203,数据库!$B$4:$AD$1003,MATCH(EP$12,数据库!$C$2:$R$2,)+1,0))","v":""},null,"","","","","","","","","","","",{"$f":"IF($D203=\"\",\"\",VLOOKUP($D203,数据库!$B$4:$AD$1003,MATCH(FC$12,数据库!$C$2:$R$2,)+1,0))","v":""},null,"","","","","","","","","","","",""]
[null,null,"","","","","","","","","","","","","",{"$f":"IF($D204=\"\",\"\",VLOOKUP($D204,数据库!$B$4:$AD$1003,MATCH(P$12,数据库!$C$2:$AD$2,)+1,0))","v":""},null,"",{"$f":"IF(R204=\"\",\"\",MID($R204,S$12+1,1))","v":""},"","","","","","","","","",{"$f":"IF($D204=\"\",\"\",VLOOKUP($D204,数据库!$B$4:$AD$1003,MATCH(AC$12,数据库!$C$2:$R$2,)+1,0))","v":""},null,"","","","","","","","","","","",{"$f":"IF($D204=\"\",\"\",VLOOKUP($D204,数据库!$B$4:$AD$1003,MATCH(AP$12,数据库!$C$2:$R$2,)+1,0))","v":""},null,"","","","","","","","","","","",{"$f":"IF($D204=\"\",\"\",VLOOKUP($D204,数据库!$B$4:$AD$1003,MATCH(BC$12,数据库!$C$2:$AD$2,)+1,0))","v":""},null,"","","","","","","","","","","",{"$f":"IF($D204=\"\",\"\",VLOOKUP($D204,数据库!$B$4:$AD$1003,MATCH(BP$12,数据库!$C$2:$R$2,)+1,0))","v":""},null,"","","","","","","","","","","",{"$f":"IF($D204=\"\",\"\",VLOOKUP($D204,数据库!$B$4:$AD$1003,MATCH(CC$12,数据库!$C$2:$R$2,)+1,0))","v":""},null,"","","","","","","","","","","",{"$f":"IF($D204=\"\",\"\",VLOOKUP($D204,数据库!$B$4:$AD$1003,MATCH(CP$12,数据库!$C$2:$AD$2,)+1,0))","v":""},null,"","","","","","","","","","","",{"$f":"IF($D204=\"\",\"\",VLOOKUP($D204,数据库!$B$4:$AD$1003,MATCH(DC$12,数据库!$C$2:$R$2,)+1,0))","v":""},null,"","","","","","","","","","","",{"$f":"IF($D204=\"\",\"\",VLOOKUP($D204,数据库!$B$4:$AD$1003,MATCH(DP$12,数据库!$C$2:$R$2,)+1,0))","v":""},null,"","","","","","","","","","","",{"$f":"IF($D204=\"\",\"\",VLOOKUP($D204,数据库!$B$4:$AD$1003,MATCH(EC$12,数据库!$C$2:$AD$2,)+1,0))","v":""},null,"","","","","","","","","","","",{"$f":"IF($D204=\"\",\"\",VLOOKUP($D204,数据库!$B$4:$AD$1003,MATCH(EP$12,数据库!$C$2:$R$2,)+1,0))","v":""},null,"","","","","","","","","","","",{"$f":"IF($D204=\"\",\"\",VLOOKUP($D204,数据库!$B$4:$AD$1003,MATCH(FC$12,数据库!$C$2:$R$2,)+1,0))","v":""},null,"","","","","","","","","","","",""]
[null,null,"","","","","","","","","","","","","",{"$f":"IF($D205=\"\",\"\",VLOOKUP($D205,数据库!$B$4:$AD$1003,MATCH(P$12,数据库!$C$2:$AD$2,)+1,0))","v":""},null,"",{"$f":"IF(R205=\"\",\"\",MID($R205,S$12+1,1))","v":""},"","","","","","","","","",{"$f":"IF($D205=\"\",\"\",VLOOKUP($D205,数据库!$B$4:$AD$1003,MATCH(AC$12,数据库!$C$2:$R$2,)+1,0))","v":""},null,"","","","","","","","","","","",{"$f":"IF($D205=\"\",\"\",VLOOKUP($D205,数据库!$B$4:$AD$1003,MATCH(AP$12,数据库!$C$2:$R$2,)+1,0))","v":""},null,"","","","","","","","","","","",{"$f":"IF($D205=\"\",\"\",VLOOKUP($D205,数据库!$B$4:$AD$1003,MATCH(BC$12,数据库!$C$2:$AD$2,)+1,0))","v":""},null,"","","","","","","","","","","",{"$f":"IF($D205=\"\",\"\",VLOOKUP($D205,数据库!$B$4:$AD$1003,MATCH(BP$12,数据库!$C$2:$R$2,)+1,0))","v":""},null,"","","","","","","","","","","",{"$f":"IF($D205=\"\",\"\",VLOOKUP($D205,数据库!$B$4:$AD$1003,MATCH(CC$12,数据库!$C$2:$R$2,)+1,0))","v":""},null,"","","","","","","","","","","",{"$f":"IF($D205=\"\",\"\",VLOOKUP($D205,数据库!$B$4:$AD$1003,MATCH(CP$12,数据库!$C$2:$AD$2,)+1,0))","v":""},null,"","","","","","","","","","","",{"$f":"IF($D205=\"\",\"\",VLOOKUP($D205,数据库!$B$4:$AD$1003,MATCH(DC$12,数据库!$C$2:$R$2,)+1,0))","v":""},null,"","","","","","","","","","","",{"$f":"IF($D205=\"\",\"\",VLOOKUP($D205,数据库!$B$4:$AD$1003,MATCH(DP$12,数据库!$C$2:$R$2,)+1,0))","v":""},null,"","","","","","","","","","","",{"$f":"IF($D205=\"\",\"\",VLOOKUP($D205,数据库!$B$4:$AD$1003,MATCH(EC$12,数据库!$C$2:$AD$2,)+1,0))","v":""},null,"","","","","","","","","","","",{"$f":"IF($D205=\"\",\"\",VLOOKUP($D205,数据库!$B$4:$AD$1003,MATCH(EP$12,数据库!$C$2:$R$2,)+1,0))","v":""},null,"","","","","","","","","","","",{"$f":"IF($D205=\"\",\"\",VLOOKUP($D205,数据库!$B$4:$AD$1003,MATCH(FC$12,数据库!$C$2:$R$2,)+1,0))","v":""},null,"","","","","","","","","","","",""]
[null,null,"","","","","","","","","","","","","",{"$f":"IF($D206=\"\",\"\",VLOOKUP($D206,数据库!$B$4:$AD$1003,MATCH(P$12,数据库!$C$2:$AD$2,)+1,0))","v":""},null,"",{"$f":"IF(R206=\"\",\"\",MID($R206,S$12+1,1))","v":""},"","","","","","","","","",{"$f":"IF($D206=\"\",\"\",VLOOKUP($D206,数据库!$B$4:$AD$1003,MATCH(AC$12,数据库!$C$2:$R$2,)+1,0))","v":""},null,"","","","","","","","","","","",{"$f":"IF($D206=\"\",\"\",VLOOKUP($D206,数据库!$B$4:$AD$1003,MATCH(AP$12,数据库!$C$2:$R$2,)+1,0))","v":""},null,"","","","","","","","","","","",{"$f":"IF($D206=\"\",\"\",VLOOKUP($D206,数据库!$B$4:$AD$1003,MATCH(BC$12,数据库!$C$2:$AD$2,)+1,0))","v":""},null,"","","","","","","","","","","",{"$f":"IF($D206=\"\",\"\",VLOOKUP($D206,数据库!$B$4:$AD$1003,MATCH(BP$12,数据库!$C$2:$R$2,)+1,0))","v":""},null,"","","","","","","","","","","",{"$f":"IF($D206=\"\",\"\",VLOOKUP($D206,数据库!$B$4:$AD$1003,MATCH(CC$12,数据库!$C$2:$R$2,)+1,0))","v":""},null,"","","","","","","","","","","",{"$f":"IF($D206=\"\",\"\",VLOOKUP($D206,数据库!$B$4:$AD$1003,MATCH(CP$12,数据库!$C$2:$AD$2,)+1,0))","v":""},null,"","","","","","","","","","","",{"$f":"IF($D206=\"\",\"\",VLOOKUP($D206,数据库!$B$4:$AD$1003,MATCH(DC$12,数据库!$C$2:$R$2,)+1,0))","v":""},null,"","","","","","","","","","","",{"$f":"IF($D206=\"\",\"\",VLOOKUP($D206,数据库!$B$4:$AD$1003,MATCH(DP$12,数据库!$C$2:$R$2,)+1,0))","v":""},null,"","","","","","","","","","","",{"$f":"IF($D206=\"\",\"\",VLOOKUP($D206,数据库!$B$4:$AD$1003,MATCH(EC$12,数据库!$C$2:$AD$2,)+1,0))","v":""},null,"","","","","","","","","","","",{"$f":"IF($D206=\"\",\"\",VLOOKUP($D206,数据库!$B$4:$AD$1003,MATCH(EP$12,数据库!$C$2:$R$2,)+1,0))","v":""},null,"","","","","","","","","","","",{"$f":"IF($D206=\"\",\"\",VLOOKUP($D206,数据库!$B$4:$AD$1003,MATCH(FC$12,数据库!$C$2:$R$2,)+1,0))","v":""},null,{"$f":"IF(E206=\"\",\"\",E206)","v":""},{"$f":"IF(R206=\"\",\"\",R206)","v":""},{"$f":"IF(AE206=\"\",\"\",AE206)","v":""},{"$f":"IF(AR206=\"\",\"\",AR206)","v":""},{"$f":"IF(BE206=\"\",\"\",BE206)","v":""},{"$f":"IF(BR206=\"\",\"\",BR206)","v":""},{"$f":"IF(CE206=\"\",\"\",CE206)","v":""},{"$f":"IF(CR206=\"\",\"\",CR206)","v":""},{"$f":"IF(DE206=\"\",\"\",DE206)","v":""},{"$f":"IF(DR206=\"\",\"\",DR206)","v":""},{"$f":"IF(EE206=\"\",\"\",EE206)","v":""},{"$f":"IF(ER206=\"\",\"\",ER206)","v":""}]
[null,null,"","","","","","","","","","","","","",{"$f":"IF($D207=\"\",\"\",VLOOKUP($D207,数据库!$B$4:$AD$1003,MATCH(P$12,数据库!$C$2:$AD$2,)+1,0))","v":""},null,"",{"$f":"IF(R207=\"\",\"\",MID($R207,S$12+1,1))","v":""},"","","","","","","","","",{"$f":"IF($D207=\"\",\"\",VLOOKUP($D207,数据库!$B$4:$AD$1003,MATCH(AC$12,数据库!$C$2:$R$2,)+1,0))","v":""},null,"","","","","","","","","","","",{"$f":"IF($D207=\"\",\"\",VLOOKUP($D207,数据库!$B$4:$AD$1003,MATCH(AP$12,数据库!$C$2:$R$2,)+1,0))","v":""},null,"","","","","","","","","","","",{"$f":"IF($D207=\"\",\"\",VLOOKUP($D207,数据库!$B$4:$AD$1003,MATCH(BC$12,数据库!$C$2:$AD$2,)+1,0))","v":""},null,"","","","","","","","","","","",{"$f":"IF($D207=\"\",\"\",VLOOKUP($D207,数据库!$B$4:$AD$1003,MATCH(BP$12,数据库!$C$2:$R$2,)+1,0))","v":""},null,"","","","","","","","","","","",{"$f":"IF($D207=\"\",\"\",VLOOKUP($D207,数据库!$B$4:$AD$1003,MATCH(CC$12,数据库!$C$2:$R$2,)+1,0))","v":""},null,"","","","","","","","","","","",{"$f":"IF($D207=\"\",\"\",VLOOKUP($D207,数据库!$B$4:$AD$1003,MATCH(CP$12,数据库!$C$2:$AD$2,)+1,0))","v":""},null,"","","","","","","","","","","",{"$f":"IF($D207=\"\",\"\",VLOOKUP($D207,数据库!$B$4:$AD$1003,MATCH(DC$12,数据库!$C$2:$R$2,)+1,0))","v":""},null,"","","","","","","","","","","",{"$f":"IF($D207=\"\",\"\",VLOOKUP($D207,数据库!$B$4:$AD$1003,MATCH(DP$12,数据库!$C$2:$R$2,)+1,0))","v":""},null,"","","","","","","","","","","",{"$f":"IF($D207=\"\",\"\",VLOOKUP($D207,数据库!$B$4:$AD$1003,MATCH(EC$12,数据库!$C$2:$AD$2,)+1,0))","v":""},null,"","","","","","","","","","","",{"$f":"IF($D207=\"\",\"\",VLOOKUP($D207,数据库!$B$4:$AD$1003,MATCH(EP$12,数据库!$C$2:$R$2,)+1,0))","v":""},null,"","","","","","","","","","","",{"$f":"IF($D207=\"\",\"\",VLOOKUP($D207,数据库!$B$4:$AD$1003,MATCH(FC$12,数据库!$C$2:$R$2,)+1,0))","v":""},null,"","","","","","","","","","","",""]
[null,null,"","","","","","","","","","","","","",{"$f":"IF($D208=\"\",\"\",VLOOKUP($D208,数据库!$B$4:$AD$1003,MATCH(P$12,数据库!$C$2:$AD$2,)+1,0))","v":""},null,"",{"$f":"IF(R208=\"\",\"\",MID($R208,S$12+1,1))","v":""},"","","","","","","","","",{"$f":"IF($D208=\"\",\"\",VLOOKUP($D208,数据库!$B$4:$AD$1003,MATCH(AC$12,数据库!$C$2:$R$2,)+1,0))","v":""},null,"","","","","","","","","","","",{"$f":"IF($D208=\"\",\"\",VLOOKUP($D208,数据库!$B$4:$AD$1003,MATCH(AP$12,数据库!$C$2:$R$2,)+1,0))","v":""},null,"","","","","","","","","","","",{"$f":"IF($D208=\"\",\"\",VLOOKUP($D208,数据库!$B$4:$AD$1003,MATCH(BC$12,数据库!$C$2:$AD$2,)+1,0))","v":""},null,"","","","","","","","","","","",{"$f":"IF($D208=\"\",\"\",VLOOKUP($D208,数据库!$B$4:$AD$1003,MATCH(BP$12,数据库!$C$2:$R$2,)+1,0))","v":""},null,"","","","","","","","","","","",{"$f":"IF($D208=\"\",\"\",VLOOKUP($D208,数据库!$B$4:$AD$1003,MATCH(CC$12,数据库!$C$2:$R$2,)+1,0))","v":""},null,"","","","","","","","","","","",{"$f":"IF($D208=\"\",\"\",VLOOKUP($D208,数据库!$B$4:$AD$1003,MATCH(CP$12,数据库!$C$2:$AD$2,)+1,0))","v":""},null,"","","","","","","","","","","",{"$f":"IF($D208=\"\",\"\",VLOOKUP($D208,数据库!$B$4:$AD$1003,MATCH(DC$12,数据库!$C$2:$R$2,)+1,0))","v":""},null,"","","","","","","","","","","",{"$f":"IF($D208=\"\",\"\",VLOOKUP($D208,数据库!$B$4:$AD$1003,MATCH(DP$12,数据库!$C$2:$R$2,)+1,0))","v":""},null,"","","","","","","","","","","",{"$f":"IF($D208=\"\",\"\",VLOOKUP($D208,数据库!$B$4:$AD$1003,MATCH(EC$12,数据库!$C$2:$AD$2,)+1,0))","v":""},null,"","","","","","","","","","","",{"$f":"IF($D208=\"\",\"\",VLOOKUP($D208,数据库!$B$4:$AD$1003,MATCH(EP$12,数据库!$C$2:$R$2,)+1,0))","v":""},null,"","","","","","","","","","","",{"$f":"IF($D208=\"\",\"\",VLOOKUP($D208,数据库!$B$4:$AD$1003,MATCH(FC$12,数据库!$C$2:$R$2,)+1,0))","v":""},null,"","","","","","","","","","","",""]
[null,null,"","","","","","","","","","","","","",{"$f":"IF($D209=\"\",\"\",VLOOKUP($D209,数据库!$B$4:$AD$1003,MATCH(P$12,数据库!$C$2:$AD$2,)+1,0))","v":""},null,"",{"$f":"IF(R209=\"\",\"\",MID($R209,S$12+1,1))","v":""},"","","","","","","","","",{"$f":"IF($D209=\"\",\"\",VLOOKUP($D209,数据库!$B$4:$AD$1003,MATCH(AC$12,数据库!$C$2:$R$2,)+1,0))","v":""},null,"","","","","","","","","","","",{"$f":"IF($D209=\"\",\"\",VLOOKUP($D209,数据库!$B$4:$AD$1003,MATCH(AP$12,数据库!$C$2:$R$2,)+1,0))","v":""},null,"","","","","","","","","","","",{"$f":"IF($D209=\"\",\"\",VLOOKUP($D209,数据库!$B$4:$AD$1003,MATCH(BC$12,数据库!$C$2:$AD$2,)+1,0))","v":""},null,"","","","","","","","","","","",{"$f":"IF($D209=\"\",\"\",VLOOKUP($D209,数据库!$B$4:$AD$1003,MATCH(BP$12,数据库!$C$2:$R$2,)+1,0))","v":""},null,"","","","","","","","","","","",{"$f":"IF($D209=\"\",\"\",VLOOKUP($D209,数据库!$B$4:$AD$1003,MATCH(CC$12,数据库!$C$2:$R$2,)+1,0))","v":""},null,"","","","","","","","","","","",{"$f":"IF($D209=\"\",\"\",VLOOKUP($D209,数据库!$B$4:$AD$1003,MATCH(CP$12,数据库!$C$2:$AD$2,)+1,0))","v":""},null,"","","","","","","","","","","",{"$f":"IF($D209=\"\",\"\",VLOOKUP($D209,数据库!$B$4:$AD$1003,MATCH(DC$12,数据库!$C$2:$R$2,)+1,0))","v":""},null,"","","","","","","","","","","",{"$f":"IF($D209=\"\",\"\",VLOOKUP($D209,数据库!$B$4:$AD$1003,MATCH(DP$12,数据库!$C$2:$R$2,)+1,0))","v":""},null,"","","","","","","","","","","",{"$f":"IF($D209=\"\",\"\",VLOOKUP($D209,数据库!$B$4:$AD$1003,MATCH(EC$12,数据库!$C$2:$AD$2,)+1,0))","v":""},null,"","","","","","","","","","","",{"$f":"IF($D209=\"\",\"\",VLOOKUP($D209,数据库!$B$4:$AD$1003,MATCH(EP$12,数据库!$C$2:$R$2,)+1,0))","v":""},null,"","","","","","","","","","","",{"$f":"IF($D209=\"\",\"\",VLOOKUP($D209,数据库!$B$4:$AD$1003,MATCH(FC$12,数据库!$C$2:$R$2,)+1,0))","v":""},null,"","","","","","","","","","","",""]
[null,null,"","","","","","","","","","","","","",{"$f":"IF($D210=\"\",\"\",VLOOKUP($D210,数据库!$B$4:$AD$1003,MATCH(P$12,数据库!$C$2:$AD$2,)+1,0))","v":""},null,"",{"$f":"IF(R210=\"\",\"\",MID($R210,S$12+1,1))","v":""},"","","","","","","","","",{"$f":"IF($D210=\"\",\"\",VLOOKUP($D210,数据库!$B$4:$AD$1003,MATCH(AC$12,数据库!$C$2:$R$2,)+1,0))","v":""},null,"","","","","","","","","","","",{"$f":"IF($D210=\"\",\"\",VLOOKUP($D210,数据库!$B$4:$AD$1003,MATCH(AP$12,数据库!$C$2:$R$2,)+1,0))","v":""},null,"","","","","","","","","","","",{"$f":"IF($D210=\"\",\"\",VLOOKUP($D210,数据库!$B$4:$AD$1003,MATCH(BC$12,数据库!$C$2:$AD$2,)+1,0))","v":""},null,"","","","","","","","","","","",{"$f":"IF($D210=\"\",\"\",VLOOKUP($D210,数据库!$B$4:$AD$1003,MATCH(BP$12,数据库!$C$2:$R$2,)+1,0))","v":""},null,"","","","","","","","","","","",{"$f":"IF($D210=\"\",\"\",VLOOKUP($D210,数据库!$B$4:$AD$1003,MATCH(CC$12,数据库!$C$2:$R$2,)+1,0))","v":""},null,"","","","","","","","","","","",{"$f":"IF($D210=\"\",\"\",VLOOKUP($D210,数据库!$B$4:$AD$1003,MATCH(CP$12,数据库!$C$2:$AD$2,)+1,0))","v":""},null,"","","","","","","","","","","",{"$f":"IF($D210=\"\",\"\",VLOOKUP($D210,数据库!$B$4:$AD$1003,MATCH(DC$12,数据库!$C$2:$R$2,)+1,0))","v":""},null,"","","","","","","","","","","",{"$f":"IF($D210=\"\",\"\",VLOOKUP($D210,数据库!$B$4:$AD$1003,MATCH(DP$12,数据库!$C$2:$R$2,)+1,0))","v":""},null,"","","","","","","","","","","",{"$f":"IF($D210=\"\",\"\",VLOOKUP($D210,数据库!$B$4:$AD$1003,MATCH(EC$12,数据库!$C$2:$AD$2,)+1,0))","v":""},null,"","","","","","","","","","","",{"$f":"IF($D210=\"\",\"\",VLOOKUP($D210,数据库!$B$4:$AD$1003,MATCH(EP$12,数据库!$C$2:$R$2,)+1,0))","v":""},null,"","","","","","","","","","","",{"$f":"IF($D210=\"\",\"\",VLOOKUP($D210,数据库!$B$4:$AD$1003,MATCH(FC$12,数据库!$C$2:$R$2,)+1,0))","v":""},null,"","","","","","","","","","","",""]
[null,null,"","","","","","","","","","","","","",{"$f":"IF($D211=\"\",\"\",VLOOKUP($D211,数据库!$B$4:$AD$1003,MATCH(P$12,数据库!$C$2:$AD$2,)+1,0))","v":""},null,"",{"$f":"IF(R211=\"\",\"\",MID($R211,S$12+1,1))","v":""},"","","","","","","","","",{"$f":"IF($D211=\"\",\"\",VLOOKUP($D211,数据库!$B$4:$AD$1003,MATCH(AC$12,数据库!$C$2:$R$2,)+1,0))","v":""},null,"","","","","","","","","","","",{"$f":"IF($D211=\"\",\"\",VLOOKUP($D211,数据库!$B$4:$AD$1003,MATCH(AP$12,数据库!$C$2:$R$2,)+1,0))","v":""},null,"","","","","","","","","","","",{"$f":"IF($D211=\"\",\"\",VLOOKUP($D211,数据库!$B$4:$AD$1003,MATCH(BC$12,数据库!$C$2:$AD$2,)+1,0))","v":""},null,"","","","","","","","","","","",{"$f":"IF($D211=\"\",\"\",VLOOKUP($D211,数据库!$B$4:$AD$1003,MATCH(BP$12,数据库!$C$2:$R$2,)+1,0))","v":""},null,"","","","","","","","","","","",{"$f":"IF($D211=\"\",\"\",VLOOKUP($D211,数据库!$B$4:$AD$1003,MATCH(CC$12,数据库!$C$2:$R$2,)+1,0))","v":""},null,"","","","","","","","","","","",{"$f":"IF($D211=\"\",\"\",VLOOKUP($D211,数据库!$B$4:$AD$1003,MATCH(CP$12,数据库!$C$2:$AD$2,)+1,0))","v":""},null,"","","","","","","","","","","",{"$f":"IF($D211=\"\",\"\",VLOOKUP($D211,数据库!$B$4:$AD$1003,MATCH(DC$12,数据库!$C$2:$R$2,)+1,0))","v":""},null,"","","","","","","","","","","",{"$f":"IF($D211=\"\",\"\",VLOOKUP($D211,数据库!$B$4:$AD$1003,MATCH(DP$12,数据库!$C$2:$R$2,)+1,0))","v":""},null,"","","","","","","","","","","",{"$f":"IF($D211=\"\",\"\",VLOOKUP($D211,数据库!$B$4:$AD$1003,MATCH(EC$12,数据库!$C$2:$AD$2,)+1,0))","v":""},null,"","","","","","","","","","","",{"$f":"IF($D211=\"\",\"\",VLOOKUP($D211,数据库!$B$4:$AD$1003,MATCH(EP$12,数据库!$C$2:$R$2,)+1,0))","v":""},null,"","","","","","","","","","","",{"$f":"IF($D211=\"\",\"\",VLOOKUP($D211,数据库!$B$4:$AD$1003,MATCH(FC$12,数据库!$C$2:$R$2,)+1,0))","v":""},null,"","","","","","","","","","","",""]
[null,null,"","","",null,null,null,null,null,null,null,null,null,null,null,null,"",null,null,null,null,null,null,null,null,null,null,null,null,"",null,null,null,null,null,null,null,null,null,null,null,null,"",null,null,null,null,null,null,null,null,null,null,null,null,"",null,null,null,null,null,null,null,null,null,null,null,null,"",null,null,null,null,null,null,null,null,null,null,null,null,"",null,null,null,null,null,null,null,null,null,null,null,null,"",null,null,null,null,null,null,null,null,null,null,null,null,"",null,null,null,null,null,null,null,null,null,null,null,null,"",null,null,null,null,null,null,null,null,null,null,null,null,"",null,null,null,null,null,null,null,null,null,null,null,null,""]

{"sheet":"数据库","index":6,"n_rows":1003,"n_cols":30,"rows_kept":1003,"cut":false,"hidden":true,"merged":[[1,2,1,4],[1,5,1,7],[1,8,1,10],[1,11,1,13]]}
[]
[null,null,"胆",null,null,"对码",null,null,"九",null,null,"补",null,null,"胆对九","胆对补","胆九补","对九补","定百胆对九","定十胆对九","定个胆对九","定百胆对补","定十胆对补","定个胆对补","定百胆九补","定十胆九补","定个胆九补","定百对九补","定十对九补","定个对九补"]
[null,1,2,3,4,5,6,7,8,9,10,11,12,13,14,15,16,17,18,19,20,21,22,23,24,25,26,27,28,29]
[null,"000",{"$f":"MID($B4,1,1)","v":"0"},{"$f":"MID($B4,2,1)","v":"0"},{"$f":"MID($B4,3,1)","v":"0"},{"$f":"RIGHT(C4+5)","v":"5"},{"$f":"RIGHT(D4+5)","v":"5"},"5",{"$f":"RIGHT(9-C4)","v":"9"},{"$f":"RIGHT(9-D4)","v":"9"},"9",{"$f":"RIGHT(10-C4)","v":"0"},{"$f":"RIGHT(10-D4)","v":"0"},"0",{"$f":"C4&D4&E4&F4&G4&H4&I4&J4&K4","v":"000555999"},{"$f":"C4&D4&E4&F4&G4&H4&L4&M4&N4","v":"000555000"},{"$f":"C4&D4&E4&I4&J4&K4&L4&M4&N4","v":"000999000"},{"$f":"F4&G4&H4&I4&J4&K4&L4&M4&N4","v":"555999000"},{"$f":"C4&F4&I4","v":"059"},{"$f":"D4&G4&J4","v":"059"},"059",{"$f":"C4&F4&L4","v":"050"},{"$f":"D4&G4&M4","v":"050"},"050",{"$f":"C4&I4&L4","v":"090"},{"$f":"D4&J4&M4","v":"090"},"090",{"$f":"F4&I4&L4","v":"590"},{"$f":"G4&J4&M4","v":"590"},"590"]
[null,"001",{"$f":"MID($B5,1,1)","v":"0"},{"$f":"MID($B5,2,1)","v":"0"},{"$f":"MID($B5,3,1)","v":"1"},{"$f":"RIGHT(C5+5)","v":"5"},{"$f":"RIGHT(D5+5)","v":"5"},{"$f":"RIGHT(E5+5)","v":"6"},{"$f":"RIGHT(9-C5)","v":"9"},{"$f":"RIGHT(9-D5)","v":"9"},{"$f":"RIGHT(9-E5)","v":"8"},{"$f":"RIGHT(10-C5)","v":"0"},{"$f":"RIGHT(10-D5)","v":"0"},{"$f":"RIGHT(10-E5)","v":"9"},{"$f":"C5&D5&E5&F5&G5&H5&I5&J5&K5","v":"001556998"},{"$f":"C5&D5&E5&F5&G5&H5&L5&M5&N5","v":"001556009"},{"$f":"C5&D5&E5&I5&J5&K5&L5&M5&N5","v":"001998009"},{"$f":"F5&G5&H5&I5&J5&K5&L5&M5&N5","v":"556998009"},{"$f":"C5&F5&I5","v":"059"},"059",{"$f":"E5&H5&K5","v":"168"},{"$f":"C5&F5&L5","v":"050"},{"$f":"D5&G5&M5","v":"050"},{"$f":"E5&H5&N5","v":"169"},{"$f":"C5&I5&L5","v":"090"},{"$f":"D5&J5&M5","v":"090"},{"$f":"E5&K5&N5","v":"189"},{"$f":"F5&I5&L5","v":"590"},{"$f":"G5&J5&M5","v":"590"},"689"]
[null,"002","0","0","2","5","5","7","9","9","7","0","0","8","002557997","002557008","002997008","557997008","059","059","277","050","050","278","090","090","278","590","590","778"]
[null,"003","0","0","3","5","5","8","9","9","6","0","0","7","003558996","003558007","003996007","558996007","059","059","386","050","050","387","090","090","367","590","590","867"]
[null,"004","0","0","4","5","5","9","9","9","5","0","0","6","004559995","004559006","004995006","559995006","059","059","495","050","050","496","090","090","456","590","590","956"]
[null,"005","0","0","5","5","5","0","9","9","4","0","0","5","005550994","005550005","005994005","550994005","059","059","504","050","050","505","090","090","545","590","590","045"]
[null,"006","0","0","6","5","5","1","9","9","3","0","0","4","006551993","006551004","006993004","551993004","059","059","613","050","050","614","090","090","634","590","590","134"]
[null,"007","0","0","7","5","5","2","9","9","2","0","0","3","007552992","007552003","007992003","552992003","059",{"$f":"D11&G11&J11","v":"059"},{"$f":"E11&H11&K11","v":"722"},"050","050","723","090","090","723","590","590","223"]
[null,"008","0","0","8","5","5","3","9","9","1","0","0","2","008553991","008553002","008991002","553991002","059","059","831","050","050","832","090","090","812","590","590","312"]
[null,"009","0","0","9","5","5","4","9","9","0","0","0","1","009554990","009554001","009990001","554990001","059","059","940","050","050","941","090","090","901","590","590","401"]
[null,"010","0","1","0","5","6","5","9","8","9","0","9","0","010565989","010565090","010989090","565989090","059","168","059","050","169","050","090","189","090","590","689","590"]
[null,"011","0","1","1","5","6","6","9","8","8","0","9","9","011566988","011566099","011988099","566988099","059","168","168","050","169","169","090","189","189","590","689","689"]
[null,"012","0","1","2","5","6","7","9","8","7","0","9","8","012567987","012567098","012987098","567987098","059","168","277","050","169","278","090","189","278","590","689","778"]
[null,"013","0","1","3","5","6","8","9","8","6","0","9","7","013568986","013568097","013986097","568986097","059","168","386","050","169","387","090","189","367","590","689","867"]
[null,"014","0","1","4","5","6","9","9","8","5","0","9","6","014569985","014569096","014985096","569985096","059","168","495","050","169","496","090","189","456","590","689","956"]
[null,"015","0","1","5","5","6","0","9","8","4","0","9","5","015560984","015560095","015984095","560984095","059","168","504","050","169","505","090","189","545","590","689","045"]
[null,"016","0","1","6","5","6","1","9","8","3","0","9","4","016561983","016561094","016983094","561983094","059","168","613","050","169","614","090","189","634","590","689","134"]
[null,"017","0","1","7","5","6","2","9","8","2","0","9","3","017562982","017562093","017982093","562982093","059","168","722","050","169","723","090","189","723","590","689","223"]
[null,"018","0","1","8","5","6","3","9","8","1","0","9","2","018563981","018563092","018981092","563981092","059","168","831","050","169","832","090","189","812","590","689","312"]
[null,"019","0","1","9","5","6","4","9","8","0","0","9","1","019564980","019564091","019980091","564980091","059","168","940","050","169","941","090","189","901","590","689","401"]
[null,"020","0","2","0","5","7","5","9","7","9","0","8","0","020575979","020575080","020979080","575979080","059","277","059","050","278","050","090","278","090","590","778","590"]
[null,"021","0","2","1","5","7","6","9","7","8","0","8","9","021576978","021576089","021978089","576978089","059","277","168","050","278","169","090","278","189","590","778","689"]
[null,"022","0","2","2","5","7","7","9","7","7","0","8","8","022577977","022577088","022977088","577977088","059","277","277","050","278","278","090","278","278","590","778","778"]
[null,"023","0","2","3","5","7","8","9","7","6","0","8","7","023578976","023578087","023976087","578976087","059","277","386","050","278","387","090","278","367","590","778","867"]
[null,"024","0","2","4","5","7","9","9","7","5","0","8","6","024579975","024579086","024975086","579975086","059","277","495","050","278","496","090","278","456","590","778","956"]
[null,"025","0","2","5","5","7","0","9","7","4","0","8","5","025570974","025570085","025974085","570974085","059","277","504","050","278","505","090","278","545","590","778","045"]
[null,"026","0","2","6","5","7","1","9","7","3","0","8","4","026571973","026571084","026973084","571973084","059","277","613","050","278","614","090","278","634","590","778","134"]
[null,"027","0","2","7","5","7","2","9","7","2","0","8","3","027572972","027572083","027972083","572972083","059","277","722","050","278","723","090","278","723","590","778","223"]
[null,"028","0","2","8","5","7","3","9","7","1","0","8","2","028573971","028573082","028971082","573971082","059","277","831","050","278","832","090","278","812","590","778","312"]
[null,"029","0","2","9","5","7","4","9","7","0","0","8","1","029574970","029574081","029970081","574970081","059","277","940","050","278","941","090","278","901","590","778","401"]
[null,"030","0","3","0","5","8","5","9","6","9","0","7","0","030585969","030585070","030969070","585969070","059","386","059","050","387","050","090","367","090","590","867","590"]
[null,"031","0","3","1","5","8","6","9","6","8","0","7","9","031586968","031586079","031968079","586968079","059","386","168","050","387","169","090","367","189","590","867","689"]
[null,"032","0","3","2","5","8","7","9","6","7","0","7","8","032587967","032587078","032967078","587967078","059","386","277","050","387","278","090","367","278","590","867","778"]
[null,"033","0","3","3","5","8","8","9","6","6","0","7","7","033588966","033588077","033966077","588966077","059","386","386","050","387","387","090","367","367","590","867","867"]
[null,"034","0","3","4","5","8","9","9","6","5","0","7","6","034589965","034589076","034965076","589965076","059","386","495","050","387","496","090","367","456","590","867","956"]
[null,"035","0","3","5","5","8","0","9","6","4","0","7","5","035580964","035580075","035964075","580964075","059","386","504","050","387","505","090","367","545","590","867","045"]
[null,"036","0","3","6","5","8","1","9","6","3","0","7","4","036581963","036581074","036963074","581963074","059","386","613","050","387","614","090","367","634","590","867","134"]
[null,"037","0","3","7","5","8","2","9","6","2","0","7","3","037582962","037582073","037962073","582962073","059","386","722","050","387","723","090","367","723","590","867","223"]
[null,"038","0","3","8","5","8","3","9","6","1","0","7","2","038583961","038583072","038961072","583961072","059","386","831","050","387","832","090","367","812","590","867","312"]
[null,"039","0","3","9","5","8","4","9","6","0","0","7","1","039584960","039584071","039960071","584960071","059","386","940","050","387","941","090","367","901","590","867","401"]
[null,"040","0","4","0","5","9","5","9","5","9","0","6","0","040595959","040595060","040959060","595959060","059","495","059","050","496","050","090","456","090","590","956","590"]
[null,"041","0","4","1","5","9","6","9","5","8","0","6","9","041596958","041596069","041958069","596958069","059","495","168","050","496","169","090","456","189","590","956","689"]
[null,"042","0","4","2","5","9","7","9","5","7","0","6","8","042597957","042597068","042957068","597957068","059","495","277","050","496","278","090","456","278","590","956","778"]
[null,"043","0","4","3","5","9","8","9","5","6","0","6","7","043598956","043598067","043956067","598956067","059","495","386","050","496","387","090","456","367","590","956","867"]
[null,"044","0","4","4","5","9","9","9","5","5","0","6","6","044599955","044599066","044955066","599955066","059","495","495","050","496","496","090","456","456","590","956","956"]
[null,"045","0","4","5","5","9","0","9","5","4","0","6","5","045590954","045590065","045954065","590954065","059","495","504","050","496","505","090","456","545","590","956","045"]
[null,"046","0","4","6","5","9","1","9","5","3","0","6","4","046591953","046591064","046953064","591953064","059","495","613","050","496","614","090","456","634","590","956","134"]
[null,"047","0","4","7","5","9","2","9","5","2","0","6","3","047592952","047592063","047952063","592952063","059","495","722","050","496","723","090","456","723","590","956","223"]
[null,"048","0","4","8","5","9","3","9","5","1","0","6","2","048593951","048593062","048951062","593951062","059","495","831","050","496","832","090","456","812","590","956","312"]
[null,"049","0","4","9","5","9","4","9","5","0","0","6","1","049594950","049594061","049950061","594950061","059","495","940","050","496","941","090","456","901","590","956","401"]
[null,"050","0","5","0","5","0","5","9","4","9","0","5","0","050505949","050505050","050949050","505949050","059","504","059","050","505","050","090","545","090","590","045","590"]
[null,"051","0","5","1","5","0","6","9","4","8","0","5","9","051506948","051506059","051948059","506948059","059","504","168","050","505","169","090","545","189","590","045","689"]
[null,"052","0","5","2","5","0","7","9","4","7","0","5","8","052507947","052507058","052947058","507947058","059","504","277","050","505","278","090","545","278","590","045","778"]
[null,"053","0","5","3","5","0","8","9","4","6","0","5","7","053508946","053508057","053946057","508946057","059","504","386","050","505","387","090","545","367","590","045","867"]
[null,"054","0","5","4","5","0","9","9","4","5","0","5","6","054509945","054509056","054945056","509945056","059","504","495","050","505","496","090","545","456","590","045","956"]
[null,"055","0","5","5","5","0","0","9","4","4","0","5","5","055500944","055500055","055944055","500944055","059","504","504","050","505","505","090","545","545","590","045","045"]
[null,"056","0","5","6","5","0","1","9","4","3","0","5","4","056501943","056501054","056943054","501943054","059","504","613","050","505","614","090","545","634","590","045","134"]
[null,"057","0","5","7","5","0","2","9","4","2","0","5","3","057502942","057502053","057942053","502942053","059","504","722","050","505","723","090","545","723","590","045","223"]
[null,"058","0","5","8","5","0","3","9","4","1","0","5","2","058503941","058503052","058941052","503941052","059","504","831","050","505","832","090","545","812","590","045","312"]
[null,"059","0","5","9","5","0","4","9","4","0","0","5","1","059504940","059504051","059940051","504940051","059","504","940","050","505","941","090","545","901","590","045","401"]
[null,"060","0","6","0","5","1","5","9","3","9","0","4","0","060515939","060515040","060939040","515939040","059","613","059","050","614","050","090","634","090","590","134","590"]
[null,"061","0","6","1","5","1","6","9","3","8","0","4","9","061516938","061516049","061938049","516938049","059","613","168","050","614","169","090","634","189","590","134","689"]
[null,"062","0","6","2","5","1","7","9","3","7","0","4","8","062517937","062517048","062937048","517937048","059","613","277","050","614","278","090","634","278","590","134","778"]
[null,"063","0","6","3","5","1","8","9","3","6","0","4","7","063518936","063518047","063936047","518936047","059","613","386","050","614","387","090","634","367","590","134","867"]
[null,"064","0","6","4","5","1","9","9","3","5","0","4","6","064519935","064519046","064935046","519935046","059","613","495","050","614","496","090","634","456","590","134","956"]
[null,"065",{"$f":"MID($B69,1,1)","v":"0"},{"$f":"MID($B69,2,1)","v":"6"},{"$f":"MID($B69,3,1)","v":"5"},{"$f":"RIGHT(C69+5)","v":"5"},{"$f":"RIGHT(D69+5)","v":"1"},{"$f":"RIGHT(E69+5)","v":"0"},{"$f":"RIGHT(9-C69)","v":"9"},{"$f":"RIGHT(9-D69)","v":"3"},{"$f":"RIGHT(9-E69)","v":"4"},{"$f":"RIGHT(10-C69)","v":"0"},{"$f":"RIGHT(10-D69)","v":"4"},{"$f":"RIGHT(10-E69)","v":"5"},{"$f":"C69&D69&E69&F69&G69&H69&I69&J69&K69","v":"065510934"},{"$f":"C69&D69&E69&F69&G69&H69&L69&M69&N69","v":"065510045"},{"$f":"C69&D69&E69&I69&J69&K69&L69&M69&N69","v":"065934045"},{"$f":"F69&G69&H69&I69&J69&K69&L69&M69&N69","v":"510934045"},{"$f":"C69&F69&I69","v":"059"},"613","504",{"$f":"C69&F69&L69","v":"050"},{"$f":"D69&G69&M69","v":"614"},{"$f":"E69&H69&N69","v":"505"},{"$f":"C69&I69&L69","v":"090"},{"$f":"D69&J69&M69","v":"634"},{"$f":"E69&K69&N69","v":"545"},{"$f":"F69&I69&L69","v":"590"},{"$f":"G69&J69&M69","v":"134"},"045"]
[null,"066","0","6","6","5","1","1","9","3","3","0","4","4","066511933","066511044","066933044","511933044","059","613","613","050","614","614","090","634","634","590","134","134"]
[null,"067","0","6","7","5","1","2","9","3","2","0","4","3","067512932","067512043","067932043","512932043","059","613","722","050","614","723","090","634","723","590","134","223"]
[null,"068","0","6","8","5","1","3","9","3","1","0","4","2","068513931","068513042","068931042","513931042","059","613","831","050","614","832","090","634","812","590","134","312"]
[null,"069","0","6","9","5","1","4","9","3","0","0","4","1","069514930","069514041","069930041","514930041","059","613","940","050","614","941","090","634","901","590","134","401"]
[null,"070","0","7","0","5","2","5","9","2","9","0","3","0","070525929","070525030","070929030","525929030","059","722","059","050","723","050","090","723","090","590","223","590"]
[null,"071","0","7","1","5","2","6","9","2","8","0","3","9","071526928","071526039","071928039","526928039","059",{"$f":"D75&G75&J75","v":"722"},{"$f":"E75&H75&K75","v":"168"},"050","723","169","090","723","189","590","223","689"]
[null,"072","0","7","2","5","2","7","9","2","7","0","3","8","072527927","072527038","072927038","527927038","059","722","277","050","723","278","090","723","278","590","223","778"]
[null,"073","0","7","3","5","2","8","9","2","6","0","3","7","073528926","073528037","073926037","528926037","059","722","386","050","723","387","090","723","367","590","223","867"]
[null,"074","0","7","4","5","2","9","9","2","5","0","3","6","074529925","074529036","074925036","529925036","059","722","495","050","723","496","090","723","456","590","223","956"]
[null,"075","0","7","5","5","2","0","9","2","4","0","3","5","075520924","075520035","075924035","520924035","059","722","504","050","723","505","090","723","545","590","223","045"]
[null,"076","0","7","6","5","2","1","9","2","3","0","3","4","076521923","076521034","076923034","521923034","059","722","613","050","723","614","090","723","634","590","223","134"]
[null,"077","0","7","7","5","2","2","9","2","2","0","3","3","077522922","077522033","077922033","522922033","059","722","722","050","723","723","090","723","723","590","223","223"]
[null,"078","0","7","8","5","2","3","9","2","1","0","3","2","078523921","078523032","078921032","523921032","059","722","831","050","723","832","090","723","812","590","223","312"]
[null,"079","0","7","9","5","2","4","9","2","0","0","3","1","079524920","079524031","079920031","524920031","059","722","940","050","723","941","090","723","901","590","223","401"]
[null,"080","0","8","0","5","3","5","9","1","9","0","2","0","080535919","080535020","080919020","535919020","059","831","059","050","832","050","090","812","090","590","312","590"]
[null,"081","0","8","1","5","3","6","9","1","8","0","2","9","081536918","081536029","081918029","536918029","059","831","168","050","832","169","090","812","189","590","312","689"]
[null,"082","0","8","2","5","3","7","9","1","7","0","2","8","082537917","082537028","082917028","537917028","059","831","277","050","832","278","090","812","278","590","312","778"]
[null,"083","0","8","3","5","3","8","9","1","6","0","2","7","083538916","083538027","083916027","538916027","059","831","386","050","832","387","090","812","367","590","312","867"]
[null,"084","0","8","4","5","3","9","9","1","5","0","2","6","084539915","084539026","084915026","539915026","059","831","495","050","832","496","090","812","456","590","312","956"]
[null,"085","0","8","5","5","3","0","9","1","4","0","2","5","085530914","085530025","085914025","530914025","059","831","504","050","832","505","090","812","545","590","312","045"]
[null,"086","0","8","6","5","3","1","9","1","3","0","2","4","086531913","086531024","086913024","531913024","059","831","613","050","832","614","090","812","634","590","312","134"]
[null,"087","0","8","7","5","3","2","9","1","2","0","2","3","087532912","087532023","087912023","532912023","059","831","722","050","832","723","090","812","723","590","312","223"]
[null,"088","0","8","8","5","3","3","9","1","1","0","2","2","088533911","088533022","088911022","533911022","059","831","831","050","832","832","090","812","812","590","312","312"]
[null,"089","0","8","9","5","3","4","9","1","0","0","2","1","089534910","089534021","089910021","534910021","059","831","940","050","832","941","090","812","901","590","312","401"]
[null,"090","0","9","0","5","4","5","9","0","9","0","1","0","090545909","090545010","090909010","545909010","059","940","059","050","941","050","090","901","090","590","401","590"]
[null,"091","0","9","1","5","4","6","9","0","8","0","1","9","091546908","091546019","091908019","546908019","059","940","168","050","941","169","090","901","189","590","401","689"]
[null,"092","0","9","2","5","4","7","9","0","7","0","1","8","092547907","092547018","092907018","547907018","059","940","277","050","941","278","090","901","278","590","401","778"]
[null,"093","0","9","3","5","4","8","9","0","6","0","1","7","093548906","093548017","093906017","548906017","059","940","386","050","941","387","090","901","367","590","401","867"]
[null,"094","0","9","4","5","4","9","9","0","5","0","1","6","094549905","094549016","094905016","549905016","059","940","495","050","941","496","090","901","456","590","401","956"]
[null,"095","0","9","5","5","4","0","9","0","4","0","1","5","095540904","095540015","095904015","540904015","059","940","504","050","941","505","090","901","545","590","401","045"]
[null,"096","0","9","6","5","4","1","9","0","3","0","1","4","096541903","096541014","096903014","541903014","059","940","613","050","941","614","090","901","634","590","401","134"]
[null,"097","0","9","7","5","4","2","9","0","2","0","1","3","097542902","097542013","097902013","542902013","059","940","722","050","941","723","090","901","723","590","401","223"]
[null,"098","0","9","8","5","4","3","9","0","1","0","1","2","098543901","098543012","098901012","543901012","059","940","831","050","941","832","090","901","812","590","401","312"]
[null,"099","0","9","9","5","4","4","9","0","0","0","1","1","099544900","099544011","099900011","544900011","059","940","940","050","941","941","090","901","901","590","401","401"]
[null,"100","1","0","0","6","5","5","8","9","9","9","0","0","100655899","100655900","100899900","655899900","168","059","059","169","050","050","189","090","090","689","590","590"]
[null,"101","1","0","1","6","5","6","8","9","8","9","0","9","101656898","101656909","101898909","656898909","168","059","168","169","050","169","189","090","189","689","590","689"]
[null,"102","1","0","2","6","5","7","8","9","7","9","0","8","102657897","102657908","102897908","657897908","168","059","277","169","050","278","189","090","278","689","590","778"]
[null,"103","1","0","3","6","5","8","8","9","6","9","0","7","103658896","103658907","103896907","658896907","168","059","386","169","050","387","189","090","367","689","590","867"]
[null,"104","1","0","4","6","5","9","8","9","5","9","0","6","104659895","104659906","104895906","659895906","168","059","495","169","050","496","189","090","456","689","590","956"]
[null,"105","1","0","5","6","5","0","8","9","4","9","0","5","105650894","105650905","105894905","650894905","168","059","504","169","050","505","189","090","545","689","590","045"]
[null,"106","1","0","6","6","5","1","8","9","3","9","0","4","106651893","106651904","106893904","651893904","168","059","613","169","050","614","189","090","634","689","590","134"]
[null,"107","1","0","7","6","5","2","8","9","2","9","0","3","107652892","107652903","107892903","652892903","168","059","722","169","050","723","189","090","723","689","590","223"]
[null,"108","1","0","8","6","5","3","8","9","1","9","0","2","108653891","108653902","108891902","653891902","168","059","831","169","050","832","189","090","812","689","590","312"]
[null,"109","1","0","9","6","5","4","8","9","0","9","0","1","109654890","109654901","109890901","654890901","168","059","940","169","050","941","189","090","901","689","590","401"]
[null,"110","1","1","0","6","6","5","8","8","9","9","9","0","110665889","110665990","110889990","665889990","168","168","059","169","169","050","189","189","090","689","689","590"]
[null,"111","1","1","1","6","6","6","8","8","8","9","9","9","111666888","111666999","111888999","666888999","168","168","168","169","169","169","189","189","189","689","689","689"]
[null,"112","1","1","2","6","6","7","8","8","7","9","9","8","112667887","112667998","112887998","667887998","168","168","277","169","169","278","189","189","278","689","689","778"]
[null,"113","1","1","3","6","6","8","8","8","6","9","9","7","113668886","113668997","113886997","668886997","168","168","386","169","169","387","189","189","367","689","689","867"]
[null,"114","1","1","4","6","6","9","8","8","5","9","9","6","114669885","114669996","114885996","669885996","168","168","495","169","169","496","189","189","456","689","689","956"]
[null,"115","1","1","5","6","6","0","8","8","4","9","9","5","115660884","115660995","115884995","660884995","168","168","504","169","169","505","189","189","545","689","689","045"]
[null,"116","1","1","6","6","6","1","8","8","3","9","9","4","116661883","116661994","116883994","661883994","168","168","613","169","169","614","189","189","634","689","689","134"]
[null,"117","1","1","7","6","6","2","8","8","2","9","9","3","117662882","117662993","117882993","662882993","168","168","722","169","169","723","189","189","723","689","689","223"]
[null,"118","1","1","8","6","6","3","8","8","1","9","9","2","118663881","118663992","118881992","663881992","168","168","831","169","169","832","189","189","812","689","689","312"]
[null,"119","1","1","9","6","6","4","8","8","0","9","9","1","119664880","119664991","119880991","664880991","168","168","940","169","169","941","189","189","901","689","689","401"]
[null,"120","1","2","0","6","7","5","8","7","9","9","8","0","120675879","120675980","120879980","675879980","168","277","059","169","278","050","189","278","090","689","778","590"]
[null,"121","1","2","1","6","7","6","8","7","8","9","8","9","121676878","121676989","121878989","676878989","168","277","168","169","278","169","189","278","189","689","778","689"]
[null,"122","1","2","2","6","7","7","8","7","7","9","8","8","122677877","122677988","122877988","677877988","168","277","277","169","278","278","189","278","278","689","778","778"]
[null,"123","1","2","3","6","7","8","8","7","6","9","8","7","123678876","123678987","123876987","678876987","168","277","386","169","278","387","189","278","367","689","778","867"]
[null,"124","1","2","4","6","7","9","8","7","5","9","8","6","124679875","124679986","124875986","679875986","168","277","495","169","278","496","189","278","456","689","778","956"]
[null,"125","1","2","5","6","7","0","8","7","4","9","8","5","125670874","125670985","125874985","670874985","168","277","504","169","278","505","189","278","545","689","778","045"]
[null,"126","1","2","6","6","7","1","8","7","3","9","8","4","126671873","126671984","126873984","671873984","168","277","613","169","278","614","189","278","634","689","778","134"]
[null,"127","1","2","7","6","7","2","8","7","2","9","8","3","127672872","127672983","127872983","672872983","168","277","722","169","278","723","189","278","723","689","778","223"]
[null,"128","1","2","8","6","7","3","8","7","1","9","8","2","128673871","128673982","128871982","673871982","168","277","831","169","278","832","189","278","812","689","778","312"]
[null,"129",{"$f":"MID($B133,1,1)","v":"1"},{"$f":"MID($B133,2,1)","v":"2"},{"$f":"MID($B133,3,1)","v":"9"},{"$f":"RIGHT(C133+5)","v":"6"},{"$f":"RIGHT(D133+5)","v":"7"},{"$f":"RIGHT(E133+5)","v":"4"},{"$f":"RIGHT(9-C133)","v":"8"},{"$f":"RIGHT(9-D133)","v":"7"},{"$f":"RIGHT(9-E133)","v":"0"},{"$f":"RIGHT(10-C133)","v":"9"},{"$f":"RIGHT(10-D133)","v":"8"},{"$f":"RIGHT(10-E133)","v":"1"},{"$f":"C133&D133&E133&F133&G133&H133&I133&J133&K133","v":"129674870"},{"$f":"C133&D133&E133&F133&G133&H133&L133&M133&N133","v":"129674981"},{"$f":"C133&D133&E133&I133&J133&K133&L133&M133&N133","v":"129870981"},{"$f":"F133&G133&H133&I133&J133&K133&L133&M133&N133","v":"674870981"},{"$f":"C133&F133&I133","v":"168"},"277","940",{"$f":"C133&F133&L133","v":"169"},{"$f":"D133&G133&M133","v":"278"},{"$f":"E133&H133&N133","v":"941"},{"$f":"C133&I133&L133","v":"189"},{"$f":"D133&J133&M133","v":"278"},{"$f":"E133&K133&N133","v":"901"},{"$f":"F133&I133&L133","v":"689"},{"$f":"G133&J133&M133","v":"778"},"401"]
[null,"130","1","3","0","6","8","5","8","6","9","9","7","0","130685869","130685970","130869970","685869970","168","386","059","169","387","050","189","367","090","689","867","590"]
[null,"131","1","3","1","6","8","6","8","6","8","9","7","9","131686868","131686979","131868979","686868979","168","386","168","169","387","169","189","367","189","689","867","689"]
[null,"132","1","3","2","6","8","7","8","6","7","9","7","8","132687867","132687978","132867978","687867978","168","386","277","169","387","278","189","367","278","689","867","778"]
[null,"133","1","3","3","6","8","8","8","6","6","9","7","7","133688866","133688977","133866977","688866977","168","386","386","169","387","387","189","367","367","689","867","867"]
[null,"134","1","3","4","6","8","9","8","6","5","9","7","6","134689865","134689976","134865976","689865976","168","386","495","169","387","496","189","367","456","689","867","956"]
[null,"135","1","3","5","6","8","0","8","6","4","9","7","5","135680864","135680975","135864975","680864975","168",{"$f":"D139&G139&J139","v":"386"},{"$f":"E139&H139&K139","v":"504"},"169","387","505","189","367","545","689","867","045"]
[null,"136","1","3","6","6","8","1","8","6","3","9","7","4","136681863","136681974","136863974","681863974","168","386","613","169","387","614","189","367","634","689","867","134"]
[null,"137","1","3","7","6","8","2","8","6","2","9","7","3","137682862","137682973","137862973","682862973","168","386","722","169","387","723","189","367","723","689","867","223"]
[null,"138","1","3","8","6","8","3","8","6","1","9","7","2","138683861","138683972","138861972","683861972","168","386","831","169","387","832","189","367","812","689","867","312"]
[null,"139","1","3","9","6","8","4","8","6","0","9","7","1","139684860","139684971","139860971","684860971","168","386","940","169","387","941","189","367","901","689","867","401"]
[null,"140","1","4","0","6","9","5","8","5","9","9","6","0","140695859","140695960","140859960","695859960","168","495","059","169","496","050","189","456","090","689","956","590"]
[null,"141","1","4","1","6","9","6","8","5","8","9","6","9","141696858","141696969","141858969","696858969","168","495","168","169","496","169","189","456","189","689","956","689"]
[null,"142","1","4","2","6","9","7","8","5","7","9","6","8","142697857","142697968","142857968","697857968","168","495","277","169","496","278","189","456","278","689","956","778"]
[null,"143","1","4","3","6","9","8","8","5","6","9","6","7","143698856","143698967","143856967","698856967","168","495","386","169","496","387","189","456","367","689","956","867"]
[null,"144","1","4","4","6","9","9","8","5","5","9","6","6","144699855","144699966","144855966","699855966","168","495","495","169","496","496","189","456","456","689","956","956"]
[null,"145","1","4","5","6","9","0","8","5","4","9","6","5","145690854","145690965","145854965","690854965","168","495","504","169","496","505","189","456","545","689","956","045"]
[null,"146","1","4","6","6","9","1","8","5","3","9","6","4","146691853","146691964","146853964","691853964","168","495","613","169","496","614","189","456","634","689","956","134"]
[null,"147","1","4","7","6","9","2","8","5","2","9","6","3","147692852","147692963","147852963","692852963","168","495","722","169","496","723","189","456","723","689","956","223"]
[null,"148","1","4","8","6","9","3","8","5","1","9","6","2","148693851","148693962","148851962","693851962","168","495","831","169","496","832","189","456","812","689","956","312"]
[null,"149","1","4","9","6","9","4","8","5","0","9","6","1","149694850","149694961","149850961","694850961","168","495","940","169","496","941","189","456","901","689","956","401"]
[null,"150","1","5","0","6","0","5","8","4","9","9","5","0","150605849","150605950","150849950","605849950","168","504","059","169","505","050","189","545","090","689","045","590"]
[null,"151","1","5","1","6","0","6","8","4","8","9","5","9","151606848","151606959","151848959","606848959","168","504","168","169","505","169","189","545","189","689","045","689"]
[null,"152","1","5","2","6","0","7","8","4","7","9","5","8","152607847","152607958","152847958","607847958","168","504","277","169","505","278","189","545","278","689","045","778"]
[null,"153","1","5","3","6","0","8","8","4","6","9","5","7","153608846","153608957","153846957","608846957","168","504","386","169","505","387","189","545","367","689","045","867"]
[null,"154","1","5","4","6","0","9","8","4","5","9","5","6","154609845","154609956","154845956","609845956","168","504","495","169","505","496","189","545","456","689","045","956"]
[null,"155","1","5","5","6","0","0","8","4","4","9","5","5","155600844","155600955","155844955","600844955","168","504","504","169","505","505","189","545","545","689","045","045"]
[null,"156","1","5","6","6","0","1","8","4","3","9","5","4","156601843","156601954","156843954","601843954","168","504","613","169","505","614","189","545","634","689","045","134"]
[null,"157","1","5","7","6","0","2","8","4","2","9","5","3","157602842","157602953","157842953","602842953","168","504","722","169","505","723","189","545","723","689","045","223"]
[null,"158","1","5","8","6","0","3","8","4","1","9","5","2","158603841","158603952","158841952","603841952","168","504","831","169","505","832","189","545","812","689","045","312"]
[null,"159","1","5","9","6","0","4","8","4","0","9","5","1","159604840","159604951","159840951","604840951","168","504","940","169","505","941","189","545","901","689","045","401"]
[null,"160","1","6","0","6","1","5","8","3","9","9","4","0","160615839","160615940","160839940","615839940","168","613","059","169","614","050","189","634","090","689","134","590"]
[null,"161","1","6","1","6","1","6","8","3","8","9","4","9","161616838","161616949","161838949","616838949","168","613","168","169","614","169","189","634","189","689","134","689"]
[null,"162","1","6","2","6","1","7","8","3","7","9","4","8","162617837","162617948","162837948","617837948","168","613","277","169","614","278","189","634","278","689","134","778"]
[null,"163","1","6","3","6","1","8","8","3","6","9","4","7","163618836","163618947","163836947","618836947","168","613","386","169","614","387","189","634","367","689","134","867"]
[null,"164","1","6","4","6","1","9","8","3","5","9","4","6","164619835","164619946","164835946","619835946","168","613","495","169","614","496","189","634","456","689","134","956"]
[null,"165","1","6","5","6","1","0","8","3","4","9","4","5","165610834","165610945","165834945","610834945","168","613","504","169","614","505","189","634","545","689","134","045"]
[null,"166","1","6","6","6","1","1","8","3","3","9","4","4","166611833","166611944","166833944","611833944","168","613","613","169","614","614","189","634","634","689","134","134"]
[null,"167","1","6","7","6","1","2","8","3","2","9","4","3","167612832","167612943","167832943","612832943","168","613","722","169","614","723","189","634","723","689","134","223"]
[null,"168","1","6","8","6","1","3","8","3","1","9","4","2","168613831","168613942","168831942","613831942","168","613","831","169","614","832","189","634","812","689","134","312"]
[null,"169","1","6","9","6","1","4","8","3","0","9","4","1","169614830","169614941","169830941","614830941","168","613","940","169","614","941","189","634","901","689","134","401"]
[null,"170","1","7","0","6","2","5","8","2","9","9","3","0","170625829","170625930","170829930","625829930","168","722","059","169","723","050","189","723","090","689","223","590"]
[null,"171","1","7","1","6","2","6","8","2","8","9","3","9","171626828","171626939","171828939","626828939","168","722","168","169","723","169","189","723","189","689","223","689"]
[null,"172","1","7","2","6","2","7","8","2","7","9","3","8","172627827","172627938","172827938","627827938","168","722","277","169","723","278","189","723","278","689","223","778"]
[null,"173","1","7","3","6","2","8","8","2","6","9","3","7","173628826","173628937","173826937","628826937","168","722","386","169","723","387","189","723","367","689","223","867"]
[null,"174","1","7","4","6","2","9","8","2","5","9","3","6","174629825","174629936","174825936","629825936","168","722","495","169","723","496","189","723","456","689","223","956"]
[null,"175","1","7","5","6","2","0","8","2","4","9","3","5","175620824","175620935","175824935","620824935","168","722","504","169","723","505","189","723","545","689","223","045"]
[null,"176","1","7","6","6","2","1","8","2","3","9","3","4","176621823","176621934","176823934","621823934","168","722","613","169","723","614","189","723","634","689","223","134"]
[null,"177","1","7","7","6","2","2","8","2","2","9","3","3","177622822","177622933","177822933","622822933","168","722","722","169","723","723","189","723","723","689","223","223"]
[null,"178","1","7","8","6","2","3","8","2","1","9","3","2","178623821","178623932","178821932","623821932","168","722","831","169","723","832","189","723","812","689","223","312"]
[null,"179","1","7","9","6","2","4","8","2","0","9","3","1","179624820","179624931","179820931","624820931","168","722","940","169","723","941","189","723","901","689","223","401"]
[null,"180","1","8","0","6","3","5","8","1","9","9","2","0","180635819","180635920","180819920","635819920","168","831","059","169","832","050","189","812","090","689","312","590"]
[null,"181","1","8","1","6","3","6","8","1","8","9","2","9","181636818","181636929","181818929","636818929","168","831","168","169","832","169","189","812","189","689","312","689"]
[null,"182","1","8","2","6","3","7","8","1","7","9","2","8","182637817","182637928","182817928","637817928","168","831","277","169","832","278","189","812","278","689","312","778"]
[null,"183","1","8","3","6","3","8","8","1","6","9","2","7","183638816","183638927","183816927","638816927","168","831","386","169","832","387","189","812","367","689","312","867"]
[null,"184","1","8","4","6","3","9","8","1","5","9","2","6","184639815","184639926","184815926","639815926","168","831","495","169","832","496","189","812","456","689","312","956"]
[null,"185","1","8","5","6","3","0","8","1","4","9","2","5","185630814","185630925","185814925","630814925","168","831","504","169","832","505","189","812","545","689","312","045"]
[null,"186","1","8","6","6","3","1","8","1","3","9","2","4","186631813","186631924","186813924","631813924","168","831","613","169","832","614","189","812","634","689","312","134"]
[null,"187","1","8","7","6","3","2","8","1","2","9","2","3","187632812","187632923","187812923","632812923","168","831","722","169","832","723","189","812","723","689","312","223"]
[null,"188","1","8","8","6","3","3","8","1","1","9","2","2","188633811","188633922","188811922","633811922","168","831","831","169","832","832","189","812","812","689","312","312"]
[null,"189","1","8","9","6","3","4","8","1","0","9","2","1","189634810","189634921","189810921","634810921","168","831","940","169","832","941","189","812","901","689","312","401"]
[null,"190","1","9","0","6","4","5","8","0","9","9","1","0","190645809","190645910","190809910","645809910","168","940","059","169","941","050","189","901","090","689","401","590"]
[null,"191","1","9","1","6","4","6","8","0","8","9","1","9","191646808","191646919","191808919","646808919","168","940","168","169","941","169","189","901","189","689","401","689"]
[null,"192","1","9","2","6","4","7","8","0","7","9","1","8","192647807","192647918","192807918","647807918","168","940","277","169","941","278","189","901","278","689","401","778"]
[null,"193",{"$f":"MID($B197,1,1)","v":"1"},{"$f":"MID($B197,2,1)","v":"9"},{"$f":"MID($B197,3,1)","v":"3"},{"$f":"RIGHT(C197+5)","v":"6"},{"$f":"RIGHT(D197+5)","v":"4"},{"$f":"RIGHT(E197+5)","v":"8"},{"$f":"RIGHT(9-C197)","v":"8"},{"$f":"RIGHT(9-D197)","v":"0"},{"$f":"RIGHT(9-E197)","v":"6"},{"$f":"RIGHT(10-C197)","v":"9"},{"$f":"RIGHT(10-D197)","v":"1"},{"$f":"RIGHT(10-E197)","v":"7"},{"$f":"C197&D197&E197&F197&G197&H197&I197&J197&K197","v":"193648806"},{"$f":"C197&D197&E197&F197&G197&H197&L197&M197&N197","v":"193648917"},{"$f":"C197&D197&E197&I197&J197&K197&L197&M197&N197","v":"193806917"},{"$f":"F197&G197&H197&I197&J197&K197&L197&M197&N197","v":"648806917"},{"$f":"C197&F197&I197","v":"168"},"940","386",{"$f":"C197&F197&L197","v":"169"},{"$f":"D197&G197&M197","v":"941"},{"$f":"E197&H197&N197","v":"387"},{"$f":"C197&I197&L197","v":"189"},{"$f":"D197&J197&M197","v":"901"},{"$f":"E197&K197&N197","v":"367"},{"$f":"F197&I197&L197","v":"689"},{"$f":"G197&J197&M197","v":"401"},"867"]
[null,"194","1","9","4","6","4","9","8","0","5","9","1","6","194649805","194649916","194805916","649805916","168","940","495","169","941","496","189","901","456","689","401","956"]
[null,"195","1","9","5","6","4","0","8","0","4","9","1","5","195640804","195640915","195804915","640804915","168","940","504","169","941","505","189","901","545","689","401","045"]
[null,"196","1","9","6","6","4","1","8","0","3","9","1","4","196641803","196641914","196803914","641803914","168","940","613","169","941","614","189","901","634","689","401","134"]
[null,"197","1","9","7","6","4","2","8","0","2","9","1","3","197642802","197642913","197802913","642802913","168","940","722","169","941","723","189","901","723","689","401","223"]
[null,"198","1","9","8","6","4","3","8","0","1","9","1","2","198643801","198643912","198801912","643801912","168","940","831","169","941","832","189","901","812","689","401","312"]
[null,"199","1","9","9","6","4","4","8","0","0","9","1","1","199644800","199644911","199800911","644800911","168",{"$f":"D203&G203&J203","v":"940"},{"$f":"E203&H203&K203","v":"940"},"169","941","941","189","901","901","689","401","401"]
[null,"200","2","0","0","7","5","5","7","9","9","8","0","0","200755799","200755800","200799800","755799800","277","059","059","278","050","050","278","090","090","778","590","590"]
[null,"201","2","0","1","7","5","6","7","9","8","8","0","9","201756798","201756809","201798809","756798809","277","059","168","278","050","169","278","090","189","778","590","689"]
[null,"202","2","0","2","7","5","7","7","9","7","8","0","8","202757797","202757808","202797808","757797808","277","059","277","278","050","278","278","090","278","778","590","778"]
[null,"203","2","0","3","7","5","8","7","9","6","8","0","7","203758796","203758807","203796807","758796807","277","059","386","278","050","387","278","090","367","778","590","867"]
[null,"204","2","0","4","7","5","9","7","9","5","8","0","6","204759795","204759806","204795806","759795806","277","059","495","278","050","496","278","090","456","778","590","956"]
[null,"205","2","0","5","7","5","0","7","9","4","8","0","5","205750794","205750805","205794805","750794805","277","059","504","278","050","505","278","090","545","778","590","045"]
[null,"206","2","0","6","7","5","1","7","9","3","8","0","4","206751793","206751804","206793804","751793804","277","059","613","278","050","614","278","090","634","778","590","134"]
[null,"207","2","0","7","7","5","2","7","9","2","8","0","3","207752792","207752803","207792803","752792803","277","059","722","278","050","723","278","090","723","778","590","223"]
[null,"208","2","0","8","7","5","3","7","9","1","8","0","2","208753791","208753802","208791802","753791802","277","059","831","278","050","832","278","090","812","778","590","312"]
[null,"209","2","0","9","7","5","4","7","9","0","8","0","1","209754790","209754801","209790801","754790801","277","059","940","278","050","941","278","090","901","778","590","401"]
[null,"210","2","1","0","7","6","5","7","8","9","8","9","0","210765789","210765890","210789890","765789890","277","168","059","278","169","050","278","189","090","778","689","590"]
[null,"211","2","1","1","7","6","6","7","8","8","8","9","9","211766788","211766899","211788899","766788899","277","168","168","278","169","169","278","189","189","778","689","689"]
[null,"212","2","1","2","7","6","7","7","8","7","8","9","8","212767787","212767898","212787898","767787898","277","168","277","278","169","278","278","189","278","778","689","778"]
[null,"213","2","1","3","7","6","8","7","8","6","8","9","7","213768786","213768897","213786897","768786897","277","168","386","278","169","387","278","189","367","778","689","867"]
[null,"214","2","1","4","7","6","9","7","8","5","8","9","6","214769785","214769896","214785896","769785896","277","168","495","278","169","496","278","189","456","778","689","956"]
[null,"215","2","1","5","7","6","0","7","8","4","8","9","5","215760784","215760895","215784895","760784895","277","168","504","278","169","505","278","189","545","778","689","045"]
[null,"216","2","1","6","7","6","1","7","8","3","8","9","4","216761783","216761894","216783894","761783894","277","168","613","278","169","614","278","189","634","778","689","134"]
[null,"217","2","1","7","7","6","2","7","8","2","8","9","3","217762782","217762893","217782893","762782893","277","168","722","278","169","723","278","189","723","778","689","223"]
[null,"218","2","1","8","7","6","3","7","8","1","8","9","2","218763781","218763892","218781892","763781892","277","168","831","278","169","832","278","189","812","778","689","312"]
[null,"219","2","1","9","7","6","4","7","8","0","8","9","1","219764780","219764891","219780891","764780891","277","168","940","278","169","941","278","189","901","778","689","401"]
[null,"220","2","2","0","7","7","5","7","7","9","8","8","0","220775779","220775880","220779880","775779880","277","277","059","278","278","050","278","278","090","778","778","590"]
[null,"221","2","2","1","7","7","6","7","7","8","8","8","9","221776778","221776889","221778889","776778889","277","277","168","278","278","169","278","278","189","778","778","689"]
[null,"222","2","2","2","7","7","7","7","7","7","8","8","8","222777777","222777888","222777888","777777888","277","277","277","278","278","278","278","278","278","778","778","778"]
[null,"223","2","2","3","7","7","8","7","7","6","8","8","7","223778776","223778887","223776887","778776887","277","277","386","278","278","387","278","278","367","778","778","867"]
[null,"224","2","2","4","7","7","9","7","7","5","8","8","6","224779775","224779886","224775886","779775886","277","277","495","278","278","496","278","278","456","778","778","956"]
[null,"225","2","2","5","7","7","0","7","7","4","8","8","5","225770774","225770885","225774885","770774885","277","277","504","278","278","505","278","278","545","778","778","045"]
[null,"226","2","2","6","7","7","1","7","7","3","8","8","4","226771773","226771884","226773884","771773884","277","277","613","278","278","614","278","278","634","778","778","134"]
[null,"227","2","2","7","7","7","2","7","7","2","8","8","3","227772772","227772883","227772883","772772883","277","277","722","278","278","723","278","278","723","778","778","223"]
[null,"228","2","2","8","7","7","3","7","7","1","8","8","2","228773771","228773882","228771882","773771882","277","277","831","278","278","832","278","278","812","778","778","312"]
[null,"229","2","2","9","7","7","4","7","7","0","8","8","1","229774770","229774881","229770881","774770881","277","277","940","278","278","941","278","278","901","778","778","401"]
[null,"230","2","3","0","7","8","5","7","6","9","8","7","0","230785769","230785870","230769870","785769870","277","386","059","278","387","050","278","367","090","778","867","590"]
[null,"231","2","3","1","7","8","6","7","6","8","8","7","9","231786768","231786879","231768879","786768879","277","386","168","278","387","169","278","367","189","778","867","689"]
[null,"232","2","3","2","7","8","7","7","6","7","8","7","8","232787767","232787878","232767878","787767878","277","386","277","278","387","278","278","367","278","778","867","778"]
[null,"233","2","3","3","7","8","8","7","6","6","8","7","7","233788766","233788877","233766877","788766877","277","386","386","278","387","387","278","367","367","778","867","867"]
[null,"234","2","3","4","7","8","9","7","6","5","8","7","6","234789765","234789876","234765876","789765876","277","386","495","278","387","496","278","367","456","778","867","956"]
[null,"235","2","3","5","7","8","0","7","6","4","8","7","5","235780764","235780875","235764875","780764875","277","386","504","278","387","505","278","367","545","778","867","045"]
[null,"236","2","3","6","7","8","1","7","6","3","8","7","4","236781763","236781874","236763874","781763874","277","386","613","278","387","614","278","367","634","778","867","134"]
[null,"237","2","3","7","7","8","2","7","6","2","8","7","3","237782762","237782873","237762873","782762873","277","386","722","278","387","723","278","367","723","778","867","223"]
[null,"238","2","3","8","7","8","3","7","6","1","8","7","2","238783761","238783872","238761872","783761872","277","386","831","278","387","832","278","367","812","778","867","312"]
[null,"239","2","3","9","7","8","4","7","6","0","8","7","1","239784760","239784871","239760871","784760871","277","386","940","278","387","941","278","367","901","778","867","401"]
[null,"240","2","4","0","7","9","5","7","5","9","8","6","0","240795759","240795860","240759860","795759860","277","495","059","278","496","050","278","456","090","778","956","590"]
[null,"241","2","4","1","7","9","6","7","5","8","8","6","9","241796758","241796869","241758869","796758869","277","495","168","278","496","169","278","456","189","778","956","689"]
[null,"242","2","4","2","7","9","7","7","5","7","8","6","8","242797757","242797868","242757868","797757868","277","495","277","278","496","278","278","456","278","778","956","778"]
[null,"243","2","4","3","7","9","8","7","5","6","8","6","7","243798756","243798867","243756867","798756867","277","495","386","278","496","387","278","456","367","778","956","867"]
[null,"244","2","4","4","7","9","9","7","5","5","8","6","6","244799755","244799866","244755866","799755866","277","495","495","278","496","496","278","456","456","778","956","956"]
[null,"245","2","4","5","7","9","0","7","5","4","8","6","5","245790754","245790865","245754865","790754865","277","495","504","278","496","505","278","456","545","778","956","045"]
[null,"246","2","4","6","7","9","1","7","5","3","8","6","4","246791753","246791864","246753864","791753864","277","495","613","278","496","614","278","456","634","778","956","134"]
[null,"247","2","4","7","7","9","2","7","5","2","8","6","3","247792752","247792863","247752863","792752863","277","495","722","278","496","723","278","456","723","778","956","223"]
[null,"248","2","4","8","7","9","3","7","5","1","8","6","2","248793751","248793862","248751862","793751862","277","495","831","278","496","832","278","456","812","778","956","312"]
[null,"249","2","4","9","7","9","4","7","5","0","8","6","1","249794750","249794861","249750861","794750861","277","495","940","278","496","941","278","456","901","778","956","401"]
[null,"250","2","5","0","7","0","5","7","4","9","8","5","0","250705749","250705850","250749850","705749850","277","504","059","278","505","050","278","545","090","778","045","590"]
[null,"251","2","5","1","7","0","6","7","4","8","8","5","9","251706748","251706859","251748859","706748859","277","504","168","278","505","169","278","545","189","778","045","689"]
[null,"252","2","5","2","7","0","7","7","4","7","8","5","8","252707747","252707858","252747858","707747858","277","504","277","278","505","278","278","545","278","778","045","778"]
[null,"253","2","5","3","7","0","8","7","4","6","8","5","7","253708746","253708857","253746857","708746857","277","504","386","278","505","387","278","545","367","778","045","867"]
[null,"254","2","5","4","7","0","9","7","4","5","8","5","6","254709745","254709856","254745856","709745856","277","504","495","278","505","496","278","545","456","778","045","956"]
[null,"255","2","5","5","7","0","0","7","4","4","8","5","5","255700744","255700855","255744855","700744855","277","504","504","278","505","505","278","545","545","778","045","045"]
[null,"256","2","5","6","7","0","1","7","4","3","8","5","4","256701743","256701854","256743854","701743854","277","504","613","278","505","614","278","545","634","778","045","134"]
[null,"257",{"$f":"MID($B261,1,1)","v":"2"},{"$f":"MID($B261,2,1)","v":"5"},{"$f":"MID($B261,3,1)","v":"7"},{"$f":"RIGHT(C261+5)","v":"7"},{"$f":"RIGHT(D261+5)","v":"0"},{"$f":"RIGHT(E261+5)","v":"2"},{"$f":"RIGHT(9-C261)","v":"7"},{"$f":"RIGHT(9-D261)","v":"4"},{"$f":"RIGHT(9-E261)","v":"2"},{"$f":"RIGHT(10-C261)","v":"8"},{"$f":"RIGHT(10-D261)","v":"5"},{"$f":"RIGHT(10-E261)","v":"3"},{"$f":"C261&D261&E261&F261&G261&H261&I261&J261&K261","v":"257702742"},{"$f":"C261&D261&E261&F261&G261&H261&L261&M261&N261","v":"257702853"},{"$f":"C261&D261&E261&I261&J261&K261&L261&M261&N261","v":"257742853"},{"$f":"F261&G261&H261&I261&J261&K261&L261&M261&N261","v":"702742853"},{"$f":"C261&F261&I261","v":"277"},"504","722",{"$f":"C261&F261&L261","v":"278"},{"$f":"D261&G261&M261","v":"505"},{"$f":"E261&H261&N261","v":"723"},{"$f":"C261&I261&L261","v":"278"},{"$f":"D261&J261&M261","v":"545"},{"$f":"E261&K261&N261","v":"723"},{"$f":"F261&I261&L261","v":"778"},{"$f":"G261&J261&M261","v":"045"},"223"]
[null,"258","2","5","8","7","0","3","7","4","1","8","5","2","258703741","258703852","258741852","703741852","277","504","831","278","505","832","278","545","812","778","045","312"]
[null,"259","2","5","9","7","0","4","7","4","0","8","5","1","259704740","259704851","259740851","704740851","277","504","940","278","505","941","278","545","901","778","045","401"]
[null,"260","2","6","0","7","1","5","7","3","9","8","4","0","260715739","260715840","260739840","715739840","277","613","059","278","614","050","278","634","090","778","134","590"]
[null,"261","2","6","1","7","1","6","7","3","8","8","4","9","261716738","261716849","261738849","716738849","277","613","168","278","614","169","278","634","189","778","134","689"]
[null,"262","2","6","2","7","1","7","7","3","7","8","4","8","262717737","262717848","262737848","717737848","277","613","277","278","614","278","278","634","278","778","134","778"]
[null,"263","2","6","3","7","1","8","7","3","6","8","4","7","263718736","263718847","263736847","718736847","277",{"$f":"D267&G267&J267","v":"613"},{"$f":"E267&H267&K267","v":"386"},"278","614","387","278","634","367","778","134","867"]
[null,"264","2","6","4","7","1","9","7","3","5","8","4","6","264719735","264719846","264735846","719735846","277","613","495","278","614","496","278","634","456","778","134","956"]
[null,"265","2","6","5","7","1","0","7","3","4","8","4","5","265710734","265710845","265734845","710734845","277","613","504","278","614","505","278","634","545","778","134","045"]
[null,"266","2","6","6","7","1","1","7","3","3","8","4","4","266711733","266711844","266733844","711733844","277","613","613","278","614","614","278","634","634","778","134","134"]
[null,"267","2","6","7","7","1","2","7","3","2","8","4","3","267712732","267712843","267732843","712732843","277","613","722","278","614","723","278","634","723","778","134","223"]
[null,"268","2","6","8","7","1","3","7","3","1","8","4","2","268713731","268713842","268731842","713731842","277","613","831","278","614","832","278","634","812","778","134","312"]
[null,"269","2","6","9","7","1","4","7","3","0","8","4","1","269714730","269714841","269730841","714730841","277","613","940","278","614","941","278","634","901","778","134","401"]
[null,"270","2","7","0","7","2","5","7","2","9","8","3","0","270725729","270725830","270729830","725729830","277","722","059","278","723","050","278","723","090","778","223","590"]
[null,"271","2","7","1","7","2","6","7","2","8","8","3","9","271726728","271726839","271728839","726728839","277","722","168","278","723","169","278","723","189","778","223","689"]
[null,"272","2","7","2","7","2","7","7","2","7","8","3","8","272727727","272727838","272727838","727727838","277","722","277","278","723","278","278","723","278","778","223","778"]
[null,"273","2","7","3","7","2","8","7","2","6","8","3","7","273728726","273728837","273726837","728726837","277","722","386","278","723","387","278","723","367","778","223","867"]
[null,"274","2","7","4","7","2","9","7","2","5","8","3","6","274729725","274729836","274725836","729725836","277","722","495","278","723","496","278","723","456","778","223","956"]
[null,"275","2","7","5","7","2","0","7","2","4","8","3","5","275720724","275720835","275724835","720724835","277","722","504","278","723","505","278","723","545","778","223","045"]
[null,"276","2","7","6","7","2","1","7","2","3","8","3","4","276721723","276721834","276723834","721723834","277","722","613","278","723","614","278","723","634","778","223","134"]
[null,"277","2","7","7","7","2","2","7","2","2","8","3","3","277722722","277722833","277722833","722722833","277","722","722","278","723","723","278","723","723","778","223","223"]
[null,"278","2","7","8","7","2","3","7","2","1","8","3","2","278723721","278723832","278721832","723721832","277","722","831","278","723","832","278","723","812","778","223","312"]
[null,"279","2","7","9","7","2","4","7","2","0","8","3","1","279724720","279724831","279720831","724720831","277","722","940","278","723","941","278","723","901","778","223","401"]
[null,"280","2","8","0","7","3","5","7","1","9","8","2","0","280735719","280735820","280719820","735719820","277","831","059","278","832","050","278","812","090","778","312","590"]
[null,"281","2","8","1","7","3","6","7","1","8","8","2","9","281736718","281736829","281718829","736718829","277","831","168","278","832","169","278","812","189","778","312","689"]
[null,"282","2","8","2","7","3","7","7","1","7","8","2","8","282737717","282737828","282717828","737717828","277","831","277","278","832","278","278","812","278","778","312","778"]
[null,"283","2","8","3","7","3","8","7","1","6","8","2","7","283738716","283738827","283716827","738716827","277","831","386","278","832","387","278","812","367","778","312","867"]
[null,"284","2","8","4","7","3","9","7","1","5","8","2","6","284739715","284739826","284715826","739715826","277","831","495","278","832","496","278","812","456","778","312","956"]
[null,"285","2","8","5","7","3","0","7","1","4","8","2","5","285730714","285730825","285714825","730714825","277","831","504","278","832","505","278","812","545","778","312","045"]
[null,"286","2","8","6","7","3","1","7","1","3","8","2","4","286731713","286731824","286713824","731713824","277","831","613","278","832","614","278","812","634","778","312","134"]
[null,"287","2","8","7","7","3","2","7","1","2","8","2","3","287732712","287732823","287712823","732712823","277","831","722","278","832","723","278","812","723","778","312","223"]
[null,"288","2","8","8","7","3","3","7","1","1","8","2","2","288733711","288733822","288711822","733711822","277","831","831","278","832","832","278","812","812","778","312","312"]
[null,"289","2","8","9","7","3","4","7","1","0","8","2","1","289734710","289734821","289710821","734710821","277","831","940","278","832","941","278","812","901","778","312","401"]
[null,"290","2","9","0","7","4","5","7","0","9","8","1","0","290745709","290745810","290709810","745709810","277","940","059","278","941","050","278","901","090","778","401","590"]
[null,"291","2","9","1","7","4","6","7","0","8","8","1","9","291746708","291746819","291708819","746708819","277","940","168","278","941","169","278","901","189","778","401","689"]
[null,"292","2","9","2","7","4","7","7","0","7","8","1","8","292747707","292747818","292707818","747707818","277","940","277","278","941","278","278","901","278","778","401","778"]
[null,"293","2","9","3","7","4","8","7","0","6","8","1","7","293748706","293748817","293706817","748706817","277","940","386","278","941","387","278","901","367","778","401","867"]
[null,"294","2","9","4","7","4","9","7","0","5","8","1","6","294749705","294749816","294705816","749705816","277","940","495","278","941","496","278","901","456","778","401","956"]
[null,"295","2","9","5","7","4","0","7","0","4","8","1","5","295740704","295740815","295704815","740704815","277","940","504","278","941","505","278","901","545","778","401","045"]
[null,"296","2","9","6","7","4","1","7","0","3","8","1","4","296741703","296741814","296703814","741703814","277","940","613","278","941","614","278","901","634","778","401","134"]
[null,"297","2","9","7","7","4","2","7","0","2","8","1","3","297742702","297742813","297702813","742702813","277","940","722","278","941","723","278","901","723","778","401","223"]
[null,"298","2","9","8","7","4","3","7","0","1","8","1","2","298743701","298743812","298701812","743701812","277","940","831","278","941","832","278","901","812","778","401","312"]
[null,"299","2","9","9","7","4","4","7","0","0","8","1","1","299744700","299744811","299700811","744700811","277","940","940","278","941","941","278","901","901","778","401","401"]
[null,"300","3","0","0","8","5","5","6","9","9","7","0","0","300855699","300855700","300699700","855699700","386","059","059","387","050","050","367","090","090","867","590","590"]
[null,"301","3","0","1","8","5","6","6","9","8","7","0","9","301856698","301856709","301698709","856698709","386","059","168","387","050","169","367","090","189","867","590","689"]
[null,"302","3","0","2","8","5","7","6","9","7","7","0","8","302857697","302857708","302697708","857697708","386","059","277","387","050","278","367","090","278","867","590","778"]
[null,"303","3","0","3","8","5","8","6","9","6","7","0","7","303858696","303858707","303696707","858696707","386","059","386","387","050","387","367","090","367","867","590","867"]
[null,"304","3","0","4","8","5","9","6","9","5","7","0","6","304859695","304859706","304695706","859695706","386","059","495","387","050","496","367","090","456","867","590","956"]
[null,"305","3","0","5","8","5","0","6","9","4","7","0","5","305850694","305850705","305694705","850694705","386","059","504","387","050","505","367","090","545","867","590","045"]
[null,"306","3","0","6","8","5","1","6","9","3","7","0","4","306851693","306851704","306693704","851693704","386","059","613","387","050","614","367","090","634","867","590","134"]
[null,"307","3","0","7","8","5","2","6","9","2","7","0","3","307852692","307852703","307692703","852692703","386","059","722","387","050","723","367","090","723","867","590","223"]
[null,"308","3","0","8","8","5","3","6","9","1","7","0","2","308853691","308853702","308691702","853691702","386","059","831","387","050","832","367","090","812","867","590","312"]
[null,"309","3","0","9","8","5","4","6","9","0","7","0","1","309854690","309854701","309690701","854690701","386","059","940","387","050","941","367","090","901","867","590","401"]
[null,"310","3","1","0","8","6","5","6","8","9","7","9","0","310865689","310865790","310689790","865689790","386","168","059","387","169","050","367","189","090","867","689","590"]
[null,"311","3","1","1","8","6","6","6","8","8","7","9","9","311866688","311866799","311688799","866688799","386","168","168","387","169","169","367","189","189","867","689","689"]
[null,"312","3","1","2","8","6","7","6","8","7","7","9","8","312867687","312867798","312687798","867687798","386","168","277","387","169","278","367","189","278","867","689","778"]
[null,"313","3","1","3","8","6","8","6","8","6","7","9","7","313868686","313868797","313686797","868686797","386","168","386","387","169","387","367","189","367","867","689","867"]
[null,"314","3","1","4","8","6","9","6","8","5","7","9","6","314869685","314869796","314685796","869685796","386","168","495","387","169","496","367","189","456","867","689","956"]
[null,"315","3","1","5","8","6","0","6","8","4","7","9","5","315860684","315860795","315684795","860684795","386","168","504","387","169","505","367","189","545","867","689","045"]
[null,"316","3","1","6","8","6","1","6","8","3","7","9","4","316861683","316861794","316683794","861683794","386","168","613","387","169","614","367","189","634","867","689","134"]
[null,"317","3","1","7","8","6","2","6","8","2","7","9","3","317862682","317862793","317682793","862682793","386","168","722","387","169","723","367","189","723","867","689","223"]
[null,"318","3","1","8","8","6","3","6","8","1","7","9","2","318863681","318863792","318681792","863681792","386","168","831","387","169","832","367","189","812","867","689","312"]
[null,"319","3","1","9","8","6","4","6","8","0","7","9","1","319864680","319864791","319680791","864680791","386","168","940","387","169","941","367","189","901","867","689","401"]
[null,"320","3","2","0","8","7","5","6","7","9","7","8","0","320875679","320875780","320679780","875679780","386","277","059","387","278","050","367","278","090","867","778","590"]
[null,"321",{"$f":"MID($B325,1,1)","v":"3"},{"$f":"MID($B325,2,1)","v":"2"},{"$f":"MID($B325,3,1)","v":"1"},{"$f":"RIGHT(C325+5)","v":"8"},{"$f":"RIGHT(D325+5)","v":"7"},{"$f":"RIGHT(E325+5)","v":"6"},{"$f":"RIGHT(9-C325)","v":"6"},{"$f":"RIGHT(9-D325)","v":"7"},{"$f":"RIGHT(9-E325)","v":"8"},{"$f":"RIGHT(10-C325)","v":"7"},{"$f":"RIGHT(10-D325)","v":"8"},{"$f":"RIGHT(10-E325)","v":"9"},{"$f":"C325&D325&E325&F325&G325&H325&I325&J325&K325","v":"321876678"},{"$f":"C325&D325&E325&F325&G325&H325&L325&M325&N325","v":"321876789"},{"$f":"C325&D325&E325&I325&J325&K325&L325&M325&N325","v":"321678789"},{"$f":"F325&G325&H325&I325&J325&K325&L325&M325&N325","v":"876678789"},{"$f":"C325&F325&I325","v":"386"},"277","168",{"$f":"C325&F325&L325","v":"387"},{"$f":"D325&G325&M325","v":"278"},{"$f":"E325&H325&N325","v":"169"},{"$f":"C325&I325&L325","v":"367"},{"$f":"D325&J325&M325","v":"278"},{"$f":"E325&K325&N325","v":"189"},{"$f":"F325&I325&L325","v":"867"},{"$f":"G325&J325&M325","v":"778"},"689"]
[null,"322","3","2","2","8","7","7","6","7","7","7","8","8","322877677","322877788","322677788","877677788","386","277","277","387","278","278","367","278","278","867","778","778"]
[null,"323","3","2","3","8","7","8","6","7","6","7","8","7","323878676","323878787","323676787","878676787","386","277","386","387","278","387","367","278","367","867","778","867"]
[null,"324","3","2","4","8","7","9","6","7","5","7","8","6","324879675","324879786","324675786","879675786","386","277","495","387","278","496","367","278","456","867","778","956"]
[null,"325","3","2","5","8","7","0","6","7","4","7","8","5","325870674","325870785","325674785","870674785","386","277","504","387","278","505","367","278","545","867","778","045"]
[null,"326","3","2","6","8","7","1","6","7","3","7","8","4","326871673","326871784","326673784","871673784","386","277","613","387","278","614","367","278","634","867","778","134"]
[null,"327","3","2","7","8","7","2","6","7","2","7","8","3","327872672","327872783","327672783","872672783","386",{"$f":"D331&G331&J331","v":"277"},{"$f":"E331&H331&K331","v":"722"},"387","278","723","367","278","723","867","778","223"]
[null,"328","3","2","8","8","7","3","6","7","1","7","8","2","328873671","328873782","328671782","873671782","386","277","831","387","278","832","367","278","812","867","778","312"]
[null,"329","3","2","9","8","7","4","6","7","0","7","8","1","329874670","329874781","329670781","874670781","386","277","940","387","278","941","367","278","901","867","778","401"]
[null,"330","3","3","0","8","8","5","6","6","9","7","7","0","330885669","330885770","330669770","885669770","386","386","059","387","387","050","367","367","090","867","867","590"]
[null,"331","3","3","1","8","8","6","6","6","8","7","7","9","331886668","331886779","331668779","886668779","386","386","168","387","387","169","367","367","189","867","867","689"]
[null,"332","3","3","2","8","8","7","6","6","7","7","7","8","332887667","332887778","332667778","887667778","386","386","277","387","387","278","367","367","278","867","867","778"]
[null,"333","3","3","3","8","8","8","6","6","6","7","7","7","333888666","333888777","333666777","888666777","386","386","386","387","387","387","367","367","367","867","867","867"]
[null,"334","3","3","4","8","8","9","6","6","5","7","7","6","334889665","334889776","334665776","889665776","386","386","495","387","387","496","367","367","456","867","867","956"]
[null,"335","3","3","5","8","8","0","6","6","4","7","7","5","335880664","335880775","335664775","880664775","386","386","504","387","387","505","367","367","545","867","867","045"]
[null,"336","3","3","6","8","8","1","6","6","3","7","7","4","336881663","336881774","336663774","881663774","386","386","613","387","387","614","367","367","634","867","867","134"]
[null,"337","3","3","7","8","8","2","6","6","2","7","7","3","337882662","337882773","337662773","882662773","386","386","722","387","387","723","367","367","723","867","867","223"]
[null,"338","3","3","8","8","8","3","6","6","1","7","7","2","338883661","338883772","338661772","883661772","386","386","831","387","387","832","367","367","812","867","867","312"]
[null,"339","3","3","9","8","8","4","6","6","0","7","7","1","339884660","339884771","339660771","884660771","386","386","940","387","387","941","367","367","901","867","867","401"]
[null,"340","3","4","0","8","9","5","6","5","9","7","6","0","340895659","340895760","340659760","895659760","386","495","059","387","496","050","367","456","090","867","956","590"]
[null,"341","3","4","1","8","9","6","6","5","8","7","6","9","341896658","341896769","341658769","896658769","386","495","168","387","496","169","367","456","189","867","956","689"]
[null,"342","3","4","2","8","9","7","6","5","7","7","6","8","342897657","342897768","342657768","897657768","386","495","277","387","496","278","367","456","278","867","956","778"]
[null,"343","3","4","3","8","9","8","6","5","6","7","6","7","343898656","343898767","343656767","898656767","386","495","386","387","496","387","367","456","367","867","956","867"]
[null,"344","3","4","4","8","9","9","6","5","5","7","6","6","344899655","344899766","344655766","899655766","386","495","495","387","496","496","367","456","456","867","956","956"]
[null,"345","3","4","5","8","9","0","6","5","4","7","6","5","345890654","345890765","345654765","890654765","386","495","504","387","496","505","367","456","545","867","956","045"]
[null,"346","3","4","6","8","9","1","6","5","3","7","6","4","346891653","346891764","346653764","891653764","386","495","613","387","496","614","367","456","634","867","956","134"]
[null,"347","3","4","7","8","9","2","6","5","2","7","6","3","347892652","347892763","347652763","892652763","386","495","722","387","496","723","367","456","723","867","956","223"]
[null,"348","3","4","8","8","9","3","6","5","1","7","6","2","348893651","348893762","348651762","893651762","386","495","831","387","496","832","367","456","812","867","956","312"]
[null,"349","3","4","9","8","9","4","6","5","0","7","6","1","349894650","349894761","349650761","894650761","386","495","940","387","496","941","367","456","901","867","956","401"]
[null,"350","3","5","0","8","0","5","6","4","9","7","5","0","350805649","350805750","350649750","805649750","386","504","059","387","505","050","367","545","090","867","045","590"]
[null,"351","3","5","1","8","0","6","6","4","8","7","5","9","351806648","351806759","351648759","806648759","386","504","168","387","505","169","367","545","189","867","045","689"]
[null,"352","3","5","2","8","0","7","6","4","7","7","5","8","352807647","352807758","352647758","807647758","386","504","277","387","505","278","367","545","278","867","045","778"]
[null,"353","3","5","3","8","0","8","6","4","6","7","5","7","353808646","353808757","353646757","808646757","386","504","386","387","505","387","367","545","367","867","045","867"]
[null,"354","3","5","4","8","0","9","6","4","5","7","5","6","354809645","354809756","354645756","809645756","386","504","495","387","505","496","367","545","456","867","045","956"]
[null,"355","3","5","5","8","0","0","6","4","4","7","5","5","355800644","355800755","355644755","800644755","386","504","504","387","505","505","367","545","545","867","045","045"]
[null,"356","3","5","6","8","0","1","6","4","3","7","5","4","356801643","356801754","356643754","801643754","386","504","613","387","505","614","367","545","634","867","045","134"]
[null,"357","3","5","7","8","0","2","6","4","2","7","5","3","357802642","357802753","357642753","802642753","386","504","722","387","505","723","367","545","723","867","045","223"]
[null,"358","3","5","8","8","0","3","6","4","1","7","5","2","358803641","358803752","358641752","803641752","386","504","831","387","505","832","367","545","812","867","045","312"]
[null,"359","3","5","9","8","0","4","6","4","0","7","5","1","359804640","359804751","359640751","804640751","386","504","940","387","505","941","367","545","901","867","045","401"]
[null,"360","3","6","0","8","1","5","6","3","9","7","4","0","360815639","360815740","360639740","815639740","386","613","059","387","614","050","367","634","090","867","134","590"]
[null,"361","3","6","1","8","1","6","6","3","8","7","4","9","361816638","361816749","361638749","816638749","386","613","168","387","614","169","367","634","189","867","134","689"]
[null,"362","3","6","2","8","1","7","6","3","7","7","4","8","362817637","362817748","362637748","817637748","386","613","277","387","614","278","367","634","278","867","134","778"]
[null,"363","3","6","3","8","1","8","6","3","6","7","4","7","363818636","363818747","363636747","818636747","386","613","386","387","614","387","367","634","367","867","134","867"]
[null,"364","3","6","4","8","1","9","6","3","5","7","4","6","364819635","364819746","364635746","819635746","386","613","495","387","614","496","367","634","456","867","134","956"]
[null,"365","3","6","5","8","1","0","6","3","4","7","4","5","365810634","365810745","365634745","810634745","386","613","504","387","614","505","367","634","545","867","134","045"]
[null,"366","3","6","6","8","1","1","6","3","3","7","4","4","366811633","366811744","366633744","811633744","386","613","613","387","614","614","367","634","634","867","134","134"]
[null,"367","3","6","7","8","1","2","6","3","2","7","4","3","367812632","367812743","367632743","812632743","386","613","722","387","614","723","367","634","723","867","134","223"]
[null,"368","3","6","8","8","1","3","6","3","1","7","4","2","368813631","368813742","368631742","813631742","386","613","831","387","614","832","367","634","812","867","134","312"]
[null,"369","3","6","9","8","1","4","6","3","0","7","4","1","369814630","369814741","369630741","814630741","386","613","940","387","614","941","367","634","901","867","134","401"]
[null,"370","3","7","0","8","2","5","6","2","9","7","3","0","370825629","370825730","370629730","825629730","386","722","059","387","723","050","367","723","090","867","223","590"]
[null,"371","3","7","1","8","2","6","6","2","8","7","3","9","371826628","371826739","371628739","826628739","386","722","168","387","723","169","367","723","189","867","223","689"]
[null,"372","3","7","2","8","2","7","6","2","7","7","3","8","372827627","372827738","372627738","827627738","386","722","277","387","723","278","367","723","278","867","223","778"]
[null,"373","3","7","3","8","2","8","6","2","6","7","3","7","373828626","373828737","373626737","828626737","386","722","386","387","723","387","367","723","367","867","223","867"]
[null,"374","3","7","4","8","2","9","6","2","5","7","3","6","374829625","374829736","374625736","829625736","386","722","495","387","723","496","367","723","456","867","223","956"]
[null,"375","3","7","5","8","2","0","6","2","4","7","3","5","375820624","375820735","375624735","820624735","386","722","504","387","723","505","367","723","545","867","223","045"]
[null,"376","3","7","6","8","2","1","6","2","3","7","3","4","376821623","376821734","376623734","821623734","386","722","613","387","723","614","367","723","634","867","223","134"]
[null,"377","3","7","7","8","2","2","6","2","2","7","3","3","377822622","377822733","377622733","822622733","386","722","722","387","723","723","367","723","723","867","223","223"]
[null,"378","3","7","8","8","2","3","6","2","1","7","3","2","378823621","378823732","378621732","823621732","386","722","831","387","723","832","367","723","812","867","223","312"]
[null,"379","3","7","9","8","2","4","6","2","0","7","3","1","379824620","379824731","379620731","824620731","386","722","940","387","723","941","367","723","901","867","223","401"]
[null,"380","3","8","0","8","3","5","6","1","9","7","2","0","380835619","380835720","380619720","835619720","386","831","059","387","832","050","367","812","090","867","312","590"]
[null,"381","3","8","1","8","3","6","6","1","8","7","2","9","381836618","381836729","381618729","836618729","386","831","168","387","832","169","367","812","189","867","312","689"]
[null,"382","3","8","2","8","3","7","6","1","7","7","2","8","382837617","382837728","382617728","837617728","386","831","277","387","832","278","367","812","278","867","312","778"]
[null,"383","3","8","3","8","3","8","6","1","6","7","2","7","383838616","383838727","383616727","838616727","386","831","386","387","832","387","367","812","367","867","312","867"]
[null,"384","3","8","4","8","3","9","6","1","5","7","2","6","384839615","384839726","384615726","839615726","386","831","495","387","832","496","367","812","456","867","312","956"]
[null,"385",{"$f":"MID($B389,1,1)","v":"3"},{"$f":"MID($B389,2,1)","v":"8"},{"$f":"MID($B389,3,1)","v":"5"},{"$f":"RIGHT(C389+5)","v":"8"},{"$f":"RIGHT(D389+5)","v":"3"},{"$f":"RIGHT(E389+5)","v":"0"},{"$f":"RIGHT(9-C389)","v":"6"},{"$f":"RIGHT(9-D389)","v":"1"},{"$f":"RIGHT(9-E389)","v":"4"},{"$f":"RIGHT(10-C389)","v":"7"},{"$f":"RIGHT(10-D389)","v":"2"},{"$f":"RIGHT(10-E389)","v":"5"},{"$f":"C389&D389&E389&F389&G389&H389&I389&J389&K389","v":"385830614"},{"$f":"C389&D389&E389&F389&G389&H389&L389&M389&N389","v":"385830725"},{"$f":"C389&D389&E389&I389&J389&K389&L389&M389&N389","v":"385614725"},{"$f":"F389&G389&H389&I389&J389&K389&L389&M389&N389","v":"830614725"},{"$f":"C389&F389&I389","v":"386"},"831","504",{"$f":"C389&F389&L389","v":"387"},{"$f":"D389&G389&M389","v":"832"},{"$f":"E389&H389&N389","v":"505"},{"$f":"C389&I389&L389","v":"367"},{"$f":"D389&J389&M389","v":"812"},{"$f":"E389&K389&N389","v":"545"},{"$f":"F389&I389&L389","v":"867"},{"$f":"G389&J389&M389","v":"312"},"045"]
[null,"386","3","8","6","8","3","1","6","1","3","7","2","4","386831613","386831724","386613724","831613724","386","831","613","387","832","614","367","812","634","867","312","134"]
[null,"387","3","8","7","8","3","2","6","1","2","7","2","3","387832612","387832723","387612723","832612723","386","831","722","387","832","723","367","812","723","867","312","223"]
[null,"388","3","8","8","8","3","3","6","1","1","7","2","2","388833611","388833722","388611722","833611722","386","831","831","387","832","832","367","812","812","867","312","312"]
[null,"389","3","8","9","8","3","4","6","1","0","7","2","1","389834610","389834721","389610721","834610721","386","831","940","387","832","941","367","812","901","867","312","401"]
[null,"390","3","9","0","8","4","5","6","0","9","7","1","0","390845609","390845710","390609710","845609710","386","940","059","387","941","050","367","901","090","867","401","590"]
[null,"391","3","9","1","8","4","6","6","0","8","7","1","9","391846608","391846719","391608719","846608719","386",{"$f":"D395&G395&J395","v":"940"},{"$f":"E395&H395&K395","v":"168"},"387","941","169","367","901","189","867","401","689"]
[null,"392","3","9","2","8","4","7","6","0","7","7","1","8","392847607","392847718","392607718","847607718","386","940","277","387","941","278","367","901","278","867","401","778"]
[null,"393","3","9","3","8","4","8","6","0","6","7","1","7","393848606","393848717","393606717","848606717","386","940","386","387","941","387","367","901","367","867","401","867"]
[null,"394","3","9","4","8","4","9","6","0","5","7","1","6","394849605","394849716","394605716","849605716","386","940","495","387","941","496","367","901","456","867","401","956"]
[null,"395","3","9","5","8","4","0","6","0","4","7","1","5","395840604","395840715","395604715","840604715","386","940","504","387","941","505","367","901","545","867","401","045"]
[null,"396","3","9","6","8","4","1","6","0","3","7","1","4","396841603","396841714","396603714","841603714","386","940","613","387","941","614","367","901","634","867","401","134"]
[null,"397","3","9","7","8","4","2","6","0","2","7","1","3","397842602","397842713","397602713","842602713","386","940","722","387","941","723","367","901","723","867","401","223"]
[null,"398","3","9","8","8","4","3","6","0","1","7","1","2","398843601","398843712","398601712","843601712","386","940","831","387","941","832","367","901","812","867","401","312"]
[null,"399","3","9","9","8","4","4","6","0","0","7","1","1","399844600","399844711","399600711","844600711","386","940","940","387","941","941","367","901","901","867","401","401"]
[null,"400","4","0","0","9","5","5","5","9","9","6","0","0","400955599","400955600","400599600","955599600","495","059","059","496","050","050","456","090","090","956","590","590"]
[null,"401","4","0","1","9","5","6","5","9","8","6","0","9","401956598","401956609","401598609","956598609","495","059","168","496","050","169","456","090","189","956","590","689"]
[null,"402","4","0","2","9","5","7","5","9","7","6","0","8","402957597","402957608","402597608","957597608","495","059","277","496","050","278","456","090","278","956","590","778"]
[null,"403","4","0","3","9","5","8","5","9","6","6","0","7","403958596","403958607","403596607","958596607","495","059","386","496","050","387","456","090","367","956","590","867"]
[null,"404","4","0","4","9","5","9","5","9","5","6","0","6","404959595","404959606","404595606","959595606","495","059","495","496","050","496","456","090","456","956","590","956"]
[null,"405","4","0","5","9","5","0","5","9","4","6","0","5","405950594","405950605","405594605","950594605","495","059","504","496","050","505","456","090","545","956","590","045"]
[null,"406","4","0","6","9","5","1","5","9","3","6","0","4","406951593","406951604","406593604","951593604","495","059","613","496","050","614","456","090","634","956","590","134"]
[null,"407","4","0","7","9","5","2","5","9","2","6","0","3","407952592","407952603","407592603","952592603","495","059","722","496","050","723","456","090","723","956","590","223"]
[null,"408","4","0","8","9","5","3","5","9","1","6","0","2","408953591","408953602","408591602","953591602","495","059","831","496","050","832","456","090","812","956","590","312"]
[null,"409","4","0","9","9","5","4","5","9","0","6","0","1","409954590","409954601","409590601","954590601","495","059","940","496","050","941","456","090","901","956","590","401"]
[null,"410","4","1","0","9","6","5","5","8","9","6","9","0","410965589","410965690","410589690","965589690","495","168","059","496","169","050","456","189","090","956","689","590"]
[null,"411","4","1","1","9","6","6","5","8","8","6","9","9","411966588","411966699","411588699","966588699","495","168","168","496","169","169","456","189","189","956","689","689"]
[null,"412","4","1","2","9","6","7","5","8","7","6","9","8","412967587","412967698","412587698","967587698","495","168","277","496","169","278","456","189","278","956","689","778"]
[null,"413","4","1","3","9","6","8","5","8","6","6","9","7","413968586","413968697","413586697","968586697","495","168","386","496","169","387","456","189","367","956","689","867"]
[null,"414","4","1","4","9","6","9","5","8","5","6","9","6","414969585","414969696","414585696","969585696","495","168","495","496","169","496","456","189","456","956","689","956"]
[null,"415","4","1","5","9","6","0","5","8","4","6","9","5","415960584","415960695","415584695","960584695","495","168","504","496","169","505","456","189","545","956","689","045"]
[null,"416","4","1","6","9","6","1","5","8","3","6","9","4","416961583","416961694","416583694","961583694","495","168","613","496","169","614","456","189","634","956","689","134"]
[null,"417","4","1","7","9","6","2","5","8","2","6","9","3","417962582","417962693","417582693","962582693","495","168","722","496","169","723","456","189","723","956","689","223"]
[null,"418","4","1","8","9","6","3","5","8","1","6","9","2","418963581","418963692","418581692","963581692","495","168","831","496","169","832","456","189","812","956","689","312"]
[null,"419","4","1","9","9","6","4","5","8","0","6","9","1","419964580","419964691","419580691","964580691","495","168","940","496","169","941","456","189","901","956","689","401"]
[null,"420","4","2","0","9","7","5","5","7","9","6","8","0","420975579","420975680","420579680","975579680","495","277","059","496","278","050","456","278","090","956","778","590"]
[null,"421","4","2","1","9","7","6","5","7","8","6","8","9","421976578","421976689","421578689","976578689","495","277","168","496","278","169","456","278","189","956","778","689"]
[null,"422","4","2","2","9","7","7","5","7","7","6","8","8","422977577","422977688","422577688","977577688","495","277","277","496","278","278","456","278","278","956","778","778"]
[null,"423","4","2","3","9","7","8","5","7","6","6","8","7","423978576","423978687","423576687","978576687","495","277","386","496","278","387","456","278","367","956","778","867"]
[null,"424","4","2","4","9","7","9","5","7","5","6","8","6","424979575","424979686","424575686","979575686","495","277","495","496","278","496","456","278","456","956","778","956"]
[null,"425","4","2","5","9","7","0","5","7","4","6","8","5","425970574","425970685","425574685","970574685","495","277","504","496","278","505","456","278","545","956","778","045"]
[null,"426","4","2","6","9","7","1","5","7","3","6","8","4","426971573","426971684","426573684","971573684","495","277","613","496","278","614","456","278","634","956","778","134"]
[null,"427","4","2","7","9","7","2","5","7","2","6","8","3","427972572","427972683","427572683","972572683","495","277","722","496","278","723","456","278","723","956","778","223"]
[null,"428","4","2","8","9","7","3","5","7","1","6","8","2","428973571","428973682","428571682","973571682","495","277","831","496","278","832","456","278","812","956","778","312"]
[null,"429","4","2","9","9","7","4","5","7","0","6","8","1","429974570","429974681","429570681","974570681","495","277","940","496","278","941","456","278","901","956","778","401"]
[null,"430","4","3","0","9","8","5","5","6","9","6","7","0","430985569","430985670","430569670","985569670","495","386","059","496","387","050","456","367","090","956","867","590"]
[null,"431","4","3","1","9","8","6","5","6","8","6","7","9","431986568","431986679","431568679","986568679","495","386","168","496","387","169","456","367","189","956","867","689"]
[null,"432","4","3","2","9","8","7","5","6","7","6","7","8","432987567","432987678","432567678","987567678","495","386","277","496","387","278","456","367","278","956","867","778"]
[null,"433","4","3","3","9","8","8","5","6","6","6","7","7","433988566","433988677","433566677","988566677","495","386","386","496","387","387","456","367","367","956","867","867"]
[null,"434","4","3","4","9","8","9","5","6","5","6","7","6","434989565","434989676","434565676","989565676","495","386","495","496","387","496","456","367","456","956","867","956"]
[null,"435","4","3","5","9","8","0","5","6","4","6","7","5","435980564","435980675","435564675","980564675","495","386","504","496","387","505","456","367","545","956","867","045"]
[null,"436","4","3","6","9","8","1","5","6","3","6","7","4","436981563","436981674","436563674","981563674","495","386","613","496","387","614","456","367","634","956","867","134"]
[null,"437","4","3","7","9","8","2","5","6","2","6","7","3","437982562","437982673","437562673","982562673","495","386","722","496","387","723","456","367","723","956","867","223"]
[null,"438","4","3","8","9","8","3","5","6","1","6","7","2","438983561","438983672","438561672","983561672","495","386","831","496","387","832","456","367","812","956","867","312"]
[null,"439","4","3","9","9","8","4","5","6","0","6","7","1","439984560","439984671","439560671","984560671","495","386","940","496","387","941","456","367","901","956","867","401"]
[null,"440","4","4","0","9","9","5","5","5","9","6","6","0","440995559","440995660","440559660","995559660","495","495","059","496","496","050","456","456","090","956","956","590"]
[null,"441","4","4","1","9","9","6","5","5","8","6","6","9","441996558","441996669","441558669","996558669","495","495","168","496","496","169","456","456","189","956","956","689"]
[null,"442","4","4","2","9","9","7","5","5","7","6","6","8","442997557","442997668","442557668","997557668","495","495","277","496","496","278","456","456","278","956","956","778"]
[null,"443","4","4","3","9","9","8","5","5","6","6","6","7","443998556","443998667","443556667","998556667","495","495","386","496","496","387","456","456","367","956","956","867"]
[null,"444","4","4","4","9","9","9","5","5","5","6","6","6","444999555","444999666","444555666","999555666","495","495","495","496","496","496","456","456","456","956","956","956"]
[null,"445","4","4","5","9","9","0","5","5","4","6","6","5","445990554","445990665","445554665","990554665","495","495","504","496","496","505","456","456","545","956","956","045"]
[null,"446","4","4","6","9","9","1","5","5","3","6","6","4","446991553","446991664","446553664","991553664","495","495","613","496","496","614","456","456","634","956","956","134"]
[null,"447","4","4","7","9","9","2","5","5","2","6","6","3","447992552","447992663","447552663","992552663","495","495","722","496","496","723","456","456","723","956","956","223"]
[null,"448","4","4","8","9","9","3","5","5","1","6","6","2","448993551","448993662","448551662","993551662","495","495","831","496","496","832","456","456","812","956","956","312"]
[null,"449",{"$f":"MID($B453,1,1)","v":"4"},{"$f":"MID($B453,2,1)","v":"4"},{"$f":"MID($B453,3,1)","v":"9"},{"$f":"RIGHT(C453+5)","v":"9"},{"$f":"RIGHT(D453+5)","v":"9"},{"$f":"RIGHT(E453+5)","v":"4"},{"$f":"RIGHT(9-C453)","v":"5"},{"$f":"RIGHT(9-D453)","v":"5"},{"$f":"RIGHT(9-E453)","v":"0"},{"$f":"RIGHT(10-C453)","v":"6"},{"$f":"RIGHT(10-D453)","v":"6"},{"$f":"RIGHT(10-E453)","v":"1"},{"$f":"C453&D453&E453&F453&G453&H453&I453&J453&K453","v":"449994550"},{"$f":"C453&D453&E453&F453&G453&H453&L453&M453&N453","v":"449994661"},{"$f":"C453&D453&E453&I453&J453&K453&L453&M453&N453","v":"449550661"},{"$f":"F453&G453&H453&I453&J453&K453&L453&M453&N453","v":"994550661"},{"$f":"C453&F453&I453","v":"495"},"495","940",{"$f":"C453&F453&L453","v":"496"},{"$f":"D453&G453&M453","v":"496"},{"$f":"E453&H453&N453","v":"941"},{"$f":"C453&I453&L453","v":"456"},{"$f":"D453&J453&M453","v":"456"},{"$f":"E453&K453&N453","v":"901"},{"$f":"F453&I453&L453","v":"956"},{"$f":"G453&J453&M453","v":"956"},"401"]
[null,"450","4","5","0","9","0","5","5","4","9","6","5","0","450905549","450905650","450549650","905549650","495","504","059","496","505","050","456","545","090","956","045","590"]
[null,"451","4","5","1","9","0","6","5","4","8","6","5","9","451906548","451906659","451548659","906548659","495","504","168","496","505","169","456","545","189","956","045","689"]
[null,"452","4","5","2","9","0","7","5","4","7","6","5","8","452907547","452907658","452547658","907547658","495","504","277","496","505","278","456","545","278","956","045","778"]
[null,"453","4","5","3","9","0","8","5","4","6","6","5","7","453908546","453908657","453546657","908546657","495","504","386","496","505","387","456","545","367","956","045","867"]
[null,"454","4","5","4","9","0","9","5","4","5","6","5","6","454909545","454909656","454545656","909545656","495","504","495","496","505","496","456","545","456","956","045","956"]
[null,"455","4","5","5","9","0","0","5","4","4","6","5","5","455900544","455900655","455544655","900544655","495",{"$f":"D459&G459&J459","v":"504"},{"$f":"E459&H459&K459","v":"504"},"496","505","505","456","545","545","956","045","045"]
[null,"456","4","5","6","9","0","1","5","4","3","6","5","4","456901543","456901654","456543654","901543654","495","504","613","496","505","614","456","545","634","956","045","134"]
[null,"457","4","5","7","9","0","2","5","4","2","6","5","3","457902542","457902653","457542653","902542653","495","504","722","496","505","723","456","545","723","956","045","223"]
[null,"458","4","5","8","9","0","3","5","4","1","6","5","2","458903541","458903652","458541652","903541652","495","504","831","496","505","832","456","545","812","956","045","312"]
[null,"459","4","5","9","9","0","4","5","4","0","6","5","1","459904540","459904651","459540651","904540651","495","504","940","496","505","941","456","545","901","956","045","401"]
[null,"460","4","6","0","9","1","5","5","3","9","6","4","0","460915539","460915640","460539640","915539640","495","613","059","496","614","050","456","634","090","956","134","590"]
[null,"461","4","6","1","9","1","6","5","3","8","6","4","9","461916538","461916649","461538649","916538649","495","613","168","496","614","169","456","634","189","956","134","689"]
[null,"462","4","6","2","9","1","7","5","3","7","6","4","8","462917537","462917648","462537648","917537648","495","613","277","496","614","278","456","634","278","956","134","778"]
[null,"463","4","6","3","9","1","8","5","3","6","6","4","7","463918536","463918647","463536647","918536647","495","613","386","496","614","387","456","634","367","956","134","867"]
[null,"464","4","6","4","9","1","9","5","3","5","6","4","6","464919535","464919646","464535646","919535646","495","613","495","496","614","496","456","634","456","956","134","956"]
[null,"465","4","6","5","9","1","0","5","3","4","6","4","5","465910534","465910645","465534645","910534645","495","613","504","496","614","505","456","634","545","956","134","045"]
[null,"466","4","6","6","9","1","1","5","3","3","6","4","4","466911533","466911644","466533644","911533644","495","613","613","496","614","614","456","634","634","956","134","134"]
[null,"467","4","6","7","9","1","2","5","3","2","6","4","3","467912532","467912643","467532643","912532643","495","613","722","496","614","723","456","634","723","956","134","223"]
[null,"468","4","6","8","9","1","3","5","3","1","6","4","2","468913531","468913642","468531642","913531642","495","613","831","496","614","832","456","634","812","956","134","312"]
[null,"469","4","6","9","9","1","4","5","3","0","6","4","1","469914530","469914641","469530641","914530641","495","613","940","496","614","941","456","634","901","956","134","401"]
[null,"470","4","7","0","9","2","5","5","2","9","6","3","0","470925529","470925630","470529630","925529630","495","722","059","496","723","050","456","723","090","956","223","590"]
[null,"471","4","7","1","9","2","6","5","2","8","6","3","9","471926528","471926639","471528639","926528639","495","722","168","496","723","169","456","723","189","956","223","689"]
[null,"472","4","7","2","9","2","7","5","2","7","6","3","8","472927527","472927638","472527638","927527638","495","722","277","496","723","278","456","723","278","956","223","778"]
[null,"473","4","7","3","9","2","8","5","2","6","6","3","7","473928526","473928637","473526637","928526637","495","722","386","496","723","387","456","723","367","956","223","867"]
[null,"474","4","7","4","9","2","9","5","2","5","6","3","6","474929525","474929636","474525636","929525636","495","722","495","496","723","496","456","723","456","956","223","956"]
[null,"475","4","7","5","9","2","0","5","2","4","6","3","5","475920524","475920635","475524635","920524635","495","722","504","496","723","505","456","723","545","956","223","045"]
[null,"476","4","7","6","9","2","1","5","2","3","6","3","4","476921523","476921634","476523634","921523634","495","722","613","496","723","614","456","723","634","956","223","134"]
[null,"477","4","7","7","9","2","2","5","2","2","6","3","3","477922522","477922633","477522633","922522633","495","722","722","496","723","723","456","723","723","956","223","223"]
[null,"478","4","7","8","9","2","3","5","2","1","6","3","2","478923521","478923632","478521632","923521632","495","722","831","496","723","832","456","723","812","956","223","312"]
[null,"479","4","7","9","9","2","4","5","2","0","6","3","1","479924520","479924631","479520631","924520631","495","722","940","496","723","941","456","723","901","956","223","401"]
[null,"480","4","8","0","9","3","5","5","1","9","6","2","0","480935519","480935620","480519620","935519620","495","831","059","496","832","050","456","812","090","956","312","590"]
[null,"481","4","8","1","9","3","6","5","1","8","6","2","9","481936518","481936629","481518629","936518629","495","831","168","496","832","169","456","812","189","956","312","689"]
[null,"482","4","8","2","9","3","7","5","1","7","6","2","8","482937517","482937628","482517628","937517628","495","831","277","496","832","278","456","812","278","956","312","778"]
[null,"483","4","8","3","9","3","8","5","1","6","6","2","7","483938516","483938627","483516627","938516627","495","831","386","496","832","387","456","812","367","956","312","867"]
[null,"484","4","8","4","9","3","9","5","1","5","6","2","6","484939515","484939626","484515626","939515626","495","831","495","496","832","496","456","812","456","956","312","956"]
[null,"485","4","8","5","9","3","0","5","1","4","6","2","5","485930514","485930625","485514625","930514625","495","831","504","496","832","505","456","812","545","956","312","045"]
[null,"486","4","8","6","9","3","1","5","1","3","6","2","4","486931513","486931624","486513624","931513624","495","831","613","496","832","614","456","812","634","956","312","134"]
[null,"487","4","8","7","9","3","2","5","1","2","6","2","3","487932512","487932623","487512623","932512623","495","831","722","496","832","723","456","812","723","956","312","223"]
[null,"488","4","8","8","9","3","3","5","1","1","6","2","2","488933511","488933622","488511622","933511622","495","831","831","496","832","832","456","812","812","956","312","312"]
[null,"489","4","8","9","9","3","4","5","1","0","6","2","1","489934510","489934621","489510621","934510621","495","831","940","496","832","941","456","812","901","956","312","401"]
[null,"490","4","9","0","9","4","5","5","0","9","6","1","0","490945509","490945610","490509610","945509610","495","940","059","496","941","050","456","901","090","956","401","590"]
[null,"491","4","9","1","9","4","6","5","0","8","6","1","9","491946508","491946619","491508619","946508619","495","940","168","496","941","169","456","901","189","956","401","689"]
[null,"492","4","9","2","9","4","7","5","0","7","6","1","8","492947507","492947618","492507618","947507618","495","940","277","496","941","278","456","901","278","956","401","778"]
[null,"493","4","9","3","9","4","8","5","0","6","6","1","7","493948506","493948617","493506617","948506617","495","940","386","496","941","387","456","901","367","956","401","867"]
[null,"494","4","9","4","9","4","9","5","0","5","6","1","6","494949505","494949616","494505616","949505616","495","940","495","496","941","496","456","901","456","956","401","956"]
[null,"495","4","9","5","9","4","0","5","0","4","6","1","5","495940504","495940615","495504615","940504615","495","940","504","496","941","505","456","901","545","956","401","045"]
[null,"496","4","9","6","9","4","1","5","0","3","6","1","4","496941503","496941614","496503614","941503614","495","940","613","496","941","614","456","901","634","956","401","134"]
[null,"497","4","9","7","9","4","2","5","0","2","6","1","3","497942502","497942613","497502613","942502613","495","940","722","496","941","723","456","901","723","956","401","223"]
[null,"498","4","9","8","9","4","3","5","0","1","6","1","2","498943501","498943612","498501612","943501612","495","940","831","496","941","832","456","901","812","956","401","312"]
[null,"499","4","9","9","9","4","4","5","0","0","6","1","1","499944500","499944611","499500611","944500611","495","940","940","496","941","941","456","901","901","956","401","401"]
[null,"500","5","0","0","0","5","5","4","9","9","5","0","0","500055499","500055500","500499500","055499500","504","059","059","505","050","050","545","090","090","045","590","590"]
[null,"501","5","0","1","0","5","6","4","9","8","5","0","9","501056498","501056509","501498509","056498509","504","059","168","505","050","169","545","090","189","045","590","689"]
[null,"502","5","0","2","0","5","7","4","9","7","5","0","8","502057497","502057508","502497508","057497508","504","059","277","505","050","278","545","090","278","045","590","778"]
[null,"503","5","0","3","0","5","8","4","9","6","5","0","7","503058496","503058507","503496507","058496507","504","059","386","505","050","387","545","090","367","045","590","867"]
[null,"504","5","0","4","0","5","9","4","9","5","5","0","6","504059495","504059506","504495506","059495506","504","059","495","505","050","496","545","090","456","045","590","956"]
[null,"505","5","0","5","0","5","0","4","9","4","5","0","5","505050494","505050505","505494505","050494505","504","059","504","505","050","505","545","090","545","045","590","045"]
[null,"506","5","0","6","0","5","1","4","9","3","5","0","4","506051493","506051504","506493504","051493504","504","059","613","505","050","614","545","090","634","045","590","134"]
[null,"507","5","0","7","0","5","2","4","9","2","5","0","3","507052492","507052503","507492503","052492503","504","059","722","505","050","723","545","090","723","045","590","223"]
[null,"508","5","0","8","0","5","3","4","9","1","5","0","2","508053491","508053502","508491502","053491502","504","059","831","505","050","832","545","090","812","045","590","312"]
[null,"509","5","0","9","0","5","4","4","9","0","5","0","1","509054490","509054501","509490501","054490501","504","059","940","505","050","941","545","090","901","045","590","401"]
[null,"510","5","1","0","0","6","5","4","8","9","5","9","0","510065489","510065590","510489590","065489590","504","168","059","505","169","050","545","189","090","045","689","590"]
[null,"511","5","1","1","0","6","6","4","8","8","5","9","9","511066488","511066599","511488599","066488599","504","168","168","505","169","169","545","189","189","045","689","689"]
[null,"512","5","1","2","0","6","7","4","8","7","5","9","8","512067487","512067598","512487598","067487598","504","168","277","505","169","278","545","189","278","045","689","778"]
[null,"513",{"$f":"MID($B517,1,1)","v":"5"},{"$f":"MID($B517,2,1)","v":"1"},{"$f":"MID($B517,3,1)","v":"3"},{"$f":"RIGHT(C517+5)","v":"0"},{"$f":"RIGHT(D517+5)","v":"6"},{"$f":"RIGHT(E517+5)","v":"8"},{"$f":"RIGHT(9-C517)","v":"4"},{"$f":"RIGHT(9-D517)","v":"8"},{"$f":"RIGHT(9-E517)","v":"6"},{"$f":"RIGHT(10-C517)","v":"5"},{"$f":"RIGHT(10-D517)","v":"9"},{"$f":"RIGHT(10-E517)","v":"7"},{"$f":"C517&D517&E517&F517&G517&H517&I517&J517&K517","v":"513068486"},{"$f":"C517&D517&E517&F517&G517&H517&L517&M517&N517","v":"513068597"},{"$f":"C517&D517&E517&I517&J517&K517&L517&M517&N517","v":"513486597"},{"$f":"F517&G517&H517&I517&J517&K517&L517&M517&N517","v":"068486597"},{"$f":"C517&F517&I517","v":"504"},"168","386",{"$f":"C517&F517&L517","v":"505"},{"$f":"D517&G517&M517","v":"169"},{"$f":"E517&H517&N517","v":"387"},{"$f":"C517&I517&L517","v":"545"},{"$f":"D517&J517&M517","v":"189"},{"$f":"E517&K517&N517","v":"367"},{"$f":"F517&I517&L517","v":"045"},{"$f":"G517&J517&M517","v":"689"},"867"]
[null,"514","5","1","4","0","6","9","4","8","5","5","9","6","514069485","514069596","514485596","069485596","504","168","495","505","169","496","545","189","456","045","689","956"]
[null,"515","5","1","5","0","6","0","4","8","4","5","9","5","515060484","515060595","515484595","060484595","504","168","504","505","169","505","545","189","545","045","689","045"]
[null,"516","5","1","6","0","6","1","4","8","3","5","9","4","516061483","516061594","516483594","061483594","504","168","613","505","169","614","545","189","634","045","689","134"]
[null,"517","5","1","7","0","6","2","4","8","2","5","9","3","517062482","517062593","517482593","062482593","504","168","722","505","169","723","545","189","723","045","689","223"]
[null,"518","5","1","8","0","6","3","4","8","1","5","9","2","518063481","518063592","518481592","063481592","504","168","831","505","169","832","545","189","812","045","689","312"]
[null,"519","5","1","9","0","6","4","4","8","0","5","9","1","519064480","519064591","519480591","064480591","504",{"$f":"D523&G523&J523","v":"168"},{"$f":"E523&H523&K523","v":"940"},"505","169","941","545","189","901","045","689","401"]
[null,"520","5","2","0","0","7","5","4","7","9","5","8","0","520075479","520075580","520479580","075479580","504","277","059","505","278","050","545","278","090","045","778","590"]
[null,"521","5","2","1","0","7","6","4","7","8","5","8","9","521076478","521076589","521478589","076478589","504","277","168","505","278","169","545","278","189","045","778","689"]
[null,"522","5","2","2","0","7","7","4","7","7","5","8","8","522077477","522077588","522477588","077477588","504","277","277","505","278","278","545","278","278","045","778","778"]
[null,"523","5","2","3","0","7","8","4","7","6","5","8","7","523078476","523078587","523476587","078476587","504","277","386","505","278","387","545","278","367","045","778","867"]
[null,"524","5","2","4","0","7","9","4","7","5","5","8","6","524079475","524079586","524475586","079475586","504","277","495","505","278","496","545","278","456","045","778","956"]
[null,"525","5","2","5","0","7","0","4","7","4","5","8","5","525070474","525070585","525474585","070474585","504","277","504","505","278","505","545","278","545","045","778","045"]
[null,"526","5","2","6","0","7","1","4","7","3","5","8","4","526071473","526071584","526473584","071473584","504","277","613","505","278","614","545","278","634","045","778","134"]
[null,"527","5","2","7","0","7","2","4","7","2","5","8","3","527072472","527072583","527472583","072472583","504","277","722","505","278","723","545","278","723","045","778","223"]
[null,"528","5","2","8","0","7","3","4","7","1","5","8","2","528073471","528073582","528471582","073471582","504","277","831","505","278","832","545","278","812","045","778","312"]
[null,"529","5","2","9","0","7","4","4","7","0","5","8","1","529074470","529074581","529470581","074470581","504","277","940","505","278","941","545","278","901","045","778","401"]
[null,"530","5","3","0","0","8","5","4","6","9","5","7","0","530085469","530085570","530469570","085469570","504","386","059","505","387","050","545","367","090","045","867","590"]
[null,"531","5","3","1","0","8","6","4","6","8","5","7","9","531086468","531086579","531468579","086468579","504","386","168","505","387","169","545","367","189","045","867","689"]
[null,"532","5","3","2","0","8","7","4","6","7","5","7","8","532087467","532087578","532467578","087467578","504","386","277","505","387","278","545","367","278","045","867","778"]
[null,"533","5","3","3","0","8","8","4","6","6","5","7","7","533088466","533088577","533466577","088466577","504","386","386","505","387","387","545","367","367","045","867","867"]
[null,"534","5","3","4","0","8","9","4","6","5","5","7","6","534089465","534089576","534465576","089465576","504","386","495","505","387","496","545","367","456","045","867","956"]
[null,"535","5","3","5","0","8","0","4","6","4","5","7","5","535080464","535080575","535464575","080464575","504","386","504","505","387","505","545","367","545","045","867","045"]
[null,"536","5","3","6","0","8","1","4","6","3","5","7","4","536081463","536081574","536463574","081463574","504","386","613","505","387","614","545","367","634","045","867","134"]
[null,"537","5","3","7","0","8","2","4","6","2","5","7","3","537082462","537082573","537462573","082462573","504","386","722","505","387","723","545","367","723","045","867","223"]
[null,"538","5","3","8","0","8","3","4","6","1","5","7","2","538083461","538083572","538461572","083461572","504","386","831","505","387","832","545","367","812","045","867","312"]
[null,"539","5","3","9","0","8","4","4","6","0","5","7","1","539084460","539084571","539460571","084460571","504","386","940","505","387","941","545","367","901","045","867","401"]
[null,"540","5","4","0","0","9","5","4","5","9","5","6","0","540095459","540095560","540459560","095459560","504","495","059","505","496","050","545","456","090","045","956","590"]
[null,"541","5","4","1","0","9","6","4","5","8","5","6","9","541096458","541096569","541458569","096458569","504","495","168","505","496","169","545","456","189","045","956","689"]
[null,"542","5","4","2","0","9","7","4","5","7","5","6","8","542097457","542097568","542457568","097457568","504","495","277","505","496","278","545","456","278","045","956","778"]
[null,"543","5","4","3","0","9","8","4","5","6","5","6","7","543098456","543098567","543456567","098456567","504","495","386","505","496","387","545","456","367","045","956","867"]
[null,"544","5","4","4","0","9","9","4","5","5","5","6","6","544099455","544099566","544455566","099455566","504","495","495","505","496","496","545","456","456","045","956","956"]
[null,"545","5","4","5","0","9","0","4","5","4","5","6","5","545090454","545090565","545454565","090454565","504","495","504","505","496","505","545","456","545","045","956","045"]
[null,"546","5","4","6","0","9","1","4","5","3","5","6","4","546091453","546091564","546453564","091453564","504","495","613","505","496","614","545","456","634","045","956","134"]
[null,"547","5","4","7","0","9","2","4","5","2","5","6","3","547092452","547092563","547452563","092452563","504","495","722","505","496","723","545","456","723","045","956","223"]
[null,"548","5","4","8","0","9","3","4","5","1","5","6","2","548093451","548093562","548451562","093451562","504","495","831","505","496","832","545","456","812","045","956","312"]
[null,"549","5","4","9","0","9","4","4","5","0","5","6","1","549094450","549094561","549450561","094450561","504","495","940","505","496","941","545","456","901","045","956","401"]
[null,"550","5","5","0","0","0","5","4","4","9","5","5","0","550005449","550005550","550449550","005449550","504","504","059","505","505","050","545","545","090","045","045","590"]
[null,"551","5","5","1","0","0","6","4","4","8","5","5","9","551006448","551006559","551448559","006448559","504","504","168","505","505","169","545","545","189","045","045","689"]
[null,"552","5","5","2","0","0","7","4","4","7","5","5","8","552007447","552007558","552447558","007447558","504","504","277","505","505","278","545","545","278","045","045","778"]
[null,"553","5","5","3","0","0","8","4","4","6","5","5","7","553008446","553008557","553446557","008446557","504","504","386","505","505","387","545","545","367","045","045","867"]
[null,"554","5","5","4","0","0","9","4","4","5","5","5","6","554009445","554009556","554445556","009445556","504","504","495","505","505","496","545","545","456","045","045","956"]
[null,"555","5","5","5","0","0","0","4","4","4","5","5","5","555000444","555000555","555444555","000444555","504","504","504","505","505","505","545","545","545","045","045","045"]
[null,"556","5","5","6","0","0","1","4","4","3","5","5","4","556001443","556001554","556443554","001443554","504","504","613","505","505","614","545","545","634","045","045","134"]
[null,"557","5","5","7","0","0","2","4","4","2","5","5","3","557002442","557002553","557442553","002442553","504","504","722","505","505","723","545","545","723","045","045","223"]
[null,"558","5","5","8","0","0","3","4","4","1","5","5","2","558003441","558003552","558441552","003441552","504","504","831","505","505","832","545","545","812","045","045","312"]
[null,"559","5","5","9","0","0","4","4","4","0","5","5","1","559004440","559004551","559440551","004440551","504","504","940","505","505","941","545","545","901","045","045","401"]
[null,"560","5","6","0","0","1","5","4","3","9","5","4","0","560015439","560015540","560439540","015439540","504","613","059","505","614","050","545","634","090","045","134","590"]
[null,"561","5","6","1","0","1","6","4","3","8","5","4","9","561016438","561016549","561438549","016438549","504","613","168","505","614","169","545","634","189","045","134","689"]
[null,"562","5","6","2","0","1","7","4","3","7","5","4","8","562017437","562017548","562437548","017437548","504","613","277","505","614","278","545","634","278","045","134","778"]
[null,"563","5","6","3","0","1","8","4","3","6","5","4","7","563018436","563018547","563436547","018436547","504","613","386","505","614","387","545","634","367","045","134","867"]
[null,"564","5","6","4","0","1","9","4","3","5","5","4","6","564019435","564019546","564435546","019435546","504","613","495","505","614","496","545","634","456","045","134","956"]
[null,"565","5","6","5","0","1","0","4","3","4","5","4","5","565010434","565010545","565434545","010434545","504","613","504","505","614","505","545","634","545","045","134","045"]
[null,"566","5","6","6","0","1","1","4","3","3","5","4","4","566011433","566011544","566433544","011433544","504","613","613","505","614","614","545","634","634","045","134","134"]
[null,"567","5","6","7","0","1","2","4","3","2","5","4","3","567012432","567012543","567432543","012432543","504","613","722","505","614","723","545","634","723","045","134","223"]
[null,"568","5","6","8","0","1","3","4","3","1","5","4","2","568013431","568013542","568431542","013431542","504","613","831","505","614","832","545","634","812","045","134","312"]
[null,"569","5","6","9","0","1","4","4","3","0","5","4","1","569014430","569014541","569430541","014430541","504","613","940","505","614","941","545","634","901","045","134","401"]
[null,"570","5","7","0","0","2","5","4","2","9","5","3","0","570025429","570025530","570429530","025429530","504","722","059","505","723","050","545","723","090","045","223","590"]
[null,"571","5","7","1","0","2","6","4","2","8","5","3","9","571026428","571026539","571428539","026428539","504","722","168","505","723","169","545","723","189","045","223","689"]
[null,"572","5","7","2","0","2","7","4","2","7","5","3","8","572027427","572027538","572427538","027427538","504","722","277","505","723","278","545","723","278","045","223","778"]
[null,"573","5","7","3","0","2","8","4","2","6","5","3","7","573028426","573028537","573426537","028426537","504","722","386","505","723","387","545","723","367","045","223","867"]
[null,"574","5","7","4","0","2","9","4","2","5","5","3","6","574029425","574029536","574425536","029425536","504","722","495","505","723","496","545","723","456","045","223","956"]
[null,"575","5","7","5","0","2","0","4","2","4","5","3","5","575020424","575020535","575424535","020424535","504","722","504","505","723","505","545","723","545","045","223","045"]
[null,"576","5","7","6","0","2","1","4","2","3","5","3","4","576021423","576021534","576423534","021423534","504","722","613","505","723","614","545","723","634","045","223","134"]
[null,"577",{"$f":"MID($B581,1,1)","v":"5"},{"$f":"MID($B581,2,1)","v":"7"},{"$f":"MID($B581,3,1)","v":"7"},{"$f":"RIGHT(C581+5)","v":"0"},{"$f":"RIGHT(D581+5)","v":"2"},{"$f":"RIGHT(E581+5)","v":"2"},{"$f":"RIGHT(9-C581)","v":"4"},{"$f":"RIGHT(9-D581)","v":"2"},{"$f":"RIGHT(9-E581)","v":"2"},{"$f":"RIGHT(10-C581)","v":"5"},{"$f":"RIGHT(10-D581)","v":"3"},{"$f":"RIGHT(10-E581)","v":"3"},{"$f":"C581&D581&E581&F581&G581&H581&I581&J581&K581","v":"577022422"},{"$f":"C581&D581&E581&F581&G581&H581&L581&M581&N581","v":"577022533"},{"$f":"C581&D581&E581&I581&J581&K581&L581&M581&N581","v":"577422533"},{"$f":"F581&G581&H581&I581&J581&K581&L581&M581&N581","v":"022422533"},{"$f":"C581&F581&I581","v":"504"},"722","722",{"$f":"C581&F581&L581","v":"505"},{"$f":"D581&G581&M581","v":"723"},{"$f":"E581&H581&N581","v":"723"},{"$f":"C581&I581&L581","v":"545"},{"$f":"D581&J581&M581","v":"723"},{"$f":"E581&K581&N581","v":"723"},{"$f":"F581&I581&L581","v":"045"},{"$f":"G581&J581&M581","v":"223"},"223"]
[null,"578","5","7","8","0","2","3","4","2","1","5","3","2","578023421","578023532","578421532","023421532","504","722","831","505","723","832","545","723","812","045","223","312"]
[null,"579","5","7","9","0","2","4","4","2","0","5","3","1","579024420","579024531","579420531","024420531","504","722","940","505","723","941","545","723","901","045","223","401"]
[null,"580","5","8","0","0","3","5","4","1","9","5","2","0","580035419","580035520","580419520","035419520","504","831","059","505","832","050","545","812","090","045","312","590"]
[null,"581","5","8","1","0","3","6","4","1","8","5","2","9","581036418","581036529","581418529","036418529","504","831","168","505","832","169","545","812","189","045","312","689"]
[null,"582","5","8","2","0","3","7","4","1","7","5","2","8","582037417","582037528","582417528","037417528","504","831","277","505","832","278","545","812","278","045","312","778"]
[null,"583","5","8","3","0","3","8","4","1","6","5","2","7","583038416","583038527","583416527","038416527","504",{"$f":"D587&G587&J587","v":"831"},{"$f":"E587&H587&K587","v":"386"},"505","832","387","545","812","367","045","312","867"]
[null,"584","5","8","4","0","3","9","4","1","5","5","2","6","584039415","584039526","584415526","039415526","504","831","495","505","832","496","545","812","456","045","312","956"]
[null,"585","5","8","5","0","3","0","4","1","4","5","2","5","585030414","585030525","585414525","030414525","504","831","504","505","832","505","545","812","545","045","312","045"]
[null,"586","5","8","6","0","3","1","4","1","3","5","2","4","586031413","586031524","586413524","031413524","504","831","613","505","832","614","545","812","634","045","312","134"]
[null,"587","5","8","7","0","3","2","4","1","2","5","2","3","587032412","587032523","587412523","032412523","504","831","722","505","832","723","545","812","723","045","312","223"]
[null,"588","5","8","8","0","3","3","4","1","1","5","2","2","588033411","588033522","588411522","033411522","504","831","831","505","832","832","545","812","812","045","312","312"]
[null,"589","5","8","9","0","3","4","4","1","0","5","2","1","589034410","589034521","589410521","034410521","504","831","940","505","832","941","545","812","901","045","312","401"]
[null,"590","5","9","0","0","4","5","4","0","9","5","1","0","590045409","590045510","590409510","045409510","504","940","059","505","941","050","545","901","090","045","401","590"]
[null,"591","5","9","1","0","4","6","4","0","8","5","1","9","591046408","591046519","591408519","046408519","504","940","168","505","941","169","545","901","189","045","401","689"]
[null,"592","5","9","2","0","4","7","4","0","7","5","1","8","592047407","592047518","592407518","047407518","504","940","277","505","941","278","545","901","278","045","401","778"]
[null,"593","5","9","3","0","4","8","4","0","6","5","1","7","593048406","593048517","593406517","048406517","504","940","386","505","941","387","545","901","367","045","401","867"]
[null,"594","5","9","4","0","4","9","4","0","5","5","1","6","594049405","594049516","594405516","049405516","504","940","495","505","941","496","545","901","456","045","401","956"]
[null,"595","5","9","5","0","4","0","4","0","4","5","1","5","595040404","595040515","595404515","040404515","504","940","504","505","941","505","545","901","545","045","401","045"]
[null,"596","5","9","6","0","4","1","4","0","3","5","1","4","596041403","596041514","596403514","041403514","504","940","613","505","941","614","545","901","634","045","401","134"]
[null,"597","5","9","7","0","4","2","4","0","2","5","1","3","597042402","597042513","597402513","042402513","504","940","722","505","941","723","545","901","723","045","401","223"]
[null,"598","5","9","8","0","4","3","4","0","1","5","1","2","598043401","598043512","598401512","043401512","504","940","831","505","941","832","545","901","812","045","401","312"]
[null,"599","5","9","9","0","4","4","4","0","0","5","1","1","599044400","599044511","599400511","044400511","504","940","940","505","941","941","545","901","901","045","401","401"]
[null,"600","6","0","0","1","5","5","3","9","9","4","0","0","600155399","600155400","600399400","155399400","613","059","059","614","050","050","634","090","090","134","590","590"]
[null,"601","6","0","1","1","5","6","3","9","8","4","0","9","601156398","601156409","601398409","156398409","613","059","168","614","050","169","634","090","189","134","590","689"]
[null,"602","6","0","2","1","5","7","3","9","7","4","0","8","602157397","602157408","602397408","157397408","613","059","277","614","050","278","634","090","278","134","590","778"]
[null,"603","6","0","3","1","5","8","3","9","6","4","0","7","603158396","603158407","603396407","158396407","613","059","386","614","050","387","634","090","367","134","590","867"]
[null,"604","6","0","4","1","5","9","3","9","5","4","0","6","604159395","604159406","604395406","159395406","613","059","495","614","050","496","634","090","456","134","590","956"]
[null,"605","6","0","5","1","5","0","3","9","4","4","0","5","605150394","605150405","605394405","150394405","613","059","504","614","050","505","634","090","545","134","590","045"]
[null,"606","6","0","6","1","5","1","3","9","3","4","0","4","606151393","606151404","606393404","151393404","613","059","613","614","050","614","634","090","634","134","590","134"]
[null,"607","6","0","7","1","5","2","3","9","2","4","0","3","607152392","607152403","607392403","152392403","613","059","722","614","050","723","634","090","723","134","590","223"]
[null,"608","6","0","8","1","5","3","3","9","1","4","0","2","608153391","608153402","608391402","153391402","613","059","831","614","050","832","634","090","812","134","590","312"]
[null,"609","6","0","9","1","5","4","3","9","0","4","0","1","609154390","609154401","609390401","154390401","613","059","940","614","050","941","634","090","901","134","590","401"]
[null,"610","6","1","0","1","6","5","3","8","9","4","9","0","610165389","610165490","610389490","165389490","613","168","059","614","169","050","634","189","090","134","689","590"]
[null,"611","6","1","1","1","6","6","3","8","8","4","9","9","611166388","611166499","611388499","166388499","613","168","168","614","169","169","634","189","189","134","689","689"]
[null,"612","6","1","2","1","6","7","3","8","7","4","9","8","612167387","612167498","612387498","167387498","613","168","277","614","169","278","634","189","278","134","689","778"]
[null,"613","6","1","3","1","6","8","3","8","6","4","9","7","613168386","613168497","613386497","168386497","613","168","386","614","169","387","634","189","367","134","689","867"]
[null,"614","6","1","4","1","6","9","3","8","5","4","9","6","614169385","614169496","614385496","169385496","613","168","495","614","169","496","634","189","456","134","689","956"]
[null,"615","6","1","5","1","6","0","3","8","4","4","9","5","615160384","615160495","615384495","160384495","613","168","504","614","169","505","634","189","545","134","689","045"]
[null,"616","6","1","6","1","6","1","3","8","3","4","9","4","616161383","616161494","616383494","161383494","613","168","613","614","169","614","634","189","634","134","689","134"]
[null,"617","6","1","7","1","6","2","3","8","2","4","9","3","617162382","617162493","617382493","162382493","613","168","722","614","169","723","634","189","723","134","689","223"]
[null,"618","6","1","8","1","6","3","3","8","1","4","9","2","618163381","618163492","618381492","163381492","613","168","831","614","169","832","634","189","812","134","689","312"]
[null,"619","6","1","9","1","6","4","3","8","0","4","9","1","619164380","619164491","619380491","164380491","613","168","940","614","169","941","634","189","901","134","689","401"]
[null,"620","6","2","0","1","7","5","3","7","9","4","8","0","620175379","620175480","620379480","175379480","613","277","059","614","278","050","634","278","090","134","778","590"]
[null,"621","6","2","1","1","7","6","3","7","8","4","8","9","621176378","621176489","621378489","176378489","613","277","168","614","278","169","634","278","189","134","778","689"]
[null,"622","6","2","2","1","7","7","3","7","7","4","8","8","622177377","622177488","622377488","177377488","613","277","277","614","278","278","634","278","278","134","778","778"]
[null,"623","6","2","3","1","7","8","3","7","6","4","8","7","623178376","623178487","623376487","178376487","613","277","386","614","278","387","634","278","367","134","778","867"]
[null,"624","6","2","4","1","7","9","3","7","5","4","8","6","624179375","624179486","624375486","179375486","613","277","495","614","278","496","634","278","456","134","778","956"]
[null,"625","6","2","5","1","7","0","3","7","4","4","8","5","625170374","625170485","625374485","170374485","613","277","504","614","278","505","634","278","545","134","778","045"]
[null,"626","6","2","6","1","7","1","3","7","3","4","8","4","626171373","626171484","626373484","171373484","613","277","613","614","278","614","634","278","634","134","778","134"]
[null,"627","6","2","7","1","7","2","3","7","2","4","8","3","627172372","627172483","627372483","172372483","613","277","722","614","278","723","634","278","723","134","778","223"]
[null,"628","6","2","8","1","7","3","3","7","1","4","8","2","628173371","628173482","628371482","173371482","613","277","831","614","278","832","634","278","812","134","778","312"]
[null,"629","6","2","9","1","7","4","3","7","0","4","8","1","629174370","629174481","629370481","174370481","613","277","940","614","278","941","634","278","901","134","778","401"]
[null,"630","6","3","0","1","8","5","3","6","9","4","7","0","630185369","630185470","630369470","185369470","613","386","059","614","387","050","634","367","090","134","867","590"]
[null,"631","6","3","1","1","8","6","3","6","8","4","7","9","631186368","631186479","631368479","186368479","613","386","168","614","387","169","634","367","189","134","867","689"]
[null,"632","6","3","2","1","8","7","3","6","7","4","7","8","632187367","632187478","632367478","187367478","613","386","277","614","387","278","634","367","278","134","867","778"]
[null,"633","6","3","3","1","8","8","3","6","6","4","7","7","633188366","633188477","633366477","188366477","613","386","386","614","387","387","634","367","367","134","867","867"]
[null,"634","6","3","4","1","8","9","3","6","5","4","7","6","634189365","634189476","634365476","189365476","613","386","495","614","387","496","634","367","456","134","867","956"]
[null,"635","6","3","5","1","8","0","3","6","4","4","7","5","635180364","635180475","635364475","180364475","613","386","504","614","387","505","634","367","545","134","867","045"]
[null,"636","6","3","6","1","8","1","3","6","3","4","7","4","636181363","636181474","636363474","181363474","613","386","613","614","387","614","634","367","634","134","867","134"]
[null,"637","6","3","7","1","8","2","3","6","2","4","7","3","637182362","637182473","637362473","182362473","613","386","722","614","387","723","634","367","723","134","867","223"]
[null,"638","6","3","8","1","8","3","3","6","1","4","7","2","638183361","638183472","638361472","183361472","613","386","831","614","387","832","634","367","812","134","867","312"]
[null,"639","6","3","9","1","8","4","3","6","0","4","7","1","639184360","639184471","639360471","184360471","613","386","940","614","387","941","634","367","901","134","867","401"]
[null,"640","6","4","0","1","9","5","3","5","9","4","6","0","640195359","640195460","640359460","195359460","613","495","059","614","496","050","634","456","090","134","956","590"]
[null,"641",{"$f":"MID($B645,1,1)","v":"6"},{"$f":"MID($B645,2,1)","v":"4"},{"$f":"MID($B645,3,1)","v":"1"},{"$f":"RIGHT(C645+5)","v":"1"},{"$f":"RIGHT(D645+5)","v":"9"},{"$f":"RIGHT(E645+5)","v":"6"},{"$f":"RIGHT(9-C645)","v":"3"},{"$f":"RIGHT(9-D645)","v":"5"},{"$f":"RIGHT(9-E645)","v":"8"},{"$f":"RIGHT(10-C645)","v":"4"},{"$f":"RIGHT(10-D645)","v":"6"},{"$f":"RIGHT(10-E645)","v":"9"},{"$f":"C645&D645&E645&F645&G645&H645&I645&J645&K645","v":"641196358"},{"$f":"C645&D645&E645&F645&G645&H645&L645&M645&N645","v":"641196469"},{"$f":"C645&D645&E645&I645&J645&K645&L645&M645&N645","v":"641358469"},{"$f":"F645&G645&H645&I645&J645&K645&L645&M645&N645","v":"196358469"},{"$f":"C645&F645&I645","v":"613"},"495","168",{"$f":"C645&F645&L645","v":"614"},{"$f":"D645&G645&M645","v":"496"},{"$f":"E645&H645&N645","v":"169"},{"$f":"C645&I645&L645","v":"634"},{"$f":"D645&J645&M645","v":"456"},{"$f":"E645&K645&N645","v":"189"},{"$f":"F645&I645&L645","v":"134"},{"$f":"G645&J645&M645","v":"956"},"689"]
[null,"642","6","4","2","1","9","7","3","5","7","4","6","8","642197357","642197468","642357468","197357468","613","495","277","614","496","278","634","456","278","134","956","778"]
[null,"643","6","4","3","1","9","8","3","5","6","4","6","7","643198356","643198467","643356467","198356467","613","495","386","614","496","387","634","456","367","134","956","867"]
[null,"644","6","4","4","1","9","9","3","5","5","4","6","6","644199355","644199466","644355466","199355466","613","495","495","614","496","496","634","456","456","134","956","956"]
[null,"645","6","4","5","1","9","0","3","5","4","4","6","5","645190354","645190465","645354465","190354465","613","495","504","614","496","505","634","456","545","134","956","045"]
[null,"646","6","4","6","1","9","1","3","5","3","4","6","4","646191353","646191464","646353464","191353464","613","495","613","614","496","614","634","456","634","134","956","134"]
[null,"647","6","4","7","1","9","2","3","5","2","4","6","3","647192352","647192463","647352463","192352463","613",{"$f":"D651&G651&J651","v":"495"},{"$f":"E651&H651&K651","v":"722"},"614","496","723","634","456","723","134","956","223"]
[null,"648","6","4","8","1","9","3","3","5","1","4","6","2","648193351","648193462","648351462","193351462","613","495","831","614","496","832","634","456","812","134","956","312"]
[null,"649","6","4","9","1","9","4","3","5","0","4","6","1","649194350","649194461","649350461","194350461","613","495","940","614","496","941","634","456","901","134","956","401"]
[null,"650","6","5","0","1","0","5","3","4","9","4","5","0","650105349","650105450","650349450","105349450","613","504","059","614","505","050","634","545","090","134","045","590"]
[null,"651","6","5","1","1","0","6","3","4","8","4","5","9","651106348","651106459","651348459","106348459","613","504","168","614","505","169","634","545","189","134","045","689"]
[null,"652","6","5","2","1","0","7","3","4","7","4","5","8","652107347","652107458","652347458","107347458","613","504","277","614","505","278","634","545","278","134","045","778"]
[null,"653","6","5","3","1","0","8","3","4","6","4","5","7","653108346","653108457","653346457","108346457","613","504","386","614","505","387","634","545","367","134","045","867"]
[null,"654","6","5","4","1","0","9","3","4","5","4","5","6","654109345","654109456","654345456","109345456","613","504","495","614","505","496","634","545","456","134","045","956"]
[null,"655","6","5","5","1","0","0","3","4","4","4","5","5","655100344","655100455","655344455","100344455","613","504","504","614","505","505","634","545","545","134","045","045"]
[null,"656","6","5","6","1","0","1","3","4","3","4","5","4","656101343","656101454","656343454","101343454","613","504","613","614","505","614","634","545","634","134","045","134"]
[null,"657","6","5","7","1","0","2","3","4","2","4","5","3","657102342","657102453","657342453","102342453","613","504","722","614","505","723","634","545","723","134","045","223"]
[null,"658","6","5","8","1","0","3","3","4","1","4","5","2","658103341","658103452","658341452","103341452","613","504","831","614","505","832","634","545","812","134","045","312"]
[null,"659","6","5","9","1","0","4","3","4","0","4","5","1","659104340","659104451","659340451","104340451","613","504","940","614","505","941","634","545","901","134","045","401"]
[null,"660","6","6","0","1","1","5","3","3","9","4","4","0","660115339","660115440","660339440","115339440","613","613","059","614","614","050","634","634","090","134","134","590"]
[null,"661","6","6","1","1","1","6","3","3","8","4","4","9","661116338","661116449","661338449","116338449","613","613","168","614","614","169","634","634","189","134","134","689"]
[null,"662","6","6","2","1","1","7","3","3","7","4","4","8","662117337","662117448","662337448","117337448","613","613","277","614","614","278","634","634","278","134","134","778"]
[null,"663","6","6","3","1","1","8","3","3","6","4","4","7","663118336","663118447","663336447","118336447","613","613","386","614","614","387","634","634","367","134","134","867"]
[null,"664","6","6","4","1","1","9","3","3","5","4","4","6","664119335","664119446","664335446","119335446","613","613","495","614","614","496","634","634","456","134","134","956"]
[null,"665","6","6","5","1","1","0","3","3","4","4","4","5","665110334","665110445","665334445","110334445","613","613","504","614","614","505","634","634","545","134","134","045"]
[null,"666","6","6","6","1","1","1","3","3","3","4","4","4","666111333","666111444","666333444","111333444","613","613","613","614","614","614","634","634","634","134","134","134"]
[null,"667","6","6","7","1","1","2","3","3","2","4","4","3","667112332","667112443","667332443","112332443","613","613","722","614","614","723","634","634","723","134","134","223"]
[null,"668","6","6","8","1","1","3","3","3","1","4","4","2","668113331","668113442","668331442","113331442","613","613","831","614","614","832","634","634","812","134","134","312"]
[null,"669","6","6","9","1","1","4","3","3","0","4","4","1","669114330","669114441","669330441","114330441","613","613","940","614","614","941","634","634","901","134","134","401"]
[null,"670","6","7","0","1","2","5","3","2","9","4","3","0","670125329","670125430","670329430","125329430","613","722","059","614","723","050","634","723","090","134","223","590"]
[null,"671","6","7","1","1","2","6","3","2","8","4","3","9","671126328","671126439","671328439","126328439","613","722","168","614","723","169","634","723","189","134","223","689"]
[null,"672","6","7","2","1","2","7","3","2","7","4","3","8","672127327","672127438","672327438","127327438","613","722","277","614","723","278","634","723","278","134","223","778"]
[null,"673","6","7","3","1","2","8","3","2","6","4","3","7","673128326","673128437","673326437","128326437","613","722","386","614","723","387","634","723","367","134","223","867"]
[null,"674","6","7","4","1","2","9","3","2","5","4","3","6","674129325","674129436","674325436","129325436","613","722","495","614","723","496","634","723","456","134","223","956"]
[null,"675","6","7","5","1","2","0","3","2","4","4","3","5","675120324","675120435","675324435","120324435","613","722","504","614","723","505","634","723","545","134","223","045"]
[null,"676","6","7","6","1","2","1","3","2","3","4","3","4","676121323","676121434","676323434","121323434","613","722","613","614","723","614","634","723","634","134","223","134"]
[null,"677","6","7","7","1","2","2","3","2","2","4","3","3","677122322","677122433","677322433","122322433","613","722","722","614","723","723","634","723","723","134","223","223"]
[null,"678","6","7","8","1","2","3","3","2","1","4","3","2","678123321","678123432","678321432","123321432","613","722","831","614","723","832","634","723","812","134","223","312"]
[null,"679","6","7","9","1","2","4","3","2","0","4","3","1","679124320","679124431","679320431","124320431","613","722","940","614","723","941","634","723","901","134","223","401"]
[null,"680","6","8","0","1","3","5","3","1","9","4","2","0","680135319","680135420","680319420","135319420","613","831","059","614","832","050","634","812","090","134","312","590"]
[null,"681","6","8","1","1","3","6","3","1","8","4","2","9","681136318","681136429","681318429","136318429","613","831","168","614","832","169","634","812","189","134","312","689"]
[null,"682","6","8","2","1","3","7","3","1","7","4","2","8","682137317","682137428","682317428","137317428","613","831","277","614","832","278","634","812","278","134","312","778"]
[null,"683","6","8","3","1","3","8","3","1","6","4","2","7","683138316","683138427","683316427","138316427","613","831","386","614","832","387","634","812","367","134","312","867"]
[null,"684","6","8","4","1","3","9","3","1","5","4","2","6","684139315","684139426","684315426","139315426","613","831","495","614","832","496","634","812","456","134","312","956"]
[null,"685","6","8","5","1","3","0","3","1","4","4","2","5","685130314","685130425","685314425","130314425","613","831","504","614","832","505","634","812","545","134","312","045"]
[null,"686","6","8","6","1","3","1","3","1","3","4","2","4","686131313","686131424","686313424","131313424","613","831","613","614","832","614","634","812","634","134","312","134"]
[null,"687","6","8","7","1","3","2","3","1","2","4","2","3","687132312","687132423","687312423","132312423","613","831","722","614","832","723","634","812","723","134","312","223"]
[null,"688","6","8","8","1","3","3","3","1","1","4","2","2","688133311","688133422","688311422","133311422","613","831","831","614","832","832","634","812","812","134","312","312"]
[null,"689","6","8","9","1","3","4","3","1","0","4","2","1","689134310","689134421","689310421","134310421","613","831","940","614","832","941","634","812","901","134","312","401"]
[null,"690","6","9","0","1","4","5","3","0","9","4","1","0","690145309","690145410","690309410","145309410","613","940","059","614","941","050","634","901","090","134","401","590"]
[null,"691","6","9","1","1","4","6","3","0","8","4","1","9","691146308","691146419","691308419","146308419","613","940","168","614","941","169","634","901","189","134","401","689"]
[null,"692","6","9","2","1","4","7","3","0","7","4","1","8","692147307","692147418","692307418","147307418","613","940","277","614","941","278","634","901","278","134","401","778"]
[null,"693","6","9","3","1","4","8","3","0","6","4","1","7","693148306","693148417","693306417","148306417","613","940","386","614","941","387","634","901","367","134","401","867"]
[null,"694","6","9","4","1","4","9","3","0","5","4","1","6","694149305","694149416","694305416","149305416","613","940","495","614","941","496","634","901","456","134","401","956"]
[null,"695","6","9","5","1","4","0","3","0","4","4","1","5","695140304","695140415","695304415","140304415","613","940","504","614","941","505","634","901","545","134","401","045"]
[null,"696","6","9","6","1","4","1","3","0","3","4","1","4","696141303","696141414","696303414","141303414","613","940","613","614","941","614","634","901","634","134","401","134"]
[null,"697","6","9","7","1","4","2","3","0","2","4","1","3","697142302","697142413","697302413","142302413","613","940","722","614","941","723","634","901","723","134","401","223"]
[null,"698","6","9","8","1","4","3","3","0","1","4","1","2","698143301","698143412","698301412","143301412","613","940","831","614","941","832","634","901","812","134","401","312"]
[null,"699","6","9","9","1","4","4","3","0","0","4","1","1","699144300","699144411","699300411","144300411","613","940","940","614","941","941","634","901","901","134","401","401"]
[null,"700","7","0","0","2","5","5","2","9","9","3","0","0","700255299","700255300","700299300","255299300","722","059","059","723","050","050","723","090","090","223","590","590"]
[null,"701","7","0","1","2","5","6","2","9","8","3","0","9","701256298","701256309","701298309","256298309","722","059","168","723","050","169","723","090","189","223","590","689"]
[null,"702","7","0","2","2","5","7","2","9","7","3","0","8","702257297","702257308","702297308","257297308","722","059","277","723","050","278","723","090","278","223","590","778"]
[null,"703","7","0","3","2","5","8","2","9","6","3","0","7","703258296","703258307","703296307","258296307","722","059","386","723","050","387","723","090","367","223","590","867"]
[null,"704","7","0","4","2","5","9","2","9","5","3","0","6","704259295","704259306","704295306","259295306","722","059","495","723","050","496","723","090","456","223","590","956"]
[null,"705",{"$f":"MID($B709,1,1)","v":"7"},{"$f":"MID($B709,2,1)","v":"0"},{"$f":"MID($B709,3,1)","v":"5"},{"$f":"RIGHT(C709+5)","v":"2"},{"$f":"RIGHT(D709+5)","v":"5"},{"$f":"RIGHT(E709+5)","v":"0"},{"$f":"RIGHT(9-C709)","v":"2"},{"$f":"RIGHT(9-D709)","v":"9"},{"$f":"RIGHT(9-E709)","v":"4"},{"$f":"RIGHT(10-C709)","v":"3"},{"$f":"RIGHT(10-D709)","v":"0"},{"$f":"RIGHT(10-E709)","v":"5"},{"$f":"C709&D709&E709&F709&G709&H709&I709&J709&K709","v":"705250294"},{"$f":"C709&D709&E709&F709&G709&H709&L709&M709&N709","v":"705250305"},{"$f":"C709&D709&E709&I709&J709&K709&L709&M709&N709","v":"705294305"},{"$f":"F709&G709&H709&I709&J709&K709&L709&M709&N709","v":"250294305"},{"$f":"C709&F709&I709","v":"722"},"059","504",{"$f":"C709&F709&L709","v":"723"},{"$f":"D709&G709&M709","v":"050"},{"$f":"E709&H709&N709","v":"505"},{"$f":"C709&I709&L709","v":"723"},{"$f":"D709&J709&M709","v":"090"},{"$f":"E709&K709&N709","v":"545"},{"$f":"F709&I709&L709","v":"223"},{"$f":"G709&J709&M709","v":"590"},"045"]
[null,"706","7","0","6","2","5","1","2","9","3","3","0","4","706251293","706251304","706293304","251293304","722","059","613","723","050","614","723","090","634","223","590","134"]
[null,"707","7","0","7","2","5","2","2","9","2","3","0","3","707252292","707252303","707292303","252292303","722","059","722","723","050","723","723","090","723","223","590","223"]
[null,"708","7","0","8","2","5","3","2","9","1","3","0","2","708253291","708253302","708291302","253291302","722","059","831","723","050","832","723","090","812","223","590","312"]
[null,"709","7","0","9","2","5","4","2","9","0","3","0","1","709254290","709254301","709290301","254290301","722","059","940","723","050","941","723","090","901","223","590","401"]
[null,"710","7","1","0","2","6","5","2","8","9","3","9","0","710265289","710265390","710289390","265289390","722","168","059","723","169","050","723","189","090","223","689","590"]
[null,"711","7","1","1","2","6","6","2","8","8","3","9","9","711266288","711266399","711288399","266288399","722",{"$f":"D715&G715&J715","v":"168"},{"$f":"E715&H715&K715","v":"168"},"723","169","169","723","189","189","223","689","689"]
[null,"712","7","1","2","2","6","7","2","8","7","3","9","8","712267287","712267398","712287398","267287398","722","168","277","723","169","278","723","189","278","223","689","778"]
[null,"713","7","1","3","2","6","8","2","8","6","3","9","7","713268286","713268397","713286397","268286397","722","168","386","723","169","387","723","189","367","223","689","867"]
[null,"714","7","1","4","2","6","9","2","8","5","3","9","6","714269285","714269396","714285396","269285396","722","168","495","723","169","496","723","189","456","223","689","956"]
[null,"715","7","1","5","2","6","0","2","8","4","3","9","5","715260284","715260395","715284395","260284395","722","168","504","723","169","505","723","189","545","223","689","045"]
[null,"716","7","1","6","2","6","1","2","8","3","3","9","4","716261283","716261394","716283394","261283394","722","168","613","723","169","614","723","189","634","223","689","134"]
[null,"717","7","1","7","2","6","2","2","8","2","3","9","3","717262282","717262393","717282393","262282393","722","168","722","723","169","723","723","189","723","223","689","223"]
[null,"718","7","1","8","2","6","3","2","8","1","3","9","2","718263281","718263392","718281392","263281392","722","168","831","723","169","832","723","189","812","223","689","312"]
[null,"719","7","1","9","2","6","4","2","8","0","3","9","1","719264280","719264391","719280391","264280391","722","168","940","723","169","941","723","189","901","223","689","401"]
[null,"720","7","2","0","2","7","5","2","7","9","3","8","0","720275279","720275380","720279380","275279380","722","277","059","723","278","050","723","278","090","223","778","590"]
[null,"721","7","2","1","2","7","6","2","7","8","3","8","9","721276278","721276389","721278389","276278389","722","277","168","723","278","169","723","278","189","223","778","689"]
[null,"722","7","2","2","2","7","7","2","7","7","3","8","8","722277277","722277388","722277388","277277388","722","277","277","723","278","278","723","278","278","223","778","778"]
[null,"723","7","2","3","2","7","8","2","7","6","3","8","7","723278276","723278387","723276387","278276387","722","277","386","723","278","387","723","278","367","223","778","867"]
[null,"724","7","2","4","2","7","9","2","7","5","3","8","6","724279275","724279386","724275386","279275386","722","277","495","723","278","496","723","278","456","223","778","956"]
[null,"725","7","2","5","2","7","0","2","7","4","3","8","5","725270274","725270385","725274385","270274385","722","277","504","723","278","505","723","278","545","223","778","045"]
[null,"726","7","2","6","2","7","1","2","7","3","3","8","4","726271273","726271384","726273384","271273384","722","277","613","723","278","614","723","278","634","223","778","134"]
[null,"727","7","2","7","2","7","2","2","7","2","3","8","3","727272272","727272383","727272383","272272383","722","277","722","723","278","723","723","278","723","223","778","223"]
[null,"728","7","2","8","2","7","3","2","7","1","3","8","2","728273271","728273382","728271382","273271382","722","277","831","723","278","832","723","278","812","223","778","312"]
[null,"729","7","2","9","2","7","4","2","7","0","3","8","1","729274270","729274381","729270381","274270381","722","277","940","723","278","941","723","278","901","223","778","401"]
[null,"730","7","3","0","2","8","5","2","6","9","3","7","0","730285269","730285370","730269370","285269370","722","386","059","723","387","050","723","367","090","223","867","590"]
[null,"731","7","3","1","2","8","6","2","6","8","3","7","9","731286268","731286379","731268379","286268379","722","386","168","723","387","169","723","367","189","223","867","689"]
[null,"732","7","3","2","2","8","7","2","6","7","3","7","8","732287267","732287378","732267378","287267378","722","386","277","723","387","278","723","367","278","223","867","778"]
[null,"733","7","3","3","2","8","8","2","6","6","3","7","7","733288266","733288377","733266377","288266377","722","386","386","723","387","387","723","367","367","223","867","867"]
[null,"734","7","3","4","2","8","9","2","6","5","3","7","6","734289265","734289376","734265376","289265376","722","386","495","723","387","496","723","367","456","223","867","956"]
[null,"735","7","3","5","2","8","0","2","6","4","3","7","5","735280264","735280375","735264375","280264375","722","386","504","723","387","505","723","367","545","223","867","045"]
[null,"736","7","3","6","2","8","1","2","6","3","3","7","4","736281263","736281374","736263374","281263374","722","386","613","723","387","614","723","367","634","223","867","134"]
[null,"737","7","3","7","2","8","2","2","6","2","3","7","3","737282262","737282373","737262373","282262373","722","386","722","723","387","723","723","367","723","223","867","223"]
[null,"738","7","3","8","2","8","3","2","6","1","3","7","2","738283261","738283372","738261372","283261372","722","386","831","723","387","832","723","367","812","223","867","312"]
[null,"739","7","3","9","2","8","4","2","6","0","3","7","1","739284260","739284371","739260371","284260371","722","386","940","723","387","941","723","367","901","223","867","401"]
[null,"740","7","4","0","2","9","5","2","5","9","3","6","0","740295259","740295360","740259360","295259360","722","495","059","723","496","050","723","456","090","223","956","590"]
[null,"741","7","4","1","2","9","6","2","5","8","3","6","9","741296258","741296369","741258369","296258369","722","495","168","723","496","169","723","456","189","223","956","689"]
[null,"742","7","4","2","2","9","7","2","5","7","3","6","8","742297257","742297368","742257368","297257368","722","495","277","723","496","278","723","456","278","223","956","778"]
[null,"743","7","4","3","2","9","8","2","5","6","3","6","7","743298256","743298367","743256367","298256367","722","495","386","723","496","387","723","456","367","223","956","867"]
[null,"744","7","4","4","2","9","9","2","5","5","3","6","6","744299255","744299366","744255366","299255366","722","495","495","723","496","496","723","456","456","223","956","956"]
[null,"745","7","4","5","2","9","0","2","5","4","3","6","5","745290254","745290365","745254365","290254365","722","495","504","723","496","505","723","456","545","223","956","045"]
[null,"746","7","4","6","2","9","1","2","5","3","3","6","4","746291253","746291364","746253364","291253364","722","495","613","723","496","614","723","456","634","223","956","134"]
[null,"747","7","4","7","2","9","2","2","5","2","3","6","3","747292252","747292363","747252363","292252363","722","495","722","723","496","723","723","456","723","223","956","223"]
[null,"748","7","4","8","2","9","3","2","5","1","3","6","2","748293251","748293362","748251362","293251362","722","495","831","723","496","832","723","456","812","223","956","312"]
[null,"749","7","4","9","2","9","4","2","5","0","3","6","1","749294250","749294361","749250361","294250361","722","495","940","723","496","941","723","456","901","223","956","401"]
[null,"750","7","5","0","2","0","5","2","4","9","3","5","0","750205249","750205350","750249350","205249350","722","504","059","723","505","050","723","545","090","223","045","590"]
[null,"751","7","5","1","2","0","6","2","4","8","3","5","9","751206248","751206359","751248359","206248359","722","504","168","723","505","169","723","545","189","223","045","689"]
[null,"752","7","5","2","2","0","7","2","4","7","3","5","8","752207247","752207358","752247358","207247358","722","504","277","723","505","278","723","545","278","223","045","778"]
[null,"753","7","5","3","2","0","8","2","4","6","3","5","7","753208246","753208357","753246357","208246357","722","504","386","723","505","387","723","545","367","223","045","867"]
[null,"754","7","5","4","2","0","9","2","4","5","3","5","6","754209245","754209356","754245356","209245356","722","504","495","723","505","496","723","545","456","223","045","956"]
[null,"755","7","5","5","2","0","0","2","4","4","3","5","5","755200244","755200355","755244355","200244355","722","504","504","723","505","505","723","545","545","223","045","045"]
[null,"756","7","5","6","2","0","1","2","4","3","3","5","4","756201243","756201354","756243354","201243354","722","504","613","723","505","614","723","545","634","223","045","134"]
[null,"757","7","5","7","2","0","2","2","4","2","3","5","3","757202242","757202353","757242353","202242353","722","504","722","723","505","723","723","545","723","223","045","223"]
[null,"758","7","5","8","2","0","3","2","4","1","3","5","2","758203241","758203352","758241352","203241352","722","504","831","723","505","832","723","545","812","223","045","312"]
[null,"759","7","5","9","2","0","4","2","4","0","3","5","1","759204240","759204351","759240351","204240351","722","504","940","723","505","941","723","545","901","223","045","401"]
[null,"760","7","6","0","2","1","5","2","3","9","3","4","0","760215239","760215340","760239340","215239340","722","613","059","723","614","050","723","634","090","223","134","590"]
[null,"761","7","6","1","2","1","6","2","3","8","3","4","9","761216238","761216349","761238349","216238349","722","613","168","723","614","169","723","634","189","223","134","689"]
[null,"762","7","6","2","2","1","7","2","3","7","3","4","8","762217237","762217348","762237348","217237348","722","613","277","723","614","278","723","634","278","223","134","778"]
[null,"763","7","6","3","2","1","8","2","3","6","3","4","7","763218236","763218347","763236347","218236347","722","613","386","723","614","387","723","634","367","223","134","867"]
[null,"764","7","6","4","2","1","9","2","3","5","3","4","6","764219235","764219346","764235346","219235346","722","613","495","723","614","496","723","634","456","223","134","956"]
[null,"765","7","6","5","2","1","0","2","3","4","3","4","5","765210234","765210345","765234345","210234345","722","613","504","723","614","505","723","634","545","223","134","045"]
[null,"766","7","6","6","2","1","1","2","3","3","3","4","4","766211233","766211344","766233344","211233344","722","613","613","723","614","614","723","634","634","223","134","134"]
[null,"767","7","6","7","2","1","2","2","3","2","3","4","3","767212232","767212343","767232343","212232343","722","613","722","723","614","723","723","634","723","223","134","223"]
[null,"768","7","6","8","2","1","3","2","3","1","3","4","2","768213231","768213342","768231342","213231342","722","613","831","723","614","832","723","634","812","223","134","312"]
[null,"769",{"$f":"MID($B773,1,1)","v":"7"},{"$f":"MID($B773,2,1)","v":"6"},{"$f":"MID($B773,3,1)","v":"9"},{"$f":"RIGHT(C773+5)","v":"2"},{"$f":"RIGHT(D773+5)","v":"1"},{"$f":"RIGHT(E773+5)","v":"4"},{"$f":"RIGHT(9-C773)","v":"2"},{"$f":"RIGHT(9-D773)","v":"3"},{"$f":"RIGHT(9-E773)","v":"0"},{"$f":"RIGHT(10-C773)","v":"3"},{"$f":"RIGHT(10-D773)","v":"4"},{"$f":"RIGHT(10-E773)","v":"1"},{"$f":"C773&D773&E773&F773&G773&H773&I773&J773&K773","v":"769214230"},{"$f":"C773&D773&E773&F773&G773&H773&L773&M773&N773","v":"769214341"},{"$f":"C773&D773&E773&I773&J773&K773&L773&M773&N773","v":"769230341"},{"$f":"F773&G773&H773&I773&J773&K773&L773&M773&N773","v":"214230341"},{"$f":"C773&F773&I773","v":"722"},"613","940",{"$f":"C773&F773&L773","v":"723"},{"$f":"D773&G773&M773","v":"614"},{"$f":"E773&H773&N773","v":"941"},{"$f":"C773&I773&L773","v":"723"},{"$f":"D773&J773&M773","v":"634"},{"$f":"E773&K773&N773","v":"901"},{"$f":"F773&I773&L773","v":"223"},{"$f":"G773&J773&M773","v":"134"},"401"]
[null,"770","7","7","0","2","2","5","2","2","9","3","3","0","770225229","770225330","770229330","225229330","722","722","059","723","723","050","723","723","090","223","223","590"]
[null,"771","7","7","1","2","2","6","2","2","8","3","3","9","771226228","771226339","771228339","226228339","722","722","168","723","723","169","723","723","189","223","223","689"]
[null,"772","7","7","2","2","2","7","2","2","7","3","3","8","772227227","772227338","772227338","227227338","722","722","277","723","723","278","723","723","278","223","223","778"]
[null,"773","7","7","3","2","2","8","2","2","6","3","3","7","773228226","773228337","773226337","228226337","722","722","386","723","723","387","723","723","367","223","223","867"]
[null,"774","7","7","4","2","2","9","2","2","5","3","3","6","774229225","774229336","774225336","229225336","722","722","495","723","723","496","723","723","456","223","223","956"]
[null,"775","7","7","5","2","2","0","2","2","4","3","3","5","775220224","775220335","775224335","220224335","722",{"$f":"D779&G779&J779","v":"722"},{"$f":"E779&H779&K779","v":"504"},"723","723","505","723","723","545","223","223","045"]
[null,"776","7","7","6","2","2","1","2","2","3","3","3","4","776221223","776221334","776223334","221223334","722","722","613","723","723","614","723","723","634","223","223","134"]
[null,"777","7","7","7","2","2","2","2","2","2","3","3","3","777222222","777222333","777222333","222222333","722","722","722","723","723","723","723","723","723","223","223","223"]
[null,"778","7","7","8","2","2","3","2","2","1","3","3","2","778223221","778223332","778221332","223221332","722","722","831","723","723","832","723","723","812","223","223","312"]
[null,"779","7","7","9","2","2","4","2","2","0","3","3","1","779224220","779224331","779220331","224220331","722","722","940","723","723","941","723","723","901","223","223","401"]
[null,"780","7","8","0","2","3","5","2","1","9","3","2","0","780235219","780235320","780219320","235219320","722","831","059","723","832","050","723","812","090","223","312","590"]
[null,"781","7","8","1","2","3","6","2","1","8","3","2","9","781236218","781236329","781218329","236218329","722","831","168","723","832","169","723","812","189","223","312","689"]
[null,"782","7","8","2","2","3","7","2","1","7","3","2","8","782237217","782237328","782217328","237217328","722","831","277","723","832","278","723","812","278","223","312","778"]
[null,"783","7","8","3","2","3","8","2","1","6","3","2","7","783238216","783238327","783216327","238216327","722","831","386","723","832","387","723","812","367","223","312","867"]
[null,"784","7","8","4","2","3","9","2","1","5","3","2","6","784239215","784239326","784215326","239215326","722","831","495","723","832","496","723","812","456","223","312","956"]
[null,"785","7","8","5","2","3","0","2","1","4","3","2","5","785230214","785230325","785214325","230214325","722","831","504","723","832","505","723","812","545","223","312","045"]
[null,"786","7","8","6","2","3","1","2","1","3","3","2","4","786231213","786231324","786213324","231213324","722","831","613","723","832","614","723","812","634","223","312","134"]
[null,"787","7","8","7","2","3","2","2","1","2","3","2","3","787232212","787232323","787212323","232212323","722","831","722","723","832","723","723","812","723","223","312","223"]
[null,"788","7","8","8","2","3","3","2","1","1","3","2","2","788233211","788233322","788211322","233211322","722","831","831","723","832","832","723","812","812","223","312","312"]
[null,"789","7","8","9","2","3","4","2","1","0","3","2","1","789234210","789234321","789210321","234210321","722","831","940","723","832","941","723","812","901","223","312","401"]
[null,"790","7","9","0","2","4","5","2","0","9","3","1","0","790245209","790245310","790209310","245209310","722","940","059","723","941","050","723","901","090","223","401","590"]
[null,"791","7","9","1","2","4","6","2","0","8","3","1","9","791246208","791246319","791208319","246208319","722","940","168","723","941","169","723","901","189","223","401","689"]
[null,"792","7","9","2","2","4","7","2","0","7","3","1","8","792247207","792247318","792207318","247207318","722","940","277","723","941","278","723","901","278","223","401","778"]
[null,"793","7","9","3","2","4","8","2","0","6","3","1","7","793248206","793248317","793206317","248206317","722","940","386","723","941","387","723","901","367","223","401","867"]
[null,"794","7","9","4","2","4","9","2","0","5","3","1","6","794249205","794249316","794205316","249205316","722","940","495","723","941","496","723","901","456","223","401","956"]
[null,"795","7","9","5","2","4","0","2","0","4","3","1","5","795240204","795240315","795204315","240204315","722","940","504","723","941","505","723","901","545","223","401","045"]
[null,"796","7","9","6","2","4","1","2","0","3","3","1","4","796241203","796241314","796203314","241203314","722","940","613","723","941","614","723","901","634","223","401","134"]
[null,"797","7","9","7","2","4","2","2","0","2","3","1","3","797242202","797242313","797202313","242202313","722","940","722","723","941","723","723","901","723","223","401","223"]
[null,"798","7","9","8","2","4","3","2","0","1","3","1","2","798243201","798243312","798201312","243201312","722","940","831","723","941","832","723","901","812","223","401","312"]
[null,"799","7","9","9","2","4","4","2","0","0","3","1","1","799244200","799244311","799200311","244200311","722","940","940","723","941","941","723","901","901","223","401","401"]
[null,"800","8","0","0","3","5","5","1","9","9","2","0","0","800355199","800355200","800199200","355199200","831","059","059","832","050","050","812","090","090","312","590","590"]
[null,"801","8","0","1","3","5","6","1","9","8","2","0","9","801356198","801356209","801198209","356198209","831","059","168","832","050","169","812","090","189","312","590","689"]
[null,"802","8","0","2","3","5","7","1","9","7","2","0","8","802357197","802357208","802197208","357197208","831","059","277","832","050","278","812","090","278","312","590","778"]
[null,"803","8","0","3","3","5","8","1","9","6","2","0","7","803358196","803358207","803196207","358196207","831","059","386","832","050","387","812","090","367","312","590","867"]
[null,"804","8","0","4","3","5","9","1","9","5","2","0","6","804359195","804359206","804195206","359195206","831","059","495","832","050","496","812","090","456","312","590","956"]
[null,"805","8","0","5","3","5","0","1","9","4","2","0","5","805350194","805350205","805194205","350194205","831","059","504","832","050","505","812","090","545","312","590","045"]
[null,"806","8","0","6","3","5","1","1","9","3","2","0","4","806351193","806351204","806193204","351193204","831","059","613","832","050","614","812","090","634","312","590","134"]
[null,"807","8","0","7","3","5","2","1","9","2","2","0","3","807352192","807352203","807192203","352192203","831","059","722","832","050","723","812","090","723","312","590","223"]
[null,"808","8","0","8","3","5","3","1","9","1","2","0","2","808353191","808353202","808191202","353191202","831","059","831","832","050","832","812","090","812","312","590","312"]
[null,"809","8","0","9","3","5","4","1","9","0","2","0","1","809354190","809354201","809190201","354190201","831","059","940","832","050","941","812","090","901","312","590","401"]
[null,"810","8","1","0","3","6","5","1","8","9","2","9","0","810365189","810365290","810189290","365189290","831","168","059","832","169","050","812","189","090","312","689","590"]
[null,"811","8","1","1","3","6","6","1","8","8","2","9","9","811366188","811366299","811188299","366188299","831","168","168","832","169","169","812","189","189","312","689","689"]
[null,"812","8","1","2","3","6","7","1","8","7","2","9","8","812367187","812367298","812187298","367187298","831","168","277","832","169","278","812","189","278","312","689","778"]
[null,"813","8","1","3","3","6","8","1","8","6","2","9","7","813368186","813368297","813186297","368186297","831","168","386","832","169","387","812","189","367","312","689","867"]
[null,"814","8","1","4","3","6","9","1","8","5","2","9","6","814369185","814369296","814185296","369185296","831","168","495","832","169","496","812","189","456","312","689","956"]
[null,"815","8","1","5","3","6","0","1","8","4","2","9","5","815360184","815360295","815184295","360184295","831","168","504","832","169","505","812","189","545","312","689","045"]
[null,"816","8","1","6","3","6","1","1","8","3","2","9","4","816361183","816361294","816183294","361183294","831","168","613","832","169","614","812","189","634","312","689","134"]
[null,"817","8","1","7","3","6","2","1","8","2","2","9","3","817362182","817362293","817182293","362182293","831","168","722","832","169","723","812","189","723","312","689","223"]
[null,"818","8","1","8","3","6","3","1","8","1","2","9","2","818363181","818363292","818181292","363181292","831","168","831","832","169","832","812","189","812","312","689","312"]
[null,"819","8","1","9","3","6","4","1","8","0","2","9","1","819364180","819364291","819180291","364180291","831","168","940","832","169","941","812","189","901","312","689","401"]
[null,"820","8","2","0","3","7","5","1","7","9","2","8","0","820375179","820375280","820179280","375179280","831","277","059","832","278","050","812","278","090","312","778","590"]
[null,"821","8","2","1","3","7","6","1","7","8","2","8","9","821376178","821376289","821178289","376178289","831","277","168","832","278","169","812","278","189","312","778","689"]
[null,"822","8","2","2","3","7","7","1","7","7","2","8","8","822377177","822377288","822177288","377177288","831","277","277","832","278","278","812","278","278","312","778","778"]
[null,"823","8","2","3","3","7","8","1","7","6","2","8","7","823378176","823378287","823176287","378176287","831","277","386","832","278","387","812","278","367","312","778","867"]
[null,"824","8","2","4","3","7","9","1","7","5","2","8","6","824379175","824379286","824175286","379175286","831","277","495","832","278","496","812","278","456","312","778","956"]
[null,"825","8","2","5","3","7","0","1","7","4","2","8","5","825370174","825370285","825174285","370174285","831","277","504","832","278","505","812","278","545","312","778","045"]
[null,"826","8","2","6","3","7","1","1","7","3","2","8","4","826371173","826371284","826173284","371173284","831","277","613","832","278","614","812","278","634","312","778","134"]
[null,"827","8","2","7","3","7","2","1","7","2","2","8","3","827372172","827372283","827172283","372172283","831","277","722","832","278","723","812","278","723","312","778","223"]
[null,"828","8","2","8","3","7","3","1","7","1","2","8","2","828373171","828373282","828171282","373171282","831","277","831","832","278","832","812","278","812","312","778","312"]
[null,"829","8","2","9","3","7","4","1","7","0","2","8","1","829374170","829374281","829170281","374170281","831","277","940","832","278","941","812","278","901","312","778","401"]
[null,"830","8","3","0","3","8","5","1","6","9","2","7","0","830385169","830385270","830169270","385169270","831","386","059","832","387","050","812","367","090","312","867","590"]
[null,"831","8","3","1","3","8","6","1","6","8","2","7","9","831386168","831386279","831168279","386168279","831","386","168","832","387","169","812","367","189","312","867","689"]
[null,"832","8","3","2","3","8","7","1","6","7","2","7","8","832387167","832387278","832167278","387167278","831","386","277","832","387","278","812","367","278","312","867","778"]
[null,"833",{"$f":"MID($B837,1,1)","v":"8"},{"$f":"MID($B837,2,1)","v":"3"},{"$f":"MID($B837,3,1)","v":"3"},{"$f":"RIGHT(C837+5)","v":"3"},{"$f":"RIGHT(D837+5)","v":"8"},{"$f":"RIGHT(E837+5)","v":"8"},{"$f":"RIGHT(9-C837)","v":"1"},{"$f":"RIGHT(9-D837)","v":"6"},{"$f":"RIGHT(9-E837)","v":"6"},{"$f":"RIGHT(10-C837)","v":"2"},{"$f":"RIGHT(10-D837)","v":"7"},{"$f":"RIGHT(10-E837)","v":"7"},{"$f":"C837&D837&E837&F837&G837&H837&I837&J837&K837","v":"833388166"},{"$f":"C837&D837&E837&F837&G837&H837&L837&M837&N837","v":"833388277"},{"$f":"C837&D837&E837&I837&J837&K837&L837&M837&N837","v":"833166277"},{"$f":"F837&G837&H837&I837&J837&K837&L837&M837&N837","v":"388166277"},{"$f":"C837&F837&I837","v":"831"},"386","386",{"$f":"C837&F837&L837","v":"832"},{"$f":"D837&G837&M837","v":"387"},{"$f":"E837&H837&N837","v":"387"},{"$f":"C837&I837&L837","v":"812"},{"$f":"D837&J837&M837","v":"367"},{"$f":"E837&K837&N837","v":"367"},{"$f":"F837&I837&L837","v":"312"},{"$f":"G837&J837&M837","v":"867"},"867"]
[null,"834","8","3","4","3","8","9","1","6","5","2","7","6","834389165","834389276","834165276","389165276","831","386","495","832","387","496","812","367","456","312","867","956"]
[null,"835","8","3","5","3","8","0","1","6","4","2","7","5","835380164","835380275","835164275","380164275","831","386","504","832","387","505","812","367","545","312","867","045"]
[null,"836","8","3","6","3","8","1","1","6","3","2","7","4","836381163","836381274","836163274","381163274","831","386","613","832","387","614","812","367","634","312","867","134"]
[null,"837","8","3","7","3","8","2","1","6","2","2","7","3","837382162","837382273","837162273","382162273","831","386","722","832","387","723","812","367","723","312","867","223"]
[null,"838","8","3","8","3","8","3","1","6","1","2","7","2","838383161","838383272","838161272","383161272","831","386","831","832","387","832","812","367","812","312","867","312"]
[null,"839","8","3","9","3","8","4","1","6","0","2","7","1","839384160","839384271","839160271","384160271","831",{"$f":"D843&G843&J843","v":"386"},{"$f":"E843&H843&K843","v":"940"},"832","387","941","812","367","901","312","867","401"]
[null,"840","8","4","0","3","9","5","1","5","9","2","6","0","840395159","840395260","840159260","395159260","831","495","059","832","496","050","812","456","090","312","956","590"]
[null,"841","8","4","1","3","9","6","1","5","8","2","6","9","841396158","841396269","841158269","396158269","831","495","168","832","496","169","812","456","189","312","956","689"]
[null,"842","8","4","2","3","9","7","1","5","7","2","6","8","842397157","842397268","842157268","397157268","831","495","277","832","496","278","812","456","278","312","956","778"]
[null,"843","8","4","3","3","9","8","1","5","6","2","6","7","843398156","843398267","843156267","398156267","831","495","386","832","496","387","812","456","367","312","956","867"]
[null,"844","8","4","4","3","9","9","1","5","5","2","6","6","844399155","844399266","844155266","399155266","831","495","495","832","496","496","812","456","456","312","956","956"]
[null,"845","8","4","5","3","9","0","1","5","4","2","6","5","845390154","845390265","845154265","390154265","831","495","504","832","496","505","812","456","545","312","956","045"]
[null,"846","8","4","6","3","9","1","1","5","3","2","6","4","846391153","846391264","846153264","391153264","831","495","613","832","496","614","812","456","634","312","956","134"]
[null,"847","8","4","7","3","9","2","1","5","2","2","6","3","847392152","847392263","847152263","392152263","831","495","722","832","496","723","812","456","723","312","956","223"]
[null,"848","8","4","8","3","9","3","1","5","1","2","6","2","848393151","848393262","848151262","393151262","831","495","831","832","496","832","812","456","812","312","956","312"]
[null,"849","8","4","9","3","9","4","1","5","0","2","6","1","849394150","849394261","849150261","394150261","831","495","940","832","496","941","812","456","901","312","956","401"]
[null,"850","8","5","0","3","0","5","1","4","9","2","5","0","850305149","850305250","850149250","305149250","831","504","059","832","505","050","812","545","090","312","045","590"]
[null,"851","8","5","1","3","0","6","1","4","8","2","5","9","851306148","851306259","851148259","306148259","831","504","168","832","505","169","812","545","189","312","045","689"]
[null,"852","8","5","2","3","0","7","1","4","7","2","5","8","852307147","852307258","852147258","307147258","831","504","277","832","505","278","812","545","278","312","045","778"]
[null,"853","8","5","3","3","0","8","1","4","6","2","5","7","853308146","853308257","853146257","308146257","831","504","386","832","505","387","812","545","367","312","045","867"]
[null,"854","8","5","4","3","0","9","1","4","5","2","5","6","854309145","854309256","854145256","309145256","831","504","495","832","505","496","812","545","456","312","045","956"]
[null,"855","8","5","5","3","0","0","1","4","4","2","5","5","855300144","855300255","855144255","300144255","831","504","504","832","505","505","812","545","545","312","045","045"]
[null,"856","8","5","6","3","0","1","1","4","3","2","5","4","856301143","856301254","856143254","301143254","831","504","613","832","505","614","812","545","634","312","045","134"]
[null,"857","8","5","7","3","0","2","1","4","2","2","5","3","857302142","857302253","857142253","302142253","831","504","722","832","505","723","812","545","723","312","045","223"]
[null,"858","8","5","8","3","0","3","1","4","1","2","5","2","858303141","858303252","858141252","303141252","831","504","831","832","505","832","812","545","812","312","045","312"]
[null,"859","8","5","9","3","0","4","1","4","0","2","5","1","859304140","859304251","859140251","304140251","831","504","940","832","505","941","812","545","901","312","045","401"]
[null,"860","8","6","0","3","1","5","1","3","9","2","4","0","860315139","860315240","860139240","315139240","831","613","059","832","614","050","812","634","090","312","134","590"]
[null,"861","8","6","1","3","1","6","1","3","8","2","4","9","861316138","861316249","861138249","316138249","831","613","168","832","614","169","812","634","189","312","134","689"]
[null,"862","8","6","2","3","1","7","1","3","7","2","4","8","862317137","862317248","862137248","317137248","831","613","277","832","614","278","812","634","278","312","134","778"]
[null,"863","8","6","3","3","1","8","1","3","6","2","4","7","863318136","863318247","863136247","318136247","831","613","386","832","614","387","812","634","367","312","134","867"]
[null,"864","8","6","4","3","1","9","1","3","5","2","4","6","864319135","864319246","864135246","319135246","831","613","495","832","614","496","812","634","456","312","134","956"]
[null,"865","8","6","5","3","1","0","1","3","4","2","4","5","865310134","865310245","865134245","310134245","831","613","504","832","614","505","812","634","545","312","134","045"]
[null,"866","8","6","6","3","1","1","1","3","3","2","4","4","866311133","866311244","866133244","311133244","831","613","613","832","614","614","812","634","634","312","134","134"]
[null,"867","8","6","7","3","1","2","1","3","2","2","4","3","867312132","867312243","867132243","312132243","831","613","722","832","614","723","812","634","723","312","134","223"]
[null,"868","8","6","8","3","1","3","1","3","1","2","4","2","868313131","868313242","868131242","313131242","831","613","831","832","614","832","812","634","812","312","134","312"]
[null,"869","8","6","9","3","1","4","1","3","0","2","4","1","869314130","869314241","869130241","314130241","831","613","940","832","614","941","812","634","901","312","134","401"]
[null,"870","8","7","0","3","2","5","1","2","9","2","3","0","870325129","870325230","870129230","325129230","831","722","059","832","723","050","812","723","090","312","223","590"]
[null,"871","8","7","1","3","2","6","1","2","8","2","3","9","871326128","871326239","871128239","326128239","831","722","168","832","723","169","812","723","189","312","223","689"]
[null,"872","8","7","2","3","2","7","1","2","7","2","3","8","872327127","872327238","872127238","327127238","831","722","277","832","723","278","812","723","278","312","223","778"]
[null,"873","8","7","3","3","2","8","1","2","6","2","3","7","873328126","873328237","873126237","328126237","831","722","386","832","723","387","812","723","367","312","223","867"]
[null,"874","8","7","4","3","2","9","1","2","5","2","3","6","874329125","874329236","874125236","329125236","831","722","495","832","723","496","812","723","456","312","223","956"]
[null,"875","8","7","5","3","2","0","1","2","4","2","3","5","875320124","875320235","875124235","320124235","831","722","504","832","723","505","812","723","545","312","223","045"]
[null,"876","8","7","6","3","2","1","1","2","3","2","3","4","876321123","876321234","876123234","321123234","831","722","613","832","723","614","812","723","634","312","223","134"]
[null,"877","8","7","7","3","2","2","1","2","2","2","3","3","877322122","877322233","877122233","322122233","831","722","722","832","723","723","812","723","723","312","223","223"]
[null,"878","8","7","8","3","2","3","1","2","1","2","3","2","878323121","878323232","878121232","323121232","831","722","831","832","723","832","812","723","812","312","223","312"]
[null,"879","8","7","9","3","2","4","1","2","0","2","3","1","879324120","879324231","879120231","324120231","831","722","940","832","723","941","812","723","901","312","223","401"]
[null,"880","8","8","0","3","3","5","1","1","9","2","2","0","880335119","880335220","880119220","335119220","831","831","059","832","832","050","812","812","090","312","312","590"]
[null,"881","8","8","1","3","3","6","1","1","8","2","2","9","881336118","881336229","881118229","336118229","831","831","168","832","832","169","812","812","189","312","312","689"]
[null,"882","8","8","2","3","3","7","1","1","7","2","2","8","882337117","882337228","882117228","337117228","831","831","277","832","832","278","812","812","278","312","312","778"]
[null,"883","8","8","3","3","3","8","1","1","6","2","2","7","883338116","883338227","883116227","338116227","831","831","386","832","832","387","812","812","367","312","312","867"]
[null,"884","8","8","4","3","3","9","1","1","5","2","2","6","884339115","884339226","884115226","339115226","831","831","495","832","832","496","812","812","456","312","312","956"]
[null,"885","8","8","5","3","3","0","1","1","4","2","2","5","885330114","885330225","885114225","330114225","831","831","504","832","832","505","812","812","545","312","312","045"]
[null,"886","8","8","6","3","3","1","1","1","3","2","2","4","886331113","886331224","886113224","331113224","831","831","613","832","832","614","812","812","634","312","312","134"]
[null,"887","8","8","7","3","3","2","1","1","2","2","2","3","887332112","887332223","887112223","332112223","831","831","722","832","832","723","812","812","723","312","312","223"]
[null,"888","8","8","8","3","3","3","1","1","1","2","2","2","888333111","888333222","888111222","333111222","831","831","831","832","832","832","812","812","812","312","312","312"]
[null,"889","8","8","9","3","3","4","1","1","0","2","2","1","889334110","889334221","889110221","334110221","831","831","940","832","832","941","812","812","901","312","312","401"]
[null,"890","8","9","0","3","4","5","1","0","9","2","1","0","890345109","890345210","890109210","345109210","831","940","059","832","941","050","812","901","090","312","401","590"]
[null,"891","8","9","1","3","4","6","1","0","8","2","1","9","891346108","891346219","891108219","346108219","831","940","168","832","941","169","812","901","189","312","401","689"]
[null,"892","8","9","2","3","4","7","1","0","7","2","1","8","892347107","892347218","892107218","347107218","831","940","277","832","941","278","812","901","278","312","401","778"]
[null,"893","8","9","3","3","4","8","1","0","6","2","1","7","893348106","893348217","893106217","348106217","831","940","386","832","941","387","812","901","367","312","401","867"]
[null,"894","8","9","4","3","4","9","1","0","5","2","1","6","894349105","894349216","894105216","349105216","831","940","495","832","941","496","812","901","456","312","401","956"]
[null,"895","8","9","5","3","4","0","1","0","4","2","1","5","895340104","895340215","895104215","340104215","831","940","504","832","941","505","812","901","545","312","401","045"]
[null,"896","8","9","6","3","4","1","1","0","3","2","1","4","896341103","896341214","896103214","341103214","831","940","613","832","941","614","812","901","634","312","401","134"]
[null,"897",{"$f":"MID($B901,1,1)","v":"8"},{"$f":"MID($B901,2,1)","v":"9"},{"$f":"MID($B901,3,1)","v":"7"},{"$f":"RIGHT(C901+5)","v":"3"},{"$f":"RIGHT(D901+5)","v":"4"},{"$f":"RIGHT(E901+5)","v":"2"},{"$f":"RIGHT(9-C901)","v":"1"},{"$f":"RIGHT(9-D901)","v":"0"},{"$f":"RIGHT(9-E901)","v":"2"},{"$f":"RIGHT(10-C901)","v":"2"},{"$f":"RIGHT(10-D901)","v":"1"},{"$f":"RIGHT(10-E901)","v":"3"},{"$f":"C901&D901&E901&F901&G901&H901&I901&J901&K901","v":"897342102"},{"$f":"C901&D901&E901&F901&G901&H901&L901&M901&N901","v":"897342213"},{"$f":"C901&D901&E901&I901&J901&K901&L901&M901&N901","v":"897102213"},{"$f":"F901&G901&H901&I901&J901&K901&L901&M901&N901","v":"342102213"},{"$f":"C901&F901&I901","v":"831"},"940","722",{"$f":"C901&F901&L901","v":"832"},{"$f":"D901&G901&M901","v":"941"},{"$f":"E901&H901&N901","v":"723"},{"$f":"C901&I901&L901","v":"812"},{"$f":"D901&J901&M901","v":"901"},{"$f":"E901&K901&N901","v":"723"},{"$f":"F901&I901&L901","v":"312"},{"$f":"G901&J901&M901","v":"401"},"223"]
[null,"898","8","9","8","3","4","3","1","0","1","2","1","2","898343101","898343212","898101212","343101212","831","940","831","832","941","832","812","901","812","312","401","312"]
[null,"899","8","9","9","3","4","4","1","0","0","2","1","1","899344100","899344211","899100211","344100211","831","940","940","832","941","941","812","901","901","312","401","401"]
[null,"900","9","0","0","4","5","5","0","9","9","1","0","0","900455099","900455100","900099100","455099100","940","059","059","941","050","050","901","090","090","401","590","590"]
[null,"901","9","0","1","4","5","6","0","9","8","1","0","9","901456098","901456109","901098109","456098109","940","059","168","941","050","169","901","090","189","401","590","689"]
[null,"902","9","0","2","4","5","7","0","9","7","1","0","8","902457097","902457108","902097108","457097108","940","059","277","941","050","278","901","090","278","401","590","778"]
[null,"903","9","0","3","4","5","8","0","9","6","1","0","7","903458096","903458107","903096107","458096107","940",{"$f":"D907&G907&J907","v":"059"},{"$f":"E907&H907&K907","v":"386"},"941","050","387","901","090","367","401","590","867"]
[null,"904","9","0","4","4","5","9","0","9","5","1","0","6","904459095","904459106","904095106","459095106","940","059","495","941","050","496","901","090","456","401","590","956"]
[null,"905","9","0","5","4","5","0","0","9","4","1","0","5","905450094","905450105","905094105","450094105","940","059","504","941","050","505","901","090","545","401","590","045"]
[null,"906","9","0","6","4","5","1","0","9","3","1","0","4","906451093","906451104","906093104","451093104","940","059","613","941","050","614","901","090","634","401","590","134"]
[null,"907","9","0","7","4","5","2","0","9","2","1","0","3","907452092","907452103","907092103","452092103","940","059","722","941","050","723","901","090","723","401","590","223"]
[null,"908","9","0","8","4","5","3","0","9","1","1","0","2","908453091","908453102","908091102","453091102","940","059","831","941","050","832","901","090","812","401","590","312"]
[null,"909","9","0","9","4","5","4","0","9","0","1","0","1","909454090","909454101","909090101","454090101","940","059","940","941","050","941","901","090","901","401","590","401"]
[null,"910","9","1","0","4","6","5","0","8","9","1","9","0","910465089","910465190","910089190","465089190","940","168","059","941","169","050","901","189","090","401","689","590"]
[null,"911","9","1","1","4","6","6","0","8","8","1","9","9","911466088","911466199","911088199","466088199","940","168","168","941","169","169","901","189","189","401","689","689"]
[null,"912","9","1","2","4","6","7","0","8","7","1","9","8","912467087","912467198","912087198","467087198","940","168","277","941","169","278","901","189","278","401","689","778"]
[null,"913","9","1","3","4","6","8","0","8","6","1","9","7","913468086","913468197","913086197","468086197","940","168","386","941","169","387","901","189","367","401","689","867"]
[null,"914","9","1","4","4","6","9","0","8","5","1","9","6","914469085","914469196","914085196","469085196","940","168","495","941","169","496","901","189","456","401","689","956"]
[null,"915","9","1","5","4","6","0","0","8","4","1","9","5","915460084","915460195","915084195","460084195","940","168","504","941","169","505","901","189","545","401","689","045"]
[null,"916","9","1","6","4","6","1","0","8","3","1","9","4","916461083","916461194","916083194","461083194","940","168","613","941","169","614","901","189","634","401","689","134"]
[null,"917","9","1","7","4","6","2","0","8","2","1","9","3","917462082","917462193","917082193","462082193","940","168","722","941","169","723","901","189","723","401","689","223"]
[null,"918","9","1","8","4","6","3","0","8","1","1","9","2","918463081","918463192","918081192","463081192","940","168","831","941","169","832","901","189","812","401","689","312"]
[null,"919","9","1","9","4","6","4","0","8","0","1","9","1","919464080","919464191","919080191","464080191","940","168","940","941","169","941","901","189","901","401","689","401"]
[null,"920","9","2","0","4","7","5","0","7","9","1","8","0","920475079","920475180","920079180","475079180","940","277","059","941","278","050","901","278","090","401","778","590"]
[null,"921","9","2","1","4","7","6","0","7","8","1","8","9","921476078","921476189","921078189","476078189","940","277","168","941","278","169","901","278","189","401","778","689"]
[null,"922","9","2","2","4","7","7","0","7","7","1","8","8","922477077","922477188","922077188","477077188","940","277","277","941","278","278","901","278","278","401","778","778"]
[null,"923","9","2","3","4","7","8","0","7","6","1","8","7","923478076","923478187","923076187","478076187","940","277","386","941","278","387","901","278","367","401","778","867"]
[null,"924","9","2","4","4","7","9","0","7","5","1","8","6","924479075","924479186","924075186","479075186","940","277","495","941","278","496","901","278","456","401","778","956"]
[null,"925","9","2","5","4","7","0","0","7","4","1","8","5","925470074","925470185","925074185","470074185","940","277","504","941","278","505","901","278","545","401","778","045"]
[null,"926","9","2","6","4","7","1","0","7","3","1","8","4","926471073","926471184","926073184","471073184","940","277","613","941","278","614","901","278","634","401","778","134"]
[null,"927","9","2","7","4","7","2","0","7","2","1","8","3","927472072","927472183","927072183","472072183","940","277","722","941","278","723","901","278","723","401","778","223"]
[null,"928","9","2","8","4","7","3","0","7","1","1","8","2","928473071","928473182","928071182","473071182","940","277","831","941","278","832","901","278","812","401","778","312"]
[null,"929","9","2","9","4","7","4","0","7","0","1","8","1","929474070","929474181","929070181","474070181","940","277","940","941","278","941","901","278","901","401","778","401"]
[null,"930","9","3","0","4","8","5","0","6","9","1","7","0","930485069","930485170","930069170","485069170","940","386","059","941","387","050","901","367","090","401","867","590"]
[null,"931","9","3","1","4","8","6","0","6","8","1","7","9","931486068","931486179","931068179","486068179","940","386","168","941","387","169","901","367","189","401","867","689"]
[null,"932","9","3","2","4","8","7","0","6","7","1","7","8","932487067","932487178","932067178","487067178","940","386","277","941","387","278","901","367","278","401","867","778"]
[null,"933","9","3","3","4","8","8","0","6","6","1","7","7","933488066","933488177","933066177","488066177","940","386","386","941","387","387","901","367","367","401","867","867"]
[null,"934","9","3","4","4","8","9","0","6","5","1","7","6","934489065","934489176","934065176","489065176","940","386","495","941","387","496","901","367","456","401","867","956"]
[null,"935","9","3","5","4","8","0","0","6","4","1","7","5","935480064","935480175","935064175","480064175","940","386","504","941","387","505","901","367","545","401","867","045"]
[null,"936","9","3","6","4","8","1","0","6","3","1","7","4","936481063","936481174","936063174","481063174","940","386","613","941","387","614","901","367","634","401","867","134"]
[null,"937","9","3","7","4","8","2","0","6","2","1","7","3","937482062","937482173","937062173","482062173","940","386","722","941","387","723","901","367","723","401","867","223"]
[null,"938","9","3","8","4","8","3","0","6","1","1","7","2","938483061","938483172","938061172","483061172","940","386","831","941","387","832","901","367","812","401","867","312"]
[null,"939","9","3","9","4","8","4","0","6","0","1","7","1","939484060","939484171","939060171","484060171","940","386","940","941","387","941","901","367","901","401","867","401"]
[null,"940","9","4","0","4","9","5","0","5","9","1","6","0","940495059","940495160","940059160","495059160","940","495","059","941","496","050","901","456","090","401","956","590"]
[null,"941","9","4","1","4","9","6","0","5","8","1","6","9","941496058","941496169","941058169","496058169","940","495","168","941","496","169","901","456","189","401","956","689"]
[null,"942","9","4","2","4","9","7","0","5","7","1","6","8","942497057","942497168","942057168","497057168","940","495","277","941","496","278","901","456","278","401","956","778"]
[null,"943","9","4","3","4","9","8","0","5","6","1","6","7","943498056","943498167","943056167","498056167","940","495","386","941","496","387","901","456","367","401","956","867"]
[null,"944","9","4","4","4","9","9","0","5","5","1","6","6","944499055","944499166","944055166","499055166","940","495","495","941","496","496","901","456","456","401","956","956"]
[null,"945","9","4","5","4","9","0","0","5","4","1","6","5","945490054","945490165","945054165","490054165","940","495","504","941","496","505","901","456","545","401","956","045"]
[null,"946","9","4","6","4","9","1","0","5","3","1","6","4","946491053","946491164","946053164","491053164","940","495","613","941","496","614","901","456","634","401","956","134"]
[null,"947","9","4","7","4","9","2","0","5","2","1","6","3","947492052","947492163","947052163","492052163","940","495","722","941","496","723","901","456","723","401","956","223"]
[null,"948","9","4","8","4","9","3","0","5","1","1","6","2","948493051","948493162","948051162","493051162","940","495","831","941","496","832","901","456","812","401","956","312"]
[null,"949","9","4","9","4","9","4","0","5","0","1","6","1","949494050","949494161","949050161","494050161","940","495","940","941","496","941","901","456","901","401","956","401"]
[null,"950","9","5","0","4","0","5","0","4","9","1","5","0","950405049","950405150","950049150","405049150","940","504","059","941","505","050","901","545","090","401","045","590"]
[null,"951","9","5","1","4","0","6","0","4","8","1","5","9","951406048","951406159","951048159","406048159","940","504","168","941","505","169","901","545","189","401","045","689"]
[null,"952","9","5","2","4","0","7","0","4","7","1","5","8","952407047","952407158","952047158","407047158","940","504","277","941","505","278","901","545","278","401","045","778"]
[null,"953","9","5","3","4","0","8","0","4","6","1","5","7","953408046","953408157","953046157","408046157","940","504","386","941","505","387","901","545","367","401","045","867"]
[null,"954","9","5","4","4","0","9","0","4","5","1","5","6","954409045","954409156","954045156","409045156","940","504","495","941","505","496","901","545","456","401","045","956"]
[null,"955","9","5","5","4","0","0","0","4","4","1","5","5","955400044","955400155","955044155","400044155","940","504","504","941","505","505","901","545","545","401","045","045"]
[null,"956","9","5","6","4","0","1","0","4","3","1","5","4","956401043","956401154","956043154","401043154","940","504","613","941","505","614","901","545","634","401","045","134"]
[null,"957","9","5","7","4","0","2","0","4","2","1","5","3","957402042","957402153","957042153","402042153","940","504","722","941","505","723","901","545","723","401","045","223"]
[null,"958","9","5","8","4","0","3","0","4","1","1","5","2","958403041","958403152","958041152","403041152","940","504","831","941","505","832","901","545","812","401","045","312"]
[null,"959","9","5","9","4","0","4","0","4","0","1","5","1","959404040","959404151","959040151","404040151","940","504","940","941","505","941","901","545","901","401","045","401"]
[null,"960","9","6","0","4","1","5","0","3","9","1","4","0","960415039","960415140","960039140","415039140","940","613","059","941","614","050","901","634","090","401","134","590"]
[null,"961",{"$f":"MID($B965,1,1)","v":"9"},{"$f":"MID($B965,2,1)","v":"6"},{"$f":"MID($B965,3,1)","v":"1"},{"$f":"RIGHT(C965+5)","v":"4"},{"$f":"RIGHT(D965+5)","v":"1"},{"$f":"RIGHT(E965+5)","v":"6"},{"$f":"RIGHT(9-C965)","v":"0"},{"$f":"RIGHT(9-D965)","v":"3"},{"$f":"RIGHT(9-E965)","v":"8"},{"$f":"RIGHT(10-C965)","v":"1"},{"$f":"RIGHT(10-D965)","v":"4"},{"$f":"RIGHT(10-E965)","v":"9"},{"$f":"C965&D965&E965&F965&G965&H965&I965&J965&K965","v":"961416038"},{"$f":"C965&D965&E965&F965&G965&H965&L965&M965&N965","v":"961416149"},{"$f":"C965&D965&E965&I965&J965&K965&L965&M965&N965","v":"961038149"},{"$f":"F965&G965&H965&I965&J965&K965&L965&M965&N965","v":"416038149"},{"$f":"C965&F965&I965","v":"940"},"613","168",{"$f":"C965&F965&L965","v":"941"},{"$f":"D965&G965&M965","v":"614"},{"$f":"E965&H965&N965","v":"169"},{"$f":"C965&I965&L965","v":"901"},{"$f":"D965&J965&M965","v":"634"},{"$f":"E965&K965&N965","v":"189"},{"$f":"F965&I965&L965","v":"401"},{"$f":"G965&J965&M965","v":"134"},"689"]
[null,"962","9","6","2","4","1","7","0","3","7","1","4","8","962417037","962417148","962037148","417037148","940","613","277","941","614","278","901","634","278","401","134","778"]
[null,"963","9","6","3","4","1","8","0","3","6","1","4","7","963418036","963418147","963036147","418036147","940","613","386","941","614","387","901","634","367","401","134","867"]
[null,"964","9","6","4","4","1","9","0","3","5","1","4","6","964419035","964419146","964035146","419035146","940","613","495","941","614","496","901","634","456","401","134","956"]
[null,"965","9","6","5","4","1","0","0","3","4","1","4","5","965410034","965410145","965034145","410034145","940","613","504","941","614","505","901","634","545","401","134","045"]
[null,"966","9","6","6","4","1","1","0","3","3","1","4","4","966411033","966411144","966033144","411033144","940","613","613","941","614","614","901","634","634","401","134","134"]
[null,"967","9","6","7","4","1","2","0","3","2","1","4","3","967412032","967412143","967032143","412032143","940",{"$f":"D971&G971&J971","v":"613"},{"$f":"E971&H971&K971","v":"722"},"941","614","723","901","634","723","401","134","223"]
[null,"968","9","6","8","4","1","3","0","3","1","1","4","2","968413031","968413142","968031142","413031142","940","613","831","941","614","832","901","634","812","401","134","312"]
[null,"969","9","6","9","4","1","4","0","3","0","1","4","1","969414030","969414141","969030141","414030141","940","613","940","941","614","941","901","634","901","401","134","401"]
[null,"970","9","7","0","4","2","5","0","2","9","1","3","0","970425029","970425130","970029130","425029130","940","722","059","941","723","050","901","723","090","401","223","590"]
[null,"971","9","7","1","4","2","6","0","2","8","1","3","9","971426028","971426139","971028139","426028139","940","722","168","941","723","169","901","723","189","401","223","689"]
[null,"972","9","7","2","4","2","7","0","2","7","1","3","8","972427027","972427138","972027138","427027138","940","722","277","941","723","278","901","723","278","401","223","778"]
[null,"973","9","7","3","4","2","8","0","2","6","1","3","7","973428026","973428137","973026137","428026137","940","722","386","941","723","387","901","723","367","401","223","867"]
[null,"974","9","7","4","4","2","9","0","2","5","1","3","6","974429025","974429136","974025136","429025136","940","722","495","941","723","496","901","723","456","401","223","956"]
[null,"975","9","7","5","4","2","0","0","2","4","1","3","5","975420024","975420135","975024135","420024135","940","722","504","941","723","505","901","723","545","401","223","045"]
[null,"976","9","7","6","4","2","1","0","2","3","1","3","4","976421023","976421134","976023134","421023134","940","722","613","941","723","614","901","723","634","401","223","134"]
[null,"977","9","7","7","4","2","2","0","2","2","1","3","3","977422022","977422133","977022133","422022133","940","722","722","941","723","723","901","723","723","401","223","223"]
[null,"978","9","7","8","4","2","3","0","2","1","1","3","2","978423021","978423132","978021132","423021132","940","722","831","941","723","832","901","723","812","401","223","312"]
[null,"979","9","7","9","4","2","4","0","2","0","1","3","1","979424020","979424131","979020131","424020131","940","722","940","941","723","941","901","723","901","401","223","401"]
[null,"980","9","8","0","4","3","5","0","1","9","1","2","0","980435019","980435120","980019120","435019120","940","831","059","941","832","050","901","812","090","401","312","590"]
[null,"981","9","8","1","4","3","6","0","1","8","1","2","9","981436018","981436129","981018129","436018129","940","831","168","941","832","169","901","812","189","401","312","689"]
[null,"982","9","8","2","4","3","7","0","1","7","1","2","8","982437017","982437128","982017128","437017128","940","831","277","941","832","278","901","812","278","401","312","778"]
[null,"983","9","8","3","4","3","8","0","1","6","1","2","7","983438016","983438127","983016127","438016127","940","831","386","941","832","387","901","812","367","401","312","867"]
[null,"984","9","8","4","4","3","9","0","1","5","1","2","6","984439015","984439126","984015126","439015126","940","831","495","941","832","496","901","812","456","401","312","956"]
[null,"985","9","8","5","4","3","0","0","1","4","1","2","5","985430014","985430125","985014125","430014125","940","831","504","941","832","505","901","812","545","401","312","045"]
[null,"986","9","8","6","4","3","1","0","1","3","1","2","4","986431013","986431124","986013124","431013124","940","831","613","941","832","614","901","812","634","401","312","134"]
[null,"987","9","8","7","4","3","2","0","1","2","1","2","3","987432012","987432123","987012123","432012123","940","831","722","941","832","723","901","812","723","401","312","223"]
[null,"988","9","8","8","4","3","3","0","1","1","1","2","2","988433011","988433122","988011122","433011122","940","831","831","941","832","832","901","812","812","401","312","312"]
[null,"989","9","8","9","4","3","4","0","1","0","1","2","1","989434010","989434121","989010121","434010121","940","831","940","941","832","941","901","812","901","401","312","401"]
[null,"990","9","9","0","4","4","5","0","0","9","1","1","0","990445009","990445110","990009110","445009110","940","940","059","941","941","050","901","901","090","401","401","590"]
[null,"991","9","9","1","4","4","6","0","0","8","1","1","9","991446008","991446119","991008119","446008119","940","940","168","941","941","169","901","901","189","401","401","689"]
[null,"992","9","9","2","4","4","7","0","0","7","1","1","8","992447007","992447118","992007118","447007118","940","940","277","941","941","278","901","901","278","401","401","778"]
[null,"993","9","9","3","4","4","8","0","0","6","1","1","7","993448006","993448117","993006117","448006117","940","940","386","941","941","387","901","901","367","401","401","867"]
[null,"994","9","9","4","4","4","9","0","0","5","1","1","6","994449005","994449116","994005116","449005116","940","940","495","941","941","496","901","901","456","401","401","956"]
[null,"995","9","9","5","4","4","0","0","0","4","1","1","5","995440004","995440115","995004115","440004115","940","940","504","941","941","505","901","901","545","401","401","045"]
[null,"996","9","9","6","4","4","1","0","0","3","1","1","4","996441003","996441114","996003114","441003114","940","940","613","941","941","614","901","901","634","401","401","134"]
[null,"997","9","9","7","4","4","2","0","0","2","1","1","3","997442002","997442113","997002113","442002113","940","940","722","941","941","723","901","901","723","401","401","223"]
[null,"998","9","9","8","4","4","3","0","0","1","1","1","2","998443001","998443112","998001112","443001112","940","940","831","941","941","832","901","901","812","401","401","312"]
[null,"999","9","9","9","4","4","4","0","0","0","1","1","1","999444000","999444111","999000111","444000111","940","940","940","941","941","941","901","901","901","401","401","401"]